BEGIN:VCALENDAR
VERSION:2.0
PRODID:-//Salem for All Ages - ECPv6.15.18//NONSGML v1.0//EN
CALSCALE:GREGORIAN
METHOD:PUBLISH
X-ORIGINAL-URL:https://salemforallages.org
X-WR-CALDESC:Events for Salem for All Ages
REFRESH-INTERVAL;VALUE=DURATION:PT1H
X-Robots-Tag:noindex
X-PUBLISHED-TTL:PT1H
BEGIN:VTIMEZONE
TZID:America/New_York
BEGIN:DAYLIGHT
TZOFFSETFROM:-0500
TZOFFSETTO:-0400
TZNAME:EDT
DTSTART:20250309T070000
END:DAYLIGHT
BEGIN:STANDARD
TZOFFSETFROM:-0400
TZOFFSETTO:-0500
TZNAME:EST
DTSTART:20251102T060000
END:STANDARD
BEGIN:DAYLIGHT
TZOFFSETFROM:-0500
TZOFFSETTO:-0400
TZNAME:EDT
DTSTART:20260308T070000
END:DAYLIGHT
BEGIN:STANDARD
TZOFFSETFROM:-0400
TZOFFSETTO:-0500
TZNAME:EST
DTSTART:20261101T060000
END:STANDARD
BEGIN:DAYLIGHT
TZOFFSETFROM:-0500
TZOFFSETTO:-0400
TZNAME:EDT
DTSTART:20270314T070000
END:DAYLIGHT
BEGIN:STANDARD
TZOFFSETFROM:-0400
TZOFFSETTO:-0500
TZNAME:EST
DTSTART:20271107T060000
END:STANDARD
END:VTIMEZONE
BEGIN:VEVENT
DTSTART;TZID=America/New_York:20260121T160000
DTEND;TZID=America/New_York:20260121T210000
DTSTAMP:20260422T132744
CREATED:20251229T100018Z
LAST-MODIFIED:20251229T100018Z
UID:27979-1769011200-1769029200@salemforallages.org
SUMMARY:Salem Restaurant Week 2026
DESCRIPTION:Salem Restaurant Week returns in 2026 for 2 weeks – Sunday\, January 18 thru Thursday January 22 and again from Sunday\, Jan 25 thru Thursday\, January 29! \nParticipating restaurants will offer either/both of: a two-course\, prix-fixe dinner for $35 and/or three-course\, prix-fixe dinner for $45. (Note that these prices do not include drinks\, taxes\, or gratuities.) \nThis year’s participating restaurants include Adriatic Restaurant & Bar\, Dire Wolf\, Ledger Restaurant\, Mainstay Social at the Salem Waterfront Hotel\, Nathaniel’s at the Hawthorne Hotel\, Rockafellas\, Sea Level Oyster Bar\, The Babe\, Trade House\, Turner’s Seafood – Salem\, Village Tavern\, Bella Verona\, and Crazy Good Kitchen. \nTimes may vary by restaurant—please check directly with the dining establishment for the most up-to-date details.
URL:https://salemforallages.org/event/salem-restaurant-week-2026-4/
ATTACH;FMTTYPE=image/jpeg:https://salemforallages.org/wp-content/uploads/2025/12/Salem-Restaurant-Week-scaled-4.jpg
END:VEVENT
BEGIN:VEVENT
DTSTART;TZID=America/New_York:20260121T180000
DTEND;TZID=America/New_York:20260121T200000
DTSTAMP:20260422T132744
CREATED:20251229T100021Z
LAST-MODIFIED:20251229T100021Z
UID:27981-1769018400-1769025600@salemforallages.org
SUMMARY:Free Bingo Night with Will Pottorff
DESCRIPTION:Come enjoy our weekly free Bingo hosted by the BINGO KING himself Will Pottorff!
URL:https://salemforallages.org/event/free-bingo-night-with-will-pottorff-34/
ATTACH;FMTTYPE=image/jpeg:https://salemforallages.org/wp-content/uploads/2025/06/c05c7178-2c36-4e12-bd6d-606da89f8c00.jpg
END:VEVENT
BEGIN:VEVENT
DTSTART;TZID=America/New_York:20260122T160000
DTEND;TZID=America/New_York:20260122T210000
DTSTAMP:20260422T132744
CREATED:20251229T100023Z
LAST-MODIFIED:20251229T100023Z
UID:27982-1769097600-1769115600@salemforallages.org
SUMMARY:Salem Restaurant Week 2026
DESCRIPTION:Salem Restaurant Week returns in 2026 for 2 weeks – Sunday\, January 18 thru Thursday January 22 and again from Sunday\, Jan 25 thru Thursday\, January 29! \nParticipating restaurants will offer either/both of: a two-course\, prix-fixe dinner for $35 and/or three-course\, prix-fixe dinner for $45. (Note that these prices do not include drinks\, taxes\, or gratuities.) \nThis year’s participating restaurants include Adriatic Restaurant & Bar\, Dire Wolf\, Ledger Restaurant\, Mainstay Social at the Salem Waterfront Hotel\, Nathaniel’s at the Hawthorne Hotel\, Rockafellas\, Sea Level Oyster Bar\, The Babe\, Trade House\, Turner’s Seafood – Salem\, Village Tavern\, Bella Verona\, and Crazy Good Kitchen. \nTimes may vary by restaurant—please check directly with the dining establishment for the most up-to-date details.
URL:https://salemforallages.org/event/salem-restaurant-week-2026-5/
ATTACH;FMTTYPE=image/jpeg:https://salemforallages.org/wp-content/uploads/2025/12/Salem-Restaurant-Week-scaled-5.jpg
END:VEVENT
BEGIN:VEVENT
DTSTART;TZID=America/New_York:20260122T170000
DTEND;TZID=America/New_York:20260122T200000
DTSTAMP:20260422T132744
CREATED:20260106T100123Z
LAST-MODIFIED:20260106T100123Z
UID:28056-1769101200-1769112000@salemforallages.org
SUMMARY:Craft Night Thursdays
DESCRIPTION:Craft Night Thursdays ✂️🍎\nJoin us every Thursday at Far From the Tree for Craft Night! Bring your latest project—knitting\, drawing\, scrapbooking\, or anything in between—and enjoy a relaxed evening of creating while sipping on cider. Whether you’re working on something new or finishing up a project\, it’s the perfect midweek hang with good drinks and even better company.\n🕔 Thursdays | 5–8 PM\n📍 Far From the Tree Cider\n108 Jackson Street\, Salem\, MA
URL:https://salemforallages.org/event/craft-night-thursdays-3/
ATTACH;FMTTYPE=image/jpeg:https://salemforallages.org/wp-content/uploads/2026/01/Craft-Night-.jpg
END:VEVENT
BEGIN:VEVENT
DTSTART;TZID=America/New_York:20260122T190000
DTEND;TZID=America/New_York:20260122T210000
DTSTAMP:20260422T132744
CREATED:20251229T100027Z
LAST-MODIFIED:20251229T100027Z
UID:27984-1769108400-1769115600@salemforallages.org
SUMMARY:Sea Witch Ball Workshop
DESCRIPTION:Join The Sea Wych Salem for a magical experience in Witch City & create your very own witch ball! \nTickets are $65 per person (plus a $1.88 processing fee) and include:\n– All materials and supplies\, including crystal adorned witch ball toppers made by The Sea Wych Salem.\n– A brief history of the witch ball.\n– A guided meditation and short ritual to help you set your intention.\n– A crash course in the use of herbs\, sea vegetation\, and colour theory in sea witchcraft. \nThe opportunity to shop privately\, before or after the workshop\, and a 10% discount on all store items.
URL:https://salemforallages.org/event/sea-witch-ball-workshop-11/
ATTACH;FMTTYPE=image/jpeg:https://salemforallages.org/wp-content/uploads/2025/12/Screenshot-2025-04-26-152037-2-5.jpg
END:VEVENT
BEGIN:VEVENT
DTSTART;TZID=America/New_York:20260122T193000
DTEND;TZID=America/New_York:20260122T233000
DTSTAMP:20260422T132744
CREATED:20251229T100031Z
LAST-MODIFIED:20251229T100031Z
UID:27986-1769110200-1769124600@salemforallages.org
SUMMARY:Open Mic
DESCRIPTION:Come join us for our weekly free Open Mic shindig every Thursday. Sign ups start at 7:30pm and the event starts at 8pm. Hope to see you here!
URL:https://salemforallages.org/event/open-mic-33/
ATTACH;FMTTYPE=image/jpeg:https://salemforallages.org/wp-content/uploads/2025/06/OpenMic-Twitter.jpg
END:VEVENT
BEGIN:VEVENT
DTSTART;TZID=America/New_York:20260123T110000
DTEND;TZID=America/New_York:20260123T150000
DTSTAMP:20260422T132744
CREATED:20260106T100124Z
LAST-MODIFIED:20260106T100124Z
UID:28057-1769166000-1769180400@salemforallages.org
SUMMARY:Winter Broom Decorating
DESCRIPTION:Unleash your creativity at The Good Witch of Salem’s Broom Decorating Station\, where young witches and wizards can transform a simple broom into a magical masterpiece! Use enchanting tape\, colorful ribbons\, sparkling stickers\, and shimmering gems to design a broom that’s uniquely yours. \nA delightful hands-on experience for all ages—perfect for little spellcasters ready to sweep into their imagination! \n🧵 Please note: This activity includes small decorative parts and may require adult assistance for younger children.
URL:https://salemforallages.org/event/winter-broom-decorating-6/
ATTACH;FMTTYPE=image/jpeg:https://salemforallages.org/wp-content/uploads/2026/01/FINAL-Winter-Broom-Decorating-scaled-1-4.jpg
END:VEVENT
BEGIN:VEVENT
DTSTART;TZID=America/New_York:20260123T150000
DTEND;TZID=America/New_York:20260123T170000
DTSTAMP:20260422T132744
CREATED:20251230T100007Z
LAST-MODIFIED:20251230T100007Z
UID:27987-1769180400-1769187600@salemforallages.org
SUMMARY:Tea & Cake Tasting
DESCRIPTION:Free Tea & Cake Tasting at Jolie Tea Company. Every Friday afternoon\, 3:00-5:00pm.\nCome enjoy and taste some of our favorite tea blends and cake flavors!
URL:https://salemforallages.org/event/tea-cake-tasting-29/
ATTACH;FMTTYPE=image/jpeg:https://salemforallages.org/wp-content/uploads/2025/12/CoconutCake_01-scaled-7.jpg
END:VEVENT
BEGIN:VEVENT
DTSTART;TZID=America/New_York:20260123T200000
DTEND;TZID=America/New_York:20260123T233000
DTSTAMP:20260422T132744
CREATED:20251230T100010Z
LAST-MODIFIED:20251230T100010Z
UID:27989-1769198400-1769211000@salemforallages.org
SUMMARY:Fierce Fridays hosted by Miz Diamond Wigfall
DESCRIPTION:Ru Paul drag race viewing 8pm\nPerformers go on 9pm\nMusic by Maxine Harrison \nFree! 21+
URL:https://salemforallages.org/event/fierce-fridays-hosted-by-miz-diamond-wigfall-34/
ATTACH;FMTTYPE=image/jpeg:https://salemforallages.org/wp-content/uploads/2025/06/Fierce-Friday-june-schedule.jpg
END:VEVENT
BEGIN:VEVENT
DTSTART;TZID=America/New_York:20260125T140000
DTEND;TZID=America/New_York:20260125T160000
DTSTAMP:20260422T132744
CREATED:20251230T100013Z
LAST-MODIFIED:20251230T100013Z
UID:27990-1769349600-1769356800@salemforallages.org
SUMMARY:Diamond’s Dine In w/ DJ Maxine Harrison
DESCRIPTION:Diamond’s Dine In the musical millennial revue with singing\, dancing\, and of course comedy! Cohosted by DJ Maxine Harrison and featuring rotating weekly special guests! Please come and celebrate Sungay with us and bring all the good energy!
URL:https://salemforallages.org/event/diamonds-dine-in-w-dj-maxine-harrison-40/
ATTACH;FMTTYPE=image/jpeg:https://salemforallages.org/wp-content/uploads/2025/07/Diamonds-Dine-In_Gulu-Gulu_Salem.jpeg
END:VEVENT
BEGIN:VEVENT
DTSTART;TZID=America/New_York:20260125T160000
DTEND;TZID=America/New_York:20260125T173000
DTSTAMP:20260422T132744
CREATED:20251230T100014Z
LAST-MODIFIED:20251230T100014Z
UID:27991-1769356800-1769362200@salemforallages.org
SUMMARY:Salem’s Centuries: A Salem 400+ Book Talk
DESCRIPTION:Free Salem 400+ event! Join Drs. Donna Seger and Brad Austin of Salem State University at Hamilton Hall for their first public talk on their new book\, Salem’s Centuries: New perspectives on the history of an old American city. The authors will discuss multiple Salem stories from the book\, including those related to Hamilton Hall and its famous activist caterers\, the Remonds. \nThe book talk is free\, and Wicked Good Books will be on site to sell the book to those interested.
URL:https://salemforallages.org/event/salems-centuries-a-salem-400-book-talk/
ATTACH;FMTTYPE=image/jpeg:https://salemforallages.org/wp-content/uploads/2025/12/Salems-Centuries_Hamilton-Hall-scaled-1.jpg
END:VEVENT
BEGIN:VEVENT
DTSTART;TZID=America/New_York:20260125T160000
DTEND;TZID=America/New_York:20260125T210000
DTSTAMP:20260422T132744
CREATED:20251231T100006Z
LAST-MODIFIED:20251231T100006Z
UID:27993-1769356800-1769374800@salemforallages.org
SUMMARY:Salem Restaurant Week 2026
DESCRIPTION:Salem Restaurant Week returns in 2026 for 2 weeks – Sunday\, January 18 thru Thursday January 22 and again from Sunday\, Jan 25 thru Thursday\, January 29! \nParticipating restaurants will offer either/both of: a two-course\, prix-fixe dinner for $35 and/or three-course\, prix-fixe dinner for $45. (Note that these prices do not include drinks\, taxes\, or gratuities.) \nThis year’s participating restaurants include Adriatic Restaurant & Bar\, Dire Wolf\, Ledger Restaurant\, Mainstay Social at the Salem Waterfront Hotel\, Nathaniel’s at the Hawthorne Hotel\, Rockafellas\, Sea Level Oyster Bar\, The Babe\, Trade House\, Turner’s Seafood – Salem\, Village Tavern\, Bella Verona\, and Crazy Good Kitchen. \nTimes may vary by restaurant—please check directly with the dining establishment for the most up-to-date details.
URL:https://salemforallages.org/event/salem-restaurant-week-2026-6/
ATTACH;FMTTYPE=image/jpeg:https://salemforallages.org/wp-content/uploads/2025/12/Salem-Restaurant-Week-scaled-6.jpg
END:VEVENT
BEGIN:VEVENT
DTSTART;TZID=America/New_York:20260125T180000
DTEND;TZID=America/New_York:20260125T200000
DTSTAMP:20260422T132744
CREATED:20251231T100010Z
LAST-MODIFIED:20251231T100010Z
UID:27995-1769364000-1769371200@salemforallages.org
SUMMARY:Sea Witch Ball Workshop
DESCRIPTION:Join The Sea Wych Salem for a magical experience in Witch City & create your very own witch ball! \nTickets are $65 per person (plus a $1.88 processing fee) and include:\n– All materials and supplies\, including crystal adorned witch ball toppers made by The Sea Wych Salem.\n– A brief history of the witch ball.\n– A guided meditation and short ritual to help you set your intention.\n– A crash course in the use of herbs\, sea vegetation\, and colour theory in sea witchcraft. \nThe opportunity to shop privately\, before or after the workshop\, and a 10% discount on all store items.
URL:https://salemforallages.org/event/sea-witch-ball-workshop-12/
ATTACH;FMTTYPE=image/jpeg:https://salemforallages.org/wp-content/uploads/2025/12/Screenshot-2025-04-26-152037-2-6.jpg
END:VEVENT
BEGIN:VEVENT
DTSTART;TZID=America/New_York:20260126T160000
DTEND;TZID=America/New_York:20260126T210000
DTSTAMP:20260422T132744
CREATED:20260101T100006Z
LAST-MODIFIED:20260101T100006Z
UID:27997-1769443200-1769461200@salemforallages.org
SUMMARY:Salem Restaurant Week 2026
DESCRIPTION:Salem Restaurant Week returns in 2026 for 2 weeks – Sunday\, January 18 thru Thursday January 22 and again from Sunday\, Jan 25 thru Thursday\, January 29! \nParticipating restaurants will offer either/both of: a two-course\, prix-fixe dinner for $35 and/or three-course\, prix-fixe dinner for $45. (Note that these prices do not include drinks\, taxes\, or gratuities.) \nThis year’s participating restaurants include Adriatic Restaurant & Bar\, Dire Wolf\, Ledger Restaurant\, Mainstay Social at the Salem Waterfront Hotel\, Nathaniel’s at the Hawthorne Hotel\, Rockafellas\, Sea Level Oyster Bar\, The Babe\, Trade House\, Turner’s Seafood – Salem\, Village Tavern\, Bella Verona\, and Crazy Good Kitchen. \nTimes may vary by restaurant—please check directly with the dining establishment for the most up-to-date details.
URL:https://salemforallages.org/event/salem-restaurant-week-2026-7/
ATTACH;FMTTYPE=image/jpeg:https://salemforallages.org/wp-content/uploads/2026/01/Salem-Restaurant-Week-scaled-1.jpg
END:VEVENT
BEGIN:VEVENT
DTSTART;TZID=America/New_York:20260127T160000
DTEND;TZID=America/New_York:20260127T210000
DTSTAMP:20260422T132744
CREATED:20260101T100011Z
LAST-MODIFIED:20260101T100011Z
UID:27999-1769529600-1769547600@salemforallages.org
SUMMARY:Salem Restaurant Week 2026
DESCRIPTION:Salem Restaurant Week returns in 2026 for 2 weeks – Sunday\, January 18 thru Thursday January 22 and again from Sunday\, Jan 25 thru Thursday\, January 29! \nParticipating restaurants will offer either/both of: a two-course\, prix-fixe dinner for $35 and/or three-course\, prix-fixe dinner for $45. (Note that these prices do not include drinks\, taxes\, or gratuities.) \nThis year’s participating restaurants include Adriatic Restaurant & Bar\, Dire Wolf\, Ledger Restaurant\, Mainstay Social at the Salem Waterfront Hotel\, Nathaniel’s at the Hawthorne Hotel\, Rockafellas\, Sea Level Oyster Bar\, The Babe\, Trade House\, Turner’s Seafood – Salem\, Village Tavern\, Bella Verona\, and Crazy Good Kitchen. \nTimes may vary by restaurant—please check directly with the dining establishment for the most up-to-date details.
URL:https://salemforallages.org/event/salem-restaurant-week-2026-8/
ATTACH;FMTTYPE=image/jpeg:https://salemforallages.org/wp-content/uploads/2026/01/Salem-Restaurant-Week-scaled-2.jpg
END:VEVENT
BEGIN:VEVENT
DTSTART;TZID=America/New_York:20260127T200000
DTEND;TZID=America/New_York:20260127T213000
DTSTAMP:20260422T132744
CREATED:20260101T100014Z
LAST-MODIFIED:20260101T100014Z
UID:28001-1769544000-1769549400@salemforallages.org
SUMMARY:Not Your Average Trivia
DESCRIPTION:Weekly themed trivia that isn’t like any other.
URL:https://salemforallages.org/event/not-your-average-trivia-37/
ATTACH;FMTTYPE=image/jpeg:https://salemforallages.org/wp-content/uploads/2025/06/IMG_1911.jpeg
END:VEVENT
BEGIN:VEVENT
DTSTART;TZID=America/New_York:20260128T160000
DTEND;TZID=America/New_York:20260128T210000
DTSTAMP:20260422T132744
CREATED:20260101T100015Z
LAST-MODIFIED:20260101T100015Z
UID:28002-1769616000-1769634000@salemforallages.org
SUMMARY:Salem Restaurant Week 2026
DESCRIPTION:Salem Restaurant Week returns in 2026 for 2 weeks – Sunday\, January 18 thru Thursday January 22 and again from Sunday\, Jan 25 thru Thursday\, January 29! \nParticipating restaurants will offer either/both of: a two-course\, prix-fixe dinner for $35 and/or three-course\, prix-fixe dinner for $45. (Note that these prices do not include drinks\, taxes\, or gratuities.) \nThis year’s participating restaurants include Adriatic Restaurant & Bar\, Dire Wolf\, Ledger Restaurant\, Mainstay Social at the Salem Waterfront Hotel\, Nathaniel’s at the Hawthorne Hotel\, Rockafellas\, Sea Level Oyster Bar\, The Babe\, Trade House\, Turner’s Seafood – Salem\, Village Tavern\, Bella Verona\, and Crazy Good Kitchen. \nTimes may vary by restaurant—please check directly with the dining establishment for the most up-to-date details.
URL:https://salemforallages.org/event/salem-restaurant-week-2026-9/
ATTACH;FMTTYPE=image/jpeg:https://salemforallages.org/wp-content/uploads/2026/01/Salem-Restaurant-Week-scaled-3.jpg
END:VEVENT
BEGIN:VEVENT
DTSTART;TZID=America/New_York:20260128T180000
DTEND;TZID=America/New_York:20260128T200000
DTSTAMP:20260422T132744
CREATED:20260101T100019Z
LAST-MODIFIED:20260101T100019Z
UID:28004-1769623200-1769630400@salemforallages.org
SUMMARY:Free Bingo Night with Will Pottorff
DESCRIPTION:Come enjoy our weekly free Bingo hosted by the BINGO KING himself Will Pottorff!
URL:https://salemforallages.org/event/free-bingo-night-with-will-pottorff-35/
ATTACH;FMTTYPE=image/jpeg:https://salemforallages.org/wp-content/uploads/2025/06/c05c7178-2c36-4e12-bd6d-606da89f8c00.jpg
END:VEVENT
BEGIN:VEVENT
DTSTART;TZID=America/New_York:20260129T160000
DTEND;TZID=America/New_York:20260129T210000
DTSTAMP:20260422T132744
CREATED:20260101T100020Z
LAST-MODIFIED:20260101T100020Z
UID:28005-1769702400-1769720400@salemforallages.org
SUMMARY:Salem Restaurant Week 2026
DESCRIPTION:Salem Restaurant Week returns in 2026 for 2 weeks – Sunday\, January 18 thru Thursday January 22 and again from Sunday\, Jan 25 thru Thursday\, January 29! \nParticipating restaurants will offer either/both of: a two-course\, prix-fixe dinner for $35 and/or three-course\, prix-fixe dinner for $45. (Note that these prices do not include drinks\, taxes\, or gratuities.) \nThis year’s participating restaurants include Adriatic Restaurant & Bar\, Dire Wolf\, Ledger Restaurant\, Mainstay Social at the Salem Waterfront Hotel\, Nathaniel’s at the Hawthorne Hotel\, Rockafellas\, Sea Level Oyster Bar\, The Babe\, Trade House\, Turner’s Seafood – Salem\, Village Tavern\, Bella Verona\, and Crazy Good Kitchen. \nTimes may vary by restaurant—please check directly with the dining establishment for the most up-to-date details.
URL:https://salemforallages.org/event/salem-restaurant-week-2026-10/
ATTACH;FMTTYPE=image/jpeg:https://salemforallages.org/wp-content/uploads/2026/01/Salem-Restaurant-Week-scaled-4.jpg
END:VEVENT
BEGIN:VEVENT
DTSTART;TZID=America/New_York:20260129T193000
DTEND;TZID=America/New_York:20260129T233000
DTSTAMP:20260422T132744
CREATED:20260101T100024Z
LAST-MODIFIED:20260101T100024Z
UID:28007-1769715000-1769729400@salemforallages.org
SUMMARY:Open Mic
DESCRIPTION:Come join us for our weekly free Open Mic shindig every Thursday. Sign ups start at 7:30pm and the event starts at 8pm. Hope to see you here!
URL:https://salemforallages.org/event/open-mic-34/
ATTACH;FMTTYPE=image/jpeg:https://salemforallages.org/wp-content/uploads/2025/06/OpenMic-Twitter.jpg
END:VEVENT
BEGIN:VEVENT
DTSTART;TZID=America/New_York:20260130T150000
DTEND;TZID=America/New_York:20260130T170000
DTSTAMP:20260422T132744
CREATED:20260101T100026Z
LAST-MODIFIED:20260101T100026Z
UID:28008-1769785200-1769792400@salemforallages.org
SUMMARY:Tea & Cake Tasting
DESCRIPTION:Free Tea & Cake Tasting at Jolie Tea Company. Every Friday afternoon\, 3:00-5:00pm.\nCome enjoy and taste some of our favorite tea blends and cake flavors!
URL:https://salemforallages.org/event/tea-cake-tasting-30/
ATTACH;FMTTYPE=image/jpeg:https://salemforallages.org/wp-content/uploads/2026/01/CoconutCake_01-scaled-1.jpg
END:VEVENT
BEGIN:VEVENT
DTSTART;TZID=America/New_York:20260130T190000
DTEND;TZID=America/New_York:20260130T210000
DTSTAMP:20260422T132744
CREATED:20260102T100006Z
LAST-MODIFIED:20260102T100006Z
UID:28010-1769799600-1769806800@salemforallages.org
SUMMARY:Sea Witch Ball Workshop
DESCRIPTION:Join The Sea Wych Salem for a magical experience in Witch City & create your very own witch ball! \nTickets are $65 per person (plus a $1.88 processing fee) and include:\n– All materials and supplies\, including crystal adorned witch ball toppers made by The Sea Wych Salem.\n– A brief history of the witch ball.\n– A guided meditation and short ritual to help you set your intention.\n– A crash course in the use of herbs\, sea vegetation\, and colour theory in sea witchcraft. \nThe opportunity to shop privately\, before or after the workshop\, and a 10% discount on all store items.
URL:https://salemforallages.org/event/sea-witch-ball-workshop-13/
ATTACH;FMTTYPE=image/jpeg:https://salemforallages.org/wp-content/uploads/2026/01/Screenshot-2025-04-26-152037-2.jpg
END:VEVENT
BEGIN:VEVENT
DTSTART;TZID=America/New_York:20260130T200000
DTEND;TZID=America/New_York:20260130T233000
DTSTAMP:20260422T132744
CREATED:20260102T100010Z
LAST-MODIFIED:20260102T100010Z
UID:28012-1769803200-1769815800@salemforallages.org
SUMMARY:Fierce Fridays hosted by Miz Diamond Wigfall
DESCRIPTION:Ru Paul drag race viewing 8pm\nPerformers go on 9pm\nMusic by Maxine Harrison \nFree! 21+
URL:https://salemforallages.org/event/fierce-fridays-hosted-by-miz-diamond-wigfall-35/
ATTACH;FMTTYPE=image/jpeg:https://salemforallages.org/wp-content/uploads/2025/06/Fierce-Friday-june-schedule.jpg
END:VEVENT
BEGIN:VEVENT
DTSTART;TZID=America/New_York:20260131T190000
DTEND;TZID=America/New_York:20260131T210000
DTSTAMP:20260422T132744
CREATED:20260103T100006Z
LAST-MODIFIED:20260103T100006Z
UID:28013-1769886000-1769893200@salemforallages.org
SUMMARY:Imbolc Sea Witch Ball Workshop
DESCRIPTION:Join us at The Sea Wych Salem for an Imbolc sea witch ball workshop! We’ll be celebrating the first stirrings of the earth’s awakening\, and the halfway point between the winter solstice and vernal (spring) equinox. \nTicket price is $85 and includes:\n– All materials and supplies\, including peridot witch ball toppers made by The Sea Wych Salem specifically for this event.\n– A guided meditation and short ritual.\n– A full ritual kit that includes 2 crystals\, 2 spell candles\, all herbs & sea elements\, & a ritual written by The Sea Wych Salem ($40 value).\n– A private shopping opportunity w/10% off!
URL:https://salemforallages.org/event/imbolc-sea-witch-ball-workshop/
ATTACH;FMTTYPE=image/png:https://salemforallages.org/wp-content/uploads/2026/01/Brigids-Cross.png
END:VEVENT
BEGIN:VEVENT
DTSTART;TZID=America/New_York:20260201T140000
DTEND;TZID=America/New_York:20260201T160000
DTSTAMP:20260422T132744
CREATED:20260103T100010Z
LAST-MODIFIED:20260103T100010Z
UID:28015-1769954400-1769961600@salemforallages.org
SUMMARY:Diamond’s Dine In w/ DJ Maxine Harrison
DESCRIPTION:Diamond’s Dine In the musical millennial revue with singing\, dancing\, and of course comedy! Cohosted by DJ Maxine Harrison and featuring rotating weekly special guests! Please come and celebrate Sungay with us and bring all the good energy!
URL:https://salemforallages.org/event/diamonds-dine-in-w-dj-maxine-harrison-41/
ATTACH;FMTTYPE=image/jpeg:https://salemforallages.org/wp-content/uploads/2025/07/Diamonds-Dine-In_Gulu-Gulu_Salem.jpeg
END:VEVENT
BEGIN:VEVENT
DTSTART;TZID=America/New_York:20260201T180000
DTEND;TZID=America/New_York:20260201T200000
DTSTAMP:20260422T132744
CREATED:20260105T100006Z
LAST-MODIFIED:20260105T100006Z
UID:28016-1769968800-1769976000@salemforallages.org
SUMMARY:Imbolc Sea Witch Ball Workshop
DESCRIPTION:Join us at The Sea Wych Salem for an Imbolc sea witch ball workshop! We’ll be celebrating the first stirrings of the earth’s awakening\, and the halfway point between the winter solstice and vernal (spring) equinox. \nTicket price is $85 and includes:\n– All materials and supplies\, including peridot witch ball toppers made by The Sea Wych Salem specifically for this event.\n– A guided meditation and short ritual.\n– A full ritual kit that includes 2 crystals\, 2 spell candles\, all herbs & sea elements\, & a ritual written by The Sea Wych Salem ($40 value).\n– A private shopping opportunity w/10% off!
URL:https://salemforallages.org/event/imbolc-sea-witch-ball-workshop-2/
ATTACH;FMTTYPE=image/png:https://salemforallages.org/wp-content/uploads/2026/01/Brigids-Cross.png
END:VEVENT
BEGIN:VEVENT
DTSTART;TZID=America/New_York:20260202T180000
DTEND;TZID=America/New_York:20260202T200000
DTSTAMP:20260422T132744
CREATED:20260105T100008Z
LAST-MODIFIED:20260105T100008Z
UID:28017-1770055200-1770062400@salemforallages.org
SUMMARY:Imbolc Sea Witch Ball Workshop
DESCRIPTION:Join us at The Sea Wych Salem for an Imbolc sea witch ball workshop! We’ll be celebrating the first stirrings of the earth’s awakening\, and the halfway point between the winter solstice and vernal (spring) equinox. \nTicket price is $85 and includes:\n– All materials and supplies\, including peridot witch ball toppers made by The Sea Wych Salem specifically for this event.\n– A guided meditation and short ritual.\n– A full ritual kit that includes 2 crystals\, 2 spell candles\, all herbs & sea elements\, & a ritual written by The Sea Wych Salem ($40 value).\n– A private shopping opportunity w/10% off!
URL:https://salemforallages.org/event/imbolc-sea-witch-ball-workshop-3/
ATTACH;FMTTYPE=image/png:https://salemforallages.org/wp-content/uploads/2026/01/Brigids-Cross.png
END:VEVENT
END:VCALENDAR