BEGIN:VCALENDAR
VERSION:2.0
PRODID:-//Salem for All Ages - ECPv6.15.18//NONSGML v1.0//EN
CALSCALE:GREGORIAN
METHOD:PUBLISH
X-WR-CALNAME:Salem for All Ages
X-ORIGINAL-URL:https://salemforallages.org
X-WR-CALDESC:Events for Salem for All Ages
REFRESH-INTERVAL;VALUE=DURATION:PT1H
X-Robots-Tag:noindex
X-PUBLISHED-TTL:PT1H
BEGIN:VTIMEZONE
TZID:America/New_York
BEGIN:DAYLIGHT
TZOFFSETFROM:-0500
TZOFFSETTO:-0400
TZNAME:EDT
DTSTART:20240310T070000
END:DAYLIGHT
BEGIN:STANDARD
TZOFFSETFROM:-0400
TZOFFSETTO:-0500
TZNAME:EST
DTSTART:20241103T060000
END:STANDARD
BEGIN:DAYLIGHT
TZOFFSETFROM:-0500
TZOFFSETTO:-0400
TZNAME:EDT
DTSTART:20250309T070000
END:DAYLIGHT
BEGIN:STANDARD
TZOFFSETFROM:-0400
TZOFFSETTO:-0500
TZNAME:EST
DTSTART:20251102T060000
END:STANDARD
BEGIN:DAYLIGHT
TZOFFSETFROM:-0500
TZOFFSETTO:-0400
TZNAME:EDT
DTSTART:20260308T070000
END:DAYLIGHT
BEGIN:STANDARD
TZOFFSETFROM:-0400
TZOFFSETTO:-0500
TZNAME:EST
DTSTART:20261101T060000
END:STANDARD
END:VTIMEZONE
BEGIN:VEVENT
DTSTART;TZID=America/New_York:20250327T120000
DTEND;TZID=America/New_York:20250327T133000
DTSTAMP:20260423T104417
CREATED:20250321T090022Z
LAST-MODIFIED:20250321T090022Z
UID:22885-1743076800-1743082200@salemforallages.org
SUMMARY:Craft Witch
DESCRIPTION:Craft Witch is a DIY crafting session with something for everyone! Choose from a wide array of options to create your very own one-of-a-kind craft. Whichever craft you decide to create\, you’ll be provided with all the materials\, tools\, and knowledge needed to let your creativity flourish. Unlike our broom making\, bookbinding\, and spelljar making workshops in which participants are being guided through the crafting process step-by step by an instructor\, the DIY nature of Craft Witch means that you can use the studio time however you wish. Check out the crafting options on our website!
URL:https://salemforallages.org/event/craft-witch-22/
ATTACH;FMTTYPE=image/jpeg:https://salemforallages.org/wp-content/uploads/2025/03/Image-from-iOS-scaled-14.jpg
END:VEVENT
BEGIN:VEVENT
DTSTART;TZID=America/New_York:20250327T113000
DTEND;TZID=America/New_York:20250327T160000
DTSTAMP:20260423T104417
CREATED:20250321T090019Z
LAST-MODIFIED:20250321T090019Z
UID:22883-1743075000-1743091200@salemforallages.org
SUMMARY:Potion Brewing Store Experience
DESCRIPTION:Make your visit to The Good Witch of Salem’s shop memorable by booking our in-store Potion Brewing Experience. This activity is led by our Witch Apprentices. \nActivities are recommended for children ages 3 and up. \n*One appointment slot for each child is required.*
URL:https://salemforallages.org/event/potion-brewing-store-experience-275/
ATTACH;FMTTYPE=image/jpeg:https://salemforallages.org/wp-content/uploads/2025/03/Potion-Brewing-Store-Experience-21.jpg
END:VEVENT
BEGIN:VEVENT
DTSTART;TZID=America/New_York:20250327T113000
DTEND;TZID=America/New_York:20250327T160000
DTSTAMP:20260423T104417
CREATED:20250321T090018Z
LAST-MODIFIED:20250321T090018Z
UID:22882-1743075000-1743091200@salemforallages.org
SUMMARY:Magical Transformations
DESCRIPTION:Through our “Magical Transformations” children embrace their charms and express their individuality. Children can choose to transform into a “Witch” or “Wizard”!
URL:https://salemforallages.org/event/magical-transformations-283/
ATTACH;FMTTYPE=image/png:https://salemforallages.org/wp-content/uploads/2024/08/Transformations.png
END:VEVENT
BEGIN:VEVENT
DTSTART;TZID=America/New_York:20250327T100000
DTEND;TZID=America/New_York:20250327T160000
DTSTAMP:20260423T104417
CREATED:20250321T090017Z
LAST-MODIFIED:20250321T090017Z
UID:22881-1743069600-1743091200@salemforallages.org
SUMMARY:Leslie’s Retreat: Salem on the Brink of Revolution Exhibit
DESCRIPTION:This National Park Service exhibit will explore why Crown soldiers under Lt. Col. Alexander Leslie came to Salem on February 26\, 1775\, who were the major players in the event\, and how this event has been remembered and celebrated in Salem in the last 250 years. \nThis free exhibit will be on display from February 15th -April 27th at the Salem Armory Visitor Center\, 2 New Liberty Street\, Salem. \nThe Salem Armory Visitor Center is open Wednesday – Sunday\, 10 am – 4 pm.
URL:https://salemforallages.org/event/leslies-retreat-salem-on-the-brink-of-revolution-exhibit-29/
ATTACH;FMTTYPE=image/jpeg:https://salemforallages.org/wp-content/uploads/2025/02/1775_1782_Salem-Old-North-Bridge-Leslie-Retreat-800x600-1.jpg
END:VEVENT
BEGIN:VEVENT
DTSTART;VALUE=DATE:20250327
DTEND;VALUE=DATE:20250331
DTSTAMP:20260423T104417
CREATED:20250321T090015Z
LAST-MODIFIED:20250321T090015Z
UID:22879-1743033600-1743379199@salemforallages.org
SUMMARY:Salem Film Fest 2025
DESCRIPTION:COME TO SALEM\, SEE THE WORLD \nComing March 27-30\, 2025! \nSince 2007\, Salem Film Fest (SFF) has brought the world’s best independent documentaries and their makers to Boston’s North Shore. Now the largest international documentary film festival in Massachusetts\, the event annually presents features\, shorts and special events to a loyal audience of thousands. The festival is mostly run by volunteers through a non-profit entity\, Salem Community Arts Center\, Inc. \nThe 18th annual Salem Film Fest will take place March 27-30\, 2025\, with filmmaker Q&As\, parties\, and other special events. Our annual Lineup Reveal Party is planned for March 2\, 2025. Advance ticket packs will go on sale November 24\, 2024. \nFor updates\, follow us on Facebook\, Instagram\, or check out SalemFilmFest.com
URL:https://salemforallages.org/event/salem-film-fest-2025/
ATTACH;FMTTYPE=image/jpeg:https://salemforallages.org/wp-content/uploads/2025/03/SFF2025-RGB.jpg
END:VEVENT
BEGIN:VEVENT
DTSTART;TZID=America/New_York:20250326T190000
DTEND;TZID=America/New_York:20250326T220000
DTSTAMP:20260423T104417
CREATED:20250321T090012Z
LAST-MODIFIED:20250321T090012Z
UID:22877-1743015600-1743026400@salemforallages.org
SUMMARY:Overcooked! Teams Battle Royal Tournament
DESCRIPTION:Sign Ups @ 7pm\, Tournament @ 8pm \n$10/per team with Cash Prizes for the winners \nTEAM REQUIREMENTS.\n1 EXPEDITOR\n2 COOKS\n21+
URL:https://salemforallages.org/event/overcooked-teams-battle-royal-tournament/
ATTACH;FMTTYPE=image/jpeg:https://salemforallages.org/wp-content/uploads/2025/03/Untitled-169.jpg
END:VEVENT
BEGIN:VEVENT
DTSTART;TZID=America/New_York:20250326T180000
DTEND;TZID=America/New_York:20250326T190000
DTSTAMP:20260423T104417
CREATED:20250321T090008Z
LAST-MODIFIED:20250321T090008Z
UID:22875-1743012000-1743015600@salemforallages.org
SUMMARY:The Wonderful Woman Behind Oz
DESCRIPTION:In 1900\, “The Wonderful Wizard of Oz” ushered in a new age for the witch\, transforming this age old figure in popular culture. While we will never know what precisely inspired L. Frank Baum to include good witches in his story\, this presentation will discuss the influence of one powerful close connection\, Matilda Joslyn Gage. Though an unfamiliar name today\, Gage was an important leader in the first wave feminist movement\, a trailblazing human rights activist\, and Baum’s mother-in-law. Join us on March 26th at 6:00 pm EST for this free virtual program about the fascinating woman behind Oz.
URL:https://salemforallages.org/event/the-wonderful-woman-behind-oz/
ATTACH;FMTTYPE=image/jpeg:https://salemforallages.org/wp-content/uploads/2025/03/Wonderful-Woman-Behind-Oz-IG-Post.jpg
END:VEVENT
BEGIN:VEVENT
DTSTART;TZID=America/New_York:20250326T120000
DTEND;TZID=America/New_York:20250326T133000
DTSTAMP:20260423T104417
CREATED:20250320T090103Z
LAST-MODIFIED:20250320T090103Z
UID:22873-1742990400-1742995800@salemforallages.org
SUMMARY:Craft Witch
DESCRIPTION:Craft Witch is a DIY crafting session with something for everyone! Choose from a wide array of options to create your very own one-of-a-kind craft. Whichever craft you decide to create\, you’ll be provided with all the materials\, tools\, and knowledge needed to let your creativity flourish. Unlike our broom making\, bookbinding\, and spelljar making workshops in which participants are being guided through the crafting process step-by step by an instructor\, the DIY nature of Craft Witch means that you can use the studio time however you wish. Check out the crafting options on our website!
URL:https://salemforallages.org/event/craft-witch-21/
ATTACH;FMTTYPE=image/jpeg:https://salemforallages.org/wp-content/uploads/2025/03/Image-from-iOS-scaled-13.jpg
END:VEVENT
BEGIN:VEVENT
DTSTART;TZID=America/New_York:20250326T113000
DTEND;TZID=America/New_York:20250326T153000
DTSTAMP:20260423T104417
CREATED:20250319T090031Z
LAST-MODIFIED:20250319T090031Z
UID:22862-1742988600-1743003000@salemforallages.org
SUMMARY:Magical Transformations
DESCRIPTION:Through our “Magical Transformations” children embrace their charms and express their individuality. Children can choose to transform into a “Witch” or “Wizard”!
URL:https://salemforallages.org/event/magical-transformations-282/
ATTACH;FMTTYPE=image/png:https://salemforallages.org/wp-content/uploads/2024/08/Transformations-1.png
END:VEVENT
BEGIN:VEVENT
DTSTART;TZID=America/New_York:20250326T113000
DTEND;TZID=America/New_York:20250326T150000
DTSTAMP:20260423T104417
CREATED:20250320T090053Z
LAST-MODIFIED:20250320T090053Z
UID:22871-1742988600-1743001200@salemforallages.org
SUMMARY:Potion Brewing Store Experience
DESCRIPTION:Make your visit to The Good Witch of Salem’s shop memorable by booking our in-store Potion Brewing Experience. This activity is led by our Witch Apprentices. \nActivities are recommended for children ages 3 and up. \n*One appointment slot for each child is required.*
URL:https://salemforallages.org/event/potion-brewing-store-experience-274/
ATTACH;FMTTYPE=image/jpeg:https://salemforallages.org/wp-content/uploads/2025/03/Potion-Brewing-Store-Experience-20.jpg
END:VEVENT
BEGIN:VEVENT
DTSTART;TZID=America/New_York:20250326T113000
DTEND;TZID=America/New_York:20250326T150000
DTSTAMP:20260423T104417
CREATED:20250320T090043Z
LAST-MODIFIED:20250320T090043Z
UID:22869-1742988600-1743001200@salemforallages.org
SUMMARY:Stop In For a Spell: DIY Potion Bar
DESCRIPTION:Fly in to The Good Witch and Stay for a Spell! Mix up your very own potion at our Potion Bar! \nDrop Ins begin at store opening and end 30 minutes before closing and are offered on a first come\, first serve basis. Purchase online or pay in store. \nDrop Ins may be unavailable during a birthday party or store event. Please call ahead\, or check our posted hours on Google. \nUnder age 4 may participate with the help of a supervising adult.
URL:https://salemforallages.org/event/stop-in-for-a-spell-diy-potion-bar-210/
ATTACH;FMTTYPE=image/jpeg:https://salemforallages.org/wp-content/uploads/2025/03/Stop-In-For-a-Spell-SQUARE-8.jpg
END:VEVENT
BEGIN:VEVENT
DTSTART;TZID=America/New_York:20250326T100000
DTEND;TZID=America/New_York:20250326T160000
DTSTAMP:20260423T104417
CREATED:20250319T090030Z
LAST-MODIFIED:20250319T090030Z
UID:22861-1742983200-1743004800@salemforallages.org
SUMMARY:Leslie’s Retreat: Salem on the Brink of Revolution Exhibit
DESCRIPTION:This National Park Service exhibit will explore why Crown soldiers under Lt. Col. Alexander Leslie came to Salem on February 26\, 1775\, who were the major players in the event\, and how this event has been remembered and celebrated in Salem in the last 250 years. \nThis free exhibit will be on display from February 15th -April 27th at the Salem Armory Visitor Center\, 2 New Liberty Street\, Salem. \nThe Salem Armory Visitor Center is open Wednesday – Sunday\, 10 am – 4 pm.
URL:https://salemforallages.org/event/leslies-retreat-salem-on-the-brink-of-revolution-exhibit-28/
ATTACH;FMTTYPE=image/jpeg:https://salemforallages.org/wp-content/uploads/2025/02/1775_1782_Salem-Old-North-Bridge-Leslie-Retreat-800x600-1.jpg
END:VEVENT
BEGIN:VEVENT
DTSTART;TZID=America/New_York:20250325T193000
DTEND;TZID=America/New_York:20250325T210000
DTSTAMP:20260423T104417
CREATED:20250319T090028Z
LAST-MODIFIED:20250319T090028Z
UID:22860-1742931000-1742936400@salemforallages.org
SUMMARY:Trivia Time
DESCRIPTION:General knowledge trivia every Tuesday at 7:30. Free to play. Win a Flying Saucer gift card!
URL:https://salemforallages.org/event/trivia-time-8/
ATTACH;FMTTYPE=image/jpeg:https://salemforallages.org/wp-content/uploads/2025/01/trivia-aframe-Medium.jpeg
END:VEVENT
BEGIN:VEVENT
DTSTART;TZID=America/New_York:20250325T113000
DTEND;TZID=America/New_York:20250325T153000
DTSTAMP:20260423T104417
CREATED:20250318T090040Z
LAST-MODIFIED:20250318T090040Z
UID:22855-1742902200-1742916600@salemforallages.org
SUMMARY:Magical Transformations
DESCRIPTION:Through our “Magical Transformations” children embrace their charms and express their individuality. Children can choose to transform into a “Witch” or “Wizard”!
URL:https://salemforallages.org/event/magical-transformations-281/
ATTACH;FMTTYPE=image/png:https://salemforallages.org/wp-content/uploads/2024/08/Transformations-1.png
END:VEVENT
BEGIN:VEVENT
DTSTART;TZID=America/New_York:20250325T113000
DTEND;TZID=America/New_York:20250325T150000
DTSTAMP:20260423T104417
CREATED:20250319T090015Z
LAST-MODIFIED:20250319T090015Z
UID:22858-1742902200-1742914800@salemforallages.org
SUMMARY:Potion Brewing Store Experience
DESCRIPTION:Make your visit to The Good Witch of Salem’s shop memorable by booking our in-store Potion Brewing Experience. This activity is led by our Witch Apprentices. \nActivities are recommended for children ages 3 and up. \n*One appointment slot for each child is required.*
URL:https://salemforallages.org/event/potion-brewing-store-experience-273/
ATTACH;FMTTYPE=image/jpeg:https://salemforallages.org/wp-content/uploads/2025/03/Potion-Brewing-Store-Experience-19.jpg
END:VEVENT
BEGIN:VEVENT
DTSTART;TZID=America/New_York:20250325T113000
DTEND;TZID=America/New_York:20250325T150000
DTSTAMP:20260423T104417
CREATED:20250318T090041Z
LAST-MODIFIED:20250318T090041Z
UID:22856-1742902200-1742914800@salemforallages.org
SUMMARY:Stop In For a Spell: DIY Potion Bar
DESCRIPTION:Fly in to The Good Witch and Stay for a Spell! Mix up your very own potion at our Potion Bar! \nDrop Ins begin at store opening and end 30 minutes before closing and are offered on a first come\, first serve basis. Purchase online or pay in store. \nDrop Ins may be unavailable during a birthday party or store event. Please call ahead\, or check our posted hours on Google. \nUnder age 4 may participate with the help of a supervising adult.
URL:https://salemforallages.org/event/stop-in-for-a-spell-diy-potion-bar-209/
ATTACH;FMTTYPE=image/jpeg:https://salemforallages.org/wp-content/uploads/2025/03/Stop-In-For-a-Spell-SQUARE-7.jpg
END:VEVENT
BEGIN:VEVENT
DTSTART;TZID=America/New_York:20250324T190000
DTEND;TZID=America/New_York:20250324T210000
DTSTAMP:20260423T104417
CREATED:20250318T090035Z
LAST-MODIFIED:20250318T090035Z
UID:22853-1742842800-1742850000@salemforallages.org
SUMMARY:Bingo with Great Gaucho
DESCRIPTION:Join us at the Taproom every Monday night for FREE BINGO with Greta Gaucho at 7:00 pm. \nDot it if ya got it for four rounds to win a Far From The Tree gift card and a prize from the fabulous prize basket. \nThe Far From the Tree taproom has an open food policy. (Bring your own food)
URL:https://salemforallages.org/event/bingo-with-great-gaucho-3/
ATTACH;FMTTYPE=image/jpeg:https://salemforallages.org/wp-content/uploads/2025/03/Add-a-subheading-2.jpg
END:VEVENT
BEGIN:VEVENT
DTSTART;TZID=America/New_York:20250324T113000
DTEND;TZID=America/New_York:20250324T160000
DTSTAMP:20260423T104417
CREATED:20250318T090029Z
LAST-MODIFIED:20250318T090029Z
UID:22851-1742815800-1742832000@salemforallages.org
SUMMARY:Potion Brewing Store Experience
DESCRIPTION:Make your visit to The Good Witch of Salem’s shop memorable by booking our in-store Potion Brewing Experience. This activity is led by our Witch Apprentices. \nActivities are recommended for children ages 3 and up. \n*One appointment slot for each child is required.*
URL:https://salemforallages.org/event/potion-brewing-store-experience-272/
ATTACH;FMTTYPE=image/jpeg:https://salemforallages.org/wp-content/uploads/2025/03/Potion-Brewing-Store-Experience-18.jpg
END:VEVENT
BEGIN:VEVENT
DTSTART;TZID=America/New_York:20250324T113000
DTEND;TZID=America/New_York:20250324T160000
DTSTAMP:20260423T104417
CREATED:20250318T090028Z
LAST-MODIFIED:20250318T090028Z
UID:22850-1742815800-1742832000@salemforallages.org
SUMMARY:Magical Transformations
DESCRIPTION:Through our “Magical Transformations” children embrace their charms and express their individuality. Children can choose to transform into a “Witch” or “Wizard”!
URL:https://salemforallages.org/event/magical-transformations-280/
ATTACH;FMTTYPE=image/png:https://salemforallages.org/wp-content/uploads/2024/08/Transformations.png
END:VEVENT
BEGIN:VEVENT
DTSTART;TZID=America/New_York:20250323T150000
DTEND;TZID=America/New_York:20250323T170000
DTSTAMP:20260423T104417
CREATED:20250318T090025Z
LAST-MODIFIED:20250318T090025Z
UID:22848-1742742000-1742749200@salemforallages.org
SUMMARY:Symphony by the Sea: Beethoven\, Early and Late
DESCRIPTION:With the first chord of his very first symphony\, Beethoven shocked the Viennese aristocracy and released a new kind of energy. \nIn his Symphony No. 8\, the recent invention of the metronome proved an invaluable resource. \nExplore with us these joyous symphonic masterpieces.
URL:https://salemforallages.org/event/symphony-by-the-sea-beethoven-early-and-late/
ATTACH;FMTTYPE=image/jpeg:https://salemforallages.org/wp-content/uploads/2025/03/sbs.jpg
END:VEVENT
BEGIN:VEVENT
DTSTART;TZID=America/New_York:20250323T140000
DTEND;TZID=America/New_York:20250323T160000
DTSTAMP:20260423T104417
CREATED:20250318T090021Z
LAST-MODIFIED:20250318T090021Z
UID:22846-1742738400-1742745600@salemforallages.org
SUMMARY:Spring Bingo Party
DESCRIPTION:Dot it if you got it at the Spring Bingo Party! Join us for bingo hosted by the one and only Greta Gaucho benefiting Over the Rainbow Social Club\, a nonprofit organization providing social events and resources for LGBTQ+ mature adults and allies. Classic bingo\, fabulous prizes\, and a whole lot of sass! Are you feeling lucky? Because Greta has got your number! Show Your Pride a fantastic bingo night to support a great cause! This is an NC-17 event. Find More Information on Over the Rainbow at: www.otrsocialclub.org \n 
URL:https://salemforallages.org/event/spring-bingo-party/
ATTACH;FMTTYPE=image/jpeg:https://salemforallages.org/wp-content/uploads/2025/03/Spring-Bingo.jpg
END:VEVENT
BEGIN:VEVENT
DTSTART;TZID=America/New_York:20250323T130000
DTEND;TZID=America/New_York:20250323T140000
DTSTAMP:20260423T104417
CREATED:20250318T090010Z
LAST-MODIFIED:20250318T090010Z
UID:22844-1742734800-1742738400@salemforallages.org
SUMMARY:Women’s History Tour
DESCRIPTION:March is Women’s History Month\, and to celebrate we are offering our Women’s History Tour! \nFrom the Indigenous women who worked the land to our organization’s founder\, women have always been a part of the Turner-Ingersoll Mansion’s history\, but not always given the spotlight they deserve. The House of the Seven Gables has created a Women’s History Tour to focus\, in-depth\, on the many women who have lived and labored in the Mansion.
URL:https://salemforallages.org/event/womens-history-tour-11/
ATTACH;FMTTYPE=image/jpeg:https://salemforallages.org/wp-content/uploads/2025/03/IMG_9182-scaled-4.jpg
END:VEVENT
BEGIN:VEVENT
DTSTART;TZID=America/New_York:20250323T120000
DTEND;TZID=America/New_York:20250323T133000
DTSTAMP:20260423T104417
CREATED:20250317T090042Z
LAST-MODIFIED:20250317T090042Z
UID:22842-1742731200-1742736600@salemforallages.org
SUMMARY:Sunday Chowder Lecture: Pennamite Wars with Kathleen Earle
DESCRIPTION:In 1788\, a band of young Yankee ruffians KIDNAPPED Pennsylvania official Timothy Pickering\, holding him hostage in the woods for nineteen days. This story\, told by Kathleen Earle\, a descendant of one of Pickering’s kidnappers\, tells a thrilling story of the event in her book\, “An Early History of the Wyoming Valley; the Yankee-Pennamite Wars and Timothy Pickering. Don’t miss this discussion of a nearly-forgotten bit of history with a local hero at the center of it.
URL:https://salemforallages.org/event/sunday-chowder-lecture-pennamite-wars-with-kathleen-earle/
ATTACH;FMTTYPE=image/jpeg:https://salemforallages.org/wp-content/uploads/2025/03/Kathleen-Earle-and-the-Pennamite-Wars.jpg
END:VEVENT
BEGIN:VEVENT
DTSTART;TZID=America/New_York:20250323T120000
DTEND;TZID=America/New_York:20250323T133000
DTSTAMP:20260423T104417
CREATED:20250317T090037Z
LAST-MODIFIED:20250317T090037Z
UID:22840-1742731200-1742736600@salemforallages.org
SUMMARY:Craft Witch
DESCRIPTION:Craft Witch is a DIY crafting session with something for everyone! Choose from a wide array of options to create your very own one-of-a-kind craft. Whichever craft you decide to create\, you’ll be provided with all the materials\, tools\, and knowledge needed to let your creativity flourish. Unlike our broom making\, bookbinding\, and spelljar making workshops in which participants are being guided through the crafting process step-by step by an instructor\, the DIY nature of Craft Witch means that you can use the studio time however you wish. Check out the crafting options on our website!
URL:https://salemforallages.org/event/craft-witch-20/
ATTACH;FMTTYPE=image/jpeg:https://salemforallages.org/wp-content/uploads/2025/03/Image-from-iOS-scaled-12.jpg
END:VEVENT
BEGIN:VEVENT
DTSTART;TZID=America/New_York:20250323T113000
DTEND;TZID=America/New_York:20250323T153000
DTSTAMP:20260423T104417
CREATED:20250317T090028Z
LAST-MODIFIED:20250317T090028Z
UID:22835-1742729400-1742743800@salemforallages.org
SUMMARY:Magical Transformations
DESCRIPTION:Through our “Magical Transformations” children embrace their charms and express their individuality. Children can choose to transform into a “Witch” or “Wizard”!
URL:https://salemforallages.org/event/magical-transformations-279/
ATTACH;FMTTYPE=image/png:https://salemforallages.org/wp-content/uploads/2024/08/Transformations-1.png
END:VEVENT
BEGIN:VEVENT
DTSTART;TZID=America/New_York:20250323T113000
DTEND;TZID=America/New_York:20250323T150000
DTSTAMP:20260423T104417
CREATED:20250317T090033Z
LAST-MODIFIED:20250317T090033Z
UID:22838-1742729400-1742742000@salemforallages.org
SUMMARY:Potion Brewing Store Experience
DESCRIPTION:Make your visit to The Good Witch of Salem’s shop memorable by booking our in-store Potion Brewing Experience. This activity is led by our Witch Apprentices. \nActivities are recommended for children ages 3 and up. \n*One appointment slot for each child is required.*
URL:https://salemforallages.org/event/potion-brewing-store-experience-271/
ATTACH;FMTTYPE=image/jpeg:https://salemforallages.org/wp-content/uploads/2025/03/Potion-Brewing-Store-Experience-17.jpg
END:VEVENT
BEGIN:VEVENT
DTSTART;TZID=America/New_York:20250323T113000
DTEND;TZID=America/New_York:20250323T150000
DTSTAMP:20260423T104417
CREATED:20250317T090028Z
LAST-MODIFIED:20250317T090028Z
UID:22836-1742729400-1742742000@salemforallages.org
SUMMARY:Stop In For a Spell: DIY Potion Bar
DESCRIPTION:Fly in to The Good Witch and Stay for a Spell! Mix up your very own potion at our Potion Bar! \nDrop Ins begin at store opening and end 30 minutes before closing and are offered on a first come\, first serve basis. Purchase online or pay in store. \nDrop Ins may be unavailable during a birthday party or store event. Please call ahead\, or check our posted hours on Google. \nUnder age 4 may participate with the help of a supervising adult.
URL:https://salemforallages.org/event/stop-in-for-a-spell-diy-potion-bar-208/
ATTACH;FMTTYPE=image/jpeg:https://salemforallages.org/wp-content/uploads/2025/03/Stop-In-For-a-Spell-SQUARE-6.jpg
END:VEVENT
BEGIN:VEVENT
DTSTART;TZID=America/New_York:20250323T100000
DTEND;TZID=America/New_York:20250323T160000
DTSTAMP:20260423T104417
CREATED:20250317T090027Z
LAST-MODIFIED:20250317T090027Z
UID:22834-1742724000-1742745600@salemforallages.org
SUMMARY:Leslie’s Retreat: Salem on the Brink of Revolution Exhibit
DESCRIPTION:This National Park Service exhibit will explore why Crown soldiers under Lt. Col. Alexander Leslie came to Salem on February 26\, 1775\, who were the major players in the event\, and how this event has been remembered and celebrated in Salem in the last 250 years. \nThis free exhibit will be on display from February 15th -April 27th at the Salem Armory Visitor Center\, 2 New Liberty Street\, Salem. \nThe Salem Armory Visitor Center is open Wednesday – Sunday\, 10 am – 4 pm.
URL:https://salemforallages.org/event/leslies-retreat-salem-on-the-brink-of-revolution-exhibit-27/
ATTACH;FMTTYPE=image/jpeg:https://salemforallages.org/wp-content/uploads/2025/02/1775_1782_Salem-Old-North-Bridge-Leslie-Retreat-800x600-1.jpg
END:VEVENT
BEGIN:VEVENT
DTSTART;TZID=America/New_York:20250322T203000
DTEND;TZID=America/New_York:20250322T220000
DTSTAMP:20260423T104417
CREATED:20250317T090026Z
LAST-MODIFIED:20250317T090026Z
UID:22833-1742675400-1742680800@salemforallages.org
SUMMARY:Aaron Chen
DESCRIPTION:“Born and raised in Sydney\, Australia\, Aaron has quickly climbed the ranks of the international comedy scene. Aaron made his mark on Australian comedy with his debut solo show in 2017 and since then has toured nationally in front of sold-out crowds and rave reviews\, earning him the sought-after awards for Best Newcomer (2017) and Director’s Choice (2019)\, and nomination for Best Show (2021) at the Melbourne International Comedy Festival.
URL:https://salemforallages.org/event/aaron-chen-3/
ATTACH;FMTTYPE=image/png:https://salemforallages.org/wp-content/uploads/2025/03/Aaron-Chen.png
END:VEVENT
BEGIN:VEVENT
DTSTART;TZID=America/New_York:20250322T200000
DTEND;TZID=America/New_York:20250322T223000
DTSTAMP:20260423T104417
CREATED:20250317T090023Z
LAST-MODIFIED:20250317T090023Z
UID:22831-1742673600-1742682600@salemforallages.org
SUMMARY:Pink Talking Fish Meets The Beatles
DESCRIPTION:A Fusion of Pink Floyd\, Talking Heads\, Phish AND The Beatles \nPink Talking Fish is a Hybrid Tribute Fusion Act that takes the music from three of the world’s most beloved bands and creates a special treat for fans of the music. This is a special set that will also include music from The Beatles.
URL:https://salemforallages.org/event/pink-talking-fish-meets-the-beatles/
ATTACH;FMTTYPE=image/jpeg:https://salemforallages.org/wp-content/uploads/2025/03/DAveVann2-1.jpg
END:VEVENT
END:VCALENDAR