BEGIN:VCALENDAR
VERSION:2.0
PRODID:-//Salem for All Ages - ECPv6.15.18//NONSGML v1.0//EN
CALSCALE:GREGORIAN
METHOD:PUBLISH
X-WR-CALNAME:Salem for All Ages
X-ORIGINAL-URL:https://salemforallages.org
X-WR-CALDESC:Events for Salem for All Ages
REFRESH-INTERVAL;VALUE=DURATION:PT1H
X-Robots-Tag:noindex
X-PUBLISHED-TTL:PT1H
BEGIN:VTIMEZONE
TZID:America/New_York
BEGIN:DAYLIGHT
TZOFFSETFROM:-0500
TZOFFSETTO:-0400
TZNAME:EDT
DTSTART:20240310T070000
END:DAYLIGHT
BEGIN:STANDARD
TZOFFSETFROM:-0400
TZOFFSETTO:-0500
TZNAME:EST
DTSTART:20241103T060000
END:STANDARD
BEGIN:DAYLIGHT
TZOFFSETFROM:-0500
TZOFFSETTO:-0400
TZNAME:EDT
DTSTART:20250309T070000
END:DAYLIGHT
BEGIN:STANDARD
TZOFFSETFROM:-0400
TZOFFSETTO:-0500
TZNAME:EST
DTSTART:20251102T060000
END:STANDARD
BEGIN:DAYLIGHT
TZOFFSETFROM:-0500
TZOFFSETTO:-0400
TZNAME:EDT
DTSTART:20260308T070000
END:DAYLIGHT
BEGIN:STANDARD
TZOFFSETFROM:-0400
TZOFFSETTO:-0500
TZNAME:EST
DTSTART:20261101T060000
END:STANDARD
END:VTIMEZONE
BEGIN:VEVENT
DTSTART;TZID=America/New_York:20250428T113000
DTEND;TZID=America/New_York:20250428T160000
DTSTAMP:20260423T063926
CREATED:20250424T090021Z
LAST-MODIFIED:20250424T090021Z
UID:23364-1745839800-1745856000@salemforallages.org
SUMMARY:Magical Transformations
DESCRIPTION:Through our “Magical Transformations” children embrace their charms and express their individuality. Children can choose to transform into a “Witch” or “Wizard”!
URL:https://salemforallages.org/event/magical-transformations-315/
ATTACH;FMTTYPE=image/png:https://salemforallages.org/wp-content/uploads/2024/08/Transformations.png
END:VEVENT
BEGIN:VEVENT
DTSTART;TZID=America/New_York:20250428T113000
DTEND;TZID=America/New_York:20250428T160000
DTSTAMP:20260423T063926
CREATED:20250424T090022Z
LAST-MODIFIED:20250424T090022Z
UID:23365-1745839800-1745856000@salemforallages.org
SUMMARY:Potion Brewing Store Experience
DESCRIPTION:Make your visit to The Good Witch of Salem’s shop memorable by booking our in-store Potion Brewing Experience. This activity is led by our Witch Apprentices. \nActivities are recommended for children ages 3 and up. \n*One appointment slot for each child is required.*
URL:https://salemforallages.org/event/potion-brewing-store-experience-307/
ATTACH;FMTTYPE=image/jpeg:https://salemforallages.org/wp-content/uploads/2025/04/Potion-Brewing-Store-Experience-21.jpg
END:VEVENT
BEGIN:VEVENT
DTSTART;TZID=America/New_York:20250428T190000
DTEND;TZID=America/New_York:20250428T203000
DTSTAMP:20260423T063926
CREATED:20250425T090010Z
LAST-MODIFIED:20250425T090010Z
UID:23369-1745866800-1745872200@salemforallages.org
SUMMARY:Improv Jam & Jelly
DESCRIPTION:Improv open hang and structured games for all levels.
URL:https://salemforallages.org/event/improv-jam-jelly-2/
ATTACH;FMTTYPE=image/png:https://salemforallages.org/wp-content/uploads/2025/04/Essex-Improv-1.png
END:VEVENT
BEGIN:VEVENT
DTSTART;TZID=America/New_York:20250428T190000
DTEND;TZID=America/New_York:20250428T210000
DTSTAMP:20260423T063926
CREATED:20250425T090006Z
LAST-MODIFIED:20250425T090006Z
UID:23367-1745866800-1745874000@salemforallages.org
SUMMARY:Bingo with Great Gaucho
DESCRIPTION:Join us at the Taproom every Monday night for FREE BINGO with Greta Gaucho at 7:00 pm. \nDot it if ya got it for four rounds to win a Far From The Tree gift card and a prize from the fabulous prize basket. \nThe Far From the Tree taproom has an open food policy. (Bring your own food)
URL:https://salemforallages.org/event/bingo-with-great-gaucho-8/
ATTACH;FMTTYPE=image/jpeg:https://salemforallages.org/wp-content/uploads/2025/04/Add-a-subheading-3.jpg
END:VEVENT
BEGIN:VEVENT
DTSTART;TZID=America/New_York:20250429T113000
DTEND;TZID=America/New_York:20250429T150000
DTSTAMP:20260423T063926
CREATED:20250425T090015Z
LAST-MODIFIED:20250425T090015Z
UID:23372-1745926200-1745938800@salemforallages.org
SUMMARY:Stop In For a Spell: DIY Potion Bar
DESCRIPTION:Fly in to The Good Witch and Stay for a Spell! Mix up your very own potion at our Potion Bar! \nDrop Ins begin at store opening and end 30 minutes before closing and are offered on a first come\, first serve basis. Purchase online or pay in store. \nDrop Ins may be unavailable during a birthday party or store event. Please call ahead\, or check our posted hours on Google. \nUnder age 4 may participate with the help of a supervising adult.
URL:https://salemforallages.org/event/stop-in-for-a-spell-diy-potion-bar-224/
ATTACH;FMTTYPE=image/jpeg:https://salemforallages.org/wp-content/uploads/2025/04/Stop-In-For-a-Spell-SQUARE-9.jpg
END:VEVENT
BEGIN:VEVENT
DTSTART;TZID=America/New_York:20250429T113000
DTEND;TZID=America/New_York:20250429T150000
DTSTAMP:20260423T063926
CREATED:20250425T090020Z
LAST-MODIFIED:20250425T090020Z
UID:23374-1745926200-1745938800@salemforallages.org
SUMMARY:Potion Brewing Store Experience
DESCRIPTION:Make your visit to The Good Witch of Salem’s shop memorable by booking our in-store Potion Brewing Experience. This activity is led by our Witch Apprentices. \nActivities are recommended for children ages 3 and up. \n*One appointment slot for each child is required.*
URL:https://salemforallages.org/event/potion-brewing-store-experience-308/
ATTACH;FMTTYPE=image/jpeg:https://salemforallages.org/wp-content/uploads/2025/04/Potion-Brewing-Store-Experience-22.jpg
END:VEVENT
BEGIN:VEVENT
DTSTART;TZID=America/New_York:20250429T113000
DTEND;TZID=America/New_York:20250429T153000
DTSTAMP:20260423T063926
CREATED:20250425T090015Z
LAST-MODIFIED:20250425T090015Z
UID:23371-1745926200-1745940600@salemforallages.org
SUMMARY:Magical Transformations
DESCRIPTION:Through our “Magical Transformations” children embrace their charms and express their individuality. Children can choose to transform into a “Witch” or “Wizard”!
URL:https://salemforallages.org/event/magical-transformations-316/
ATTACH;FMTTYPE=image/png:https://salemforallages.org/wp-content/uploads/2024/08/Transformations-1.png
END:VEVENT
BEGIN:VEVENT
DTSTART;TZID=America/New_York:20250429T193000
DTEND;TZID=America/New_York:20250429T210000
DTSTAMP:20260423T063926
CREATED:20250425T090024Z
LAST-MODIFIED:20250425T090024Z
UID:23376-1745955000-1745960400@salemforallages.org
SUMMARY:Trivia Time
DESCRIPTION:General knowledge trivia every Tuesday at 7:30. Free to play. Win a Flying Saucer gift card!
URL:https://salemforallages.org/event/trivia-time-13/
ATTACH;FMTTYPE=image/jpeg:https://salemforallages.org/wp-content/uploads/2025/01/trivia-aframe-Medium.jpeg
END:VEVENT
BEGIN:VEVENT
DTSTART;TZID=America/New_York:20250430T060000
DTEND;TZID=America/New_York:20250430T060000
DTSTAMP:20260423T063926
CREATED:20250425T090025Z
LAST-MODIFIED:20250425T090025Z
UID:23377-1745992800-1745992800@salemforallages.org
SUMMARY:1692 to 1775: The Salem Witch Trials and the Revolution
DESCRIPTION:Join prolific historian\, Emerson “Tad” Baker in this virtual program as he explores the interesting historical connection between the Salem Witch Trials of 1692 and the political thinking at the beginning of the American Revolution. John Adams and his fellow revolutionaries were well aware of the injustices of the Salem witch trials. Indeed\, some patriots\, including Benjamin Franklin\, had family involved in the trials. \nHistoric New England Members free\, nonmembers $5. Advance tickets are required. Call 617-994-6678 for more information.
URL:https://salemforallages.org/event/1692-to-1775-the-salem-witch-trials-and-the-revolution/
ATTACH;FMTTYPE=image/jpeg:https://salemforallages.org/wp-content/uploads/2025/04/NPG_Elbridge_Gerry.jpg
END:VEVENT
BEGIN:VEVENT
DTSTART;TZID=America/New_York:20250430T113000
DTEND;TZID=America/New_York:20250430T150000
DTSTAMP:20260423T063926
CREATED:20250425T090032Z
LAST-MODIFIED:20250425T090032Z
UID:23380-1746012600-1746025200@salemforallages.org
SUMMARY:Stop In For a Spell: DIY Potion Bar
DESCRIPTION:Fly in to The Good Witch and Stay for a Spell! Mix up your very own potion at our Potion Bar! \nDrop Ins begin at store opening and end 30 minutes before closing and are offered on a first come\, first serve basis. Purchase online or pay in store. \nDrop Ins may be unavailable during a birthday party or store event. Please call ahead\, or check our posted hours on Google. \nUnder age 4 may participate with the help of a supervising adult.
URL:https://salemforallages.org/event/stop-in-for-a-spell-diy-potion-bar-225/
ATTACH;FMTTYPE=image/jpeg:https://salemforallages.org/wp-content/uploads/2025/04/Stop-In-For-a-Spell-SQUARE-10.jpg
END:VEVENT
BEGIN:VEVENT
DTSTART;TZID=America/New_York:20250430T113000
DTEND;TZID=America/New_York:20250430T150000
DTSTAMP:20260423T063926
CREATED:20250425T090035Z
LAST-MODIFIED:20250425T090035Z
UID:23382-1746012600-1746025200@salemforallages.org
SUMMARY:Potion Brewing Store Experience
DESCRIPTION:Make your visit to The Good Witch of Salem’s shop memorable by booking our in-store Potion Brewing Experience. This activity is led by our Witch Apprentices. \nActivities are recommended for children ages 3 and up. \n*One appointment slot for each child is required.*
URL:https://salemforallages.org/event/potion-brewing-store-experience-309/
ATTACH;FMTTYPE=image/jpeg:https://salemforallages.org/wp-content/uploads/2025/04/Potion-Brewing-Store-Experience-23.jpg
END:VEVENT
BEGIN:VEVENT
DTSTART;TZID=America/New_York:20250430T113000
DTEND;TZID=America/New_York:20250430T153000
DTSTAMP:20260423T063926
CREATED:20250425T090031Z
LAST-MODIFIED:20250425T090031Z
UID:23379-1746012600-1746027000@salemforallages.org
SUMMARY:Magical Transformations
DESCRIPTION:Through our “Magical Transformations” children embrace their charms and express their individuality. Children can choose to transform into a “Witch” or “Wizard”!
URL:https://salemforallages.org/event/magical-transformations-317/
ATTACH;FMTTYPE=image/png:https://salemforallages.org/wp-content/uploads/2024/08/Transformations-1.png
END:VEVENT
BEGIN:VEVENT
DTSTART;TZID=America/New_York:20250430T120000
DTEND;TZID=America/New_York:20250430T133000
DTSTAMP:20260423T063926
CREATED:20250427T090006Z
LAST-MODIFIED:20250427T090006Z
UID:23384-1746014400-1746019800@salemforallages.org
SUMMARY:Craft Witch
DESCRIPTION:Craft Witch is a DIY crafting session with something for everyone! Choose from a wide array of options to create your very own one-of-a-kind craft. Whichever craft you decide to create\, you’ll be provided with all the materials\, tools\, and knowledge needed to let your creativity flourish. Unlike our broom making\, bookbinding\, and spelljar making workshops in which participants are being guided through the crafting process step-by step by an instructor\, the DIY nature of Craft Witch means that you can use the studio time however you wish. Check out the crafting options on our website!
URL:https://salemforallages.org/event/craft-witch-41/
ATTACH;FMTTYPE=image/jpeg:https://salemforallages.org/wp-content/uploads/2025/04/Image-from-iOS-scaled-13.jpg
END:VEVENT
BEGIN:VEVENT
DTSTART;TZID=America/New_York:20250430T171500
DTEND;TZID=America/New_York:20250430T213000
DTSTAMP:20260423T063926
CREATED:20250427T090010Z
LAST-MODIFIED:20250427T090010Z
UID:23386-1746033300-1746048600@salemforallages.org
SUMMARY:Salem Horror Fest
DESCRIPTION:Salem Horror Fest 2025 is a celebration of diverse voices and innovative filmmaking within a genre that best reflects our cultural demons. \nVisit SalemHorror.com to find daily programming\, April 30 – May 4. \nSalem Horror Fest is produced by the Horror Arts Collective.
URL:https://salemforallages.org/event/salem-horror-fest/
ATTACH;FMTTYPE=image/jpeg:https://salemforallages.org/wp-content/uploads/2025/04/Screenshot-2025-04-24-at-12.25.45 PM.jpg
END:VEVENT
BEGIN:VEVENT
DTSTART;TZID=America/New_York:20250501T113000
DTEND;TZID=America/New_York:20250501T160000
DTSTAMP:20260423T063926
CREATED:20250427T090013Z
LAST-MODIFIED:20250427T090013Z
UID:23388-1746099000-1746115200@salemforallages.org
SUMMARY:Magical Transformations
DESCRIPTION:Through our “Magical Transformations” children embrace their charms and express their individuality. Children can choose to transform into a “Witch” or “Wizard”!
URL:https://salemforallages.org/event/magical-transformations-318/
ATTACH;FMTTYPE=image/png:https://salemforallages.org/wp-content/uploads/2024/08/Transformations.png
END:VEVENT
BEGIN:VEVENT
DTSTART;TZID=America/New_York:20250501T113000
DTEND;TZID=America/New_York:20250501T160000
DTSTAMP:20260423T063926
CREATED:20250427T090015Z
LAST-MODIFIED:20250427T090015Z
UID:23389-1746099000-1746115200@salemforallages.org
SUMMARY:Potion Brewing Store Experience
DESCRIPTION:Make your visit to The Good Witch of Salem’s shop memorable by booking our in-store Potion Brewing Experience. This activity is led by our Witch Apprentices. \nActivities are recommended for children ages 3 and up. \n*One appointment slot for each child is required.*
URL:https://salemforallages.org/event/potion-brewing-store-experience-310/
ATTACH;FMTTYPE=image/jpeg:https://salemforallages.org/wp-content/uploads/2025/04/Potion-Brewing-Store-Experience-24.jpg
END:VEVENT
BEGIN:VEVENT
DTSTART;TZID=America/New_York:20250501T120000
DTEND;TZID=America/New_York:20250501T133000
DTSTAMP:20260423T063926
CREATED:20250427T090019Z
LAST-MODIFIED:20250427T090019Z
UID:23391-1746100800-1746106200@salemforallages.org
SUMMARY:Craft Witch
DESCRIPTION:Craft Witch is a DIY crafting session with something for everyone! Choose from a wide array of options to create your very own one-of-a-kind craft. Whichever craft you decide to create\, you’ll be provided with all the materials\, tools\, and knowledge needed to let your creativity flourish. Unlike our broom making\, bookbinding\, and spelljar making workshops in which participants are being guided through the crafting process step-by step by an instructor\, the DIY nature of Craft Witch means that you can use the studio time however you wish. Check out the crafting options on our website!
URL:https://salemforallages.org/event/craft-witch-42/
ATTACH;FMTTYPE=image/jpeg:https://salemforallages.org/wp-content/uploads/2025/04/Image-from-iOS-scaled-14.jpg
END:VEVENT
BEGIN:VEVENT
DTSTART;TZID=America/New_York:20250501T171500
DTEND;TZID=America/New_York:20250501T223000
DTSTAMP:20260423T063926
CREATED:20250427T090022Z
LAST-MODIFIED:20250427T090022Z
UID:23393-1746119700-1746138600@salemforallages.org
SUMMARY:Salem Horror Fest
DESCRIPTION:Salem Horror Fest 2025 is a celebration of diverse voices and innovative filmmaking within a genre that best reflects our cultural demons. \nVisit SalemHorror.com to find daily programming\, April 30 – May 4. \nSalem Horror Fest is produced by the Horror Arts Collective.
URL:https://salemforallages.org/event/salem-horror-fest-2/
ATTACH;FMTTYPE=image/jpeg:https://salemforallages.org/wp-content/uploads/2025/04/Screenshot-2025-04-24-at-12.25.45 PM-1.jpg
END:VEVENT
BEGIN:VEVENT
DTSTART;TZID=America/New_York:20250501T190000
DTEND;TZID=America/New_York:20250501T210000
DTSTAMP:20260423T063926
CREATED:20250427T090026Z
LAST-MODIFIED:20250427T090026Z
UID:23395-1746126000-1746133200@salemforallages.org
SUMMARY:Jefferson Starship 50th Anniversary Tour
DESCRIPTION:As they celebrate their 50th anniversary\, the band reaches a rare milestone that only a few bands ever achieve. \nJefferson Starship is one of the most successful arena rock bands of the ’70s and ’80s\, earning 3 platinum and 8 gold records\, as well as numerous Top 40 Billboard singles.
URL:https://salemforallages.org/event/jefferson-starship-50th-anniversary-tour/
ATTACH;FMTTYPE=image/jpeg:https://salemforallages.org/wp-content/uploads/2025/04/JS-Photo-1-HIGH.RES_-scaled-1.jpg
END:VEVENT
BEGIN:VEVENT
DTSTART;TZID=America/New_York:20250501T200000
DTEND;TZID=America/New_York:20250501T220000
DTSTAMP:20260423T063926
CREATED:20250427T090029Z
LAST-MODIFIED:20250427T090029Z
UID:23397-1746129600-1746136800@salemforallages.org
SUMMARY:Francoix Simard
DESCRIPTION:Join us for an evening with multi instrumentalist Francoix Simard & Friends. Francoix Simard has traveled the world singing for adoring audiences for over 20 years. Hailing from Quebec\, he presents an electric energy with a diverse repertoire of brilliant covers from blues and rock to country and pop.
URL:https://salemforallages.org/event/francoix-simard/
ATTACH;FMTTYPE=image/png:https://salemforallages.org/wp-content/uploads/2025/04/Francoix-Simard.png
END:VEVENT
BEGIN:VEVENT
DTSTART;TZID=America/New_York:20250502T113000
DTEND;TZID=America/New_York:20250502T160000
DTSTAMP:20260423T063926
CREATED:20250427T090033Z
LAST-MODIFIED:20250427T090033Z
UID:23399-1746185400-1746201600@salemforallages.org
SUMMARY:Magical Transformations
DESCRIPTION:Through our “Magical Transformations” children embrace their charms and express their individuality. Children can choose to transform into a “Witch” or “Wizard”!
URL:https://salemforallages.org/event/magical-transformations-319/
ATTACH;FMTTYPE=image/png:https://salemforallages.org/wp-content/uploads/2024/08/Transformations.png
END:VEVENT
BEGIN:VEVENT
DTSTART;TZID=America/New_York:20250502T113000
DTEND;TZID=America/New_York:20250502T160000
DTSTAMP:20260423T063926
CREATED:20250427T090034Z
LAST-MODIFIED:20250427T090034Z
UID:23400-1746185400-1746201600@salemforallages.org
SUMMARY:Potion Brewing Store Experience
DESCRIPTION:Make your visit to The Good Witch of Salem’s shop memorable by booking our in-store Potion Brewing Experience. This activity is led by our Witch Apprentices. \nActivities are recommended for children ages 3 and up. \n*One appointment slot for each child is required.*
URL:https://salemforallages.org/event/potion-brewing-store-experience-311/
ATTACH;FMTTYPE=image/jpeg:https://salemforallages.org/wp-content/uploads/2025/04/Potion-Brewing-Store-Experience-25.jpg
END:VEVENT
BEGIN:VEVENT
DTSTART;TZID=America/New_York:20250502T120000
DTEND;TZID=America/New_York:20250502T133000
DTSTAMP:20260423T063926
CREATED:20250427T090039Z
LAST-MODIFIED:20250427T090039Z
UID:23402-1746187200-1746192600@salemforallages.org
SUMMARY:Craft Witch
DESCRIPTION:Craft Witch is a DIY crafting session with something for everyone! Choose from a wide array of options to create your very own one-of-a-kind craft. Whichever craft you decide to create\, you’ll be provided with all the materials\, tools\, and knowledge needed to let your creativity flourish. Unlike our broom making\, bookbinding\, and spelljar making workshops in which participants are being guided through the crafting process step-by step by an instructor\, the DIY nature of Craft Witch means that you can use the studio time however you wish. Check out the crafting options on our website!
URL:https://salemforallages.org/event/craft-witch-43/
ATTACH;FMTTYPE=image/jpeg:https://salemforallages.org/wp-content/uploads/2025/04/Image-from-iOS-scaled-15.jpg
END:VEVENT
BEGIN:VEVENT
DTSTART;TZID=America/New_York:20250502T170000
DTEND;TZID=America/New_York:20250502T235900
DTSTAMP:20260423T063926
CREATED:20250427T090043Z
LAST-MODIFIED:20250427T090043Z
UID:23404-1746205200-1746230340@salemforallages.org
SUMMARY:Salem Horror Fest
DESCRIPTION:Salem Horror Fest 2025 is a celebration of diverse voices and innovative filmmaking within a genre that best reflects our cultural demons. \nVisit SalemHorror.com to find daily programming\, April 30 – May 4. \nSalem Horror Fest is produced by the Horror Arts Collective.
URL:https://salemforallages.org/event/salem-horror-fest-3/
ATTACH;FMTTYPE=image/jpeg:https://salemforallages.org/wp-content/uploads/2025/04/Screenshot-2025-04-24-at-12.25.45 PM-2.jpg
END:VEVENT
BEGIN:VEVENT
DTSTART;TZID=America/New_York:20250502T183000
DTEND;TZID=America/New_York:20250502T203000
DTSTAMP:20260423T063926
CREATED:20250427T090048Z
LAST-MODIFIED:20250427T090048Z
UID:23406-1746210600-1746217800@salemforallages.org
SUMMARY:Pete Lee
DESCRIPTION:Pete Lee was the first standup comedian to get a standing ovation on The Tonight Show Starring Jimmy Fallon. Currently\, Pete is a cast member of TruTV’s Greatest Ever and he hosts his own segment on Nickelodeon’s Nick Toons\, in co-ordination with the NFL\, called NFL Rush. He’s also a regular on TruTV’s Comedy Knockout and Comedy Central’s Roast Battle. And he starred in a documentary titled I Need You to Kill that is now available on iTunes and Amazon. If you haven’t heard of Pete Lee yet\, prepare to tell other people.
URL:https://salemforallages.org/event/pete-lee/
ATTACH;FMTTYPE=image/png:https://salemforallages.org/wp-content/uploads/2025/04/Pete-Lee.png
END:VEVENT
BEGIN:VEVENT
DTSTART;TZID=America/New_York:20250502T190000
DTEND;TZID=America/New_York:20250502T203000
DTSTAMP:20260423T063926
CREATED:20250429T090006Z
LAST-MODIFIED:20250429T090006Z
UID:23449-1746212400-1746217800@salemforallages.org
SUMMARY:Sea Witch Ball Workshops with The Sea Wych Salem
DESCRIPTION:Join the Sea Wych Salem & create your own one-of-a-kind sea witch ball! These protective talismans are crafted using hollow ornaments that we layer with protective salts\, herbs\, sea vegetation\, mosses\, dried flowers\, sea shells\, & so much more! The ticket price includes a brief history of the witch ball\, a short ritual to put us into a magical mindset\, all supplies\, & step-by-step guidance from the Sea Wych. Workshop attendees also enjoy a private shopping experience with a 10% discount storewide.
URL:https://salemforallages.org/event/sea-witch-ball-workshops-with-the-sea-wych-salem/
ATTACH;FMTTYPE=image/jpeg:https://salemforallages.org/wp-content/uploads/2025/04/FB_IMG_1730599765667.jpg
END:VEVENT
BEGIN:VEVENT
DTSTART;TZID=America/New_York:20250502T190000
DTEND;TZID=America/New_York:20250502T210000
DTSTAMP:20260423T063926
CREATED:20250427T090054Z
LAST-MODIFIED:20250427T090054Z
UID:23408-1746212400-1746219600@salemforallages.org
SUMMARY:Evening of Glass at NSGS!
DESCRIPTION:Join us for a fun adult only evening of glass at North Shore Glass School. Participants will enjoy learning how to cut\, arrange and design glass to make a beautiful keepsake fused glass drape bowl\, they will also enjoy a glass art demonstration and some refreshing drinks.
URL:https://salemforallages.org/event/evening-of-glass-at-nsgs-3/
ATTACH;FMTTYPE=image/jpeg:https://salemforallages.org/wp-content/uploads/2025/04/IMG_0286-scaled-2.jpg
END:VEVENT
BEGIN:VEVENT
DTSTART;TZID=America/New_York:20250502T200000
DTEND;TZID=America/New_York:20250502T220000
DTSTAMP:20260423T063926
CREATED:20250427T090058Z
LAST-MODIFIED:20250427T090058Z
UID:23410-1746216000-1746223200@salemforallages.org
SUMMARY:Top of the World – A Carpenters Tribute
DESCRIPTION:Top Of The World is The World’s Premiere Tribute to The Carpenters! \nFronted by singer Debbie Taylor\, her Karen Carpenter vocal resemblance is absolutely astonishing. She is backed by a seven piece band consisting of top-notch\, professional industry musicians who have had amazing careers in their own right. The band members are all multi-instrumentalists and at times use 3 keyboards to recreate the incredibly complex arrangements created by Richard Carpenter. The attention to detail paired with saxophone\, trumpet\, flute and many more instruments complete every song to perfection!
URL:https://salemforallages.org/event/top-of-the-world-a-carpenters-tribute/
ATTACH;FMTTYPE=image/jpeg:https://salemforallages.org/wp-content/uploads/2025/04/DA5_4387-scaled-1.jpg
END:VEVENT
BEGIN:VEVENT
DTSTART;TZID=America/New_York:20250502T210000
DTEND;TZID=America/New_York:20250502T230000
DTSTAMP:20260423T063926
CREATED:20250427T090103Z
LAST-MODIFIED:20250427T090103Z
UID:23412-1746219600-1746226800@salemforallages.org
SUMMARY:Pete Lee
DESCRIPTION:Pete Lee was the first standup comedian to get a standing ovation on The Tonight Show Starring Jimmy Fallon. Currently\, Pete is a cast member of TruTV’s Greatest Ever and he hosts his own segment on Nickelodeon’s Nick Toons\, in co-ordination with the NFL\, called NFL Rush. He’s also a regular on TruTV’s Comedy Knockout and Comedy Central’s Roast Battle. And he starred in a documentary titled I Need You to Kill that is now available on iTunes and Amazon. If you haven’t heard of Pete Lee yet\, prepare to tell other people.
URL:https://salemforallages.org/event/pete-lee-2/
ATTACH;FMTTYPE=image/png:https://salemforallages.org/wp-content/uploads/2025/04/Pete-Lee.png
END:VEVENT
BEGIN:VEVENT
DTSTART;TZID=America/New_York:20250503T094500
DTEND;TZID=America/New_York:20250503T125900
DTSTAMP:20260423T063926
CREATED:20250427T090104Z
LAST-MODIFIED:20250427T090104Z
UID:23413-1746265500-1746277140@salemforallages.org
SUMMARY:Salem Horror Fest
DESCRIPTION:Salem Horror Fest 2025 is a celebration of diverse voices and innovative filmmaking within a genre that best reflects our cultural demons. \nVisit SalemHorror.com to find daily programming\, April 30 – May 4. \nSalem Horror Fest is produced by the Horror Arts Collective.
URL:https://salemforallages.org/event/salem-horror-fest-4/
ATTACH;FMTTYPE=image/jpeg:https://salemforallages.org/wp-content/uploads/2025/04/Screenshot-2025-04-24-at-12.25.45 PM-3.jpg
END:VEVENT
END:VCALENDAR