BEGIN:VCALENDAR
VERSION:2.0
PRODID:-//Salem for All Ages - ECPv6.15.18//NONSGML v1.0//EN
CALSCALE:GREGORIAN
METHOD:PUBLISH
X-ORIGINAL-URL:https://salemforallages.org
X-WR-CALDESC:Events for Salem for All Ages
REFRESH-INTERVAL;VALUE=DURATION:PT1H
X-Robots-Tag:noindex
X-PUBLISHED-TTL:PT1H
BEGIN:VTIMEZONE
TZID:America/New_York
BEGIN:DAYLIGHT
TZOFFSETFROM:-0500
TZOFFSETTO:-0400
TZNAME:EDT
DTSTART:20230312T070000
END:DAYLIGHT
BEGIN:STANDARD
TZOFFSETFROM:-0400
TZOFFSETTO:-0500
TZNAME:EST
DTSTART:20231105T060000
END:STANDARD
BEGIN:DAYLIGHT
TZOFFSETFROM:-0500
TZOFFSETTO:-0400
TZNAME:EDT
DTSTART:20240310T070000
END:DAYLIGHT
BEGIN:STANDARD
TZOFFSETFROM:-0400
TZOFFSETTO:-0500
TZNAME:EST
DTSTART:20241103T060000
END:STANDARD
BEGIN:DAYLIGHT
TZOFFSETFROM:-0500
TZOFFSETTO:-0400
TZNAME:EDT
DTSTART:20250309T070000
END:DAYLIGHT
BEGIN:STANDARD
TZOFFSETFROM:-0400
TZOFFSETTO:-0500
TZNAME:EST
DTSTART:20251102T060000
END:STANDARD
END:VTIMEZONE
BEGIN:VEVENT
DTSTART;TZID=America/New_York:20241007T113000
DTEND;TZID=America/New_York:20241007T160000
DTSTAMP:20260425T105943
CREATED:20240927T090016Z
LAST-MODIFIED:20240927T090016Z
UID:20597-1728300600-1728316800@salemforallages.org
SUMMARY:Potion Brewing Store Experience
DESCRIPTION:Make your visit to The Good Witch of Salem’s shop memorable by booking our in-store Potion Brewing Experience. This activity is led by our Witch Apprentices. \nActivities are recommended for children ages 3 and up. \n*One appointment slot for each child is required.*
URL:https://salemforallages.org/event/potion-brewing-store-experience-117/
ATTACH;FMTTYPE=image/jpeg:https://salemforallages.org/wp-content/uploads/2024/09/Potion-Brewing-Store-Experience-29.jpg
END:VEVENT
BEGIN:VEVENT
DTSTART;TZID=America/New_York:20241007T113000
DTEND;TZID=America/New_York:20241007T220000
DTSTAMP:20260425T105943
CREATED:20240927T090019Z
LAST-MODIFIED:20240927T090019Z
UID:20599-1728300600-1728338400@salemforallages.org
SUMMARY:Stephen King Night at Witch City Hibachi
DESCRIPTION:Costumes are encouraged with our themed nights! Dressing up will be rewarded with a complimentary goodie bag upon check out. \nA small panel of judges to decide a winner. The winner will receive a prize. There is no cover charge for these events\, we want people to walk in and grab some delicious food and enjoy a fun\, lively personal experience! \nFor each themed day the restaurant will be decorated all day so we encourage guest to come any time between the hours of 11:30-10 \nAlong with the decor we will be playing themed music\, serving specialty crafted themed cocktails/mocktails\, & providing great photo opportunities to really give an immersive dining experience.
URL:https://salemforallages.org/event/stephen-king-night-at-witch-city-hibachi/
ATTACH;FMTTYPE=image/jpeg:https://salemforallages.org/wp-content/uploads/2024/09/Steven-King-S9OReb.tmp_.jpg
END:VEVENT
BEGIN:VEVENT
DTSTART;TZID=America/New_York:20241007T181500
DTEND;TZID=America/New_York:20241007T194500
DTSTAMP:20260425T105943
CREATED:20241005T090109Z
LAST-MODIFIED:20241005T090109Z
UID:20699-1728324900-1728330300@salemforallages.org
SUMMARY:Guilty! A Salem Witch Trial
DESCRIPTION:It’s 1692 in Salem\, and the audience is on trial for witchcraft! Hear testimony against you and plead your case. Will you be found guilty? Combo tickets with Gallows Hill Main Show. \nMultiple Showtimes and Dates – check event page for more details.
URL:https://salemforallages.org/event/guilty-a-salem-witch-trial-51/
ATTACH;FMTTYPE=image/jpeg:https://salemforallages.org/wp-content/uploads/2024/10/2022-HH-Guilty-Basic-6-EbazHw.tmp_.jpg
END:VEVENT
BEGIN:VEVENT
DTSTART;TZID=America/New_York:20241007T183000
DTEND;TZID=America/New_York:20241007T193000
DTSTAMP:20260425T105943
CREATED:20241005T090110Z
LAST-MODIFIED:20241005T090110Z
UID:20700-1728325800-1728329400@salemforallages.org
SUMMARY:Tales of the Macabre
DESCRIPTION:Tales of the Macabre: From Poe to Irving with a dash of Dickens\, Jennifer whips up a maudlin Victorian performance.\n\n\nTickets are $34 general admission; $29 for children under 12 and Gables Members.\n\n\nPlease note: Tales of the Macabre is a theatrical performance. Your ticket does not include access to the Mansion or Grounds. To purchase a Mansion Tour Package or Grounds Pass\, click here.
URL:https://salemforallages.org/event/tales-of-the-macabre-4/
ATTACH;FMTTYPE=image/jpeg:https://salemforallages.org/wp-content/uploads/2024/10/Tales-of-the-Macabre-2024-1920x1080-1-ztnnYN.tmp_.jpg
END:VEVENT
BEGIN:VEVENT
DTSTART;TZID=America/New_York:20241008T080000
DTEND;TZID=America/New_York:20241008T170000
DTSTAMP:20260425T105943
CREATED:20240927T090023Z
LAST-MODIFIED:20240927T090023Z
UID:20601-1728374400-1728406800@salemforallages.org
SUMMARY:Ginger Cajun Seafood Pride Nights
DESCRIPTION:Ginger has a Pride Night every second and fourth Wednesdays of the month from 7 to 10. It’s a safe place for LGBT+ people and allies to come\, hang out and have fun. They also have a special drink list for it.
URL:https://salemforallages.org/event/ginger-cajun-seafood-pride-nights-17/
ATTACH;FMTTYPE=image/jpeg:https://salemforallages.org/wp-content/uploads/2023/05/Pride-Flag.jpg
END:VEVENT
BEGIN:VEVENT
DTSTART;TZID=America/New_York:20241008T100000
DTEND;TZID=America/New_York:20241008T160000
DTSTAMP:20260425T105943
CREATED:20241006T090020Z
LAST-MODIFIED:20241006T090020Z
UID:20706-1728381600-1728403200@salemforallages.org
SUMMARY:Magical Transformation
DESCRIPTION:Through our “Magical Transformations\,” children embrace their charms and express their individuality. When your child looks in the mirror\, their eyes sparkle with confidence and excitement!
URL:https://salemforallages.org/event/magical-transformation-3/
END:VEVENT
BEGIN:VEVENT
DTSTART;TZID=America/New_York:20241008T100000
DTEND;TZID=America/New_York:20241008T220000
DTSTAMP:20260425T105943
CREATED:20241006T090019Z
LAST-MODIFIED:20241006T090019Z
UID:20705-1728381600-1728424800@salemforallages.org
SUMMARY:The Salem Psychic Fair & Witches’ Market
DESCRIPTION:Explore the future with a psychic reading at Salem’s longest-running psychic fair! The Salem Psychic Fair and Witches’ Market features some of the Witch City’s most gifted psychics!  \nHelpful information to make your visit to Salem\, Ma this halloween easy:\n\nCheck out this map to explore the area.\nFor parking information make sure to check out this page.\nHere are some tips for a safe halloween.\nIf you need to find a restroom\, here’s a restroom locator.\nRequest your free guide to Salem haunted happenings.\nDiscover a variety of exciting events taking place in Salem\, MA by visiting our events page.\nDownload the app to get the latest updates on everything happening in Salem\,MA.
URL:https://salemforallages.org/event/the-salem-psychic-fair-witches-market-35/
ATTACH;FMTTYPE=image/jpeg:https://salemforallages.org/wp-content/uploads/2024/10/hero-psychicfair-rg-Bcl7fo.tmp_.jpg
END:VEVENT
BEGIN:VEVENT
DTSTART;TZID=America/New_York:20241008T110000
DTEND;TZID=America/New_York:20241008T170000
DTSTAMP:20260425T105943
CREATED:20240927T090023Z
LAST-MODIFIED:20240927T090023Z
UID:20602-1728385200-1728406800@salemforallages.org
SUMMARY:Teatime Tuesdays with the Satanic Temple
DESCRIPTION:Join us every Tuesday during gallery hours for complementary tea with admission to the gallery.
URL:https://salemforallages.org/event/teatime-tuesdays-with-the-satanic-temple-72/
ATTACH;FMTTYPE=image/jpeg:https://salemforallages.org/wp-content/uploads/2023/05/satanic-tea-art-gallery.jpg
END:VEVENT
BEGIN:VEVENT
DTSTART;TZID=America/New_York:20241008T113000
DTEND;TZID=America/New_York:20241008T150000
DTSTAMP:20260425T105943
CREATED:20240928T090010Z
LAST-MODIFIED:20240928T090010Z
UID:20604-1728387000-1728399600@salemforallages.org
SUMMARY:Stop In For a Spell: DIY Potion Bar
DESCRIPTION:Fly in to The Good Witch and Stay for a Spell! Mix up your very own potion at our Potion Bar! \nDrop Ins begin at store opening and end 30 minutes before closing and are offered on a first come\, first serve basis. Purchase online or pay in store. \nDrop Ins may be unavailable during a birthday party or store event. Please call ahead\, or check our posted hours on Google. \nUnder age 4 may participate with the help of a supervising adult.
URL:https://salemforallages.org/event/stop-in-for-a-spell-diy-potion-bar-97/
ATTACH;FMTTYPE=image/jpeg:https://salemforallages.org/wp-content/uploads/2024/09/Stop-In-For-a-Spell-SQUARE-12.jpg
END:VEVENT
BEGIN:VEVENT
DTSTART;TZID=America/New_York:20241008T113000
DTEND;TZID=America/New_York:20241008T150000
DTSTAMP:20260425T105943
CREATED:20240928T090015Z
LAST-MODIFIED:20240928T090015Z
UID:20606-1728387000-1728399600@salemforallages.org
SUMMARY:Potion Brewing Store Experience
DESCRIPTION:Make your visit to The Good Witch of Salem’s shop memorable by booking our in-store Potion Brewing Experience. This activity is led by our Witch Apprentices. \nActivities are recommended for children ages 3 and up. \n*One appointment slot for each child is required.*
URL:https://salemforallages.org/event/potion-brewing-store-experience-118/
ATTACH;FMTTYPE=image/jpeg:https://salemforallages.org/wp-content/uploads/2024/09/Potion-Brewing-Store-Experience-30.jpg
END:VEVENT
BEGIN:VEVENT
DTSTART;TZID=America/New_York:20241008T113000
DTEND;TZID=America/New_York:20241008T153000
DTSTAMP:20260425T105943
CREATED:20240928T090009Z
LAST-MODIFIED:20240928T090009Z
UID:20603-1728387000-1728401400@salemforallages.org
SUMMARY:Magical Transformations
DESCRIPTION:Through our “Magical Transformations” children embrace their charms and express their individuality. Children can choose to transform into a “Witch” or “Wizard”!
URL:https://salemforallages.org/event/magical-transformations-125/
ATTACH;FMTTYPE=image/png:https://salemforallages.org/wp-content/uploads/2024/08/Transformations-1.png
END:VEVENT
BEGIN:VEVENT
DTSTART;TZID=America/New_York:20241008T181500
DTEND;TZID=America/New_York:20241008T194500
DTSTAMP:20260425T105943
CREATED:20241006T090020Z
LAST-MODIFIED:20241006T090020Z
UID:20707-1728411300-1728416700@salemforallages.org
SUMMARY:Guilty! A Salem Witch Trial
DESCRIPTION:It’s 1692 in Salem\, and the audience is on trial for witchcraft! Hear testimony against you and plead your case. Will you be found guilty? Combo tickets with Gallows Hill Main Show. \nMultiple Showtimes and Dates – check event page for more details.
URL:https://salemforallages.org/event/guilty-a-salem-witch-trial-52/
ATTACH;FMTTYPE=image/jpeg:https://salemforallages.org/wp-content/uploads/2024/10/2022-HH-Guilty-Basic-6-EbazHw.tmp_.jpg
END:VEVENT
BEGIN:VEVENT
DTSTART;TZID=America/New_York:20241008T183000
DTEND;TZID=America/New_York:20241008T193000
DTSTAMP:20260425T105943
CREATED:20241006T090021Z
LAST-MODIFIED:20241006T090021Z
UID:20708-1728412200-1728415800@salemforallages.org
SUMMARY:Tales of the Macabre
DESCRIPTION:Tales of the Macabre: From Poe to Irving with a dash of Dickens\, Jennifer whips up a maudlin Victorian performance.\n\n\nTickets are $34 general admission; $29 for children under 12 and Gables Members.\n\n\nPlease note: Tales of the Macabre is a theatrical performance. Your ticket does not include access to the Mansion or Grounds. To purchase a Mansion Tour Package or Grounds Pass\, click here.
URL:https://salemforallages.org/event/tales-of-the-macabre-5/
ATTACH;FMTTYPE=image/jpeg:https://salemforallages.org/wp-content/uploads/2024/10/Tales-of-the-Macabre-2024-1920x1080-1-ztnnYN.tmp_.jpg
END:VEVENT
BEGIN:VEVENT
DTSTART;TZID=America/New_York:20241008T190000
DTEND;TZID=America/New_York:20241008T200000
DTSTAMP:20260425T105943
CREATED:20241006T090021Z
LAST-MODIFIED:20241006T090021Z
UID:20709-1728414000-1728417600@salemforallages.org
SUMMARY:Ouija Board Crafting
DESCRIPTION:Create Your Own Talking Board \nIf you’ve visited the Witch Board Museum here in Salem you’re aware of the wide range of ouija boards with different styles and themes that have been created over the years\, but none will be as unique as a ouija board that you’ve made yourself! Starting from a blank board you’ll use a variety of materials to paint and decorate your very own functional witch board complete with a planchette!
URL:https://salemforallages.org/event/ouija-board-crafting/
ATTACH;FMTTYPE=image/jpeg:https://salemforallages.org/wp-content/uploads/2024/10/appointmentType-thumb-51350003-j5QKYp.tmp_.jpg
END:VEVENT
BEGIN:VEVENT
DTSTART;TZID=America/New_York:20241008T190000
DTEND;TZID=America/New_York:20241008T210000
DTSTAMP:20260425T105943
CREATED:20241006T090028Z
LAST-MODIFIED:20241006T090028Z
UID:20713-1728414000-1728421200@salemforallages.org
SUMMARY:Trivia Tuesdays: Vampires
DESCRIPTION:Join us for a round of pub trivia! The month of October we’ll be hosting themed trivia nights full of haunting lore.\n\n\n5 rounds plus a tie breaker! Prizes for the top two teams.\n\n\n\n10/8 Vampires \n10/15 True Crime & Serial Killers \n10/22 Slasher Films \n10/29 Hocus Pocus
URL:https://salemforallages.org/event/trivia-tuesdays-vampires/
ATTACH;FMTTYPE=image/jpeg:https://salemforallages.org/wp-content/uploads/2024/10/10_08_Vampires-uApRDs.tmp_-scaled-1.jpg
END:VEVENT
BEGIN:VEVENT
DTSTART;TZID=America/New_York:20241008T190000
DTEND;TZID=America/New_York:20241008T220000
DTSTAMP:20260425T105943
CREATED:20241006T090025Z
LAST-MODIFIED:20241006T090025Z
UID:20711-1728414000-1728424800@salemforallages.org
SUMMARY:The Sixth Sense – 25th Anniversary Screening
DESCRIPTION:Young Cole Sear is haunted by a dark secret: he is visited by ghosts. Cole is frightened by visitations from those with unresolved problems who appear from the shadows. He is too afraid to tell anyone about his anguish\, except child psychologist Dr. Malcolm Crowe. As Dr. Crowe tries to uncover the truth about Cole’s supernatural abilities\, the consequences for client and therapist are a jolt that awakens them both to something unexplainable.
URL:https://salemforallages.org/event/the-sixth-sense-25th-anniversary-screening/
ATTACH;FMTTYPE=image/jpeg:https://salemforallages.org/wp-content/uploads/2024/10/1-CQS3D2.tmp_.jpg
END:VEVENT
BEGIN:VEVENT
DTSTART;TZID=America/New_York:20241008T193000
DTEND;TZID=America/New_York:20241008T210000
DTSTAMP:20260425T105943
CREATED:20240929T090009Z
LAST-MODIFIED:20240929T090009Z
UID:20608-1728415800-1728421200@salemforallages.org
SUMMARY:Writers Series: Carmen Maria Machado
DESCRIPTION:The Salem State Writers’ Series invites noted authors of short stories\, biography\, poetry\, poetry\, memoir and essays to share their work at free readings. This years’ Series opens with author\, essayist\, and critic\, Carmen Maria Machado\, best known for her award-winning short story collection “Her Body and Other Parties” and bestselling memoir “In the Dream House.” Carmen Maria Machado’s writing defies and blends genres such as surrealism\, fantasy\, and horror to create writing that is so palpable it seems alive. Her work has been compared to that of Shirley Jackson\, Kelly Link and Angela Carter\, but with a voice that is uniquely her own.
URL:https://salemforallages.org/event/writers-series-carmen-maria-machado/
ATTACH;FMTTYPE=image/jpeg:https://salemforallages.org/wp-content/uploads/2024/09/https-www.salemstate.educalendarwriters-series-carmen-maria-machado-oct-08-2024.jpg
END:VEVENT
BEGIN:VEVENT
DTSTART;TZID=America/New_York:20241009T100000
DTEND;TZID=America/New_York:20241009T160000
DTSTAMP:20260425T105943
CREATED:20241006T090032Z
LAST-MODIFIED:20241006T090032Z
UID:20716-1728468000-1728489600@salemforallages.org
SUMMARY:Magical Transformation
DESCRIPTION:Through our “Magical Transformations\,” children embrace their charms and express their individuality. When your child looks in the mirror\, their eyes sparkle with confidence and excitement!
URL:https://salemforallages.org/event/magical-transformation-4/
END:VEVENT
BEGIN:VEVENT
DTSTART;TZID=America/New_York:20241009T100000
DTEND;TZID=America/New_York:20241009T220000
DTSTAMP:20260425T105943
CREATED:20241006T090032Z
LAST-MODIFIED:20241006T090032Z
UID:20715-1728468000-1728511200@salemforallages.org
SUMMARY:The Salem Psychic Fair & Witches’ Market
DESCRIPTION:Explore the future with a psychic reading at Salem’s longest-running psychic fair! The Salem Psychic Fair and Witches’ Market features some of the Witch City’s most gifted psychics!  \nHelpful information to make your visit to Salem\, Ma this halloween easy:\n\nCheck out this map to explore the area.\nFor parking information make sure to check out this page.\nHere are some tips for a safe halloween.\nIf you need to find a restroom\, here’s a restroom locator.\nRequest your free guide to Salem haunted happenings.\nDiscover a variety of exciting events taking place in Salem\, MA by visiting our events page.\nDownload the app to get the latest updates on everything happening in Salem\,MA.
URL:https://salemforallages.org/event/the-salem-psychic-fair-witches-market-36/
ATTACH;FMTTYPE=image/jpeg:https://salemforallages.org/wp-content/uploads/2024/10/hero-psychicfair-rg-Bcl7fo.tmp_.jpg
END:VEVENT
BEGIN:VEVENT
DTSTART;TZID=America/New_York:20241009T113000
DTEND;TZID=America/New_York:20241009T150000
DTSTAMP:20260425T105943
CREATED:20240929T090013Z
LAST-MODIFIED:20240929T090013Z
UID:20611-1728473400-1728486000@salemforallages.org
SUMMARY:Stop In For a Spell: DIY Potion Bar
DESCRIPTION:Fly in to The Good Witch and Stay for a Spell! Mix up your very own potion at our Potion Bar! \nDrop Ins begin at store opening and end 30 minutes before closing and are offered on a first come\, first serve basis. Purchase online or pay in store. \nDrop Ins may be unavailable during a birthday party or store event. Please call ahead\, or check our posted hours on Google. \nUnder age 4 may participate with the help of a supervising adult.
URL:https://salemforallages.org/event/stop-in-for-a-spell-diy-potion-bar-98/
ATTACH;FMTTYPE=image/jpeg:https://salemforallages.org/wp-content/uploads/2024/09/Stop-In-For-a-Spell-SQUARE-13.jpg
END:VEVENT
BEGIN:VEVENT
DTSTART;TZID=America/New_York:20241009T113000
DTEND;TZID=America/New_York:20241009T150000
DTSTAMP:20260425T105943
CREATED:20240929T090017Z
LAST-MODIFIED:20240929T090017Z
UID:20613-1728473400-1728486000@salemforallages.org
SUMMARY:Potion Brewing Store Experience
DESCRIPTION:Make your visit to The Good Witch of Salem’s shop memorable by booking our in-store Potion Brewing Experience. This activity is led by our Witch Apprentices. \nActivities are recommended for children ages 3 and up. \n*One appointment slot for each child is required.*
URL:https://salemforallages.org/event/potion-brewing-store-experience-119/
ATTACH;FMTTYPE=image/jpeg:https://salemforallages.org/wp-content/uploads/2024/09/Potion-Brewing-Store-Experience-31.jpg
END:VEVENT
BEGIN:VEVENT
DTSTART;TZID=America/New_York:20241009T113000
DTEND;TZID=America/New_York:20241009T153000
DTSTAMP:20260425T105943
CREATED:20240929T090012Z
LAST-MODIFIED:20240929T090012Z
UID:20610-1728473400-1728487800@salemforallages.org
SUMMARY:Magical Transformations
DESCRIPTION:Through our “Magical Transformations” children embrace their charms and express their individuality. Children can choose to transform into a “Witch” or “Wizard”!
URL:https://salemforallages.org/event/magical-transformations-126/
ATTACH;FMTTYPE=image/png:https://salemforallages.org/wp-content/uploads/2024/08/Transformations-1.png
END:VEVENT
BEGIN:VEVENT
DTSTART;TZID=America/New_York:20241009T113000
DTEND;TZID=America/New_York:20241009T220000
DTSTAMP:20260425T105943
CREATED:20240929T090020Z
LAST-MODIFIED:20240929T090020Z
UID:20615-1728473400-1728511200@salemforallages.org
SUMMARY:Clown Night at Witch City Hibachi
DESCRIPTION:Costumes are encouraged with our themed nights! Dressing up will be rewarded with a complimentary goodie bag upon check out. \nA small panel of judges to decide a winner. The winner will receive a prize. There is no cover charge for these events\, we want people to walk in and grab some delicious food and enjoy a fun\, lively personal experience! \nFor each themed day the restaurant will be decorated all day so we encourage guest to come any time between the hours of 11:30-10 \nAlong with the decor we will be playing themed music\, serving specialty crafted themed cocktails/mocktails\, & providing great photo opportunities to really give an immersive dining experience.
URL:https://salemforallages.org/event/clown-night-at-witch-city-hibachi/
ATTACH;FMTTYPE=image/jpeg:https://salemforallages.org/wp-content/uploads/2024/09/clown-ba1saG.tmp_.jpg
END:VEVENT
BEGIN:VEVENT
DTSTART;TZID=America/New_York:20241009T180000
DTEND;TZID=America/New_York:20241009T200000
DTSTAMP:20260425T105943
CREATED:20240929T090023Z
LAST-MODIFIED:20240929T090023Z
UID:20617-1728496800-1728504000@salemforallages.org
SUMMARY:Bingo at Gulu-Gulu Cafe
DESCRIPTION:Stop by Gulu-Gulu Cafe for a fun trivia series that will excite and engage any audience! Quirky\, funny\, and free!
URL:https://salemforallages.org/event/bingo-at-gulu-gulu-cafe-63/
ATTACH;FMTTYPE=image/jpeg:https://salemforallages.org/wp-content/uploads/2023/08/BingoBoardNew.jpg
END:VEVENT
BEGIN:VEVENT
DTSTART;TZID=America/New_York:20241009T180000
DTEND;TZID=America/New_York:20241009T200000
DTSTAMP:20260425T105943
CREATED:20241007T090008Z
LAST-MODIFIED:20241007T090008Z
UID:20717-1728496800-1728504000@salemforallages.org
SUMMARY:Make Resin Art Frames
DESCRIPTION:Join us for the Resin Floral Art Class Whether you’re a beginner or an experienced artist\, this class is perfect for anyone looking to explore their artistic side. During the class\, you’ll receive step-by-step guidance from our talented instructor Jasmine\, who will teach you her technique to create a stunning floral frame. Don’t worry about bringing any materials – we’ll provide all the necessary supplies\, including resin\, dried wild flowers\, dried rose\,lavender and camamile pedals\, broken glass\, mosaic accents\, pebbles\, rocks\, sand \, sea shells and more. Please feel free to bring items you would like to add! Spaces are limited\, so be sure to reserve your spot today. This is an opportunity to relax\, socialize\, and create something beautiful.
URL:https://salemforallages.org/event/make-resin-art-frames/
ATTACH;FMTTYPE=image/jpeg:https://salemforallages.org/wp-content/uploads/2024/10/CSpv0dZ09dUMDLcQuO8D-fvgm1f.tmp_.jpg
END:VEVENT
BEGIN:VEVENT
DTSTART;TZID=America/New_York:20241009T180000
DTEND;TZID=America/New_York:20241009T200000
DTSTAMP:20260425T105943
CREATED:20241007T090011Z
LAST-MODIFIED:20241007T090011Z
UID:20719-1728496800-1728504000@salemforallages.org
SUMMARY:Pub Singing – Sea Shanties and More!
DESCRIPTION:The Pub Singers are back! Join us for an afternoon of pub tunes! Listen to this group of shanty singers singing old pub tunes and feel free to join in!
URL:https://salemforallages.org/event/pub-singing-sea-shanties-and-more/
ATTACH;FMTTYPE=image/jpeg:https://salemforallages.org/wp-content/uploads/2024/10/461489982_926039002879683_5295633410993415221_n-u2dG22.tmp_.jpg
END:VEVENT
BEGIN:VEVENT
DTSTART;TZID=America/New_York:20241009T181500
DTEND;TZID=America/New_York:20241009T194500
DTSTAMP:20260425T105943
CREATED:20241007T090014Z
LAST-MODIFIED:20241007T090014Z
UID:20721-1728497700-1728503100@salemforallages.org
SUMMARY:Guilty! A Salem Witch Trial
DESCRIPTION:It’s 1692 in Salem\, and the audience is on trial for witchcraft! Hear testimony against you and plead your case. Will you be found guilty? Combo tickets with Gallows Hill Main Show. \nMultiple Showtimes and Dates – check event page for more details.
URL:https://salemforallages.org/event/guilty-a-salem-witch-trial-53/
ATTACH;FMTTYPE=image/jpeg:https://salemforallages.org/wp-content/uploads/2024/10/2022-HH-Guilty-Basic-6-EbazHw.tmp_.jpg
END:VEVENT
BEGIN:VEVENT
DTSTART;TZID=America/New_York:20241009T190000
DTEND;TZID=America/New_York:20241009T200000
DTSTAMP:20260425T105943
CREATED:20241007T090015Z
LAST-MODIFIED:20241007T090015Z
UID:20722-1728500400-1728504000@salemforallages.org
SUMMARY:Pentacle Wreath Workshop
DESCRIPTION:Celebrate the Autumn Season \nThe Harvest is upon us! Come join us at The Witchery to make your own pentacle wreath to celebrate the Autumn. Each participant will receive an 8″ wreath to which they can add a pentacle and decorate however they choose from a selection of available materials curated to emphasize and reflect the season we all love so much. Work on your own or get some tips from our knowledgeable instructor as you create your own one-of-a-kind pentacle wreath to celebrate the Fall! \nAges 13+ (Minors must be accompanied by an adult)
URL:https://salemforallages.org/event/pentacle-wreath-workshop/
ATTACH;FMTTYPE=image/jpeg:https://salemforallages.org/wp-content/uploads/2024/10/Wreath-Bg3qhB.tmp_.jpg
END:VEVENT
BEGIN:VEVENT
DTSTART;TZID=America/New_York:20241010T100000
DTEND;TZID=America/New_York:20241010T160000
DTSTAMP:20260425T105943
CREATED:20241007T090022Z
LAST-MODIFIED:20241007T090022Z
UID:20728-1728554400-1728576000@salemforallages.org
SUMMARY:Magical Transformation
DESCRIPTION:Through our “Magical Transformations\,” children embrace their charms and express their individuality. When your child looks in the mirror\, their eyes sparkle with confidence and excitement!
URL:https://salemforallages.org/event/magical-transformation-5/
END:VEVENT
BEGIN:VEVENT
DTSTART;TZID=America/New_York:20241010T100000
DTEND;TZID=America/New_York:20241010T170000
DTSTAMP:20260425T105943
CREATED:20241003T090011Z
LAST-MODIFIED:20241003T090011Z
UID:20641-1728554400-1728579600@salemforallages.org
SUMMARY:Narwhal: Revealing an Arctic Legend at The PEM
DESCRIPTION:SALEM\, MA –  This fall\, the Peabody Essex Museum (PEM) invites visitors to dive deep into the world of narwhals. These unique ocean dwellers\, sometimes called the “unicorns of the sea\,” spend their lives in the Arctic waters of Canada\, Greenland\, Norway and Russia. Learn about their changing Arctic ecosystem through firsthand accounts of scientists and Inuit community members. Hear soundscapes of the Arctic\, including the evocative vocalizations of the narwhal\, and touch an 8-foot-long cast of a real narwhal tusk. \nOn view in The Dotty Brown Art & Nature Center\, this family-friendly\, interactive exhibition is part of PEM’s interdisciplinary Climate + Environment Initiative. Narwhal: Revealing an Arctic Legend includes contemporary Inuit sculptures and prints and a historic book from PEM’s Phillips Library collection. The exhibition is organized by the Smithsonian Institution Traveling Exhibition Service in collaboration with the Smithsonian’s National Museum of Natural History and is on view at PEM September 28\, 2024 through June 15\, 2025. \nExhibition Opening Celebration: A Narwhal Carnival\nSaturday\, September 28 | 10 am–3 pm | Included with admission\nMeet fantastical marionette puppets walking through the galleries and create your own whimsical sea creature using recycled materials with a local artist. Plus\, enjoy an ocean-themed PEM Pals with us! Designed for children (5 and under) and their caregivers\, PEM Pals aims to engage and excite all of the senses through books\, movement\, music\, art and hands-on activities. Find out more at pem.org. \nWalkabout Puppets with Purple Rock Productions\n10 am–3 pm\nMeet very special marionette characters ready to share their joy and invite playfulness into your museum visit. \nPEM Pals with Teresa Coelho\n10:30–11:30 am | Main Atrium\nMove\, groove\, sing and listen with Teresa Coelho\, director of Music Together® of Salem. Explore ocean animals and stories through music and enjoy a reading of Little Narwhal\, Not Alone by Tiffany Stone. \nDrop-In Art: Recycled Fantastic Creatures\n11 am–3 pm | Create Space Studios\nMeet local artist and art therapist Bruce Orr and explore sea creatures with features and superpowers stranger than fiction! Tinker with a wide variety of recycled materials\, and learn how you can give life to used household items to create new artworks. \nGallery Activation: Get to Know Narwhals\n11 am–3 pm | Exhibition Gallery\nCome curious for a hands-on exploration of what makes narwhals unique at our in-gallery discovery cart.
URL:https://salemforallages.org/event/narwhal-revealing-an-arctic-legend-at-the-pem-7/
ATTACH;FMTTYPE=image/png:https://salemforallages.org/wp-content/uploads/2024/09/Screen-Shot-2024-08-29-at-11.30.40-AM.png
END:VEVENT
END:VCALENDAR