BEGIN:VCALENDAR
VERSION:2.0
PRODID:-//Salem for All Ages - ECPv6.15.18//NONSGML v1.0//EN
CALSCALE:GREGORIAN
METHOD:PUBLISH
X-ORIGINAL-URL:https://salemforallages.org
X-WR-CALDESC:Events for Salem for All Ages
REFRESH-INTERVAL;VALUE=DURATION:PT1H
X-Robots-Tag:noindex
X-PUBLISHED-TTL:PT1H
BEGIN:VTIMEZONE
TZID:America/New_York
BEGIN:DAYLIGHT
TZOFFSETFROM:-0500
TZOFFSETTO:-0400
TZNAME:EDT
DTSTART:20230312T070000
END:DAYLIGHT
BEGIN:STANDARD
TZOFFSETFROM:-0400
TZOFFSETTO:-0500
TZNAME:EST
DTSTART:20231105T060000
END:STANDARD
BEGIN:DAYLIGHT
TZOFFSETFROM:-0500
TZOFFSETTO:-0400
TZNAME:EDT
DTSTART:20240310T070000
END:DAYLIGHT
BEGIN:STANDARD
TZOFFSETFROM:-0400
TZOFFSETTO:-0500
TZNAME:EST
DTSTART:20241103T060000
END:STANDARD
BEGIN:DAYLIGHT
TZOFFSETFROM:-0500
TZOFFSETTO:-0400
TZNAME:EDT
DTSTART:20250309T070000
END:DAYLIGHT
BEGIN:STANDARD
TZOFFSETFROM:-0400
TZOFFSETTO:-0500
TZNAME:EST
DTSTART:20251102T060000
END:STANDARD
END:VTIMEZONE
BEGIN:VEVENT
DTSTART;TZID=America/New_York:20240215T180000
DTEND;TZID=America/New_York:20240215T210000
DTSTAMP:20260422T182546
CREATED:20240210T100026Z
LAST-MODIFIED:20240210T100026Z
UID:17852-1708020000-1708030800@salemforallages.org
SUMMARY:Spiritualism Tours of Hammond Castle Museum
DESCRIPTION:Since its completion in 1929\, Hammond Castle Museum has attracted rumors and urban legends of supernatural associations and occult happening. While most of these wild stories can be dismissed as pure fiction\, the building occupies a fascinating place within the broader historical context of the development of spiritualist and spiritualist-adjacent fields in American culture. The spiritualist movement enthralled America’s upper and middle classes during the late 19th and early 20th centuries. Both John Hays Hammond Jr. and his wife\, Irene\, were fascinated with wide-ranging topics including Astrology\, Divination\, Numerology\, Extrasensory Perception (ESP)\, and Mediumship. \nEvery Thursday evening in August\, September\, and October (and even a couple of Wednesday nights in October too) we offer Spiritualism Tours\, This specialty tour explores the history of American spiritualism\, with a particular focus on contextualizing the movement within broader contemporary cultural trends and discussing the Hammonds’ own complicated engagements with these cultural phenomena. From John Hays Hammond Jr.’s attempts to communicate with supernatural entities using a Faraday Cage\, to Irene Hammond’s work on a comprehensive survey of astrological signs; over the course of this approximately 55-minute fully-guided tour\, the dramatic gothic-inspired architecture of the building and night-time atmosphere will set the stage for a fun and informative seasonal experience unlike any other! \nCarry-In/Carry-Out Picnics: Guests may enjoy a carry-in/carry-out picnic on our seaside lawn before their tour on Thursday evenings in August! Reservations are $5 per party and start one hour prior to your ticketed evening tour. Reservations are required in advance.  Hammond Castle Museum members enjoy complimentary picnic reservations.
URL:https://salemforallages.org/event/spiritualism-tours-of-hammond-castle-museum-31/
ATTACH;FMTTYPE=image/jpeg:https://salemforallages.org/wp-content/uploads/2023/08/20200813_115337-1-1.jpg
END:VEVENT
BEGIN:VEVENT
DTSTART;TZID=America/New_York:20240215T183000
DTEND;TZID=America/New_York:20240215T220000
DTSTAMP:20260422T182546
CREATED:20240211T100009Z
LAST-MODIFIED:20240211T100009Z
UID:17854-1708021800-1708034400@salemforallages.org
SUMMARY:Open-Mic Night
DESCRIPTION:Sing\, dance\, or simply witness local musical talent\, or simply witness the chaos of Gulu-Gulu’s open mic. \n  \nThe best open mic in the World\, on the North Shore\, in Salem! Come join the fun every Thursday night! Anything and everything are welcome. Sing\, Dance\, Hum\, Orate\, or simply witness the beautiful chaos that is the Gulu Gulu Open Mic Shindig. Sign-up at 7:30pm.
URL:https://salemforallages.org/event/open-mic-night-29/
ATTACH;FMTTYPE=image/jpeg:https://salemforallages.org/wp-content/uploads/2023/08/image-asset.jpg
END:VEVENT
BEGIN:VEVENT
DTSTART;TZID=America/New_York:20240215T193000
DTEND;TZID=America/New_York:20240215T213000
DTSTAMP:20260422T182546
CREATED:20240211T100010Z
LAST-MODIFIED:20240211T100010Z
UID:17855-1708025400-1708032600@salemforallages.org
SUMMARY:Couch Dog Trivia
DESCRIPTION:Game time! Every Thursday of the month from 7:30-9:30pm\, join trivia emcee extraordinaire Olivia for some friendly competition and small-batch\, home-brewed questions. Top 3 teams will win a Couch Dog gift card!
URL:https://salemforallages.org/event/couch-dog-trivia-5/
ATTACH;FMTTYPE=image/png:https://salemforallages.org/wp-content/uploads/2024/01/trivia_thursday.png
END:VEVENT
BEGIN:VEVENT
DTSTART;TZID=America/New_York:20240216T150000
DTEND;TZID=America/New_York:20240216T163000
DTSTAMP:20260422T182546
CREATED:20240211T100011Z
LAST-MODIFIED:20240211T100011Z
UID:17856-1708095600-1708101000@salemforallages.org
SUMMARY:Felt Wearable Art at the PEM
DESCRIPTION:Experiment with different colors\, textures and shapes as you create your own felt jewelry or wearable memento! \nYou can also join us for this activity on February 2\, 9 and 16. \nRegular Drop-in Art Making is held in person Friday–Monday in our Create Space studios. Friday art making is recommended for ages 10 to adult\, while Saturday–Monday activities are suitable for ages 4 and up. All activities are created and led by PEM’s Education team.
URL:https://salemforallages.org/event/felt-wearable-art-at-the-pem-3/
ATTACH;FMTTYPE=image/jpeg:https://salemforallages.org/wp-content/uploads/2024/01/Ev_DIAWearableFelt_rep002.jpg
END:VEVENT
BEGIN:VEVENT
DTSTART;TZID=America/New_York:20240216T180000
DTEND;TZID=America/New_York:20240216T193000
DTSTAMP:20260422T182546
CREATED:20240211T100012Z
LAST-MODIFIED:20240211T100012Z
UID:17858-1708106400-1708111800@salemforallages.org
SUMMARY:EUDEMONIA
DESCRIPTION:The Salem Art Gallery Presents Eudemonia\, a series of movement based meditations focused on the mechanics and maintenance of the physical body. Mats and light refreshments will be provided.
URL:https://salemforallages.org/event/eudemonia-2/
END:VEVENT
BEGIN:VEVENT
DTSTART;TZID=America/New_York:20240216T180000
DTEND;TZID=America/New_York:20240216T210000
DTSTAMP:20260422T182546
CREATED:20240211T100011Z
LAST-MODIFIED:20240211T100011Z
UID:17857-1708106400-1708117200@salemforallages.org
SUMMARY:Friday Night Music at East Regiment
DESCRIPTION:Enjoy refreshing beer and live music at East Regiment Beer Co! \n  \nFeb 2nd 6-9pm Live Music AMC Music \nFriday Feb 9th 6-9pm Live Music Judes & The Hutch \nFriday Feb 16th 6-9pm Live Music Tony Figs \nFriday Feb 23rd 6-9pm Live Music Delvis \n 
URL:https://salemforallages.org/event/friday-night-music-at-east-regiment-29/
ATTACH;FMTTYPE=image/jpeg:https://salemforallages.org/wp-content/uploads/2024/01/Instagram-Images-2024-01-09T114006.140.jpg
END:VEVENT
BEGIN:VEVENT
DTSTART;TZID=America/New_York:20240216T190000
DTEND;TZID=America/New_York:20240216T210000
DTSTAMP:20260422T182546
CREATED:20240211T100012Z
LAST-MODIFIED:20240211T100012Z
UID:17859-1708110000-1708117200@salemforallages.org
SUMMARY:Friday Night Music with American Flatbread
DESCRIPTION:Join us for live music\, enjoy rock and country.
URL:https://salemforallages.org/event/friday-night-music-with-american-flatbread-37/
ATTACH;FMTTYPE=image/jpeg:https://salemforallages.org/wp-content/uploads/2023/06/American-Flatbread-.jpg
END:VEVENT
BEGIN:VEVENT
DTSTART;TZID=America/New_York:20240216T200000
DTEND;TZID=America/New_York:20240216T200000
DTSTAMP:20260422T182546
CREATED:20240211T100012Z
LAST-MODIFIED:20240211T100012Z
UID:17861-1708113600-1708113600@salemforallages.org
SUMMARY:Big Band Blast II
DESCRIPTION:A RECREATION OF THE 1939 BIG BAND BATTLES AT CARNEGIE HALL \nThe Big Band Blast will return on February 16th\, 2024 to once again pay homage to the 1939 Big Band Battles at Carnegie Hall. Masterfully crafted by Henley Douglas Jr. and band leaders Carlos Menezes Jr of BrassFed Nation and Brian Thomas and Alex Lee Clark of BT ALC Big Band\, “Round Two” will take place during the week of Mardi Gras! Like Big Band Blast No.1\, audience members can expect to catch two\, twenty-piece orchestras side-by-side for an evening of high-energy trading and showmanship!
URL:https://salemforallages.org/event/big-band-blast-ii/
ATTACH;FMTTYPE=image/jpeg:https://salemforallages.org/wp-content/uploads/2024/02/1-3-scaled-1.jpg
END:VEVENT
BEGIN:VEVENT
DTSTART;TZID=America/New_York:20240216T200000
DTEND;TZID=America/New_York:20240216T230000
DTSTAMP:20260422T182546
CREATED:20240211T100012Z
LAST-MODIFIED:20240211T100012Z
UID:17860-1708113600-1708124400@salemforallages.org
SUMMARY:Friday Night Music with Gulu-Gulu Cafe
DESCRIPTION:Join Gulu-Gulu Cafe Friday nights for their live music series. Bands and musicians range from acoustic guitar\, jazz standards\, saxophones\, trios\, and more! Support live musicians and listen to live music!
URL:https://salemforallages.org/event/friday-night-music-with-gulu-gulu-cafe-29/
ATTACH;FMTTYPE=image/jpeg:https://salemforallages.org/wp-content/uploads/2023/08/38864120_1780760032044977_6011049327684747264_n.jpg
END:VEVENT
BEGIN:VEVENT
DTSTART;TZID=America/New_York:20240217T080000
DTEND;TZID=America/New_York:20240217T170000
DTSTAMP:20260422T182546
CREATED:20240211T100015Z
LAST-MODIFIED:20240211T100015Z
UID:17863-1708156800-1708189200@salemforallages.org
SUMMARY:SALEM FLEA
DESCRIPTION:THE SALEM FLEA’S 7TH ANNUAL SUMMER MARKET SERIES WILL BE HELD ON THE 3RD SATURDAY OF THE MONTH\, MAY-SEPTEMBER \n40+ LOCAL VINTAGE\, HANDMADE ART VENDORS LOCATED IN THE HEART OF HISTORIC SALEM MASSACHUSETTS
URL:https://salemforallages.org/event/salem-flea-9/
ATTACH;FMTTYPE=image/jpeg:https://salemforallages.org/wp-content/uploads/2023/06/IMG_2259.jpg
END:VEVENT
BEGIN:VEVENT
DTSTART;TZID=America/New_York:20240217T080000
DTEND;TZID=America/New_York:20240217T170000
DTSTAMP:20260422T182546
CREATED:20240211T100016Z
LAST-MODIFIED:20240211T100016Z
UID:17864-1708156800-1708189200@salemforallages.org
SUMMARY:Book a “Good Witch Magical Transformation”
DESCRIPTION:Children\, tweens\, teens\, and adults are all welcome to participate in our “Good Witch Transformations”! \nThrough our transformations children unleash their own spellbinding charms and embrace their individuality. Children are invited to browse our collection of witch hats and dresses. Adorned with shimmering stars\, flowing capes\, and ribbons of enchantment\, these outfits are sure to celebrate their unique spirits. \nOur talented apprentices delicately apply a touch of stardust and add sprinkles of color that match your child’s vibrant personality. As they gaze upon their reflection\, their eyes light up with a newfound confidence and a sense of whimsical delight. They have become the magical beings they’ve always dreamt of\, casting spells and brewing potions in their imaginary world. Their laughter fills the air as they twirl and spin\, radiating with joy and wonder.
URL:https://salemforallages.org/event/book-a-good-witch-magical-transformation-22/
ATTACH;FMTTYPE=image/jpeg:https://salemforallages.org/wp-content/uploads/2023/08/magical-transoformations-.jpg
END:VEVENT
BEGIN:VEVENT
DTSTART;TZID=America/New_York:20240217T100000
DTEND;TZID=America/New_York:20240217T140000
DTSTAMP:20260422T182546
CREATED:20240211T100016Z
LAST-MODIFIED:20240211T100016Z
UID:17865-1708164000-1708178400@salemforallages.org
SUMMARY:Book a “Good Witch Transformation”
DESCRIPTION:Thank you for your interest in a “Good Witch” Transformation! \nThrough our transformations children unleash their own spellbinding charms and embrace their individuality. Children are invited to browse our collection of witch hats and dresses. Adorned with shimmering stars\, flowing capes\, and ribbons of enchantment\, these outfits are sure to celebrate their unique spirits. \nOur talented apprentices delicately apply a touch of stardust and add sprinkles of color that match your child’s vibrant personality. As they gaze upon their reflection\, their eyes light up with a newfound confidence and a sense of whimsical delight. They have become the magical beings they’ve always dreamt of\, casting spells and brewing potions in their imaginary world. Their laughter fills the air as they twirl and spin\, radiating with joy and wonder.
URL:https://salemforallages.org/event/book-a-good-witch-transformation-72/
END:VEVENT
BEGIN:VEVENT
DTSTART;TZID=America/New_York:20240217T100000
DTEND;TZID=America/New_York:20240217T170000
DTSTAMP:20260422T182546
CREATED:20240211T100016Z
LAST-MODIFIED:20240211T100016Z
UID:17866-1708164000-1708189200@salemforallages.org
SUMMARY:Opening Weekend Our Time On Earth
DESCRIPTION:Our Time on Earth celebrates our collective power to transform the conversation around the climate emergency. Celebrate the opening with curator talks\, community art making and pop-up installations. For a full list of events\, click HERE.
URL:https://salemforallages.org/event/opening-weekend-our-time-on-earth/
ATTACH;FMTTYPE=image/jpeg:https://salemforallages.org/wp-content/uploads/2021/10/unnamed-1.jpg
END:VEVENT
BEGIN:VEVENT
DTSTART;TZID=America/New_York:20240217T103000
DTEND;TZID=America/New_York:20240217T123000
DTSTAMP:20260422T182546
CREATED:20240211T100016Z
LAST-MODIFIED:20240211T100016Z
UID:17867-1708165800-1708173000@salemforallages.org
SUMMARY:Process Art Mornings
DESCRIPTION:Informal in-process art making
URL:https://salemforallages.org/event/process-art-mornings-41/
ATTACH;FMTTYPE=image/jpeg:https://salemforallages.org/wp-content/uploads/2023/05/01.jpg
END:VEVENT
BEGIN:VEVENT
DTSTART;TZID=America/New_York:20240217T183000
DTEND;TZID=America/New_York:20240217T230000
DTSTAMP:20260422T182546
CREATED:20240211T100017Z
LAST-MODIFIED:20240211T100017Z
UID:17868-1708194600-1708210800@salemforallages.org
SUMMARY:Some Enchanted Evening
DESCRIPTION:Step into a world where the vintage charm of classic burlesque meets the mystique of stage magic! Some Enchanted Evening showcases the award-winning troupe’s multifaceted talents in an intimate setting\, blending high-end burlesque striptease with captivating stage illusions.
URL:https://salemforallages.org/event/some-enchanted-evening/
END:VEVENT
BEGIN:VEVENT
DTSTART;TZID=America/New_York:20240217T200000
DTEND;TZID=America/New_York:20240217T200000
DTSTAMP:20260422T182546
CREATED:20240211T100017Z
LAST-MODIFIED:20240211T100017Z
UID:17869-1708200000-1708200000@salemforallages.org
SUMMARY:Moe. Live at the Cabot
DESCRIPTION:Coming to The Cabot for TWO NIGHTS\, Feb. 17 & 18! Hailed by American Songwriter for their “mind-bending musicality\,” moe. is treasured for their mesmerizing musical synergy\, unfettered showmanship\, and smart\, resonant songcraft. For three decades\, the band has corralled myriad musical forms on a truly original journey rich with crafty\, clever songwriting and astonishing resourcefulness.
URL:https://salemforallages.org/event/moe-live-at-the-cabot/
ATTACH;FMTTYPE=image/jpeg:https://salemforallages.org/wp-content/uploads/2024/02/Salem.org-Event.jpg
END:VEVENT
BEGIN:VEVENT
DTSTART;TZID=America/New_York:20240218T100000
DTEND;TZID=America/New_York:20240218T140000
DTSTAMP:20260422T182546
CREATED:20240211T100020Z
LAST-MODIFIED:20240211T100020Z
UID:17871-1708250400-1708264800@salemforallages.org
SUMMARY:Book a “Good Witch Transformation”
DESCRIPTION:Thank you for your interest in a “Good Witch” Transformation! \nThrough our transformations children unleash their own spellbinding charms and embrace their individuality. Children are invited to browse our collection of witch hats and dresses. Adorned with shimmering stars\, flowing capes\, and ribbons of enchantment\, these outfits are sure to celebrate their unique spirits. \nOur talented apprentices delicately apply a touch of stardust and add sprinkles of color that match your child’s vibrant personality. As they gaze upon their reflection\, their eyes light up with a newfound confidence and a sense of whimsical delight. They have become the magical beings they’ve always dreamt of\, casting spells and brewing potions in their imaginary world. Their laughter fills the air as they twirl and spin\, radiating with joy and wonder.
URL:https://salemforallages.org/event/book-a-good-witch-transformation-73/
END:VEVENT
BEGIN:VEVENT
DTSTART;TZID=America/New_York:20240218T100000
DTEND;TZID=America/New_York:20240218T170000
DTSTAMP:20260422T182546
CREATED:20240211T100020Z
LAST-MODIFIED:20240211T100020Z
UID:17872-1708250400-1708275600@salemforallages.org
SUMMARY:Opening Weekend Our Time On Earth
DESCRIPTION:Our Time on Earth celebrates our collective power to transform the conversation around the climate emergency. Celebrate the opening with curator talks\, community art making and pop-up installations. For a full list of events\, click HERE.
URL:https://salemforallages.org/event/opening-weekend-our-time-on-earth-2/
ATTACH;FMTTYPE=image/jpeg:https://salemforallages.org/wp-content/uploads/2021/10/unnamed-1.jpg
END:VEVENT
BEGIN:VEVENT
DTSTART;TZID=America/New_York:20240218T120000
DTEND;TZID=America/New_York:20240218T160000
DTSTAMP:20260422T182546
CREATED:20240211T100020Z
LAST-MODIFIED:20240211T100020Z
UID:17873-1708257600-1708272000@salemforallages.org
SUMMARY:Wicked Good Books’ Boozy Book Fair at Notch Brewing
DESCRIPTION:Join Notch Brewing and Wicked Good Books for an afternoon of beer and books!
URL:https://salemforallages.org/event/wicked-good-books-boozy-book-fair-at-notch-brewing/
ATTACH;FMTTYPE=image/jpeg:https://salemforallages.org/wp-content/uploads/2024/02/NOTCH-X-Wicked-Good-Books.jpg
END:VEVENT
BEGIN:VEVENT
DTSTART;TZID=America/New_York:20240218T140000
DTEND;TZID=America/New_York:20240218T160000
DTSTAMP:20260422T182546
CREATED:20240211T100023Z
LAST-MODIFIED:20240211T100023Z
UID:17875-1708264800-1708272000@salemforallages.org
SUMMARY:HERITAGE GUARDIANS: THE RESILIENCE OF UKRAINIAN MUSEUMS IN TIMES OF WAR
DESCRIPTION:In this two part lecture series\, Oleksandra Kovalchuk\, the Director of Development of the Odesa Fine Arts Museum\, delves into Ukraine’s rich artistic heritage\, symbolic traditions\, and the remarkable resilience displayed in times of the full scale invasion by the Russian Federation. From the courageous efforts of museums during the war to the cultural significance of bread in traditional and modern art\, these lectures provide a comprehensive insight into the spirit and identity of Ukrainian people and history. \nThis lecture explores the dynamic role of Ukrainian museums in the face of conflict\, focusing not only on their efforts to protect collections but also on their evolving mission to serve communities and support artists. We will delve into how these institutions have become centers of resilience\, rethinking their traditional roles amidst the challenges of war. \nAll funds go to Dobro New England to support humanitarian aid to Ukraine. \n> Click here to register <
URL:https://salemforallages.org/event/heritage-guardians-the-resilience-of-ukrainian-museums-in-times-of-war/
END:VEVENT
BEGIN:VEVENT
DTSTART;TZID=America/New_York:20240218T150000
DTEND;TZID=America/New_York:20240218T170000
DTSTAMP:20260422T182546
CREATED:20240211T100023Z
LAST-MODIFIED:20240211T100023Z
UID:17876-1708268400-1708275600@salemforallages.org
SUMMARY:Wonderful Self-Care Cafe
DESCRIPTION:Join us to relax\, have a cup of coffee or tea + conversations
URL:https://salemforallages.org/event/wonderful-self-care-cafe-41/
ATTACH;FMTTYPE=image/jpeg:https://salemforallages.org/wp-content/uploads/2023/05/01.jpg
END:VEVENT
BEGIN:VEVENT
DTSTART;TZID=America/New_York:20240218T160000
DTEND;TZID=America/New_York:20240218T190000
DTSTAMP:20260422T182546
CREATED:20240211T100023Z
LAST-MODIFIED:20240211T100023Z
UID:17877-1708272000-1708282800@salemforallages.org
SUMMARY:DIAMOND’S DINE-IN DRAG BRUNCH!
DESCRIPTION:Come on down for Diamond’s Dine-In Drag Brunch! This is a weekly event with local Drag Queen Miz Diamond Wigfall! Someone will be her guest. Be ready for numbers\, games\, drag\, and mimosas all afternoon.
URL:https://salemforallages.org/event/diamonds-dine-in-drag-brunch-29/
ATTACH;FMTTYPE=image/jpeg:https://salemforallages.org/wp-content/uploads/2023/08/Diamond_DineIn_Final-11x171-1.jpg
END:VEVENT
BEGIN:VEVENT
DTSTART;TZID=America/New_York:20240218T190000
DTEND;TZID=America/New_York:20240218T190000
DTSTAMP:20260422T182546
CREATED:20240211T100023Z
LAST-MODIFIED:20240211T100023Z
UID:17878-1708282800-1708282800@salemforallages.org
SUMMARY:Moe. Live at the Cabot
DESCRIPTION:Coming to The Cabot for TWO NIGHTS\, Feb. 17 & 18! Hailed by American Songwriter for their “mind-bending musicality\,” moe. is treasured for their mesmerizing musical synergy\, unfettered showmanship\, and smart\, resonant songcraft. For three decades\, the band has corralled myriad musical forms on a truly original journey rich with crafty\, clever songwriting and astonishing resourcefulness.
URL:https://salemforallages.org/event/moe-live-at-the-cabot-2/
ATTACH;FMTTYPE=image/jpeg:https://salemforallages.org/wp-content/uploads/2024/02/Salem.org-Event.jpg
END:VEVENT
BEGIN:VEVENT
DTSTART;TZID=America/New_York:20240219T090000
DTEND;TZID=America/New_York:20240229T190000
DTSTAMP:20260422T182546
CREATED:20240212T100010Z
LAST-MODIFIED:20240212T100010Z
UID:17879-1708333200-1709233200@salemforallages.org
SUMMARY:Salem Public Schools Charlotte Forten Display at Old Town Hall
DESCRIPTION:With a special thanks to all of the participating students and teachers\, Old Town Hall is pleased host to a unique installation featuring ‘idea boards’ and other projects from a variety of Salem Public School classrooms on the theme of Charlotte Forten’s life and legacy. Along with this display will be a brief history of Charlotte Forten and her connections to Salem\, an overview timeline of her life\, a small family tree\, images of what the finished sculpture will look like\, and project updates. Open the Monday of February school vacation week\, this event is free & open to the public. The public is invited to visit and view the exhibit at Old Town Hall\, 32 Derby Square\, Salem MA\, from February 19th – 29th 2024\, exhibit hours each week: Mon. Tues. & Wed. 10am – 4pm; Thur. 10am – 7pm.; Fri. 9am-12noon.; Sat. & Sun. 9am – 4pm. \n 
URL:https://salemforallages.org/event/salem-public-schools-charlotte-forten-display-at-old-town-hall/
ATTACH;FMTTYPE=image/jpeg:https://salemforallages.org/wp-content/uploads/2024/02/Charlotte-Forten-Grimke.jpg
END:VEVENT
BEGIN:VEVENT
DTSTART;TZID=America/New_York:20240219T100000
DTEND;TZID=America/New_York:20240219T140000
DTSTAMP:20260422T182546
CREATED:20240212T100014Z
LAST-MODIFIED:20240212T100014Z
UID:17881-1708336800-1708351200@salemforallages.org
SUMMARY:Book a “Good Witch Transformation”
DESCRIPTION:Thank you for your interest in a “Good Witch” Transformation! \nThrough our transformations children unleash their own spellbinding charms and embrace their individuality. Children are invited to browse our collection of witch hats and dresses. Adorned with shimmering stars\, flowing capes\, and ribbons of enchantment\, these outfits are sure to celebrate their unique spirits. \nOur talented apprentices delicately apply a touch of stardust and add sprinkles of color that match your child’s vibrant personality. As they gaze upon their reflection\, their eyes light up with a newfound confidence and a sense of whimsical delight. They have become the magical beings they’ve always dreamt of\, casting spells and brewing potions in their imaginary world. Their laughter fills the air as they twirl and spin\, radiating with joy and wonder.
URL:https://salemforallages.org/event/book-a-good-witch-transformation-74/
END:VEVENT
BEGIN:VEVENT
DTSTART;TZID=America/New_York:20240219T100000
DTEND;TZID=America/New_York:20240219T170000
DTSTAMP:20260422T182546
CREATED:20240212T100014Z
LAST-MODIFIED:20240212T100014Z
UID:17882-1708336800-1708362000@salemforallages.org
SUMMARY:February School Vacation Week at PEM: Caring for Creatures & Climate
DESCRIPTION:Join us for a weeklong constellation of programs that invite participants of all ages on an inspiring journey of environmental stewardship. Click HERE for a full schedule of events.
URL:https://salemforallages.org/event/february-school-vacation-week-at-pem-caring-for-creatures-climate/
ATTACH;FMTTYPE=image/jpeg:https://salemforallages.org/wp-content/uploads/2022/04/unnamed-2.jpg
END:VEVENT
BEGIN:VEVENT
DTSTART;TZID=America/New_York:20240220T110000
DTEND;TZID=America/New_York:20240220T170000
DTSTAMP:20260422T182546
CREATED:20240212T100014Z
LAST-MODIFIED:20240212T100014Z
UID:17883-1708426800-1708448400@salemforallages.org
SUMMARY:Teatime Tuesdays with the Satanic Temple
DESCRIPTION:Join us every Tuesday during gallery hours for complementary tea with admission to the gallery.
URL:https://salemforallages.org/event/teatime-tuesdays-with-the-satanic-temple-39/
ATTACH;FMTTYPE=image/jpeg:https://salemforallages.org/wp-content/uploads/2023/05/satanic-tea-art-gallery.jpg
END:VEVENT
BEGIN:VEVENT
DTSTART;TZID=America/New_York:20240220T180000
DTEND;TZID=America/New_York:20240220T200000
DTSTAMP:20260422T182546
CREATED:20240212T100014Z
LAST-MODIFIED:20240212T100014Z
UID:17884-1708452000-1708459200@salemforallages.org
SUMMARY:CREATIVITEA with Salem Art Gallery
DESCRIPTION:Join us for high tea\, arts and crafts\, and creative company every other Tuesday evening from 6:00pm – 8:00pm. Get an after hours look at the gallery with light snacks and refreshments. Tickets are $6.66 – Which includes admissions\, supplies\, and Tea sampling.
URL:https://salemforallages.org/event/creativitea-with-salem-art-gallery/
END:VEVENT
BEGIN:VEVENT
DTSTART;TZID=America/New_York:20240221T180000
DTEND;TZID=America/New_York:20240221T190000
DTSTAMP:20260422T182546
CREATED:20240212T100015Z
LAST-MODIFIED:20240212T100015Z
UID:17886-1708538400-1708542000@salemforallages.org
SUMMARY:Full Moon Yoga
DESCRIPTION:Wild Sea Wellness will be offering monthly yoga classes at The House of the Seven Gables throughout 2024. Be sure to check their website and calendar for details\, dates\, and links to register. \nThe next partnership is scheduled for Feb 21 at 6:00 p.m. in our spacious Holyoke Room in the Visitor Center.
URL:https://salemforallages.org/event/full-moon-yoga-8/
ATTACH;FMTTYPE=image/jpeg:https://salemforallages.org/wp-content/uploads/2024/02/IMG_8121.jpg
END:VEVENT
BEGIN:VEVENT
DTSTART;TZID=America/New_York:20240221T180000
DTEND;TZID=America/New_York:20240221T200000
DTSTAMP:20260422T182546
CREATED:20240212T100014Z
LAST-MODIFIED:20240212T100014Z
UID:17885-1708538400-1708545600@salemforallages.org
SUMMARY:Bingo at Gulu-Gulu Cafe
DESCRIPTION:Stop by Gulu-Gulu Cafe for a fun trivia series that will excite and engage any audience! Quirky\, funny\, and free!
URL:https://salemforallages.org/event/bingo-at-gulu-gulu-cafe-30/
ATTACH;FMTTYPE=image/jpeg:https://salemforallages.org/wp-content/uploads/2023/08/BingoBoardNew.jpg
END:VEVENT
END:VCALENDAR