BEGIN:VCALENDAR
VERSION:2.0
PRODID:-//Salem for All Ages - ECPv6.15.18//NONSGML v1.0//EN
CALSCALE:GREGORIAN
METHOD:PUBLISH
X-WR-CALNAME:Salem for All Ages
X-ORIGINAL-URL:https://salemforallages.org
X-WR-CALDESC:Events for Salem for All Ages
REFRESH-INTERVAL;VALUE=DURATION:PT1H
X-Robots-Tag:noindex
X-PUBLISHED-TTL:PT1H
BEGIN:VTIMEZONE
TZID:America/New_York
BEGIN:DAYLIGHT
TZOFFSETFROM:-0500
TZOFFSETTO:-0400
TZNAME:EDT
DTSTART:20240310T070000
END:DAYLIGHT
BEGIN:STANDARD
TZOFFSETFROM:-0400
TZOFFSETTO:-0500
TZNAME:EST
DTSTART:20241103T060000
END:STANDARD
BEGIN:DAYLIGHT
TZOFFSETFROM:-0500
TZOFFSETTO:-0400
TZNAME:EDT
DTSTART:20250309T070000
END:DAYLIGHT
BEGIN:STANDARD
TZOFFSETFROM:-0400
TZOFFSETTO:-0500
TZNAME:EST
DTSTART:20251102T060000
END:STANDARD
BEGIN:DAYLIGHT
TZOFFSETFROM:-0500
TZOFFSETTO:-0400
TZNAME:EDT
DTSTART:20260308T070000
END:DAYLIGHT
BEGIN:STANDARD
TZOFFSETFROM:-0400
TZOFFSETTO:-0500
TZNAME:EST
DTSTART:20261101T060000
END:STANDARD
END:VTIMEZONE
BEGIN:VEVENT
DTSTART;TZID=America/New_York:20250425T113000
DTEND;TZID=America/New_York:20250425T160000
DTSTAMP:20260423T045839
CREATED:20250420T090105Z
LAST-MODIFIED:20250420T090105Z
UID:23311-1745580600-1745596800@salemforallages.org
SUMMARY:Magical Transformations
DESCRIPTION:Through our “Magical Transformations” children embrace their charms and express their individuality. Children can choose to transform into a “Witch” or “Wizard”!
URL:https://salemforallages.org/event/magical-transformations-312/
ATTACH;FMTTYPE=image/png:https://salemforallages.org/wp-content/uploads/2024/08/Transformations.png
END:VEVENT
BEGIN:VEVENT
DTSTART;TZID=America/New_York:20250425T113000
DTEND;TZID=America/New_York:20250425T160000
DTSTAMP:20260423T045839
CREATED:20250421T090006Z
LAST-MODIFIED:20250421T090006Z
UID:23312-1745580600-1745596800@salemforallages.org
SUMMARY:Potion Brewing Store Experience
DESCRIPTION:Make your visit to The Good Witch of Salem’s shop memorable by booking our in-store Potion Brewing Experience. This activity is led by our Witch Apprentices. \nActivities are recommended for children ages 3 and up. \n*One appointment slot for each child is required.*
URL:https://salemforallages.org/event/potion-brewing-store-experience-304/
ATTACH;FMTTYPE=image/jpeg:https://salemforallages.org/wp-content/uploads/2025/04/Potion-Brewing-Store-Experience-18.jpg
END:VEVENT
BEGIN:VEVENT
DTSTART;TZID=America/New_York:20250425T120000
DTEND;TZID=America/New_York:20250425T133000
DTSTAMP:20260423T045839
CREATED:20250421T090019Z
LAST-MODIFIED:20250421T090019Z
UID:23318-1745582400-1745587800@salemforallages.org
SUMMARY:Craft Witch
DESCRIPTION:Craft Witch is a DIY crafting session with something for everyone! Choose from a wide array of options to create your very own one-of-a-kind craft. Whichever craft you decide to create\, you’ll be provided with all the materials\, tools\, and knowledge needed to let your creativity flourish. Unlike our broom making\, bookbinding\, and spelljar making workshops in which participants are being guided through the crafting process step-by step by an instructor\, the DIY nature of Craft Witch means that you can use the studio time however you wish. Check out the crafting options on our website!
URL:https://salemforallages.org/event/craft-witch-39/
ATTACH;FMTTYPE=image/jpeg:https://salemforallages.org/wp-content/uploads/2025/04/Image-from-iOS-scaled-11.jpg
END:VEVENT
BEGIN:VEVENT
DTSTART;TZID=America/New_York:20250425T200000
DTEND;TZID=America/New_York:20250425T213000
DTSTAMP:20260423T045839
CREATED:20250421T090023Z
LAST-MODIFIED:20250421T090023Z
UID:23320-1745611200-1745616600@salemforallages.org
SUMMARY:Jeff Allen
DESCRIPTION:Jeff Allen’s 2025 tour blends his signature stand up comedy with a heartfelt message. In the first half\, Jeff’s rapid-fire humor covers everything from marriage to family life\, showcasing the same wit that has earned him nearly a billion views on Dry Bar Comedy. The second half takes a deeper turn\, inspired by his book Are We There Yet?\, where Jeff shares his personal journey from dark times to redemption. This tour is more than just laughs—it’s about hope\, healing\, and making a difference. Jeff’s mission statement is Tikkun Olam\, a Hebrew phrase meaning “Repairing the World.”
URL:https://salemforallages.org/event/jeff-allen/
ATTACH;FMTTYPE=image/png:https://salemforallages.org/wp-content/uploads/2025/04/Jeff-Allen.png
END:VEVENT
BEGIN:VEVENT
DTSTART;TZID=America/New_York:20250425T200000
DTEND;TZID=America/New_York:20250425T220000
DTSTAMP:20260423T045839
CREATED:20250421T090029Z
LAST-MODIFIED:20250421T090029Z
UID:23322-1745611200-1745618400@salemforallages.org
SUMMARY:Paul Reiser
DESCRIPTION:A night of stand-up and storytelling \nComedian\, actor\, television writer\, author and musician Paul Reiser is one of Hollywood’s most prolific creatives.
URL:https://salemforallages.org/event/paul-reiser/
ATTACH;FMTTYPE=image/png:https://salemforallages.org/wp-content/uploads/2025/04/Paul-Reiser-Approved-PHOTO-DEC-2017-10.png
END:VEVENT
BEGIN:VEVENT
DTSTART;TZID=America/New_York:20250426T090000
DTEND;TZID=America/New_York:20250426T153000
DTSTAMP:20260423T045839
CREATED:20250421T090036Z
LAST-MODIFIED:20250421T090036Z
UID:23326-1745658000-1745681400@salemforallages.org
SUMMARY:Eric Pape: The Fair God at Hammond Castle Museum
DESCRIPTION:Self-Guided \nAn extraordinary fine art exhibit featuring over 50 works by renowned artist and former Cape Ann resident\, Eric Pape (1870–1938). Curated predominantly from the private collection of Dr. Gregory Conn\, the world’s leading Pape collector and biographer\, this special exhibition showcases a select group of Pape’s 300 illustrations for The Fair God (1898)—many unseen since his death in 1938.
URL:https://salemforallages.org/event/eric-pape-the-fair-god-at-hammond-castle-museum-9/
ATTACH;FMTTYPE=image/jpeg:https://salemforallages.org/wp-content/uploads/2025/04/CACC_600x900px_20250327-cropped.jpg
END:VEVENT
BEGIN:VEVENT
DTSTART;TZID=America/New_York:20250426T090000
DTEND;TZID=America/New_York:20250427T180000
DTSTAMP:20260423T045839
CREATED:20250421T090033Z
LAST-MODIFIED:20250421T090033Z
UID:23324-1745658000-1745776800@salemforallages.org
SUMMARY:Independent Bookstore Day at Wicked Good Books
DESCRIPTION:Celebrate Independent Bookstore Day and the North of Boston Book Trail at Wicked Good Books! Author Saratoga Schaefer will be signing copies of their new book “Serial Killer Support Group” from 2-4 pm on Saturday\, April 26th.
URL:https://salemforallages.org/event/independent-bookstore-day-at-wicked-good-books/
ATTACH;FMTTYPE=image/jpeg:https://salemforallages.org/wp-content/uploads/2025/04/NOBBT-2025-Map-List-1.jpg
END:VEVENT
BEGIN:VEVENT
DTSTART;TZID=America/New_York:20250426T100000
DTEND;TZID=America/New_York:20250426T110000
DTSTAMP:20260423T045839
CREATED:20250422T090008Z
LAST-MODIFIED:20250422T090008Z
UID:23328-1745661600-1745665200@salemforallages.org
SUMMARY:Fairy Spa Day
DESCRIPTION:Let’s have a Fairy Spa Day! Join us for a little pampering and relaxation with our Witch Apprentices. Children will create their own fairy potion and receive sparkly nails\, fancy fairy hair accessories\, and a touch of glitter with pink lips and rosy cheeks.
URL:https://salemforallages.org/event/fairy-spa-day-10/
ATTACH;FMTTYPE=image/jpeg:https://salemforallages.org/wp-content/uploads/2025/04/Fairy-Spa-Day-1.jpg
END:VEVENT
BEGIN:VEVENT
DTSTART;TZID=America/New_York:20250426T100000
DTEND;TZID=America/New_York:20250426T160000
DTSTAMP:20260423T045839
CREATED:20250422T090007Z
LAST-MODIFIED:20250422T090007Z
UID:23327-1745661600-1745683200@salemforallages.org
SUMMARY:Leslie’s Retreat: Salem on the Brink of Revolution Exhibit
DESCRIPTION:This National Park Service exhibit will explore why Crown soldiers under Lt. Col. Alexander Leslie came to Salem on February 26\, 1775\, who were the major players in the event\, and how this event has been remembered and celebrated in Salem in the last 250 years. \nThis free exhibit will be on display from February 15th -April 27th at the Salem Armory Visitor Center\, 2 New Liberty Street\, Salem. \nThe Salem Armory Visitor Center is open Wednesday – Sunday\, 10 am – 4 pm.
URL:https://salemforallages.org/event/leslies-retreat-salem-on-the-brink-of-revolution-exhibit-51/
ATTACH;FMTTYPE=image/jpeg:https://salemforallages.org/wp-content/uploads/2025/02/1775_1782_Salem-Old-North-Bridge-Leslie-Retreat-800x600-1.jpg
END:VEVENT
BEGIN:VEVENT
DTSTART;TZID=America/New_York:20250426T100000
DTEND;TZID=America/New_York:20250426T170000
DTSTAMP:20260423T045839
CREATED:20250422T090012Z
LAST-MODIFIED:20250422T090012Z
UID:23330-1745661600-1745686800@salemforallages.org
SUMMARY:Wreck of the Whydah Day
DESCRIPTION:Join the Real Pirate Museum in commemorating the 308th anniversary of the shipwreck Whydah’s sinking in 1717. We will be offering multiple in-house perks for the day\, as well as collaborating with surrounding businesses in the community. The museum will also be offering a separate ticketed event (Candlelight Tour) from 6:30 – 8:00 p.m. More information on both can be found on our Facebook Page\, and ticketing information can be found on our website or by calling us at (978) 259 – 1717.
URL:https://salemforallages.org/event/wreck-of-the-whydah-day/
ATTACH;FMTTYPE=image/jpeg:https://salemforallages.org/wp-content/uploads/2025/04/37BED347-.jpg
END:VEVENT
BEGIN:VEVENT
DTSTART;TZID=America/New_York:20250426T103000
DTEND;TZID=America/New_York:20250426T143000
DTSTAMP:20260423T045839
CREATED:20250422T090014Z
LAST-MODIFIED:20250422T090014Z
UID:23332-1745663400-1745677800@salemforallages.org
SUMMARY:Whale Watch with 7 Seas and the Peabody Essex Museum
DESCRIPTION:Come along with us on a whale watch in celebration of PEM’s two exhibitions about whales: Draw Me Ishmael: The Book Arts of Moby Dick and Narwhal: Revealing an Arctic Legend. \nJoin 7 Seas Whale Watch on their first boat trip of the season! April is a particularly active month for spotting whales\, so bring your binoculars & your spirit of adventure as we journey out to sea with the expert crew and a seasoned naturalist. You’ll be joined by PEM’s Dan Lipcan\, Curator of Draw Me Ishmael\, Jane Winchell\, Curator of Narwhal\, & Jim McCoy\, Essex County Ornithological Club president and seabird expert.
URL:https://salemforallages.org/event/whale-watch-with-7-seas-and-the-peabody-essex-museum/
ATTACH;FMTTYPE=image/jpeg:https://salemforallages.org/wp-content/uploads/2025/04/IMG_4572.jpeg
END:VEVENT
BEGIN:VEVENT
DTSTART;TZID=America/New_York:20250426T113000
DTEND;TZID=America/New_York:20250426T140000
DTSTAMP:20260423T045839
CREATED:20250422T090022Z
LAST-MODIFIED:20250422T090022Z
UID:23337-1745667000-1745676000@salemforallages.org
SUMMARY:Spring Hat Decorating
DESCRIPTION:Fly into The Good Witch and Stay for a Spell! Design your own enchanting creation at the Good Witch of Salem’s Hat Decorating Station! Add ribbons\, tulle\, lace\, roses\, stickers\, and shimmering gems to craft a one-of-a-kind witch hat\, then complete your magical masterpiece with an inspiring affirmation card.
URL:https://salemforallages.org/event/spring-hat-decorating-2/
ATTACH;FMTTYPE=image/jpeg:https://salemforallages.org/wp-content/uploads/2025/04/Spring-Hat-Decorating.jpg
END:VEVENT
BEGIN:VEVENT
DTSTART;TZID=America/New_York:20250426T113000
DTEND;TZID=America/New_York:20250426T160000
DTSTAMP:20260423T045839
CREATED:20250422T090018Z
LAST-MODIFIED:20250422T090018Z
UID:23334-1745667000-1745683200@salemforallages.org
SUMMARY:Magical Transformations
DESCRIPTION:Through our “Magical Transformations” children embrace their charms and express their individuality. Children can choose to transform into a “Witch” or “Wizard”!
URL:https://salemforallages.org/event/magical-transformations-313/
ATTACH;FMTTYPE=image/png:https://salemforallages.org/wp-content/uploads/2024/08/Transformations.png
END:VEVENT
BEGIN:VEVENT
DTSTART;TZID=America/New_York:20250426T113000
DTEND;TZID=America/New_York:20250426T160000
DTSTAMP:20260423T045839
CREATED:20250422T090018Z
LAST-MODIFIED:20250422T090018Z
UID:23335-1745667000-1745683200@salemforallages.org
SUMMARY:Potion Brewing Store Experience
DESCRIPTION:Make your visit to The Good Witch of Salem’s shop memorable by booking our in-store Potion Brewing Experience. This activity is led by our Witch Apprentices. \nActivities are recommended for children ages 3 and up. \n*One appointment slot for each child is required.*
URL:https://salemforallages.org/event/potion-brewing-store-experience-305/
ATTACH;FMTTYPE=image/jpeg:https://salemforallages.org/wp-content/uploads/2025/04/Potion-Brewing-Store-Experience-19.jpg
END:VEVENT
BEGIN:VEVENT
DTSTART;TZID=America/New_York:20250426T120000
DTEND;TZID=America/New_York:20250426T133000
DTSTAMP:20260423T045839
CREATED:20250422T090027Z
LAST-MODIFIED:20250422T090027Z
UID:23339-1745668800-1745674200@salemforallages.org
SUMMARY:Craft Witch
DESCRIPTION:Craft Witch is a DIY crafting session with something for everyone! Choose from a wide array of options to create your very own one-of-a-kind craft. Whichever craft you decide to create\, you’ll be provided with all the materials\, tools\, and knowledge needed to let your creativity flourish. Unlike our broom making\, bookbinding\, and spelljar making workshops in which participants are being guided through the crafting process step-by step by an instructor\, the DIY nature of Craft Witch means that you can use the studio time however you wish. Check out the crafting options on our website!
URL:https://salemforallages.org/event/craft-witch-40/
ATTACH;FMTTYPE=image/jpeg:https://salemforallages.org/wp-content/uploads/2025/04/Image-from-iOS-scaled-12.jpg
END:VEVENT
BEGIN:VEVENT
DTSTART;TZID=America/New_York:20250426T130000
DTEND;TZID=America/New_York:20250426T140000
DTSTAMP:20260423T045839
CREATED:20250423T090012Z
LAST-MODIFIED:20250423T090012Z
UID:23343-1745672400-1745676000@salemforallages.org
SUMMARY:In Honor of Caroline: Women’s History Tour
DESCRIPTION:This April\, we are celebrating the birthday of our founder\, Caroline Emmerton\, by honoring the stories we can tell thanks to her preservation and social justice work. \nFrom the Indigenous women who worked the land to our organization’s founder\, women have always been a part of the Turner-Ingersoll Mansion’s history\, but not always given the spotlight they deserve. The House of the Seven Gables has created a Women’s History Tour to focus\, in-depth\, on the many women who have lived and labored in the Mansion.
URL:https://salemforallages.org/event/in-honor-of-caroline-womens-history-tour/
ATTACH;FMTTYPE=image/jpeg:https://salemforallages.org/wp-content/uploads/2025/04/AprilWomensHistoryTour_1920x1080.jpg
END:VEVENT
BEGIN:VEVENT
DTSTART;TZID=America/New_York:20250426T130000
DTEND;TZID=America/New_York:20250426T200000
DTSTAMP:20260423T045839
CREATED:20250423T090006Z
LAST-MODIFIED:20250423T090006Z
UID:23341-1745672400-1745697600@salemforallages.org
SUMMARY:Minecraft Block Party
DESCRIPTION:Get ready to dig\, build\, and party! It’s the All-Ages Minecraft Block Party\, and you’re invited to join the pixelated pandemonium! From 1 PM to 8 PM\, our open server will be your digital playground. Whether you’re a seasoned architect\, a redstone wizard\, or just love slapping down some blocks\, there’s something for everyone. \nImagine: building epic castles with your little brother\, teaming up with strangers to conquer a mountain\, or just chilling by a pixelated lake\, watching the blocky sunset. It’s all happening here! No entry fee\, just pure\, unadulterated Minecraft fun. Bring your creativity!
URL:https://salemforallages.org/event/minecraft-block-party/
ATTACH;FMTTYPE=image/jpeg:https://salemforallages.org/wp-content/uploads/2025/04/Untitled-209.jpg
END:VEVENT
BEGIN:VEVENT
DTSTART;TZID=America/New_York:20250426T183000
DTEND;TZID=America/New_York:20250426T200000
DTSTAMP:20260423T045839
CREATED:20250423T090016Z
LAST-MODIFIED:20250423T090016Z
UID:23345-1745692200-1745697600@salemforallages.org
SUMMARY:Mike Hanford
DESCRIPTION:Mike Hanford is a comedian\, writer\, and actor. Currently\, Mike stars alongside his Sloppy Boys bandmates Tim Kalpakis and Jefferson Dutton in the feature-length documentary BLOOD\, SWEAT AND BEERS\, about the making of the Sloppy Boys’ latest album with legendary producer and musician Money Mark. Mike has written for THE TONIGHT SHOW STARRING JIMMY FALLON and he co-created and starred in the critically acclaimed series THE BIRTHDAY BOYS\, which ran for two seasons on IFC and was executive produced by Bob Odenkirk.
URL:https://salemforallages.org/event/mike-hanford/
ATTACH;FMTTYPE=image/png:https://salemforallages.org/wp-content/uploads/2025/04/Mike-Hanford.png
END:VEVENT
BEGIN:VEVENT
DTSTART;TZID=America/New_York:20250426T200000
DTEND;TZID=America/New_York:20250426T220000
DTSTAMP:20260423T045839
CREATED:20250423T090019Z
LAST-MODIFIED:20250423T090019Z
UID:23347-1745697600-1745704800@salemforallages.org
SUMMARY:The Breakers – A Tribute to Tom Petty
DESCRIPTION:The country’s premier Tom Petty & the Heartbreakers tribute band. \nEstablished to let the fans of the late great Tom Petty continue to enjoy the live experience of TP & the HB’s. No other Tom Petty tribute band comes close to capturing the SOUND and emotions of Tom’s songs quite like the Breakers. \nUnlike the vast amount of Tom Petty tributes who substitute visual mimicry for sound\, the Breakers encompass the true unmistakable sound and execution of Tom Petty & the Heartbreakers.
URL:https://salemforallages.org/event/the-breakers-a-tribute-to-tom-petty-2/
ATTACH;FMTTYPE=image/jpeg:https://salemforallages.org/wp-content/uploads/2025/04/Breakers-photo-A-scaled-1.jpg
END:VEVENT
BEGIN:VEVENT
DTSTART;TZID=America/New_York:20250426T210000
DTEND;TZID=America/New_York:20250426T223000
DTSTAMP:20260423T045839
CREATED:20250423T090024Z
LAST-MODIFIED:20250423T090024Z
UID:23349-1745701200-1745706600@salemforallages.org
SUMMARY:Mike Hanford
DESCRIPTION:Mike Hanford is a comedian\, writer\, and actor. Currently\, Mike stars alongside his Sloppy Boys bandmates Tim Kalpakis and Jefferson Dutton in the feature-length documentary BLOOD\, SWEAT AND BEERS\, about the making of the Sloppy Boys’ latest album with legendary producer and musician Money Mark. Mike has written for THE TONIGHT SHOW STARRING JIMMY FALLON and he co-created and starred in the critically acclaimed series THE BIRTHDAY BOYS\, which ran for two seasons on IFC and was executive produced by Bob Odenkirk.
URL:https://salemforallages.org/event/mike-hanford-2/
ATTACH;FMTTYPE=image/png:https://salemforallages.org/wp-content/uploads/2025/04/Mike-Hanford.png
END:VEVENT
BEGIN:VEVENT
DTSTART;TZID=America/New_York:20250427T090000
DTEND;TZID=America/New_York:20250427T153000
DTSTAMP:20260423T045839
CREATED:20250423T090024Z
LAST-MODIFIED:20250423T090024Z
UID:23350-1745744400-1745767800@salemforallages.org
SUMMARY:Eric Pape: The Fair God at Hammond Castle Museum
DESCRIPTION:Self-Guided \nAn extraordinary fine art exhibit featuring over 50 works by renowned artist and former Cape Ann resident\, Eric Pape (1870–1938). Curated predominantly from the private collection of Dr. Gregory Conn\, the world’s leading Pape collector and biographer\, this special exhibition showcases a select group of Pape’s 300 illustrations for The Fair God (1898)—many unseen since his death in 1938.
URL:https://salemforallages.org/event/eric-pape-the-fair-god-at-hammond-castle-museum-10/
ATTACH;FMTTYPE=image/jpeg:https://salemforallages.org/wp-content/uploads/2025/04/CACC_600x900px_20250327-cropped.jpg
END:VEVENT
BEGIN:VEVENT
DTSTART;TZID=America/New_York:20250427T100000
DTEND;TZID=America/New_York:20250427T160000
DTSTAMP:20260423T045839
CREATED:20250423T090025Z
LAST-MODIFIED:20250423T090025Z
UID:23351-1745748000-1745769600@salemforallages.org
SUMMARY:Leslie’s Retreat: Salem on the Brink of Revolution Exhibit
DESCRIPTION:This National Park Service exhibit will explore why Crown soldiers under Lt. Col. Alexander Leslie came to Salem on February 26\, 1775\, who were the major players in the event\, and how this event has been remembered and celebrated in Salem in the last 250 years. \nThis free exhibit will be on display from February 15th -April 27th at the Salem Armory Visitor Center\, 2 New Liberty Street\, Salem. \nThe Salem Armory Visitor Center is open Wednesday – Sunday\, 10 am – 4 pm.
URL:https://salemforallages.org/event/leslies-retreat-salem-on-the-brink-of-revolution-exhibit-52/
ATTACH;FMTTYPE=image/jpeg:https://salemforallages.org/wp-content/uploads/2025/02/1775_1782_Salem-Old-North-Bridge-Leslie-Retreat-800x600-1.jpg
END:VEVENT
BEGIN:VEVENT
DTSTART;TZID=America/New_York:20250427T110000
DTEND;TZID=America/New_York:20250427T130000
DTSTAMP:20260423T045839
CREATED:20250423T090025Z
LAST-MODIFIED:20250423T090025Z
UID:23352-1745751600-1745758800@salemforallages.org
SUMMARY:Laurie Berkner
DESCRIPTION:Two Shows: 11AM & 3PM \nGive your child an unforgettable experience that will inspire a lifelong love of music and create lasting memories with the whole F-A-M-I-L-Y! \nLaurie Berkner has been a professional musician since 1992\, but her success as a children’s recording artist was a surprise to her. “It was so unexpected\,” says Laurie. “I’d been performing in rock bands and struggling to write original music. Writing music for kids has not been a struggle at all. The more I started working on material for children\, the more I realized that it opened up creativity in me that I never knew I had.”
URL:https://salemforallages.org/event/laurie-berkner/
ATTACH;FMTTYPE=image/jpeg:https://salemforallages.org/wp-content/uploads/2025/04/Laurie-Berkner_Blue-Jumpsuit-Guitar_photo-credit-Jayme-Thornton1-scaled-1.jpg
END:VEVENT
BEGIN:VEVENT
DTSTART;TZID=America/New_York:20250427T113000
DTEND;TZID=America/New_York:20250427T133000
DTSTAMP:20260423T045839
CREATED:20250424T090015Z
LAST-MODIFIED:20250424T090015Z
UID:23360-1745753400-1745760600@salemforallages.org
SUMMARY:Music in the Atrium: Celebrate Mother Earth with Johnny Fire
DESCRIPTION:This month\, our Music in the Atrium series celebrates Planet Earth with live performances by Johnny Fireseed. A project of Framingham-based Fireseed Arts Studios\, lead by artist and musician Patiño Vázquez in collaboration with local musicians and craftspeople\, Johnny Fireseed uses instruments made entirely from upcycled trash and repurposed items to perform original music with an upbeat eco message. The band’s inspiring sound aims to spread a message of joy\, fun and new ways of thinking about consumption and waste far and wide.
URL:https://salemforallages.org/event/music-in-the-atrium-celebrate-mother-earth-with-johnny-fire-3/
ATTACH;FMTTYPE=image/jpeg:https://salemforallages.org/wp-content/uploads/2025/04/Junkyard-Band-scaled-e1742231368823.jpg
END:VEVENT
BEGIN:VEVENT
DTSTART;TZID=America/New_York:20250427T113000
DTEND;TZID=America/New_York:20250427T140000
DTSTAMP:20260423T045839
CREATED:20250424T090015Z
LAST-MODIFIED:20250424T090015Z
UID:23359-1745753400-1745762400@salemforallages.org
SUMMARY:Spring Broom Decorating
DESCRIPTION:Fly into The Good Witch and Stay for a Spell! Unleash your creativity at the Good Witch of Salem’s Broom Decorating Station\, where you can transform a broom into a magical masterpiece! Use enchanting tape\, colorful ribbons\, sparkling stickers\, and shimmering gems to create a broom that’s uniquely yours. \n  \n 
URL:https://salemforallages.org/event/spring-broom-decorating-5/
ATTACH;FMTTYPE=image/png:https://salemforallages.org/wp-content/uploads/2025/03/Spring-Broom-Decorating.png
END:VEVENT
BEGIN:VEVENT
DTSTART;TZID=America/New_York:20250427T113000
DTEND;TZID=America/New_York:20250427T150000
DTSTAMP:20260423T045839
CREATED:20250424T090008Z
LAST-MODIFIED:20250424T090008Z
UID:23355-1745753400-1745766000@salemforallages.org
SUMMARY:Stop In For a Spell: DIY Potion Bar
DESCRIPTION:Fly in to The Good Witch and Stay for a Spell! Mix up your very own potion at our Potion Bar! \nDrop Ins begin at store opening and end 30 minutes before closing and are offered on a first come\, first serve basis. Purchase online or pay in store. \nDrop Ins may be unavailable during a birthday party or store event. Please call ahead\, or check our posted hours on Google. \nUnder age 4 may participate with the help of a supervising adult.
URL:https://salemforallages.org/event/stop-in-for-a-spell-diy-potion-bar-223/
ATTACH;FMTTYPE=image/jpeg:https://salemforallages.org/wp-content/uploads/2025/04/Stop-In-For-a-Spell-SQUARE-8.jpg
END:VEVENT
BEGIN:VEVENT
DTSTART;TZID=America/New_York:20250427T113000
DTEND;TZID=America/New_York:20250427T150000
DTSTAMP:20260423T045839
CREATED:20250424T090011Z
LAST-MODIFIED:20250424T090011Z
UID:23357-1745753400-1745766000@salemforallages.org
SUMMARY:Potion Brewing Store Experience
DESCRIPTION:Make your visit to The Good Witch of Salem’s shop memorable by booking our in-store Potion Brewing Experience. This activity is led by our Witch Apprentices. \nActivities are recommended for children ages 3 and up. \n*One appointment slot for each child is required.*
URL:https://salemforallages.org/event/potion-brewing-store-experience-306/
ATTACH;FMTTYPE=image/jpeg:https://salemforallages.org/wp-content/uploads/2025/04/Potion-Brewing-Store-Experience-20.jpg
END:VEVENT
BEGIN:VEVENT
DTSTART;TZID=America/New_York:20250427T113000
DTEND;TZID=America/New_York:20250427T153000
DTSTAMP:20260423T045839
CREATED:20250424T090006Z
LAST-MODIFIED:20250424T090006Z
UID:23354-1745753400-1745767800@salemforallages.org
SUMMARY:Magical Transformations
DESCRIPTION:Through our “Magical Transformations” children embrace their charms and express their individuality. Children can choose to transform into a “Witch” or “Wizard”!
URL:https://salemforallages.org/event/magical-transformations-314/
ATTACH;FMTTYPE=image/png:https://salemforallages.org/wp-content/uploads/2024/08/Transformations-1.png
END:VEVENT
BEGIN:VEVENT
DTSTART;TZID=America/New_York:20250427T130000
DTEND;TZID=America/New_York:20250427T140000
DTSTAMP:20260423T045839
CREATED:20250424T090016Z
LAST-MODIFIED:20250424T090016Z
UID:23361-1745758800-1745762400@salemforallages.org
SUMMARY:In Honor of Caroline: Women’s History Tour
DESCRIPTION:This April\, we are celebrating the birthday of our founder\, Caroline Emmerton\, by honoring the stories we can tell thanks to her preservation and social justice work. \nFrom the Indigenous women who worked the land to our organization’s founder\, women have always been a part of the Turner-Ingersoll Mansion’s history\, but not always given the spotlight they deserve. The House of the Seven Gables has created a Women’s History Tour to focus\, in-depth\, on the many women who have lived and labored in the Mansion.
URL:https://salemforallages.org/event/in-honor-of-caroline-womens-history-tour-2/
ATTACH;FMTTYPE=image/jpeg:https://salemforallages.org/wp-content/uploads/2025/04/AprilWomensHistoryTour_1920x1080.jpg
END:VEVENT
BEGIN:VEVENT
DTSTART;TZID=America/New_York:20250427T200000
DTEND;TZID=America/New_York:20250427T213000
DTSTAMP:20260423T045839
CREATED:20250424T090016Z
LAST-MODIFIED:20250424T090016Z
UID:23362-1745784000-1745789400@salemforallages.org
SUMMARY:Kinky Bowl
DESCRIPTION:Miz Diamond and A Glam B are bringing you a “Bowl” that will be SUPER\, but more kinky and no padding or balls…well\, maybe a little bit of those too. This irreverent show will have you “clutching your pearls” and exploring your own kinks. You will not want to miss this drag & burlesque mash-up! Get your tickets now!
URL:https://salemforallages.org/event/kinky-bowl/
ATTACH;FMTTYPE=image/png:https://salemforallages.org/wp-content/uploads/2025/04/Kinky-Bowl.png
END:VEVENT
END:VCALENDAR