BEGIN:VCALENDAR
VERSION:2.0
PRODID:-//Salem for All Ages - ECPv6.15.18//NONSGML v1.0//EN
CALSCALE:GREGORIAN
METHOD:PUBLISH
X-ORIGINAL-URL:https://salemforallages.org
X-WR-CALDESC:Events for Salem for All Ages
REFRESH-INTERVAL;VALUE=DURATION:PT1H
X-Robots-Tag:noindex
X-PUBLISHED-TTL:PT1H
BEGIN:VTIMEZONE
TZID:America/New_York
BEGIN:DAYLIGHT
TZOFFSETFROM:-0500
TZOFFSETTO:-0400
TZNAME:EDT
DTSTART:20240310T070000
END:DAYLIGHT
BEGIN:STANDARD
TZOFFSETFROM:-0400
TZOFFSETTO:-0500
TZNAME:EST
DTSTART:20241103T060000
END:STANDARD
BEGIN:DAYLIGHT
TZOFFSETFROM:-0500
TZOFFSETTO:-0400
TZNAME:EDT
DTSTART:20250309T070000
END:DAYLIGHT
BEGIN:STANDARD
TZOFFSETFROM:-0400
TZOFFSETTO:-0500
TZNAME:EST
DTSTART:20251102T060000
END:STANDARD
BEGIN:DAYLIGHT
TZOFFSETFROM:-0500
TZOFFSETTO:-0400
TZNAME:EDT
DTSTART:20260308T070000
END:DAYLIGHT
BEGIN:STANDARD
TZOFFSETFROM:-0400
TZOFFSETTO:-0500
TZNAME:EST
DTSTART:20261101T060000
END:STANDARD
END:VTIMEZONE
BEGIN:VEVENT
DTSTART;TZID=America/New_York:20250510T120000
DTEND;TZID=America/New_York:20250510T133000
DTSTAMP:20260423T032236
CREATED:20250504T090023Z
LAST-MODIFIED:20250504T090023Z
UID:23504-1746878400-1746883800@salemforallages.org
SUMMARY:Craft Witch
DESCRIPTION:Craft Witch is a DIY crafting session with something for everyone! Choose from a wide array of options to create your very own one-of-a-kind craft. Whichever craft you decide to create\, you’ll be provided with all the materials\, tools\, and knowledge needed to let your creativity flourish. Unlike our broom making\, bookbinding\, and spelljar making workshops in which participants are being guided through the crafting process step-by step by an instructor\, the DIY nature of Craft Witch means that you can use the studio time however you wish. Check out the crafting options on our website!
URL:https://salemforallages.org/event/craft-witch-48/
ATTACH;FMTTYPE=image/jpeg:https://salemforallages.org/wp-content/uploads/2025/05/Image-from-iOS-scaled-4.jpg
END:VEVENT
BEGIN:VEVENT
DTSTART;TZID=America/New_York:20250510T120000
DTEND;TZID=America/New_York:20250510T160000
DTSTAMP:20260423T032236
CREATED:20250504T090026Z
LAST-MODIFIED:20250504T090026Z
UID:23506-1746878400-1746892800@salemforallages.org
SUMMARY:Botanical Bazaar!
DESCRIPTION:Take a moment to stop and smell the flowers this Mother’s Day weekend. Join us for our next event featuring With Love and Light\, Fernway\, The Healing Rose\, & A2C Jewels! \nWith Love and Light: Bouquet Bar to create custom flower bouquets for mom\, grandma\, or even yourself for purchase!\nA2C Jewels: Custom and creative jewelry for purchase\, made by Seagrass’ own Erin.\nThe Healing Rose: Custom bath soak bar to create your own healing sent.\nFernway: Pop up and educational terpene bar!
URL:https://salemforallages.org/event/botanical-bazaar/
ATTACH;FMTTYPE=image/jpeg:https://salemforallages.org/wp-content/uploads/2025/05/Botanical-Bazaar-Poster-Square.jpg
END:VEVENT
BEGIN:VEVENT
DTSTART;TZID=America/New_York:20250510T140000
DTEND;TZID=America/New_York:20250510T160000
DTSTAMP:20260423T032236
CREATED:20250504T090031Z
LAST-MODIFIED:20250504T090031Z
UID:23508-1746885600-1746892800@salemforallages.org
SUMMARY:Mother’s Day High Tea
DESCRIPTION:Join St. Peter’s-San Pedro Episcopal Church in their historic Chapel on Saturday\, May 10th\, for our Mother’s Day High Tea.$15 per person from 2pm to 4pm. All are welcome. Honor your Mom in style! \nAll proceeds benefit the Campaign to Preserve St. Peter’s Church.
URL:https://salemforallages.org/event/mothers-day-high-tea/
END:VEVENT
BEGIN:VEVENT
DTSTART;TZID=America/New_York:20250510T170000
DTEND;TZID=America/New_York:20250510T210000
DTSTAMP:20260423T032236
CREATED:20250504T090031Z
LAST-MODIFIED:20250504T090031Z
UID:23509-1746896400-1746910800@salemforallages.org
SUMMARY:Midnight Moon Market
DESCRIPTION:The 3rd annual Midnight Moon Market is a highly curated dark arts and crafts market coming to Old Town Hall in Salem\, MA on May 10th\, 5-10pm! Hosted and curated by Witch City Wicks\, the market feature 50 of the most talented and creative dark artists from near and far. Enjoy a nocturnal Spring evening of shopping for unique treasures\, music by local DJs Halloween Girls + DJ Big Daddy and a celestial photo opp with Monsters of Salem. \nGeneral admission ticket is $5 cash at the door. Limited advanced tix available online.
URL:https://salemforallages.org/event/midnight-moon-market-3/
ATTACH;FMTTYPE=image/jpeg:https://salemforallages.org/wp-content/uploads/2025/05/mm_spring-flyer.jpg
END:VEVENT
BEGIN:VEVENT
DTSTART;TZID=America/New_York:20250510T183000
DTEND;TZID=America/New_York:20250510T203000
DTSTAMP:20260423T032236
CREATED:20250504T090035Z
LAST-MODIFIED:20250504T090035Z
UID:23511-1746901800-1746909000@salemforallages.org
SUMMARY:Tim Meadows
DESCRIPTION:Tim Meadows is an actor\, writer comedian who was one of the longest-running cast members on Saturday Night Live where he appeared for ten seasons. Tim played John Glascot on the ABC sitcom The Goldbergs throughout its ten seasons and starred as the same character in Schooled for its two-season run. Meadows also played the school principal in the hit comedy Mean Girls and co-starred with Adam Sandler and Chris Rock in the blockbuster comedies Grown Ups and Grown Ups 2. Recently\, Tim starred in the Peacock series Poker Face\, Disney+’s The Mandalorian\, and Comedy Central’s animated series Digman!
URL:https://salemforallages.org/event/tim-meadows-3/
ATTACH;FMTTYPE=image/png:https://salemforallages.org/wp-content/uploads/2025/05/Tim-Meadows.png
END:VEVENT
BEGIN:VEVENT
DTSTART;TZID=America/New_York:20250510T210000
DTEND;TZID=America/New_York:20250510T230000
DTSTAMP:20260423T032236
CREATED:20250504T090035Z
LAST-MODIFIED:20250504T090035Z
UID:23512-1746910800-1746918000@salemforallages.org
SUMMARY:Tim Meadows
DESCRIPTION:Tim Meadows is an actor\, writer comedian who was one of the longest-running cast members on Saturday Night Live where he appeared for ten seasons. Tim played John Glascot on the ABC sitcom The Goldbergs throughout its ten seasons and starred as the same character in Schooled for its two-season run. Meadows also played the school principal in the hit comedy Mean Girls and co-starred with Adam Sandler and Chris Rock in the blockbuster comedies Grown Ups and Grown Ups 2. Recently\, Tim starred in the Peacock series Poker Face\, Disney+’s The Mandalorian\, and Comedy Central’s animated series Digman!
URL:https://salemforallages.org/event/tim-meadows-4/
ATTACH;FMTTYPE=image/png:https://salemforallages.org/wp-content/uploads/2025/05/Tim-Meadows.png
END:VEVENT
BEGIN:VEVENT
DTSTART;TZID=America/New_York:20250511T070000
DTEND;TZID=America/New_York:20250511T130000
DTSTAMP:20260423T032236
CREATED:20250504T090036Z
LAST-MODIFIED:20250504T090036Z
UID:23513-1746946800-1746968400@salemforallages.org
SUMMARY:Mother’s Day Brunch
DESCRIPTION:Celebrate Mother’s Day with us at a for a delightful brunch filled with delicious bites and heartwarming moments on Sunday\, May 11\, from 7:00 AM to 1:00 PM. Treat Mom to a delicious selection of sweet and savory favorites\, perfect for making her day extra special. \nTo reserve your table\, call 978-977-6467 – we look forward to celebrating with you!
URL:https://salemforallages.org/event/mothers-day-brunch/
ATTACH;FMTTYPE=image/png:https://salemforallages.org/wp-content/uploads/2025/05/Mothers-day-Brunch-Flyer.png
END:VEVENT
BEGIN:VEVENT
DTSTART;TZID=America/New_York:20250511T080000
DTEND;TZID=America/New_York:20250511T170000
DTSTAMP:20260423T032236
CREATED:20250504T090040Z
LAST-MODIFIED:20250504T090040Z
UID:23515-1746950400-1746982800@salemforallages.org
SUMMARY:Mother’s Day Brunch
DESCRIPTION:Advanced reservations required | Reservations open April 10\nView the Mother’s Day Brunch Buffet menu here\nAdults $70 | Children $25 | Children under 3 free\nSeatings available between 10:00 a.m. – 3:00 p.m. Seating will be in the Tavern\, Ballroom\, Nathaniel’s and Sophia’s. Your room assignment is based on party size\, time and availability; specific rooms can not be guaranteed.\nOnce reservations open on April 10\, call 978.825.4360 to leave a message with your name\, time\, number of guests\, allergies and return phone number and an associate will confirm your reservations within a few days\nThis is a family-friendly event.\nFree on-site parking on a first-come\, first-served basis.\nPlease note the buffet is the only dining option available to outside guests prior to 6:00 p.m. when the Tavern re-opens.
URL:https://salemforallages.org/event/mothers-day-brunch-2/
ATTACH;FMTTYPE=image/jpeg:https://salemforallages.org/wp-content/uploads/2025/05/mothers-day-at-the-hawthrone-scaled-1-scaled-1.jpg
END:VEVENT
BEGIN:VEVENT
DTSTART;TZID=America/New_York:20250511T113000
DTEND;TZID=America/New_York:20250511T140000
DTSTAMP:20260423T032236
CREATED:20250505T090016Z
LAST-MODIFIED:20250505T090016Z
UID:23522-1746963000-1746972000@salemforallages.org
SUMMARY:Spring Hat Decorating
DESCRIPTION:Fly into The Good Witch and Stay for a Spell! Design your own enchanting creation at the Good Witch of Salem’s Hat Decorating Station! Add ribbons\, tulle\, lace\, roses\, stickers\, and shimmering gems to craft a one-of-a-kind witch hat\, then complete your magical masterpiece with an inspiring affirmation card. \n 
URL:https://salemforallages.org/event/spring-hat-decorating-4/
ATTACH;FMTTYPE=image/jpeg:https://salemforallages.org/wp-content/uploads/2025/05/Spring-Hat-Decorating-1.jpg
END:VEVENT
BEGIN:VEVENT
DTSTART;TZID=America/New_York:20250511T113000
DTEND;TZID=America/New_York:20250511T150000
DTSTAMP:20260423T032236
CREATED:20250505T090008Z
LAST-MODIFIED:20250505T090008Z
UID:23518-1746963000-1746975600@salemforallages.org
SUMMARY:Stop In For a Spell: DIY Potion Bar
DESCRIPTION:Fly in to The Good Witch and Stay for a Spell! Mix up your very own potion at our Potion Bar! \nDrop Ins begin at store opening and end 30 minutes before closing and are offered on a first come\, first serve basis. Purchase online or pay in store. \nDrop Ins may be unavailable during a birthday party or store event. Please call ahead\, or check our posted hours on Google. \nUnder age 4 may participate with the help of a supervising adult.
URL:https://salemforallages.org/event/stop-in-for-a-spell-diy-potion-bar-229/
ATTACH;FMTTYPE=image/jpeg:https://salemforallages.org/wp-content/uploads/2025/05/Stop-In-For-a-Spell-SQUARE-1.jpg
END:VEVENT
BEGIN:VEVENT
DTSTART;TZID=America/New_York:20250511T113000
DTEND;TZID=America/New_York:20250511T150000
DTSTAMP:20260423T032236
CREATED:20250505T090012Z
LAST-MODIFIED:20250505T090012Z
UID:23520-1746963000-1746975600@salemforallages.org
SUMMARY:Potion Brewing Store Experience
DESCRIPTION:Make your visit to The Good Witch of Salem’s shop memorable by booking our in-store Potion Brewing Experience. This activity is led by our Witch Apprentices. \nActivities are recommended for children ages 3 and up. \n*One appointment slot for each child is required.*
URL:https://salemforallages.org/event/potion-brewing-store-experience-320/
ATTACH;FMTTYPE=image/jpeg:https://salemforallages.org/wp-content/uploads/2025/05/Potion-Brewing-Store-Experience-5.jpg
END:VEVENT
BEGIN:VEVENT
DTSTART;TZID=America/New_York:20250511T113000
DTEND;TZID=America/New_York:20250511T153000
DTSTAMP:20260423T032236
CREATED:20250504T090044Z
LAST-MODIFIED:20250504T090044Z
UID:23517-1746963000-1746977400@salemforallages.org
SUMMARY:Magical Transformations
DESCRIPTION:Through our “Magical Transformations” children embrace their charms and express their individuality. Children can choose to transform into a “Witch” or “Wizard”!
URL:https://salemforallages.org/event/magical-transformations-328/
ATTACH;FMTTYPE=image/png:https://salemforallages.org/wp-content/uploads/2024/08/Transformations-1.png
END:VEVENT
BEGIN:VEVENT
DTSTART;TZID=America/New_York:20250511T130000
DTEND;TZID=America/New_York:20250511T150000
DTSTAMP:20260423T032236
CREATED:20250505T090020Z
LAST-MODIFIED:20250505T090020Z
UID:23524-1746968400-1746975600@salemforallages.org
SUMMARY:Mother’s Day Comedy Show
DESCRIPTION:This Mother’s Day\, join Kathe and Jesse Farris for a motherlode of laughter and family chaos. The mother-daughter duo host the night\, featuring two of Boston’s best comedians\, Kelly MacFarland and Christine Hurley. Whether you’re a mom\, a mom’s favorite\, or just someone who enjoys a good laugh\, this show is the perfect way to celebrate Mother’s Day—with comedy\, camaraderie\, and a whole lot of fun!
URL:https://salemforallages.org/event/mothers-day-comedy-show/
ATTACH;FMTTYPE=image/jpeg:https://salemforallages.org/wp-content/uploads/2025/05/Mothers-Day-Show.jpg
END:VEVENT
BEGIN:VEVENT
DTSTART;TZID=America/New_York:20250511T180000
DTEND;TZID=America/New_York:20250511T193000
DTSTAMP:20260423T032236
CREATED:20250505T090023Z
LAST-MODIFIED:20250505T090023Z
UID:23526-1746986400-1746991800@salemforallages.org
SUMMARY:Sea Witch Ball Workshops with The Sea Wych Salem
DESCRIPTION:Join the Sea Wych Salem & create your own one-of-a-kind sea witch ball! These protective talismans are crafted using hollow ornaments that we layer with protective salts\, herbs\, sea vegetation\, mosses\, dried flowers\, sea shells\, & so much more! The ticket price includes a brief history of the witch ball\, a short ritual to put us into a magical mindset\, all supplies\, & step-by-step guidance from the Sea Wych. Workshop attendees also enjoy a private shopping experience with a 10% discount storewide.
URL:https://salemforallages.org/event/sea-witch-ball-workshops-with-the-sea-wych-salem-4/
ATTACH;FMTTYPE=image/jpeg:https://salemforallages.org/wp-content/uploads/2025/04/FB_IMG_1730599765667.jpg
END:VEVENT
BEGIN:VEVENT
DTSTART;TZID=America/New_York:20250512T113000
DTEND;TZID=America/New_York:20250512T160000
DTSTAMP:20260423T032236
CREATED:20250505T090024Z
LAST-MODIFIED:20250505T090024Z
UID:23527-1747049400-1747065600@salemforallages.org
SUMMARY:Magical Transformations
DESCRIPTION:Through our “Magical Transformations” children embrace their charms and express their individuality. Children can choose to transform into a “Witch” or “Wizard”!
URL:https://salemforallages.org/event/magical-transformations-329/
ATTACH;FMTTYPE=image/png:https://salemforallages.org/wp-content/uploads/2024/08/Transformations.png
END:VEVENT
BEGIN:VEVENT
DTSTART;TZID=America/New_York:20250512T113000
DTEND;TZID=America/New_York:20250512T160000
DTSTAMP:20260423T032236
CREATED:20250505T090025Z
LAST-MODIFIED:20250505T090025Z
UID:23528-1747049400-1747065600@salemforallages.org
SUMMARY:Potion Brewing Store Experience
DESCRIPTION:Make your visit to The Good Witch of Salem’s shop memorable by booking our in-store Potion Brewing Experience. This activity is led by our Witch Apprentices. \nActivities are recommended for children ages 3 and up. \n*One appointment slot for each child is required.*
URL:https://salemforallages.org/event/potion-brewing-store-experience-321/
ATTACH;FMTTYPE=image/jpeg:https://salemforallages.org/wp-content/uploads/2025/05/Potion-Brewing-Store-Experience-6.jpg
END:VEVENT
BEGIN:VEVENT
DTSTART;TZID=America/New_York:20250512T190000
DTEND;TZID=America/New_York:20250512T210000
DTSTAMP:20260423T032236
CREATED:20250505T090028Z
LAST-MODIFIED:20250505T090028Z
UID:23530-1747076400-1747083600@salemforallages.org
SUMMARY:Bingo with Great Gaucho
DESCRIPTION:Join us at the Taproom every Monday night for FREE BINGO with Greta Gaucho at 7:00 pm. \nDot it if ya got it for four rounds to win a Far From The Tree gift card and a prize from the fabulous prize basket. \nThe Far From the Tree taproom has an open food policy. (Bring your own food)
URL:https://salemforallages.org/event/bingo-with-great-gaucho-10/
ATTACH;FMTTYPE=image/jpeg:https://salemforallages.org/wp-content/uploads/2025/05/Add-a-subheading.jpg
END:VEVENT
BEGIN:VEVENT
DTSTART;TZID=America/New_York:20250512T190000
DTEND;TZID=America/New_York:20250512T210000
DTSTAMP:20260423T032236
CREATED:20250505T090032Z
LAST-MODIFIED:20250505T090032Z
UID:23532-1747076400-1747083600@salemforallages.org
SUMMARY:Full Moon Circle
DESCRIPTION:Gather to release\, reflect\, and recharge under the energy of the full moon.
URL:https://salemforallages.org/event/full-moon-circle-6/
ATTACH;FMTTYPE=image/png:https://salemforallages.org/wp-content/uploads/2025/05/Screenshot-2025-04-28-at-12.22.34 PM.png
END:VEVENT
BEGIN:VEVENT
DTSTART;TZID=America/New_York:20250513T080000
DTEND;TZID=America/New_York:20250513T170000
DTSTAMP:20260423T032236
CREATED:20250505T090037Z
LAST-MODIFIED:20250505T090037Z
UID:23534-1747123200-1747155600@salemforallages.org
SUMMARY:Ginger Cajun Seafood Pride Nights
DESCRIPTION:Ginger has a Pride Night every second and fourth Wednesdays of the month from 7 to 10. It’s a safe place for LGBT+ people and allies to come\, hang out and have fun. They also have a special drink list for it.
URL:https://salemforallages.org/event/ginger-cajun-seafood-pride-nights-24/
ATTACH;FMTTYPE=image/jpeg:https://salemforallages.org/wp-content/uploads/2023/05/Pride-Flag.jpg
END:VEVENT
BEGIN:VEVENT
DTSTART;TZID=America/New_York:20250513T113000
DTEND;TZID=America/New_York:20250513T150000
DTSTAMP:20260423T032236
CREATED:20250506T090009Z
LAST-MODIFIED:20250506T090009Z
UID:23536-1747135800-1747148400@salemforallages.org
SUMMARY:Stop In For a Spell: DIY Potion Bar
DESCRIPTION:Fly in to The Good Witch and Stay for a Spell! Mix up your very own potion at our Potion Bar! \nDrop Ins begin at store opening and end 30 minutes before closing and are offered on a first come\, first serve basis. Purchase online or pay in store. \nDrop Ins may be unavailable during a birthday party or store event. Please call ahead\, or check our posted hours on Google. \nUnder age 4 may participate with the help of a supervising adult.
URL:https://salemforallages.org/event/stop-in-for-a-spell-diy-potion-bar-230/
ATTACH;FMTTYPE=image/jpeg:https://salemforallages.org/wp-content/uploads/2025/05/Stop-In-For-a-Spell-SQUARE-2.jpg
END:VEVENT
BEGIN:VEVENT
DTSTART;TZID=America/New_York:20250513T113000
DTEND;TZID=America/New_York:20250513T150000
DTSTAMP:20260423T032236
CREATED:20250506T090013Z
LAST-MODIFIED:20250506T090013Z
UID:23538-1747135800-1747148400@salemforallages.org
SUMMARY:Potion Brewing Store Experience
DESCRIPTION:Make your visit to The Good Witch of Salem’s shop memorable by booking our in-store Potion Brewing Experience. This activity is led by our Witch Apprentices. \nActivities are recommended for children ages 3 and up. \n*One appointment slot for each child is required.*
URL:https://salemforallages.org/event/potion-brewing-store-experience-322/
ATTACH;FMTTYPE=image/jpeg:https://salemforallages.org/wp-content/uploads/2025/05/Potion-Brewing-Store-Experience-7.jpg
END:VEVENT
BEGIN:VEVENT
DTSTART;TZID=America/New_York:20250513T113000
DTEND;TZID=America/New_York:20250513T153000
DTSTAMP:20260423T032236
CREATED:20250506T090008Z
LAST-MODIFIED:20250506T090008Z
UID:23535-1747135800-1747150200@salemforallages.org
SUMMARY:Magical Transformations
DESCRIPTION:Through our “Magical Transformations” children embrace their charms and express their individuality. Children can choose to transform into a “Witch” or “Wizard”!
URL:https://salemforallages.org/event/magical-transformations-330/
ATTACH;FMTTYPE=image/png:https://salemforallages.org/wp-content/uploads/2024/08/Transformations-1.png
END:VEVENT
BEGIN:VEVENT
DTSTART;TZID=America/New_York:20250513T193000
DTEND;TZID=America/New_York:20250513T210000
DTSTAMP:20260423T032236
CREATED:20250506T090017Z
LAST-MODIFIED:20250506T090017Z
UID:23540-1747164600-1747170000@salemforallages.org
SUMMARY:Trivia Time
DESCRIPTION:General knowledge trivia every Tuesday at 7:30. Free to play. Win a Flying Saucer gift card!
URL:https://salemforallages.org/event/trivia-time-15/
ATTACH;FMTTYPE=image/jpeg:https://salemforallages.org/wp-content/uploads/2025/01/trivia-aframe-Medium.jpeg
END:VEVENT
BEGIN:VEVENT
DTSTART;TZID=America/New_York:20250513T200000
DTEND;TZID=America/New_York:20250513T220000
DTSTAMP:20260423T032236
CREATED:20250507T090010Z
LAST-MODIFIED:20250507T090010Z
UID:23541-1747166400-1747173600@salemforallages.org
SUMMARY:Roger McGuinn
DESCRIPTION:An Evening with Roger McGuinn begins with the stage dark and the sound of Roger’s 12-string Rickenbacker guitar filling the house as he approaches the standing microphone to sing his signature Bob Dylan song “My Back Pages.” \nHe always begins his concerts with this song because he takes the audience on the journey through which his love of folk music took him to the Rock and Roll Hall of Fame.
URL:https://salemforallages.org/event/roger-mcguinn/
ATTACH;FMTTYPE=image/jpeg:https://salemforallages.org/wp-content/uploads/2025/05/RM_Live-Promo-Shot_-High-Res.jpg
END:VEVENT
BEGIN:VEVENT
DTSTART;TZID=America/New_York:20250514T113000
DTEND;TZID=America/New_York:20250514T150000
DTSTAMP:20260423T032236
CREATED:20250507T090014Z
LAST-MODIFIED:20250507T090014Z
UID:23544-1747222200-1747234800@salemforallages.org
SUMMARY:Stop In For a Spell: DIY Potion Bar
DESCRIPTION:Fly in to The Good Witch and Stay for a Spell! Mix up your very own potion at our Potion Bar! \nDrop Ins begin at store opening and end 30 minutes before closing and are offered on a first come\, first serve basis. Purchase online or pay in store. \nDrop Ins may be unavailable during a birthday party or store event. Please call ahead\, or check our posted hours on Google. \nUnder age 4 may participate with the help of a supervising adult.
URL:https://salemforallages.org/event/stop-in-for-a-spell-diy-potion-bar-231/
ATTACH;FMTTYPE=image/jpeg:https://salemforallages.org/wp-content/uploads/2025/05/Stop-In-For-a-Spell-SQUARE-3.jpg
END:VEVENT
BEGIN:VEVENT
DTSTART;TZID=America/New_York:20250514T113000
DTEND;TZID=America/New_York:20250514T150000
DTSTAMP:20260423T032236
CREATED:20250507T090018Z
LAST-MODIFIED:20250507T090018Z
UID:23546-1747222200-1747234800@salemforallages.org
SUMMARY:Potion Brewing Store Experience
DESCRIPTION:Make your visit to The Good Witch of Salem’s shop memorable by booking our in-store Potion Brewing Experience. This activity is led by our Witch Apprentices. \nActivities are recommended for children ages 3 and up. \n*One appointment slot for each child is required.*
URL:https://salemforallages.org/event/potion-brewing-store-experience-323/
ATTACH;FMTTYPE=image/jpeg:https://salemforallages.org/wp-content/uploads/2025/05/Potion-Brewing-Store-Experience-8.jpg
END:VEVENT
BEGIN:VEVENT
DTSTART;TZID=America/New_York:20250514T113000
DTEND;TZID=America/New_York:20250514T153000
DTSTAMP:20260423T032236
CREATED:20250507T090013Z
LAST-MODIFIED:20250507T090013Z
UID:23543-1747222200-1747236600@salemforallages.org
SUMMARY:Magical Transformations
DESCRIPTION:Through our “Magical Transformations” children embrace their charms and express their individuality. Children can choose to transform into a “Witch” or “Wizard”!
URL:https://salemforallages.org/event/magical-transformations-331/
ATTACH;FMTTYPE=image/png:https://salemforallages.org/wp-content/uploads/2024/08/Transformations-1.png
END:VEVENT
BEGIN:VEVENT
DTSTART;TZID=America/New_York:20250514T120000
DTEND;TZID=America/New_York:20250514T133000
DTSTAMP:20260423T032236
CREATED:20250507T090023Z
LAST-MODIFIED:20250507T090023Z
UID:23548-1747224000-1747229400@salemforallages.org
SUMMARY:Craft Witch
DESCRIPTION:Craft Witch is a DIY crafting session with something for everyone! Choose from a wide array of options to create your very own one-of-a-kind craft. Whichever craft you decide to create\, you’ll be provided with all the materials\, tools\, and knowledge needed to let your creativity flourish. Unlike our broom making\, bookbinding\, and spelljar making workshops in which participants are being guided through the crafting process step-by step by an instructor\, the DIY nature of Craft Witch means that you can use the studio time however you wish. Check out the crafting options on our website!
URL:https://salemforallages.org/event/craft-witch-49/
ATTACH;FMTTYPE=image/jpeg:https://salemforallages.org/wp-content/uploads/2025/05/Image-from-iOS-scaled-5.jpg
END:VEVENT
BEGIN:VEVENT
DTSTART;TZID=America/New_York:20250514T180000
DTEND;TZID=America/New_York:20250514T190000
DTSTAMP:20260423T032236
CREATED:20250508T090009Z
LAST-MODIFIED:20250508T090009Z
UID:23550-1747245600-1747249200@salemforallages.org
SUMMARY:Full Moon Yoga
DESCRIPTION:Wild Sea Wellness will be offering monthly yoga classes at The House of the Seven Gables throughout 2025. Be sure to check their website and calendar for details\, dates\, and links to register. The next partnership is scheduled for May 14 at 6:00 p.m.
URL:https://salemforallages.org/event/full-moon-yoga-13/
ATTACH;FMTTYPE=image/jpeg:https://salemforallages.org/wp-content/uploads/2025/05/2019-06-20-Solstice-Yoga-with-Rebel-Yell-Yoga-13.jpg
END:VEVENT
BEGIN:VEVENT
DTSTART;TZID=America/New_York:20250515T113000
DTEND;TZID=America/New_York:20250515T160000
DTSTAMP:20260423T032236
CREATED:20250508T090013Z
LAST-MODIFIED:20250508T090013Z
UID:23552-1747308600-1747324800@salemforallages.org
SUMMARY:Magical Transformations
DESCRIPTION:Through our “Magical Transformations” children embrace their charms and express their individuality. Children can choose to transform into a “Witch” or “Wizard”!
URL:https://salemforallages.org/event/magical-transformations-332/
ATTACH;FMTTYPE=image/png:https://salemforallages.org/wp-content/uploads/2024/08/Transformations.png
END:VEVENT
END:VCALENDAR