BEGIN:VCALENDAR
VERSION:2.0
PRODID:-//Salem for All Ages - ECPv6.15.18//NONSGML v1.0//EN
CALSCALE:GREGORIAN
METHOD:PUBLISH
X-WR-CALNAME:Salem for All Ages
X-ORIGINAL-URL:https://salemforallages.org
X-WR-CALDESC:Events for Salem for All Ages
REFRESH-INTERVAL;VALUE=DURATION:PT1H
X-Robots-Tag:noindex
X-PUBLISHED-TTL:PT1H
BEGIN:VTIMEZONE
TZID:America/New_York
BEGIN:DAYLIGHT
TZOFFSETFROM:-0500
TZOFFSETTO:-0400
TZNAME:EDT
DTSTART:20240310T070000
END:DAYLIGHT
BEGIN:STANDARD
TZOFFSETFROM:-0400
TZOFFSETTO:-0500
TZNAME:EST
DTSTART:20241103T060000
END:STANDARD
BEGIN:DAYLIGHT
TZOFFSETFROM:-0500
TZOFFSETTO:-0400
TZNAME:EDT
DTSTART:20250309T070000
END:DAYLIGHT
BEGIN:STANDARD
TZOFFSETFROM:-0400
TZOFFSETTO:-0500
TZNAME:EST
DTSTART:20251102T060000
END:STANDARD
BEGIN:DAYLIGHT
TZOFFSETFROM:-0500
TZOFFSETTO:-0400
TZNAME:EDT
DTSTART:20260308T070000
END:DAYLIGHT
BEGIN:STANDARD
TZOFFSETFROM:-0400
TZOFFSETTO:-0500
TZNAME:EST
DTSTART:20261101T060000
END:STANDARD
END:VTIMEZONE
BEGIN:VEVENT
DTSTART;TZID=America/New_York:20250504T113000
DTEND;TZID=America/New_York:20250504T150000
DTSTAMP:20260423T023605
CREATED:20250428T090018Z
LAST-MODIFIED:20250428T090018Z
UID:23440-1746358200-1746370800@salemforallages.org
SUMMARY:Potion Brewing Store Experience
DESCRIPTION:Make your visit to The Good Witch of Salem’s shop memorable by booking our in-store Potion Brewing Experience. This activity is led by our Witch Apprentices. \nActivities are recommended for children ages 3 and up. \n*One appointment slot for each child is required.*
URL:https://salemforallages.org/event/potion-brewing-store-experience-313/
ATTACH;FMTTYPE=image/jpeg:https://salemforallages.org/wp-content/uploads/2025/04/Potion-Brewing-Store-Experience-27.jpg
END:VEVENT
BEGIN:VEVENT
DTSTART;TZID=America/New_York:20250504T113000
DTEND;TZID=America/New_York:20250504T153000
DTSTAMP:20260423T023605
CREATED:20250428T090013Z
LAST-MODIFIED:20250428T090013Z
UID:23437-1746358200-1746372600@salemforallages.org
SUMMARY:Magical Transformations
DESCRIPTION:Through our “Magical Transformations” children embrace their charms and express their individuality. Children can choose to transform into a “Witch” or “Wizard”!
URL:https://salemforallages.org/event/magical-transformations-321/
ATTACH;FMTTYPE=image/png:https://salemforallages.org/wp-content/uploads/2024/08/Transformations-1.png
END:VEVENT
BEGIN:VEVENT
DTSTART;TZID=America/New_York:20250504T150000
DTEND;TZID=America/New_York:20250504T170000
DTSTAMP:20260423T023605
CREATED:20250428T090030Z
LAST-MODIFIED:20250428T090030Z
UID:23446-1746370800-1746378000@salemforallages.org
SUMMARY:Symphony by the Sea: Paris Rendevous
DESCRIPTION:This timeless music by Debussy\, Faure\, Ravel and Bizet will be the focal point of our program as we explore the richness of that amazing era. \nIn the late nineteenth and early twentieth centuries\, Paris was a hotbed of artistic creativity. Influenced by painters and poets\, composers sought a new expressive language\, a language with the rough edges removed and full of new colors.
URL:https://salemforallages.org/event/symphony-by-the-sea-paris-rendevous/
ATTACH;FMTTYPE=image/jpeg:https://salemforallages.org/wp-content/uploads/2025/03/sbs.jpg
END:VEVENT
BEGIN:VEVENT
DTSTART;TZID=America/New_York:20250504T150000
DTEND;TZID=America/New_York:20250504T170000
DTSTAMP:20260423T023605
CREATED:20250428T090031Z
LAST-MODIFIED:20250428T090031Z
UID:23447-1746370800-1746378000@salemforallages.org
SUMMARY:Medium Lauren Robbins
DESCRIPTION:“Meet Tested and Endorsed Afterlife Medium Lauren Robbins of The Spiritual Path LLC in Mansfield\, MA\, featured on TV for an evening of heartfelt mediumship messages. Lauren walks around the room and to each table to deliver messages from loved ones who wish to come through who described themselves\, their personalities\, details about their lives\, and messages that only audience members can validate to prove the afterlife exists for those healing from a loss or curious about the other side. Not all guests will receive a message\, but they will leave with an unforgettable experience.
URL:https://salemforallages.org/event/medium-lauren-robbins-2/
ATTACH;FMTTYPE=image/jpeg:https://salemforallages.org/wp-content/uploads/2025/03/Lauren-Robbins.jpg
END:VEVENT
BEGIN:VEVENT
DTSTART;TZID=America/New_York:20250504T180000
DTEND;TZID=America/New_York:20250504T193000
DTSTAMP:20260423T023605
CREATED:20250429T090012Z
LAST-MODIFIED:20250429T090012Z
UID:23452-1746381600-1746387000@salemforallages.org
SUMMARY:Sea Witch Ball Workshops with The Sea Wych Salem
DESCRIPTION:Join the Sea Wych Salem & create your own one-of-a-kind sea witch ball! These protective talismans are crafted using hollow ornaments that we layer with protective salts\, herbs\, sea vegetation\, mosses\, dried flowers\, sea shells\, & so much more! The ticket price includes a brief history of the witch ball\, a short ritual to put us into a magical mindset\, all supplies\, & step-by-step guidance from the Sea Wych. Workshop attendees also enjoy a private shopping experience with a 10% discount storewide.
URL:https://salemforallages.org/event/sea-witch-ball-workshops-with-the-sea-wych-salem-3/
ATTACH;FMTTYPE=image/jpeg:https://salemforallages.org/wp-content/uploads/2025/04/FB_IMG_1730599765667.jpg
END:VEVENT
BEGIN:VEVENT
DTSTART;TZID=America/New_York:20250505T113000
DTEND;TZID=America/New_York:20250505T160000
DTSTAMP:20260423T023605
CREATED:20250428T090032Z
LAST-MODIFIED:20250428T090032Z
UID:23448-1746444600-1746460800@salemforallages.org
SUMMARY:Magical Transformations
DESCRIPTION:Through our “Magical Transformations” children embrace their charms and express their individuality. Children can choose to transform into a “Witch” or “Wizard”!
URL:https://salemforallages.org/event/magical-transformations-322/
ATTACH;FMTTYPE=image/png:https://salemforallages.org/wp-content/uploads/2024/08/Transformations.png
END:VEVENT
BEGIN:VEVENT
DTSTART;TZID=America/New_York:20250505T113000
DTEND;TZID=America/New_York:20250505T160000
DTSTAMP:20260423T023605
CREATED:20250429T090012Z
LAST-MODIFIED:20250429T090012Z
UID:23453-1746444600-1746460800@salemforallages.org
SUMMARY:Potion Brewing Store Experience
DESCRIPTION:Make your visit to The Good Witch of Salem’s shop memorable by booking our in-store Potion Brewing Experience. This activity is led by our Witch Apprentices. \nActivities are recommended for children ages 3 and up. \n*One appointment slot for each child is required.*
URL:https://salemforallages.org/event/potion-brewing-store-experience-314/
ATTACH;FMTTYPE=image/jpeg:https://salemforallages.org/wp-content/uploads/2025/04/Potion-Brewing-Store-Experience-28.jpg
END:VEVENT
BEGIN:VEVENT
DTSTART;TZID=America/New_York:20250505T190000
DTEND;TZID=America/New_York:20250505T210000
DTSTAMP:20260423T023605
CREATED:20250430T090006Z
LAST-MODIFIED:20250430T090006Z
UID:23455-1746471600-1746478800@salemforallages.org
SUMMARY:Bingo with Great Gaucho
DESCRIPTION:Join us at the Taproom every Monday night for FREE BINGO with Greta Gaucho at 7:00 pm. \nDot it if ya got it for four rounds to win a Far From The Tree gift card and a prize from the fabulous prize basket. \nThe Far From the Tree taproom has an open food policy. (Bring your own food)
URL:https://salemforallages.org/event/bingo-with-great-gaucho-9/
ATTACH;FMTTYPE=image/jpeg:https://salemforallages.org/wp-content/uploads/2025/04/Add-a-subheading-4.jpg
END:VEVENT
BEGIN:VEVENT
DTSTART;TZID=America/New_York:20250505T190000
DTEND;TZID=America/New_York:20250505T210000
DTSTAMP:20260423T023605
CREATED:20250430T090012Z
LAST-MODIFIED:20250430T090012Z
UID:23457-1746471600-1746478800@salemforallages.org
SUMMARY:Broadway Bar Open Mic Party: “Magic To Do”
DESCRIPTION:“Magic To Do”” – Cast your spells\, curse your adversaries & share illusions! Join Thom Smoker and Lianne Goodwin as they host an evening of musical theater\, American Songbook\, and your favorites from the film and stage – all sung by YOU! Bring a friend and the sheet music to your favorite showtunes. Bonus points if your song connects with the month’s theme! \nOpen Sign Ups & Doors open at 6:15pm.
URL:https://salemforallages.org/event/broadway-bar-open-mic-party-magic-to-do/
ATTACH;FMTTYPE=image/jpeg:https://salemforallages.org/wp-content/uploads/2025/02/BB.jpg
END:VEVENT
BEGIN:VEVENT
DTSTART;TZID=America/New_York:20250506T113000
DTEND;TZID=America/New_York:20250506T150000
DTSTAMP:20260423T023605
CREATED:20250430T090013Z
LAST-MODIFIED:20250430T090013Z
UID:23459-1746531000-1746543600@salemforallages.org
SUMMARY:Stop In For a Spell: DIY Potion Bar
DESCRIPTION:Fly in to The Good Witch and Stay for a Spell! Mix up your very own potion at our Potion Bar! \nDrop Ins begin at store opening and end 30 minutes before closing and are offered on a first come\, first serve basis. Purchase online or pay in store. \nDrop Ins may be unavailable during a birthday party or store event. Please call ahead\, or check our posted hours on Google. \nUnder age 4 may participate with the help of a supervising adult.
URL:https://salemforallages.org/event/stop-in-for-a-spell-diy-potion-bar-227/
ATTACH;FMTTYPE=image/jpeg:https://salemforallages.org/wp-content/uploads/2025/04/Stop-In-For-a-Spell-SQUARE-12.jpg
END:VEVENT
BEGIN:VEVENT
DTSTART;TZID=America/New_York:20250506T113000
DTEND;TZID=America/New_York:20250506T150000
DTSTAMP:20260423T023605
CREATED:20250501T090005Z
LAST-MODIFIED:20250501T090005Z
UID:23461-1746531000-1746543600@salemforallages.org
SUMMARY:Potion Brewing Store Experience
DESCRIPTION:Make your visit to The Good Witch of Salem’s shop memorable by booking our in-store Potion Brewing Experience. This activity is led by our Witch Apprentices. \nActivities are recommended for children ages 3 and up. \n*One appointment slot for each child is required.*
URL:https://salemforallages.org/event/potion-brewing-store-experience-315/
ATTACH;FMTTYPE=image/jpeg:https://salemforallages.org/wp-content/uploads/2025/05/Potion-Brewing-Store-Experience.jpg
END:VEVENT
BEGIN:VEVENT
DTSTART;TZID=America/New_York:20250506T113000
DTEND;TZID=America/New_York:20250506T153000
DTSTAMP:20260423T023605
CREATED:20250430T090013Z
LAST-MODIFIED:20250430T090013Z
UID:23458-1746531000-1746545400@salemforallages.org
SUMMARY:Magical Transformations
DESCRIPTION:Through our “Magical Transformations” children embrace their charms and express their individuality. Children can choose to transform into a “Witch” or “Wizard”!
URL:https://salemforallages.org/event/magical-transformations-323/
ATTACH;FMTTYPE=image/png:https://salemforallages.org/wp-content/uploads/2024/08/Transformations-1.png
END:VEVENT
BEGIN:VEVENT
DTSTART;TZID=America/New_York:20250506T180000
DTEND;TZID=America/New_York:20250506T193000
DTSTAMP:20260423T023605
CREATED:20250501T090009Z
LAST-MODIFIED:20250501T090009Z
UID:23463-1746554400-1746559800@salemforallages.org
SUMMARY:The Great Debate Part 2: Patriots & Loyalists
DESCRIPTION:The year is 1775 – tensions with the British Crown are rising\, and one question is on every colonist’s mind: Would you fight for independence as a Patriot or remain loyal to the British Crown as a Loyalist? \nJoin us as our two historians face yet another Great Debate that divided colonists and even families during the American Revolution. David Goss will argue the case for Loyalists\, and Charlie Newhall will argue the case for Patriots. Both sides will defend their positions on freedom\, loyalty\, and the future of the colonies.
URL:https://salemforallages.org/event/the-great-debate-part-2-patriots-loyalists/
ATTACH;FMTTYPE=image/jpeg:https://salemforallages.org/wp-content/uploads/2025/05/Great-Debate-LP-scaled-1.jpg
END:VEVENT
BEGIN:VEVENT
DTSTART;TZID=America/New_York:20250506T193000
DTEND;TZID=America/New_York:20250506T210000
DTSTAMP:20260423T023605
CREATED:20250501T090014Z
LAST-MODIFIED:20250501T090014Z
UID:23465-1746559800-1746565200@salemforallages.org
SUMMARY:Trivia Time
DESCRIPTION:General knowledge trivia every Tuesday at 7:30. Free to play. Win a Flying Saucer gift card!
URL:https://salemforallages.org/event/trivia-time-14/
ATTACH;FMTTYPE=image/jpeg:https://salemforallages.org/wp-content/uploads/2025/01/trivia-aframe-Medium.jpeg
END:VEVENT
BEGIN:VEVENT
DTSTART;TZID=America/New_York:20250507T113000
DTEND;TZID=America/New_York:20250507T150000
DTSTAMP:20260423T023605
CREATED:20250501T090015Z
LAST-MODIFIED:20250501T090015Z
UID:23467-1746617400-1746630000@salemforallages.org
SUMMARY:Stop In For a Spell: DIY Potion Bar
DESCRIPTION:Fly in to The Good Witch and Stay for a Spell! Mix up your very own potion at our Potion Bar! \nDrop Ins begin at store opening and end 30 minutes before closing and are offered on a first come\, first serve basis. Purchase online or pay in store. \nDrop Ins may be unavailable during a birthday party or store event. Please call ahead\, or check our posted hours on Google. \nUnder age 4 may participate with the help of a supervising adult.
URL:https://salemforallages.org/event/stop-in-for-a-spell-diy-potion-bar-228/
ATTACH;FMTTYPE=image/jpeg:https://salemforallages.org/wp-content/uploads/2025/05/Stop-In-For-a-Spell-SQUARE.jpg
END:VEVENT
BEGIN:VEVENT
DTSTART;TZID=America/New_York:20250507T113000
DTEND;TZID=America/New_York:20250507T150000
DTSTAMP:20260423T023605
CREATED:20250501T090019Z
LAST-MODIFIED:20250501T090019Z
UID:23469-1746617400-1746630000@salemforallages.org
SUMMARY:Potion Brewing Store Experience
DESCRIPTION:Make your visit to The Good Witch of Salem’s shop memorable by booking our in-store Potion Brewing Experience. This activity is led by our Witch Apprentices. \nActivities are recommended for children ages 3 and up. \n*One appointment slot for each child is required.*
URL:https://salemforallages.org/event/potion-brewing-store-experience-316/
ATTACH;FMTTYPE=image/jpeg:https://salemforallages.org/wp-content/uploads/2025/05/Potion-Brewing-Store-Experience-1.jpg
END:VEVENT
BEGIN:VEVENT
DTSTART;TZID=America/New_York:20250507T113000
DTEND;TZID=America/New_York:20250507T153000
DTSTAMP:20260423T023605
CREATED:20250501T090015Z
LAST-MODIFIED:20250501T090015Z
UID:23466-1746617400-1746631800@salemforallages.org
SUMMARY:Magical Transformations
DESCRIPTION:Through our “Magical Transformations” children embrace their charms and express their individuality. Children can choose to transform into a “Witch” or “Wizard”!
URL:https://salemforallages.org/event/magical-transformations-324/
ATTACH;FMTTYPE=image/png:https://salemforallages.org/wp-content/uploads/2024/08/Transformations-1.png
END:VEVENT
BEGIN:VEVENT
DTSTART;TZID=America/New_York:20250507T120000
DTEND;TZID=America/New_York:20250507T133000
DTSTAMP:20260423T023605
CREATED:20250502T090006Z
LAST-MODIFIED:20250502T090006Z
UID:23471-1746619200-1746624600@salemforallages.org
SUMMARY:Craft Witch
DESCRIPTION:Craft Witch is a DIY crafting session with something for everyone! Choose from a wide array of options to create your very own one-of-a-kind craft. Whichever craft you decide to create\, you’ll be provided with all the materials\, tools\, and knowledge needed to let your creativity flourish. Unlike our broom making\, bookbinding\, and spelljar making workshops in which participants are being guided through the crafting process step-by step by an instructor\, the DIY nature of Craft Witch means that you can use the studio time however you wish. Check out the crafting options on our website!
URL:https://salemforallages.org/event/craft-witch-45/
ATTACH;FMTTYPE=image/jpeg:https://salemforallages.org/wp-content/uploads/2025/05/Image-from-iOS-scaled-1.jpg
END:VEVENT
BEGIN:VEVENT
DTSTART;TZID=America/New_York:20250507T190000
DTEND;TZID=America/New_York:20250507T210000
DTSTAMP:20260423T023605
CREATED:20250502T090011Z
LAST-MODIFIED:20250502T090011Z
UID:23474-1746644400-1746651600@salemforallages.org
SUMMARY:Glenn Miller Orchestra
DESCRIPTION:“In The Mood” for swing music? \nThe most popular and sought after big band of all time returns to Beverly for an evening of swing music at The Cabot! \nOn May 7\, The World-Famous Glenn Miller Orchestra will perform their greatest hits\, including “In The Mood”\, “Chattanooga Choo Choo”\, “American Patrol”\, “A String Of Pearls”\, “Little Brown Jug”\, “Pennsylvania 6-5000”\, Tuxedo Junction”\, and of course their theme song “Moonlight Serenade” as they continue their national tour.
URL:https://salemforallages.org/event/glenn-miller-orchestra-2/
ATTACH;FMTTYPE=image/jpeg:https://salemforallages.org/wp-content/uploads/2025/05/Social-Media-Graphic-1080x1080-1.jpg
END:VEVENT
BEGIN:VEVENT
DTSTART;TZID=America/New_York:20250507T190000
DTEND;TZID=America/New_York:20250507T230000
DTSTAMP:20260423T023605
CREATED:20250502T090010Z
LAST-MODIFIED:20250502T090010Z
UID:23473-1746644400-1746658800@salemforallages.org
SUMMARY:Super Smash Bros Ultimate Tournament
DESCRIPTION:We’re back with another round of Smash Ultimate here at the Bit Bar in Salem\, MA \nAll skill levels are welcome! \nDoors open for friendlies at 7pm\, bracket starts at 8pm! \n\n$10 entry fee\nBYO-controller highly encouraged\n21+
URL:https://salemforallages.org/event/super-smash-bros-ultimate-tournament-4/
ATTACH;FMTTYPE=image/jpeg:https://salemforallages.org/wp-content/uploads/2025/02/ac4d1fc9824876ce756406f0525d50c57ded4b2a666f6dfe40a6ac5c3563fad9-2-copy.jpg
END:VEVENT
BEGIN:VEVENT
DTSTART;TZID=America/New_York:20250508T113000
DTEND;TZID=America/New_York:20250508T160000
DTSTAMP:20260423T023605
CREATED:20250502T090014Z
LAST-MODIFIED:20250502T090014Z
UID:23476-1746703800-1746720000@salemforallages.org
SUMMARY:Magical Transformations
DESCRIPTION:Through our “Magical Transformations” children embrace their charms and express their individuality. Children can choose to transform into a “Witch” or “Wizard”!
URL:https://salemforallages.org/event/magical-transformations-325/
ATTACH;FMTTYPE=image/png:https://salemforallages.org/wp-content/uploads/2024/08/Transformations.png
END:VEVENT
BEGIN:VEVENT
DTSTART;TZID=America/New_York:20250508T113000
DTEND;TZID=America/New_York:20250508T160000
DTSTAMP:20260423T023605
CREATED:20250502T090015Z
LAST-MODIFIED:20250502T090015Z
UID:23477-1746703800-1746720000@salemforallages.org
SUMMARY:Potion Brewing Store Experience
DESCRIPTION:Make your visit to The Good Witch of Salem’s shop memorable by booking our in-store Potion Brewing Experience. This activity is led by our Witch Apprentices. \nActivities are recommended for children ages 3 and up. \n*One appointment slot for each child is required.*
URL:https://salemforallages.org/event/potion-brewing-store-experience-317/
ATTACH;FMTTYPE=image/jpeg:https://salemforallages.org/wp-content/uploads/2025/05/Potion-Brewing-Store-Experience-2.jpg
END:VEVENT
BEGIN:VEVENT
DTSTART;TZID=America/New_York:20250508T120000
DTEND;TZID=America/New_York:20250508T133000
DTSTAMP:20260423T023605
CREATED:20250502T090020Z
LAST-MODIFIED:20250502T090020Z
UID:23479-1746705600-1746711000@salemforallages.org
SUMMARY:Craft Witch
DESCRIPTION:Craft Witch is a DIY crafting session with something for everyone! Choose from a wide array of options to create your very own one-of-a-kind craft. Whichever craft you decide to create\, you’ll be provided with all the materials\, tools\, and knowledge needed to let your creativity flourish. Unlike our broom making\, bookbinding\, and spelljar making workshops in which participants are being guided through the crafting process step-by step by an instructor\, the DIY nature of Craft Witch means that you can use the studio time however you wish. Check out the crafting options on our website!
URL:https://salemforallages.org/event/craft-witch-46/
ATTACH;FMTTYPE=image/jpeg:https://salemforallages.org/wp-content/uploads/2025/05/Image-from-iOS-scaled-2.jpg
END:VEVENT
BEGIN:VEVENT
DTSTART;TZID=America/New_York:20250508T183000
DTEND;TZID=America/New_York:20250508T200000
DTSTAMP:20260423T023605
CREATED:20250503T090009Z
LAST-MODIFIED:20250503T090009Z
UID:23482-1746729000-1746734400@salemforallages.org
SUMMARY:Modern Calligraphy for Beginners
DESCRIPTION:Join us for a cozy and creative evening of pointed pen calligraphy\, cider\, and good company at Far From The Tree. This beginner-friendly workshop includes all the materials needed to get started with modern calligraphy and a complimentary pour of cider. Perfect for brides-to-be\, creatives\, or anyone looking to try something new. \nTickets: $75 per person \nHosted by: Poppy Ink Studio & Sip & Script
URL:https://salemforallages.org/event/modern-calligraphy-for-beginners/
ATTACH;FMTTYPE=image/png:https://salemforallages.org/wp-content/uploads/2025/05/FarFromtheTree-1RealEstateFlyer.png
END:VEVENT
BEGIN:VEVENT
DTSTART;TZID=America/New_York:20250508T193000
DTEND;TZID=America/New_York:20250508T213000
DTSTAMP:20260423T023605
CREATED:20250503T090012Z
LAST-MODIFIED:20250503T090012Z
UID:23484-1746732600-1746739800@salemforallages.org
SUMMARY:Alchemy: Magic in the Grand Salon
DESCRIPTION:Alchemy is an unforgettable night out featuring performances from some of Boston’s best magicians. Sleight of hand\, mental dexterity\, and unexpected antics are all on the menu at this new experience in the heart of downtown Beverly. Your hosts have crafted up a production that’s equal parts amazement\, hilarity\, and innovation; and you are not going to want to miss it!
URL:https://salemforallages.org/event/alchemy-magic-in-the-grand-salon-3/
ATTACH;FMTTYPE=image/png:https://salemforallages.org/wp-content/uploads/2025/04/Alchemy.png
END:VEVENT
BEGIN:VEVENT
DTSTART;TZID=America/New_York:20250509T113000
DTEND;TZID=America/New_York:20250509T160000
DTSTAMP:20260423T023605
CREATED:20250503T090012Z
LAST-MODIFIED:20250503T090012Z
UID:23485-1746790200-1746806400@salemforallages.org
SUMMARY:Magical Transformations
DESCRIPTION:Through our “Magical Transformations” children embrace their charms and express their individuality. Children can choose to transform into a “Witch” or “Wizard”!
URL:https://salemforallages.org/event/magical-transformations-326/
ATTACH;FMTTYPE=image/png:https://salemforallages.org/wp-content/uploads/2024/08/Transformations.png
END:VEVENT
BEGIN:VEVENT
DTSTART;TZID=America/New_York:20250509T113000
DTEND;TZID=America/New_York:20250509T160000
DTSTAMP:20260423T023605
CREATED:20250503T090014Z
LAST-MODIFIED:20250503T090014Z
UID:23486-1746790200-1746806400@salemforallages.org
SUMMARY:Potion Brewing Store Experience
DESCRIPTION:Make your visit to The Good Witch of Salem’s shop memorable by booking our in-store Potion Brewing Experience. This activity is led by our Witch Apprentices. \nActivities are recommended for children ages 3 and up. \n*One appointment slot for each child is required.*
URL:https://salemforallages.org/event/potion-brewing-store-experience-318/
ATTACH;FMTTYPE=image/jpeg:https://salemforallages.org/wp-content/uploads/2025/05/Potion-Brewing-Store-Experience-3.jpg
END:VEVENT
BEGIN:VEVENT
DTSTART;TZID=America/New_York:20250509T120000
DTEND;TZID=America/New_York:20250509T133000
DTSTAMP:20260423T023605
CREATED:20250503T090017Z
LAST-MODIFIED:20250503T090017Z
UID:23488-1746792000-1746797400@salemforallages.org
SUMMARY:Craft Witch
DESCRIPTION:Craft Witch is a DIY crafting session with something for everyone! Choose from a wide array of options to create your very own one-of-a-kind craft. Whichever craft you decide to create\, you’ll be provided with all the materials\, tools\, and knowledge needed to let your creativity flourish. Unlike our broom making\, bookbinding\, and spelljar making workshops in which participants are being guided through the crafting process step-by step by an instructor\, the DIY nature of Craft Witch means that you can use the studio time however you wish. Check out the crafting options on our website!
URL:https://salemforallages.org/event/craft-witch-47/
ATTACH;FMTTYPE=image/jpeg:https://salemforallages.org/wp-content/uploads/2025/05/Image-from-iOS-scaled-3.jpg
END:VEVENT
BEGIN:VEVENT
DTSTART;TZID=America/New_York:20250509T183000
DTEND;TZID=America/New_York:20250509T203000
DTSTAMP:20260423T023605
CREATED:20250503T090022Z
LAST-MODIFIED:20250503T090022Z
UID:23490-1746815400-1746822600@salemforallages.org
SUMMARY:Tim Meadows
DESCRIPTION:Tim Meadows is an actor\, writer comedian who was one of the longest-running cast members on Saturday Night Live where he appeared for ten seasons. Tim played John Glascot on the ABC sitcom The Goldbergs throughout its ten seasons and starred as the same character in Schooled for its two-season run. Meadows also played the school principal in the hit comedy Mean Girls and co-starred with Adam Sandler and Chris Rock in the blockbuster comedies Grown Ups and Grown Ups 2. Recently\, Tim starred in the Peacock series Poker Face\, Disney+’s The Mandalorian\, and Comedy Central’s animated series Digman!
URL:https://salemforallages.org/event/tim-meadows/
ATTACH;FMTTYPE=image/png:https://salemforallages.org/wp-content/uploads/2025/05/Tim-Meadows.png
END:VEVENT
BEGIN:VEVENT
DTSTART;TZID=America/New_York:20250509T193000
DTEND;TZID=America/New_York:20250509T213000
DTSTAMP:20260423T023605
CREATED:20250503T090026Z
LAST-MODIFIED:20250503T090026Z
UID:23492-1746819000-1746826200@salemforallages.org
SUMMARY:Bingo with BORAH!
DESCRIPTION:Single ticket to Bingo with BORAH! at Blackcraft Salem on Friday\, May 9th at 7:30 pm 253 Essex St. Salem\, MA 01970 \nPrizes\, and DJ. $2 for each additional scorecard to be purchased day of. \nAfter hours shopping will be possible. The cafe and the haunted house will be open. \nNonrefundable. Limited number of tickets available.
URL:https://salemforallages.org/event/bingo-with-borah/
ATTACH;FMTTYPE=image/jpeg:https://salemforallages.org/wp-content/uploads/2025/05/Screenshot-2025-04-24-121444.jpg
END:VEVENT
END:VCALENDAR