BEGIN:VCALENDAR
VERSION:2.0
PRODID:-//Salem for All Ages - ECPv6.15.18//NONSGML v1.0//EN
CALSCALE:GREGORIAN
METHOD:PUBLISH
X-WR-CALNAME:Salem for All Ages
X-ORIGINAL-URL:https://salemforallages.org
X-WR-CALDESC:Events for Salem for All Ages
REFRESH-INTERVAL;VALUE=DURATION:PT1H
X-Robots-Tag:noindex
X-PUBLISHED-TTL:PT1H
BEGIN:VTIMEZONE
TZID:America/New_York
BEGIN:DAYLIGHT
TZOFFSETFROM:-0500
TZOFFSETTO:-0400
TZNAME:EDT
DTSTART:20240310T070000
END:DAYLIGHT
BEGIN:STANDARD
TZOFFSETFROM:-0400
TZOFFSETTO:-0500
TZNAME:EST
DTSTART:20241103T060000
END:STANDARD
BEGIN:DAYLIGHT
TZOFFSETFROM:-0500
TZOFFSETTO:-0400
TZNAME:EDT
DTSTART:20250309T070000
END:DAYLIGHT
BEGIN:STANDARD
TZOFFSETFROM:-0400
TZOFFSETTO:-0500
TZNAME:EST
DTSTART:20251102T060000
END:STANDARD
BEGIN:DAYLIGHT
TZOFFSETFROM:-0500
TZOFFSETTO:-0400
TZNAME:EDT
DTSTART:20260308T070000
END:DAYLIGHT
BEGIN:STANDARD
TZOFFSETFROM:-0400
TZOFFSETTO:-0500
TZNAME:EST
DTSTART:20261101T060000
END:STANDARD
END:VTIMEZONE
BEGIN:VEVENT
DTSTART;TZID=America/New_York:20250324T190000
DTEND;TZID=America/New_York:20250324T210000
DTSTAMP:20260423T050029
CREATED:20250318T090035Z
LAST-MODIFIED:20250318T090035Z
UID:22853-1742842800-1742850000@salemforallages.org
SUMMARY:Bingo with Great Gaucho
DESCRIPTION:Join us at the Taproom every Monday night for FREE BINGO with Greta Gaucho at 7:00 pm. \nDot it if ya got it for four rounds to win a Far From The Tree gift card and a prize from the fabulous prize basket. \nThe Far From the Tree taproom has an open food policy. (Bring your own food)
URL:https://salemforallages.org/event/bingo-with-great-gaucho-3/
ATTACH;FMTTYPE=image/jpeg:https://salemforallages.org/wp-content/uploads/2025/03/Add-a-subheading-2.jpg
END:VEVENT
BEGIN:VEVENT
DTSTART;TZID=America/New_York:20250324T113000
DTEND;TZID=America/New_York:20250324T160000
DTSTAMP:20260423T050029
CREATED:20250318T090029Z
LAST-MODIFIED:20250318T090029Z
UID:22851-1742815800-1742832000@salemforallages.org
SUMMARY:Potion Brewing Store Experience
DESCRIPTION:Make your visit to The Good Witch of Salem’s shop memorable by booking our in-store Potion Brewing Experience. This activity is led by our Witch Apprentices. \nActivities are recommended for children ages 3 and up. \n*One appointment slot for each child is required.*
URL:https://salemforallages.org/event/potion-brewing-store-experience-272/
ATTACH;FMTTYPE=image/jpeg:https://salemforallages.org/wp-content/uploads/2025/03/Potion-Brewing-Store-Experience-18.jpg
END:VEVENT
BEGIN:VEVENT
DTSTART;TZID=America/New_York:20250324T113000
DTEND;TZID=America/New_York:20250324T160000
DTSTAMP:20260423T050029
CREATED:20250318T090028Z
LAST-MODIFIED:20250318T090028Z
UID:22850-1742815800-1742832000@salemforallages.org
SUMMARY:Magical Transformations
DESCRIPTION:Through our “Magical Transformations” children embrace their charms and express their individuality. Children can choose to transform into a “Witch” or “Wizard”!
URL:https://salemforallages.org/event/magical-transformations-280/
ATTACH;FMTTYPE=image/png:https://salemforallages.org/wp-content/uploads/2024/08/Transformations.png
END:VEVENT
BEGIN:VEVENT
DTSTART;TZID=America/New_York:20250323T150000
DTEND;TZID=America/New_York:20250323T170000
DTSTAMP:20260423T050029
CREATED:20250318T090025Z
LAST-MODIFIED:20250318T090025Z
UID:22848-1742742000-1742749200@salemforallages.org
SUMMARY:Symphony by the Sea: Beethoven\, Early and Late
DESCRIPTION:With the first chord of his very first symphony\, Beethoven shocked the Viennese aristocracy and released a new kind of energy. \nIn his Symphony No. 8\, the recent invention of the metronome proved an invaluable resource. \nExplore with us these joyous symphonic masterpieces.
URL:https://salemforallages.org/event/symphony-by-the-sea-beethoven-early-and-late/
ATTACH;FMTTYPE=image/jpeg:https://salemforallages.org/wp-content/uploads/2025/03/sbs.jpg
END:VEVENT
BEGIN:VEVENT
DTSTART;TZID=America/New_York:20250323T140000
DTEND;TZID=America/New_York:20250323T160000
DTSTAMP:20260423T050029
CREATED:20250318T090021Z
LAST-MODIFIED:20250318T090021Z
UID:22846-1742738400-1742745600@salemforallages.org
SUMMARY:Spring Bingo Party
DESCRIPTION:Dot it if you got it at the Spring Bingo Party! Join us for bingo hosted by the one and only Greta Gaucho benefiting Over the Rainbow Social Club\, a nonprofit organization providing social events and resources for LGBTQ+ mature adults and allies. Classic bingo\, fabulous prizes\, and a whole lot of sass! Are you feeling lucky? Because Greta has got your number! Show Your Pride a fantastic bingo night to support a great cause! This is an NC-17 event. Find More Information on Over the Rainbow at: www.otrsocialclub.org \n 
URL:https://salemforallages.org/event/spring-bingo-party/
ATTACH;FMTTYPE=image/jpeg:https://salemforallages.org/wp-content/uploads/2025/03/Spring-Bingo.jpg
END:VEVENT
BEGIN:VEVENT
DTSTART;TZID=America/New_York:20250323T130000
DTEND;TZID=America/New_York:20250323T140000
DTSTAMP:20260423T050029
CREATED:20250318T090010Z
LAST-MODIFIED:20250318T090010Z
UID:22844-1742734800-1742738400@salemforallages.org
SUMMARY:Women’s History Tour
DESCRIPTION:March is Women’s History Month\, and to celebrate we are offering our Women’s History Tour! \nFrom the Indigenous women who worked the land to our organization’s founder\, women have always been a part of the Turner-Ingersoll Mansion’s history\, but not always given the spotlight they deserve. The House of the Seven Gables has created a Women’s History Tour to focus\, in-depth\, on the many women who have lived and labored in the Mansion.
URL:https://salemforallages.org/event/womens-history-tour-11/
ATTACH;FMTTYPE=image/jpeg:https://salemforallages.org/wp-content/uploads/2025/03/IMG_9182-scaled-4.jpg
END:VEVENT
BEGIN:VEVENT
DTSTART;TZID=America/New_York:20250323T120000
DTEND;TZID=America/New_York:20250323T133000
DTSTAMP:20260423T050029
CREATED:20250317T090042Z
LAST-MODIFIED:20250317T090042Z
UID:22842-1742731200-1742736600@salemforallages.org
SUMMARY:Sunday Chowder Lecture: Pennamite Wars with Kathleen Earle
DESCRIPTION:In 1788\, a band of young Yankee ruffians KIDNAPPED Pennsylvania official Timothy Pickering\, holding him hostage in the woods for nineteen days. This story\, told by Kathleen Earle\, a descendant of one of Pickering’s kidnappers\, tells a thrilling story of the event in her book\, “An Early History of the Wyoming Valley; the Yankee-Pennamite Wars and Timothy Pickering. Don’t miss this discussion of a nearly-forgotten bit of history with a local hero at the center of it.
URL:https://salemforallages.org/event/sunday-chowder-lecture-pennamite-wars-with-kathleen-earle/
ATTACH;FMTTYPE=image/jpeg:https://salemforallages.org/wp-content/uploads/2025/03/Kathleen-Earle-and-the-Pennamite-Wars.jpg
END:VEVENT
BEGIN:VEVENT
DTSTART;TZID=America/New_York:20250323T120000
DTEND;TZID=America/New_York:20250323T133000
DTSTAMP:20260423T050029
CREATED:20250317T090037Z
LAST-MODIFIED:20250317T090037Z
UID:22840-1742731200-1742736600@salemforallages.org
SUMMARY:Craft Witch
DESCRIPTION:Craft Witch is a DIY crafting session with something for everyone! Choose from a wide array of options to create your very own one-of-a-kind craft. Whichever craft you decide to create\, you’ll be provided with all the materials\, tools\, and knowledge needed to let your creativity flourish. Unlike our broom making\, bookbinding\, and spelljar making workshops in which participants are being guided through the crafting process step-by step by an instructor\, the DIY nature of Craft Witch means that you can use the studio time however you wish. Check out the crafting options on our website!
URL:https://salemforallages.org/event/craft-witch-20/
ATTACH;FMTTYPE=image/jpeg:https://salemforallages.org/wp-content/uploads/2025/03/Image-from-iOS-scaled-12.jpg
END:VEVENT
BEGIN:VEVENT
DTSTART;TZID=America/New_York:20250323T113000
DTEND;TZID=America/New_York:20250323T153000
DTSTAMP:20260423T050029
CREATED:20250317T090028Z
LAST-MODIFIED:20250317T090028Z
UID:22835-1742729400-1742743800@salemforallages.org
SUMMARY:Magical Transformations
DESCRIPTION:Through our “Magical Transformations” children embrace their charms and express their individuality. Children can choose to transform into a “Witch” or “Wizard”!
URL:https://salemforallages.org/event/magical-transformations-279/
ATTACH;FMTTYPE=image/png:https://salemforallages.org/wp-content/uploads/2024/08/Transformations-1.png
END:VEVENT
BEGIN:VEVENT
DTSTART;TZID=America/New_York:20250323T113000
DTEND;TZID=America/New_York:20250323T150000
DTSTAMP:20260423T050029
CREATED:20250317T090033Z
LAST-MODIFIED:20250317T090033Z
UID:22838-1742729400-1742742000@salemforallages.org
SUMMARY:Potion Brewing Store Experience
DESCRIPTION:Make your visit to The Good Witch of Salem’s shop memorable by booking our in-store Potion Brewing Experience. This activity is led by our Witch Apprentices. \nActivities are recommended for children ages 3 and up. \n*One appointment slot for each child is required.*
URL:https://salemforallages.org/event/potion-brewing-store-experience-271/
ATTACH;FMTTYPE=image/jpeg:https://salemforallages.org/wp-content/uploads/2025/03/Potion-Brewing-Store-Experience-17.jpg
END:VEVENT
BEGIN:VEVENT
DTSTART;TZID=America/New_York:20250323T113000
DTEND;TZID=America/New_York:20250323T150000
DTSTAMP:20260423T050029
CREATED:20250317T090028Z
LAST-MODIFIED:20250317T090028Z
UID:22836-1742729400-1742742000@salemforallages.org
SUMMARY:Stop In For a Spell: DIY Potion Bar
DESCRIPTION:Fly in to The Good Witch and Stay for a Spell! Mix up your very own potion at our Potion Bar! \nDrop Ins begin at store opening and end 30 minutes before closing and are offered on a first come\, first serve basis. Purchase online or pay in store. \nDrop Ins may be unavailable during a birthday party or store event. Please call ahead\, or check our posted hours on Google. \nUnder age 4 may participate with the help of a supervising adult.
URL:https://salemforallages.org/event/stop-in-for-a-spell-diy-potion-bar-208/
ATTACH;FMTTYPE=image/jpeg:https://salemforallages.org/wp-content/uploads/2025/03/Stop-In-For-a-Spell-SQUARE-6.jpg
END:VEVENT
BEGIN:VEVENT
DTSTART;TZID=America/New_York:20250323T100000
DTEND;TZID=America/New_York:20250323T160000
DTSTAMP:20260423T050029
CREATED:20250317T090027Z
LAST-MODIFIED:20250317T090027Z
UID:22834-1742724000-1742745600@salemforallages.org
SUMMARY:Leslie’s Retreat: Salem on the Brink of Revolution Exhibit
DESCRIPTION:This National Park Service exhibit will explore why Crown soldiers under Lt. Col. Alexander Leslie came to Salem on February 26\, 1775\, who were the major players in the event\, and how this event has been remembered and celebrated in Salem in the last 250 years. \nThis free exhibit will be on display from February 15th -April 27th at the Salem Armory Visitor Center\, 2 New Liberty Street\, Salem. \nThe Salem Armory Visitor Center is open Wednesday – Sunday\, 10 am – 4 pm.
URL:https://salemforallages.org/event/leslies-retreat-salem-on-the-brink-of-revolution-exhibit-27/
ATTACH;FMTTYPE=image/jpeg:https://salemforallages.org/wp-content/uploads/2025/02/1775_1782_Salem-Old-North-Bridge-Leslie-Retreat-800x600-1.jpg
END:VEVENT
BEGIN:VEVENT
DTSTART;TZID=America/New_York:20250322T203000
DTEND;TZID=America/New_York:20250322T220000
DTSTAMP:20260423T050029
CREATED:20250317T090026Z
LAST-MODIFIED:20250317T090026Z
UID:22833-1742675400-1742680800@salemforallages.org
SUMMARY:Aaron Chen
DESCRIPTION:“Born and raised in Sydney\, Australia\, Aaron has quickly climbed the ranks of the international comedy scene. Aaron made his mark on Australian comedy with his debut solo show in 2017 and since then has toured nationally in front of sold-out crowds and rave reviews\, earning him the sought-after awards for Best Newcomer (2017) and Director’s Choice (2019)\, and nomination for Best Show (2021) at the Melbourne International Comedy Festival.
URL:https://salemforallages.org/event/aaron-chen-3/
ATTACH;FMTTYPE=image/png:https://salemforallages.org/wp-content/uploads/2025/03/Aaron-Chen.png
END:VEVENT
BEGIN:VEVENT
DTSTART;TZID=America/New_York:20250322T200000
DTEND;TZID=America/New_York:20250322T223000
DTSTAMP:20260423T050029
CREATED:20250317T090023Z
LAST-MODIFIED:20250317T090023Z
UID:22831-1742673600-1742682600@salemforallages.org
SUMMARY:Pink Talking Fish Meets The Beatles
DESCRIPTION:A Fusion of Pink Floyd\, Talking Heads\, Phish AND The Beatles \nPink Talking Fish is a Hybrid Tribute Fusion Act that takes the music from three of the world’s most beloved bands and creates a special treat for fans of the music. This is a special set that will also include music from The Beatles.
URL:https://salemforallages.org/event/pink-talking-fish-meets-the-beatles/
ATTACH;FMTTYPE=image/jpeg:https://salemforallages.org/wp-content/uploads/2025/03/DAveVann2-1.jpg
END:VEVENT
BEGIN:VEVENT
DTSTART;TZID=America/New_York:20250322T190000
DTEND;TZID=America/New_York:20250322T210000
DTSTAMP:20260423T050029
CREATED:20250320T090034Z
LAST-MODIFIED:20250320T090034Z
UID:22867-1742670000-1742677200@salemforallages.org
SUMMARY:Evening of Glass at NSGS!
DESCRIPTION:Join us for a fun adult only evening of glass at North Shore Glass School. Participants will enjoy learning how to cut\, arrange and design glass to make a beautiful keepsake fused glass drape bowl\, they will also enjoy a glass art demonstration and some refreshing drinks.
URL:https://salemforallages.org/event/evening-of-glass-at-nsgs/
ATTACH;FMTTYPE=image/jpeg:https://salemforallages.org/wp-content/uploads/2025/03/IMG_0286-scaled-1.jpg
END:VEVENT
BEGIN:VEVENT
DTSTART;TZID=America/New_York:20250322T180000
DTEND;TZID=America/New_York:20250322T193000
DTSTAMP:20260423T050029
CREATED:20250317T090022Z
LAST-MODIFIED:20250317T090022Z
UID:22830-1742666400-1742671800@salemforallages.org
SUMMARY:Aaron Chen
DESCRIPTION:“Born and raised in Sydney\, Australia\, Aaron has quickly climbed the ranks of the international comedy scene. Aaron made his mark on Australian comedy with his debut solo show in 2017 and since then has toured nationally in front of sold-out crowds and rave reviews\, earning him the sought-after awards for Best Newcomer (2017) and Director’s Choice (2019)\, and nomination for Best Show (2021) at the Melbourne International Comedy Festival.
URL:https://salemforallages.org/event/aaron-chen-2/
ATTACH;FMTTYPE=image/png:https://salemforallages.org/wp-content/uploads/2025/03/Aaron-Chen.png
END:VEVENT
BEGIN:VEVENT
DTSTART;TZID=America/New_York:20250322T130000
DTEND;TZID=America/New_York:20250322T160000
DTSTAMP:20260423T050029
CREATED:20250320T090026Z
LAST-MODIFIED:20250320T090026Z
UID:22865-1742648400-1742659200@salemforallages.org
SUMMARY:Aries Season Zodiac Market
DESCRIPTION:Celebrate the start of Aries Season at Far From The Tree’s Zodiac Market.\nWe’re kicking off our Zodiac Series with the release of Aries\, guava chili pepper cider. \nThe market runs from 1:00 – 4:00 pm and features the following vendors: \nAshley Doke Art\nSara During Art\nTarot with Colin Martin\nLight + Keys\nEvol-Eye Co.\nAncient Fire Henna
URL:https://salemforallages.org/event/aries-season-zodiac-market/
ATTACH;FMTTYPE=image/jpeg:https://salemforallages.org/wp-content/uploads/2025/03/Untitled-30.jpg
END:VEVENT
BEGIN:VEVENT
DTSTART;TZID=America/New_York:20250322T130000
DTEND;TZID=America/New_York:20250322T150000
DTSTAMP:20260423T050029
CREATED:20250320T090015Z
LAST-MODIFIED:20250320T090015Z
UID:22863-1742648400-1742655600@salemforallages.org
SUMMARY:Fused Glass Cherry Blossoms Class
DESCRIPTION:Join NSGS for a spectacular spring-themed class! In this class\, participants will learn how to cut\, shape and arrange fused glass to create beautiful keepsake cherry blossom portraits. This class is perfect for kids and adults alike.
URL:https://salemforallages.org/event/fused-glass-cherry-blossoms-class/
ATTACH;FMTTYPE=image/jpeg:https://salemforallages.org/wp-content/uploads/2025/03/image2-1.jpeg
END:VEVENT
BEGIN:VEVENT
DTSTART;TZID=America/New_York:20250322T130000
DTEND;TZID=America/New_York:20250322T140000
DTSTAMP:20260423T050029
CREATED:20250317T090019Z
LAST-MODIFIED:20250317T090019Z
UID:22828-1742648400-1742652000@salemforallages.org
SUMMARY:Women’s History Tour
DESCRIPTION:March is Women’s History Month\, and to celebrate we are offering our Women’s History Tour! \nFrom the Indigenous women who worked the land to our organization’s founder\, women have always been a part of the Turner-Ingersoll Mansion’s history\, but not always given the spotlight they deserve. The House of the Seven Gables has created a Women’s History Tour to focus\, in-depth\, on the many women who have lived and labored in the Mansion.
URL:https://salemforallages.org/event/womens-history-tour-10/
ATTACH;FMTTYPE=image/jpeg:https://salemforallages.org/wp-content/uploads/2025/03/IMG_9182-scaled-3.jpg
END:VEVENT
BEGIN:VEVENT
DTSTART;TZID=America/New_York:20250322T120000
DTEND;TZID=America/New_York:20250322T133000
DTSTAMP:20260423T050029
CREATED:20250317T090009Z
LAST-MODIFIED:20250317T090009Z
UID:22824-1742644800-1742650200@salemforallages.org
SUMMARY:Craft Witch
DESCRIPTION:Craft Witch is a DIY crafting session with something for everyone! Choose from a wide array of options to create your very own one-of-a-kind craft. Whichever craft you decide to create\, you’ll be provided with all the materials\, tools\, and knowledge needed to let your creativity flourish. Unlike our broom making\, bookbinding\, and spelljar making workshops in which participants are being guided through the crafting process step-by step by an instructor\, the DIY nature of Craft Witch means that you can use the studio time however you wish. Check out the crafting options on our website!
URL:https://salemforallages.org/event/craft-witch-19/
ATTACH;FMTTYPE=image/jpeg:https://salemforallages.org/wp-content/uploads/2025/03/Image-from-iOS-scaled-11.jpg
END:VEVENT
BEGIN:VEVENT
DTSTART;TZID=America/New_York:20250322T120000
DTEND;TZID=America/New_York:20250322T130000
DTSTAMP:20260423T050029
CREATED:20250317T090014Z
LAST-MODIFIED:20250317T090014Z
UID:22826-1742644800-1742648400@salemforallages.org
SUMMARY:Cereal Chats with Kathleen Fox – Family friendly!
DESCRIPTION:Author and Artist Kathleen Earle will present a reading of her children’s books that she authored and illustrated. Presented in our cozy old Library\, this event will be perfect for the whole family! While we traditionally serve Chowder\, for this event we’re serving a variety of cereals for the kids and kids-at-heart.
URL:https://salemforallages.org/event/cereal-chats-with-kathleen-fox-family-friendly/
ATTACH;FMTTYPE=image/jpeg:https://salemforallages.org/wp-content/uploads/2025/03/ALLERTON-CAN-TALK.cover-1-scaled-1.jpg
END:VEVENT
BEGIN:VEVENT
DTSTART;TZID=America/New_York:20250322T113000
DTEND;TZID=America/New_York:20250322T160000
DTSTAMP:20260423T050029
CREATED:20250316T090037Z
LAST-MODIFIED:20250316T090037Z
UID:22820-1742643000-1742659200@salemforallages.org
SUMMARY:Potion Brewing Store Experience
DESCRIPTION:Make your visit to The Good Witch of Salem’s shop memorable by booking our in-store Potion Brewing Experience. This activity is led by our Witch Apprentices. \nActivities are recommended for children ages 3 and up. \n*One appointment slot for each child is required.*
URL:https://salemforallages.org/event/potion-brewing-store-experience-270/
ATTACH;FMTTYPE=image/jpeg:https://salemforallages.org/wp-content/uploads/2025/03/Potion-Brewing-Store-Experience-16.jpg
END:VEVENT
BEGIN:VEVENT
DTSTART;TZID=America/New_York:20250322T113000
DTEND;TZID=America/New_York:20250322T160000
DTSTAMP:20260423T050029
CREATED:20250316T090036Z
LAST-MODIFIED:20250316T090036Z
UID:22819-1742643000-1742659200@salemforallages.org
SUMMARY:Magical Transformations
DESCRIPTION:Through our “Magical Transformations” children embrace their charms and express their individuality. Children can choose to transform into a “Witch” or “Wizard”!
URL:https://salemforallages.org/event/magical-transformations-278/
ATTACH;FMTTYPE=image/png:https://salemforallages.org/wp-content/uploads/2024/08/Transformations.png
END:VEVENT
BEGIN:VEVENT
DTSTART;TZID=America/New_York:20250322T113000
DTEND;TZID=America/New_York:20250322T140000
DTSTAMP:20260423T050029
CREATED:20250316T090041Z
LAST-MODIFIED:20250316T090041Z
UID:22822-1742643000-1742652000@salemforallages.org
SUMMARY:Rainbow Potions
DESCRIPTION:Fly into The Good Witch and Stay for a Spell! Step into the DIY Good Witch of Salem’s Potion Bar\, where you can mix your very own magical potion creations! Choose your ingredients\, sprinkle in magical moondust\, add in your golden heart intentions\, and seal with a special charm to take home the enchantment!
URL:https://salemforallages.org/event/rainbow-potions-5/
ATTACH;FMTTYPE=image/jpeg:https://salemforallages.org/wp-content/uploads/2025/03/Rainbow-BeamsFB-scaled-4.jpg
END:VEVENT
BEGIN:VEVENT
DTSTART;TZID=America/New_York:20250322T100000
DTEND;TZID=America/New_York:20250322T160000
DTSTAMP:20260423T050029
CREATED:20250316T090028Z
LAST-MODIFIED:20250316T090028Z
UID:22814-1742637600-1742659200@salemforallages.org
SUMMARY:Leslie’s Retreat: Salem on the Brink of Revolution Exhibit
DESCRIPTION:This National Park Service exhibit will explore why Crown soldiers under Lt. Col. Alexander Leslie came to Salem on February 26\, 1775\, who were the major players in the event\, and how this event has been remembered and celebrated in Salem in the last 250 years. \nThis free exhibit will be on display from February 15th -April 27th at the Salem Armory Visitor Center\, 2 New Liberty Street\, Salem. \nThe Salem Armory Visitor Center is open Wednesday – Sunday\, 10 am – 4 pm.
URL:https://salemforallages.org/event/leslies-retreat-salem-on-the-brink-of-revolution-exhibit-26/
ATTACH;FMTTYPE=image/jpeg:https://salemforallages.org/wp-content/uploads/2025/02/1775_1782_Salem-Old-North-Bridge-Leslie-Retreat-800x600-1.jpg
END:VEVENT
BEGIN:VEVENT
DTSTART;TZID=America/New_York:20250322T100000
DTEND;TZID=America/New_York:20250322T110000
DTSTAMP:20260423T050029
CREATED:20250316T090032Z
LAST-MODIFIED:20250316T090032Z
UID:22817-1742637600-1742641200@salemforallages.org
SUMMARY:Spring Equinox Sound Bathing with Healing Haus
DESCRIPTION:Know before you go\nIn-person event\nLocation: Anila Quayyum Agha’s All the Flowers Are For Me Gallery \n$5 Members and Salem residents; $10 nonmembers \nNo experience with sound bathing or mindfulness is needed to participate. Come as you are — we’ll meet you there! \nSealed water is permitted in the galleries during meditation. We recommend you bring a yoga mat\, wear comfortable clothing and silence your devices to get the most out of this experience. \nJoin us for a spring-themed sound bathing experience to usher in a fresh start. Reset your mind with a seasonally-relevant guided meditation and a
URL:https://salemforallages.org/event/spring-equinox-sound-bathing-with-healing-haus/
ATTACH;FMTTYPE=image/jpeg:https://salemforallages.org/wp-content/uploads/2025/03/Healing-Haus-Amy-Sound-Bowls-scaled-1.jpg
END:VEVENT
BEGIN:VEVENT
DTSTART;TZID=America/New_York:20250322T100000
DTEND;TZID=America/New_York:20250322T110000
DTSTAMP:20260423T050029
CREATED:20250316T090028Z
LAST-MODIFIED:20250316T090028Z
UID:22815-1742637600-1742641200@salemforallages.org
SUMMARY:Rainbow Spa Day
DESCRIPTION:Let’s have a Spa Day! Join us for a little pampering and relaxation with our Witch Apprentices. Children will create their own rainbow potion and receive a sparkly nail manicure\, hair magic\, and a touch of glitter!
URL:https://salemforallages.org/event/rainbow-spa-day-3/
ATTACH;FMTTYPE=image/jpeg:https://salemforallages.org/wp-content/uploads/2025/03/FINAL-Leprechaun-Spa-Day-3_17.jpg
END:VEVENT
BEGIN:VEVENT
DTSTART;TZID=America/New_York:20250321T200000
DTEND;TZID=America/New_York:20250321T223000
DTSTAMP:20260423T050029
CREATED:20250316T090020Z
LAST-MODIFIED:20250316T090020Z
UID:22810-1742587200-1742596200@salemforallages.org
SUMMARY:Pink Talking Fish – Wish You Were Here 50th Anniversary Tour
DESCRIPTION:A Fusion of Pink Floyd\, Talking Heads and Phish \nThis Spring\, Pink Talking Fish will be celebrating the 50th Anniversary of an incredible Pink Floyd album – WISH YOU WERE HERE. The show will be 2 sets. The first set will be a full rendition of this epic album from start to finish. The second set will be “Classic PTF” combinations of Pink Floyd\, Talking Heads and Phish.
URL:https://salemforallages.org/event/pink-talking-fish-wish-you-were-here-50th-anniversary-tour/
ATTACH;FMTTYPE=image/jpeg:https://salemforallages.org/wp-content/uploads/2025/03/DAveVann2.jpg
END:VEVENT
BEGIN:VEVENT
DTSTART;TZID=America/New_York:20250321T200000
DTEND;TZID=America/New_York:20250321T213000
DTSTAMP:20260423T050029
CREATED:20250316T090023Z
LAST-MODIFIED:20250316T090023Z
UID:22812-1742587200-1742592600@salemforallages.org
SUMMARY:Aaron Chen
DESCRIPTION:“Born and raised in Sydney\, Australia\, Aaron has quickly climbed the ranks of the international comedy scene. Aaron made his mark on Australian comedy with his debut solo show in 2017 and since then has toured nationally in front of sold-out crowds and rave reviews\, earning him the sought-after awards for Best Newcomer (2017) and Director’s Choice (2019)\, and nomination for Best Show (2021) at the Melbourne International Comedy Festival.
URL:https://salemforallages.org/event/aaron-chen/
ATTACH;FMTTYPE=image/png:https://salemforallages.org/wp-content/uploads/2025/03/Aaron-Chen.png
END:VEVENT
BEGIN:VEVENT
DTSTART;TZID=America/New_York:20250321T183000
DTEND;TZID=America/New_York:20250321T193000
DTSTAMP:20260423T050029
CREATED:20250316T090015Z
LAST-MODIFIED:20250316T090015Z
UID:22808-1742581800-1742585400@salemforallages.org
SUMMARY:The Cheese Shop of Salem presents ‘Style Icons’
DESCRIPTION:Do you like Cheddar? Gouda? Brie? Blue? What are these cheeses really? In this class\, we delve into the six styles of cheese and discuss what makes each one unique\, helping you better understand your favorite cheeses! We’ll talk a little history\, a little science\, and most importantly\, we’ll be eating a LOT of cheese. \nTo register\, purchase your tasting kit by Sunday\, March 16th! Each tasting kit serves 1-2 people and contains 5 cheeses\, 1 box crackers and a tasting menu\, and an optional Wine Pairing Kit. Zoom links will be sent out via email the day of the class.
URL:https://salemforallages.org/event/the-cheese-shop-of-salem-presents-style-icons/
ATTACH;FMTTYPE=image/jpeg:https://salemforallages.org/wp-content/uploads/2025/03/Screen-Shot-2023-03-23-at-4.25.05-PM.jpg
END:VEVENT
END:VCALENDAR