BEGIN:VCALENDAR
VERSION:2.0
PRODID:-//Salem for All Ages - ECPv6.15.18//NONSGML v1.0//EN
CALSCALE:GREGORIAN
METHOD:PUBLISH
X-WR-CALNAME:Salem for All Ages
X-ORIGINAL-URL:https://salemforallages.org
X-WR-CALDESC:Events for Salem for All Ages
REFRESH-INTERVAL;VALUE=DURATION:PT1H
X-Robots-Tag:noindex
X-PUBLISHED-TTL:PT1H
BEGIN:VTIMEZONE
TZID:America/New_York
BEGIN:DAYLIGHT
TZOFFSETFROM:-0500
TZOFFSETTO:-0400
TZNAME:EDT
DTSTART:20230312T070000
END:DAYLIGHT
BEGIN:STANDARD
TZOFFSETFROM:-0400
TZOFFSETTO:-0500
TZNAME:EST
DTSTART:20231105T060000
END:STANDARD
BEGIN:DAYLIGHT
TZOFFSETFROM:-0500
TZOFFSETTO:-0400
TZNAME:EDT
DTSTART:20240310T070000
END:DAYLIGHT
BEGIN:STANDARD
TZOFFSETFROM:-0400
TZOFFSETTO:-0500
TZNAME:EST
DTSTART:20241103T060000
END:STANDARD
BEGIN:DAYLIGHT
TZOFFSETFROM:-0500
TZOFFSETTO:-0400
TZNAME:EDT
DTSTART:20250309T070000
END:DAYLIGHT
BEGIN:STANDARD
TZOFFSETFROM:-0400
TZOFFSETTO:-0500
TZNAME:EST
DTSTART:20251102T060000
END:STANDARD
END:VTIMEZONE
BEGIN:VEVENT
DTSTART;TZID=America/New_York:20240721T113000
DTEND;TZID=America/New_York:20240721T150000
DTSTAMP:20260425T203133
CREATED:20240718T090029Z
LAST-MODIFIED:20240718T090029Z
UID:19601-1721561400-1721574000@salemforallages.org
SUMMARY:Potion Brewing Store Experience
DESCRIPTION:Make your visit to The Good Witch of Salem’s shop memorable by booking our in-store Potion Brewing Experience. This activity is led by our Witch Apprentices. \nActivities are recommended for children ages 3 and up. \n*One appointment slot for each child is required.*
URL:https://salemforallages.org/event/potion-brewing-store-experience-40/
ATTACH;FMTTYPE=image/jpeg:https://salemforallages.org/wp-content/uploads/2024/07/Potion-Brewing-Store-Experience-14.jpg
END:VEVENT
BEGIN:VEVENT
DTSTART;TZID=America/New_York:20240721T113000
DTEND;TZID=America/New_York:20240721T153000
DTSTAMP:20260425T203133
CREATED:20240718T090020Z
LAST-MODIFIED:20240718T090020Z
UID:19597-1721561400-1721575800@salemforallages.org
SUMMARY:Magical Transformations
DESCRIPTION:Through our “Magical Transformations” children embrace their charms and express their individuality. Children can choose to transform into a “Witch” or “Wizard”!
URL:https://salemforallages.org/event/magical-transformations-47/
ATTACH;FMTTYPE=image/jpeg:https://salemforallages.org/wp-content/uploads/2024/07/Transformations-1-5.jpg
END:VEVENT
BEGIN:VEVENT
DTSTART;TZID=America/New_York:20240721T130000
DTEND;TZID=America/New_York:20240721T170000
DTSTAMP:20260425T203133
CREATED:20240718T090032Z
LAST-MODIFIED:20240718T090032Z
UID:19603-1721566800-1721581200@salemforallages.org
SUMMARY:Blackcraft Salem Summerween Weekend
DESCRIPTION:Can’t wait until October to celebrate the best holiday of the year? Neither can we! Join us for a spooky Summerween celebration at Blackcraft Salem\, where we’ll be hosting a weekend that’ll make you scream!\n\nWe will be hosting a sample all weekend in our back lot. Come shop one-of-a-kind items and overstocked tees\, hoodies\, etc. Starting at $5!\n\nOur cafe will be whipping up refreshing potions to quench your thirst\, and our terrifying Haunt will feature live actors on Saturday\, July 20th from 1-5 pm. Make purchases at all three spots–Blackcraft Coffee\, Haunt Blackcraft. and Blackcraft Salem for a special gift!
URL:https://salemforallages.org/event/blackcraft-salem-summerween-weekend-3/
ATTACH;FMTTYPE=image/jpeg:https://salemforallages.org/wp-content/uploads/2024/07/summerweek-blackcraft-salem.jpg
END:VEVENT
BEGIN:VEVENT
DTSTART;TZID=America/New_York:20240721T140000
DTEND;TZID=America/New_York:20240721T160000
DTSTAMP:20260425T203133
CREATED:20240718T090033Z
LAST-MODIFIED:20240718T090033Z
UID:19604-1721570400-1721577600@salemforallages.org
SUMMARY:DIAMOND’S DINE-IN DRAG BRUNCH!
DESCRIPTION:Come on down for Diamond’s Dine-In Drag Brunch! This is a weekly event with local Drag Queen Miz Diamond Wigfall! Someone will be her guest. Be ready for numbers\, games\, drag\, and mimosas all afternoon.
URL:https://salemforallages.org/event/diamonds-dine-in-drag-brunch-51/
ATTACH;FMTTYPE=image/jpeg:https://salemforallages.org/wp-content/uploads/2023/08/Diamond_DineIn_Final-11x171-1.jpg
END:VEVENT
BEGIN:VEVENT
DTSTART;TZID=America/New_York:20240722T113000
DTEND;TZID=America/New_York:20240722T160000
DTSTAMP:20260425T203133
CREATED:20240718T090033Z
LAST-MODIFIED:20240718T090033Z
UID:19605-1721647800-1721664000@salemforallages.org
SUMMARY:Magical Transformations
DESCRIPTION:Through our “Magical Transformations” children embrace their charms and express their individuality. Children can choose to transform into a “Witch” or “Wizard”!
URL:https://salemforallages.org/event/magical-transformations-48/
ATTACH;FMTTYPE=image/jpeg:https://salemforallages.org/wp-content/uploads/2024/07/Transformations-9.jpg
END:VEVENT
BEGIN:VEVENT
DTSTART;TZID=America/New_York:20240722T113000
DTEND;TZID=America/New_York:20240722T160000
DTSTAMP:20260425T203133
CREATED:20240718T090037Z
LAST-MODIFIED:20240718T090037Z
UID:19607-1721647800-1721664000@salemforallages.org
SUMMARY:Stop In For a Spell: DIY Potion Bar
DESCRIPTION:Fly in to The Good Witch and Stay for a Spell! Mix up your very own potion at our Potion Bar! \nDrop Ins begin at store opening and end 30 minutes before closing and are offered on a first come\, first serve basis. Purchase online or pay in store. \nDrop Ins may be unavailable during a birthday party or store event. Please call ahead\, or check our posted hours on Google. \nUnder age 4 may participate with the help of a supervising adult.
URL:https://salemforallages.org/event/stop-in-for-a-spell-diy-potion-bar-41/
ATTACH;FMTTYPE=image/jpeg:https://salemforallages.org/wp-content/uploads/2024/07/Stop-In-For-a-Spell-SQUARE-14.jpg
END:VEVENT
BEGIN:VEVENT
DTSTART;TZID=America/New_York:20240722T113000
DTEND;TZID=America/New_York:20240722T160000
DTSTAMP:20260425T203133
CREATED:20240719T090014Z
LAST-MODIFIED:20240719T090014Z
UID:19609-1721647800-1721664000@salemforallages.org
SUMMARY:Potion Brewing Store Experience
DESCRIPTION:Make your visit to The Good Witch of Salem’s shop memorable by booking our in-store Potion Brewing Experience. This activity is led by our Witch Apprentices. \nActivities are recommended for children ages 3 and up. \n*One appointment slot for each child is required.*
URL:https://salemforallages.org/event/potion-brewing-store-experience-41/
ATTACH;FMTTYPE=image/jpeg:https://salemforallages.org/wp-content/uploads/2024/07/Potion-Brewing-Store-Experience-15.jpg
END:VEVENT
BEGIN:VEVENT
DTSTART;TZID=America/New_York:20240722T123000
DTEND;TZID=America/New_York:20240722T133000
DTSTAMP:20260425T203133
CREATED:20240719T090018Z
LAST-MODIFIED:20240719T090018Z
UID:19611-1721651400-1721655000@salemforallages.org
SUMMARY:Kids Club
DESCRIPTION:Join us Mondays\, Wednesdays\, and Saturdays all summer long for Kids Paddle Club at Salem Willows! We’ll learn to paddle through exploring the beautiful coastline along Salem and while playing fun paddle games like Tsunami and Piano keys! \nSign up for as many sessions as you’d like! \n\nMondays and Wednesdays\, 12:30-1:30; Saturdays 9:30-10:30\nMeet at Coast to Coast Paddle Salem Willows Kiosk\nAges 6-12\n10 kids max per session\n1:5 instructor:kid ratio\nLife jackets will be provided\, though paddlers may bring their own Coast Guard approved life jackets if they’d like.\nPaddlers must be comfortable swimming in the ocean.\nProgram takes place in an ocean environment. Paddlers will be in water over their heads at times\, and life jackets will be worn at all times.
URL:https://salemforallages.org/event/kids-club-15/
ATTACH;FMTTYPE=image/jpeg:https://salemforallages.org/wp-content/uploads/2024/06/IMG_8835.jpg
END:VEVENT
BEGIN:VEVENT
DTSTART;TZID=America/New_York:20240722T193000
DTEND;TZID=America/New_York:20240722T210000
DTSTAMP:20260425T203133
CREATED:20240719T090018Z
LAST-MODIFIED:20240719T090018Z
UID:19612-1721676600-1721682000@salemforallages.org
SUMMARY:Music Quiz Trivia at Village Tavern
DESCRIPTION:Stop into Village Tavern in Salem\, MA Monday nights for smash burgers\, beer\, and their music trivia quiz series!
URL:https://salemforallages.org/event/music-quiz-trivia-at-village-tavern-10/
ATTACH;FMTTYPE=image/jpeg:https://salemforallages.org/wp-content/uploads/2024/05/Daily-Specials-fotor-20240509235039.jpg
END:VEVENT
BEGIN:VEVENT
DTSTART;TZID=America/New_York:20240723T080000
DTEND;TZID=America/New_York:20240723T170000
DTSTAMP:20260425T203133
CREATED:20240719T090019Z
LAST-MODIFIED:20240719T090019Z
UID:19613-1721721600-1721754000@salemforallages.org
SUMMARY:Trivia Tuesdays with Gulu Gulu Cafe
DESCRIPTION: Unleash Your Inner Genius Every Tuesday at Trivia Night! \n\nThink you’re smart? Prove it under the glow of our Tuesday night trivia spotlight! \n Join us for a brain-teasing adventure into general knowledge every week\, where the pursuit of trivia supremacy is as hot as our fresh-out-of-the-oven pizzas! \n\n Compete for fantastic prizes\, bragging rights\, and the satisfaction of knowing you’re part of the smartest crowd in town.\n\n Challenge your friends\, colleagues\, or even that know-it-all neighbor. The more\, the merrier! \n\n Every Tuesday\, the ultimate trivia showdown awaits. Mark your calendars and get ready for an evening of laughter\, learning\, and delicious rewards.\n\nDon’t miss out on the excitement! Grab a slice\, grab a seat\, and let the battle of the brains begin. Trivia Night – where knowledge meets a good time!
URL:https://salemforallages.org/event/trivia-tuesdays-with-gulu-gulu-cafe-15/
ATTACH;FMTTYPE=image/jpeg:https://salemforallages.org/wp-content/uploads/2024/04/432416873_901456205312795_7465705002384209082_n.jpg
END:VEVENT
BEGIN:VEVENT
DTSTART;TZID=America/New_York:20240723T110000
DTEND;TZID=America/New_York:20240723T170000
DTSTAMP:20260425T203133
CREATED:20240719T090019Z
LAST-MODIFIED:20240719T090019Z
UID:19614-1721732400-1721754000@salemforallages.org
SUMMARY:Teatime Tuesdays with the Satanic Temple
DESCRIPTION:Join us every Tuesday during gallery hours for complementary tea with admission to the gallery.
URL:https://salemforallages.org/event/teatime-tuesdays-with-the-satanic-temple-61/
ATTACH;FMTTYPE=image/jpeg:https://salemforallages.org/wp-content/uploads/2023/05/satanic-tea-art-gallery.jpg
END:VEVENT
BEGIN:VEVENT
DTSTART;TZID=America/New_York:20240723T113000
DTEND;TZID=America/New_York:20240723T150000
DTSTAMP:20260425T203133
CREATED:20240719T090022Z
LAST-MODIFIED:20240719T090022Z
UID:19617-1721734200-1721746800@salemforallages.org
SUMMARY:Stop In For a Spell: DIY Potion Bar
DESCRIPTION:Fly in to The Good Witch and Stay for a Spell! Mix up your very own potion at our Potion Bar! \nDrop Ins begin at store opening and end 30 minutes before closing and are offered on a first come\, first serve basis. Purchase online or pay in store. \nDrop Ins may be unavailable during a birthday party or store event. Please call ahead\, or check our posted hours on Google. \nUnder age 4 may participate with the help of a supervising adult.
URL:https://salemforallages.org/event/stop-in-for-a-spell-diy-potion-bar-42/
ATTACH;FMTTYPE=image/jpeg:https://salemforallages.org/wp-content/uploads/2024/07/Stop-In-For-a-Spell-SQUARE-15.jpg
END:VEVENT
BEGIN:VEVENT
DTSTART;TZID=America/New_York:20240723T113000
DTEND;TZID=America/New_York:20240723T150000
DTSTAMP:20260425T203133
CREATED:20240719T090027Z
LAST-MODIFIED:20240719T090027Z
UID:19619-1721734200-1721746800@salemforallages.org
SUMMARY:Potion Brewing Store Experience
DESCRIPTION:Make your visit to The Good Witch of Salem’s shop memorable by booking our in-store Potion Brewing Experience. This activity is led by our Witch Apprentices. \nActivities are recommended for children ages 3 and up. \n*One appointment slot for each child is required.*
URL:https://salemforallages.org/event/potion-brewing-store-experience-42/
ATTACH;FMTTYPE=image/jpeg:https://salemforallages.org/wp-content/uploads/2024/07/Potion-Brewing-Store-Experience-16.jpg
END:VEVENT
BEGIN:VEVENT
DTSTART;TZID=America/New_York:20240723T113000
DTEND;TZID=America/New_York:20240723T153000
DTSTAMP:20260425T203133
CREATED:20240719T090019Z
LAST-MODIFIED:20240719T090019Z
UID:19615-1721734200-1721748600@salemforallages.org
SUMMARY:Magical Transformations
DESCRIPTION:Through our “Magical Transformations” children embrace their charms and express their individuality. Children can choose to transform into a “Witch” or “Wizard”!
URL:https://salemforallages.org/event/magical-transformations-49/
ATTACH;FMTTYPE=image/jpeg:https://salemforallages.org/wp-content/uploads/2024/07/Transformations-1-6.jpg
END:VEVENT
BEGIN:VEVENT
DTSTART;TZID=America/New_York:20240723T193000
DTEND;TZID=America/New_York:20240723T210000
DTSTAMP:20260425T203133
CREATED:20240719T090031Z
LAST-MODIFIED:20240719T090031Z
UID:19621-1721763000-1721768400@salemforallages.org
SUMMARY:Taco Tuesday and Opinionation Trivia
DESCRIPTION:Join the Village Tavern Tuesdays for their Taco Tuesday and Trivia deals!
URL:https://salemforallages.org/event/taco-tuesday-and-opinionation-trivia-10/
ATTACH;FMTTYPE=image/jpeg:https://salemforallages.org/wp-content/uploads/2024/05/Daily-Specials-fotor-20240509235039.jpg
END:VEVENT
BEGIN:VEVENT
DTSTART;TZID=America/New_York:20240724T100000
DTEND;TZID=America/New_York:20240724T110000
DTSTAMP:20260425T203133
CREATED:20240719T090031Z
LAST-MODIFIED:20240719T090031Z
UID:19622-1721815200-1721818800@salemforallages.org
SUMMARY:Bubbles & Books Storytime at the Castle
DESCRIPTION:Join us every Wednesday morning in July & August for Bubbles and Books on our seaside lawn. Fairytales do come true at castles by the sea!  \nFeel free to bring a blanket for your little one to cuddle with while we enjoy storytime on the ocean-facing lawn. Don’t forget the sunscreen! We’ll have thousands of bubbles\, snacks\, and music too! We encourage little ones to dress up in their favorite crown\, gown\, or anything else that makes them happy! \nTickets for this event are $10 for adults\, Kids 8 and under are $5. Hammond Castle Museum Member savings apply. We recommend that you arrive 15 minutes early to allow enough time for the walk from the parking lot down to the museum\, then for the check-in process and the walk to the lawn. There are many stairs throughout the campus and inside the Museum. Just to let you know\, strollers are not allowed in the Museum. \nThis ticket grants you access to the Bubbles & Books program which will be held on the ocean-facing lawn. If you wish to tour the museum after this program\, ticket holders may purchase Self-Guided Tour tickets in the Museum Shop at a 20% discount. Tickets are non-refundable. All proceeds from this program will support the restoration and preservation of the Museum.
URL:https://salemforallages.org/event/bubbles-books-storytime-at-the-castle-4/
ATTACH;FMTTYPE=image/jpeg:https://salemforallages.org/wp-content/uploads/2024/06/Bubbles-Books-24-1-3.jpg
END:VEVENT
BEGIN:VEVENT
DTSTART;TZID=America/New_York:20240724T113000
DTEND;TZID=America/New_York:20240724T150000
DTSTAMP:20260425T203133
CREATED:20240719T090034Z
LAST-MODIFIED:20240719T090034Z
UID:19625-1721820600-1721833200@salemforallages.org
SUMMARY:Stop In For a Spell: DIY Potion Bar
DESCRIPTION:Fly in to The Good Witch and Stay for a Spell! Mix up your very own potion at our Potion Bar! \nDrop Ins begin at store opening and end 30 minutes before closing and are offered on a first come\, first serve basis. Purchase online or pay in store. \nDrop Ins may be unavailable during a birthday party or store event. Please call ahead\, or check our posted hours on Google. \nUnder age 4 may participate with the help of a supervising adult.
URL:https://salemforallages.org/event/stop-in-for-a-spell-diy-potion-bar-43/
ATTACH;FMTTYPE=image/jpeg:https://salemforallages.org/wp-content/uploads/2024/07/Stop-In-For-a-Spell-SQUARE-16.jpg
END:VEVENT
BEGIN:VEVENT
DTSTART;TZID=America/New_York:20240724T113000
DTEND;TZID=America/New_York:20240724T150000
DTSTAMP:20260425T203133
CREATED:20240719T090039Z
LAST-MODIFIED:20240719T090039Z
UID:19627-1721820600-1721833200@salemforallages.org
SUMMARY:Potion Brewing Store Experience
DESCRIPTION:Make your visit to The Good Witch of Salem’s shop memorable by booking our in-store Potion Brewing Experience. This activity is led by our Witch Apprentices. \nActivities are recommended for children ages 3 and up. \n*One appointment slot for each child is required.*
URL:https://salemforallages.org/event/potion-brewing-store-experience-43/
ATTACH;FMTTYPE=image/jpeg:https://salemforallages.org/wp-content/uploads/2024/07/Potion-Brewing-Store-Experience-17.jpg
END:VEVENT
BEGIN:VEVENT
DTSTART;TZID=America/New_York:20240724T113000
DTEND;TZID=America/New_York:20240724T153000
DTSTAMP:20260425T203133
CREATED:20240719T090031Z
LAST-MODIFIED:20240719T090031Z
UID:19623-1721820600-1721835000@salemforallages.org
SUMMARY:Magical Transformations
DESCRIPTION:Through our “Magical Transformations” children embrace their charms and express their individuality. Children can choose to transform into a “Witch” or “Wizard”!
URL:https://salemforallages.org/event/magical-transformations-50/
ATTACH;FMTTYPE=image/jpeg:https://salemforallages.org/wp-content/uploads/2024/07/Transformations-1-7.jpg
END:VEVENT
BEGIN:VEVENT
DTSTART;TZID=America/New_York:20240724T123000
DTEND;TZID=America/New_York:20240724T133000
DTSTAMP:20260425T203133
CREATED:20240719T090042Z
LAST-MODIFIED:20240719T090042Z
UID:19629-1721824200-1721827800@salemforallages.org
SUMMARY:Kids Club
DESCRIPTION:Join us Mondays\, Wednesdays\, and Saturdays all summer long for Kids Paddle Club at Salem Willows! We’ll learn to paddle through exploring the beautiful coastline along Salem and while playing fun paddle games like Tsunami and Piano keys! \nSign up for as many sessions as you’d like! \n\nMondays and Wednesdays\, 12:30-1:30; Saturdays 9:30-10:30\nMeet at Coast to Coast Paddle Salem Willows Kiosk\nAges 6-12\n10 kids max per session\n1:5 instructor:kid ratio\nLife jackets will be provided\, though paddlers may bring their own Coast Guard approved life jackets if they’d like.\nPaddlers must be comfortable swimming in the ocean.\nProgram takes place in an ocean environment. Paddlers will be in water over their heads at times\, and life jackets will be worn at all times.
URL:https://salemforallages.org/event/kids-club-16/
ATTACH;FMTTYPE=image/jpeg:https://salemforallages.org/wp-content/uploads/2024/06/IMG_8835.jpg
END:VEVENT
BEGIN:VEVENT
DTSTART;TZID=America/New_York:20240724T180000
DTEND;TZID=America/New_York:20240724T200000
DTSTAMP:20260425T203133
CREATED:20240720T090010Z
LAST-MODIFIED:20240720T090010Z
UID:19630-1721844000-1721851200@salemforallages.org
SUMMARY:Bingo at Gulu-Gulu Cafe
DESCRIPTION:Stop by Gulu-Gulu Cafe for a fun trivia series that will excite and engage any audience! Quirky\, funny\, and free!
URL:https://salemforallages.org/event/bingo-at-gulu-gulu-cafe-52/
ATTACH;FMTTYPE=image/jpeg:https://salemforallages.org/wp-content/uploads/2023/08/BingoBoardNew.jpg
END:VEVENT
BEGIN:VEVENT
DTSTART;TZID=America/New_York:20240724T180000
DTEND;TZID=America/New_York:20240724T200000
DTSTAMP:20260425T203133
CREATED:20240720T090011Z
LAST-MODIFIED:20240720T090011Z
UID:19631-1721844000-1721851200@salemforallages.org
SUMMARY:SAG-AFTRA Meeting
DESCRIPTION:Our membership is filled with professionals working all of the contracts\, from broadcast to dancers to voiceover artists to actors in commercials\, films\, television\, corporate and educational videos\, and audio recordings. Find information here on local news\, upcoming events and conservatories\, as well as how you can volunteer for local committees. We are thrilled to have you here in New England.
URL:https://salemforallages.org/event/sag-aftra-meeting/
ATTACH;FMTTYPE=image/jpeg:https://salemforallages.org/wp-content/uploads/2024/07/7.24-Salem-Event-Flyer-2.jpg
END:VEVENT
BEGIN:VEVENT
DTSTART;TZID=America/New_York:20240724T183000
DTEND;TZID=America/New_York:20240724T193000
DTSTAMP:20260425T203133
CREATED:20240720T090015Z
LAST-MODIFIED:20240720T090015Z
UID:19634-1721845800-1721849400@salemforallages.org
SUMMARY:Full Moon Yoga
DESCRIPTION:Wild Sea Wellness will be offering monthly yoga classes at The House of the Seven Gables throughout 2024. Be sure to check their website and calendar for details\, dates\, and links to register. \nThe next partnership is scheduled for July 24 at 6:30 p.m. on our seaside lawn (rain location is our spacious Holyoke Room in the Visitor Center).
URL:https://salemforallages.org/event/full-moon-yoga-10/
ATTACH;FMTTYPE=image/jpeg:https://salemforallages.org/wp-content/uploads/2024/07/WildSeaWellness1920x1080-July-2024.jpg
END:VEVENT
BEGIN:VEVENT
DTSTART;TZID=America/New_York:20240724T183000
DTEND;TZID=America/New_York:20240724T203000
DTSTAMP:20260425T203133
CREATED:20240720T090014Z
LAST-MODIFIED:20240720T090014Z
UID:19633-1721845800-1721853000@salemforallages.org
SUMMARY:SATAN SIP ‘N PAINT
DESCRIPTION:Paint a Satanic scene while sipping adult beverages! 21+ event. No painting experience necessary! Instruction\, inspiration\, all art supplies\, refreshments\, snacks\, ice and cups provided. Just bring yourself and your favorite beverage! \nHosted by the talented Salem Art Gallery staff. \nTickets are $33 per person. Availability is limited.
URL:https://salemforallages.org/event/satan-sip-n-paint-18/
ATTACH;FMTTYPE=image/png:https://salemforallages.org/wp-content/uploads/2024/03/8f43122b-9ebc-4e6b-bb40-ff4d2d221137_482x676.png
END:VEVENT
BEGIN:VEVENT
DTSTART;TZID=America/New_York:20240724T193000
DTEND;TZID=America/New_York:20240724T210000
DTSTAMP:20260425T203133
CREATED:20240720T090018Z
LAST-MODIFIED:20240720T090018Z
UID:19636-1721849400-1721854800@salemforallages.org
SUMMARY:Wednesday Wing Nights and Trivia
DESCRIPTION:Join the Village Tavern Wednesday nights form 50 cent wings and Stump Trivia.
URL:https://salemforallages.org/event/wednesday-wing-nights-and-trivia-11/
ATTACH;FMTTYPE=image/jpeg:https://salemforallages.org/wp-content/uploads/2024/05/Daily-Specials-fotor-20240509235039.jpg
END:VEVENT
BEGIN:VEVENT
DTSTART;TZID=America/New_York:20240724T200000
DTEND;TZID=America/New_York:20240724T235000
DTSTAMP:20260425T203133
CREATED:20240720T090018Z
LAST-MODIFIED:20240720T090018Z
UID:19637-1721851200-1721865000@salemforallages.org
SUMMARY:Super Smash Bros Ultimate Tournament @ BitBar
DESCRIPTION:We’re back with another round of Smash Ultimate here at the Bit Bar in Salem\, MAAll skill levels are welcome! \nDoors open for friendlies at 7pm\, bracket starts at 8pm!-$10 entry fee\, 100% goes to prize pool-BYO-controller highly encouraged-Competitors who bring a complete Smash Bros setup (Switch\, Dock\, Copy of Smash Ultimate with all DLC\, AC Adaptor\, and GameCube adaptor) will have their entry fee waved-Extra setups are first come\, first served\, and slots are limited\, so please reach out to us if you plan on bringing your setup-21+ \nFor this tournament\, we will be using the LMBM Ruleset:-3 stocks\, 7 minutes-Hazards Off-1-2-1 strikes-3 bans-no DSR~Stages~Starters:-Battlefield-Final Destination-Hollow Bastion-Pokémon Stadium 2-Small BattlefieldCounterpicks:-Kalos Pokémon League-Town and City-SmashvillePayout for the event will be as follows:1st – 40%2nd – 25%3rd – 15%4th – 10%5th – 5%5% \nThe event will be livestreamed at twitch.tv/bitbarstream and will be hosted by Bebo\, Sunny\, and TEEJ\, and it’s gonna be a bash!We look forward to seeing all of you challengers again\, as well as some new faces!
URL:https://salemforallages.org/event/super-smash-bros-ultimate-tournament-bitbar-4/
ATTACH;FMTTYPE=image/jpeg:https://salemforallages.org/wp-content/uploads/2024/07/405331326_744352374378656_2493508318919145706_n.jpg
END:VEVENT
BEGIN:VEVENT
DTSTART;TZID=America/New_York:20240725T090000
DTEND;TZID=America/New_York:20240725T114500
DTSTAMP:20260425T203133
CREATED:20240720T090019Z
LAST-MODIFIED:20240720T090019Z
UID:19639-1721898000-1721907900@salemforallages.org
SUMMARY:Karaoke at BitBar!
DESCRIPTION:Bit Bar is only place you can sing karaoke while being bathed in the warm glow of dozens of cathode-ray tubes!
URL:https://salemforallages.org/event/karaoke-at-bitbar-4/
ATTACH;FMTTYPE=image/jpeg:https://salemforallages.org/wp-content/uploads/2024/07/422851727_775944737886086_2562482271495837937_n.jpg
END:VEVENT
BEGIN:VEVENT
DTSTART;TZID=America/New_York:20240725T090000
DTEND;TZID=America/New_York:20240725T223000
DTSTAMP:20260425T203133
CREATED:20240720T090018Z
LAST-MODIFIED:20240720T090018Z
UID:19638-1721898000-1721946600@salemforallages.org
SUMMARY:Karaoke in the Lounge at Village Tavern
DESCRIPTION:Join the Village Tavern in Salem on Thursday nights at 9pm for Karaoke.
URL:https://salemforallages.org/event/karaoke-in-the-lounge-at-village-tavern-11/
ATTACH;FMTTYPE=image/jpeg:https://salemforallages.org/wp-content/uploads/2024/05/Daily-Specials-fotor-20240509235039.jpg
END:VEVENT
BEGIN:VEVENT
DTSTART;TZID=America/New_York:20240725T110000
DTEND;TZID=America/New_York:20240725T170000
DTSTAMP:20260425T203133
CREATED:20240720T090019Z
LAST-MODIFIED:20240720T090019Z
UID:19640-1721905200-1721926800@salemforallages.org
SUMMARY:UNVEILING DAY at the Satanic Temple
DESCRIPTION:Join the Salem Art Gallery on July 25th for Free admission and family fun to celebrate the anniversary of the unveiling of our infamous Baphomet statue. Enjoy what we will have to offer on this day including refreshments\, yard games\, and bingo!
URL:https://salemforallages.org/event/unveiling-day-at-the-satanic-temple-2/
ATTACH;FMTTYPE=image/jpeg:https://salemforallages.org/wp-content/uploads/2024/07/Unveiling_Day_1_482x676.jpg
END:VEVENT
BEGIN:VEVENT
DTSTART;TZID=America/New_York:20240725T113000
DTEND;TZID=America/New_York:20240725T160000
DTSTAMP:20260425T203133
CREATED:20240720T090022Z
LAST-MODIFIED:20240720T090022Z
UID:19642-1721907000-1721923200@salemforallages.org
SUMMARY:Magical Transformations
DESCRIPTION:Through our “Magical Transformations” children embrace their charms and express their individuality. Children can choose to transform into a “Witch” or “Wizard”!
URL:https://salemforallages.org/event/magical-transformations-51/
ATTACH;FMTTYPE=image/jpeg:https://salemforallages.org/wp-content/uploads/2024/07/Transformations-10.jpg
END:VEVENT
END:VCALENDAR