BEGIN:VCALENDAR
VERSION:2.0
PRODID:-//Salem for All Ages - ECPv6.15.18//NONSGML v1.0//EN
CALSCALE:GREGORIAN
METHOD:PUBLISH
X-ORIGINAL-URL:https://salemforallages.org
X-WR-CALDESC:Events for Salem for All Ages
REFRESH-INTERVAL;VALUE=DURATION:PT1H
X-Robots-Tag:noindex
X-PUBLISHED-TTL:PT1H
BEGIN:VTIMEZONE
TZID:America/New_York
BEGIN:DAYLIGHT
TZOFFSETFROM:-0500
TZOFFSETTO:-0400
TZNAME:EDT
DTSTART:20230312T070000
END:DAYLIGHT
BEGIN:STANDARD
TZOFFSETFROM:-0400
TZOFFSETTO:-0500
TZNAME:EST
DTSTART:20231105T060000
END:STANDARD
BEGIN:DAYLIGHT
TZOFFSETFROM:-0500
TZOFFSETTO:-0400
TZNAME:EDT
DTSTART:20240310T070000
END:DAYLIGHT
BEGIN:STANDARD
TZOFFSETFROM:-0400
TZOFFSETTO:-0500
TZNAME:EST
DTSTART:20241103T060000
END:STANDARD
BEGIN:DAYLIGHT
TZOFFSETFROM:-0500
TZOFFSETTO:-0400
TZNAME:EDT
DTSTART:20250309T070000
END:DAYLIGHT
BEGIN:STANDARD
TZOFFSETFROM:-0400
TZOFFSETTO:-0500
TZNAME:EST
DTSTART:20251102T060000
END:STANDARD
END:VTIMEZONE
BEGIN:VEVENT
DTSTART;TZID=America/New_York:20240726T180000
DTEND;TZID=America/New_York:20240726T210000
DTSTAMP:20260425T222306
CREATED:20240722T090010Z
LAST-MODIFIED:20240722T090010Z
UID:19671-1722016800-1722027600@salemforallages.org
SUMMARY:THE ROUGH SUSPECTS LIVE
DESCRIPTION:Hailing from Burlington\, VT\, The Rough Suspects make a pitstop in Salem MA on their way to Boston. Catch a free show at East Regiment Beer Company. The Rough Suspects are high energy and proclaims themselves to be “Rock\, Blues & Drunken Country…Just like mama used to make.”
URL:https://salemforallages.org/event/the-rough-suspects-live/
ATTACH;FMTTYPE=image/jpeg:https://salemforallages.org/wp-content/uploads/2024/07/305773485_520967636698097_5609330047505600132_n.jpg
END:VEVENT
BEGIN:VEVENT
DTSTART;TZID=America/New_York:20240726T190000
DTEND;TZID=America/New_York:20240726T210000
DTSTAMP:20260425T222306
CREATED:20240722T090016Z
LAST-MODIFIED:20240722T090016Z
UID:19673-1722020400-1722027600@salemforallages.org
SUMMARY:Tales & Tombstones
DESCRIPTION:Dusk transforms the city of Salem. As the city of renown seafarers and distinguished architecture fades into the shadows\, a new Salem of the occult and paranormal emerges. \nVisit scenes of grisly murders and ghastly executions\, hear tales of ghosts\, both mischievous and malevolent\, of Salem’s haunted hotels and restaurants\, of long forgotten underground passageways\, ancient curses\, and legends of ghost ships and haunted islands. \nYou will experience all of this and more as you ride the Salem Trolley’s Tales & Tombstones Tour and explore Salem of the Shadows.
URL:https://salemforallages.org/event/tales-tombstones-5/
ATTACH;FMTTYPE=image/jpeg:https://salemforallages.org/wp-content/uploads/2021/11/image.jpg
END:VEVENT
BEGIN:VEVENT
DTSTART;TZID=America/New_York:20240727T090000
DTEND;TZID=America/New_York:20240727T110000
DTSTAMP:20260425T222306
CREATED:20240722T090017Z
LAST-MODIFIED:20240722T090017Z
UID:19674-1722070800-1722078000@salemforallages.org
SUMMARY:Salem Paddle Tours
DESCRIPTION:Discover a different side of Salem with our Salem Paddle Tour! Beyond its famous witch trials\, Salem boasts a stunning oceanfront perfect for exploration.  Glide along its historic coastline\, once the world’s richest port\, and immerse yourself in breathtaking natural beauty and maritime heritage
URL:https://salemforallages.org/event/salem-paddle-tours-18/
ATTACH;FMTTYPE=image/jpeg:https://salemforallages.org/wp-content/uploads/2024/07/CoasttoCoast2022-93-1-scaled-3.jpg
END:VEVENT
BEGIN:VEVENT
DTSTART;TZID=America/New_York:20240727T093000
DTEND;TZID=America/New_York:20240727T103000
DTSTAMP:20260425T222306
CREATED:20240722T090021Z
LAST-MODIFIED:20240722T090021Z
UID:19676-1722072600-1722076200@salemforallages.org
SUMMARY:Kids Club
DESCRIPTION:Join us Mondays\, Wednesdays\, and Saturdays all summer long for Kids Paddle Club at Salem Willows! We’ll learn to paddle through exploring the beautiful coastline along Salem and while playing fun paddle games like Tsunami and Piano keys! \nSign up for as many sessions as you’d like! \n\nMondays and Wednesdays\, 12:30-1:30; Saturdays 9:30-10:30\nMeet at Coast to Coast Paddle Salem Willows Kiosk\nAges 6-12\n10 kids max per session\n1:5 instructor:kid ratio\nLife jackets will be provided\, though paddlers may bring their own Coast Guard approved life jackets if they’d like.\nPaddlers must be comfortable swimming in the ocean.\nProgram takes place in an ocean environment. Paddlers will be in water over their heads at times\, and life jackets will be worn at all times.
URL:https://salemforallages.org/event/kids-club-17/
ATTACH;FMTTYPE=image/jpeg:https://salemforallages.org/wp-content/uploads/2024/06/IMG_8835.jpg
END:VEVENT
BEGIN:VEVENT
DTSTART;TZID=America/New_York:20240727T110000
DTEND;TZID=America/New_York:20240727T170000
DTSTAMP:20260425T222306
CREATED:20240722T090021Z
LAST-MODIFIED:20240722T090021Z
UID:19677-1722078000-1722099600@salemforallages.org
SUMMARY:Girl Gang Craft
DESCRIPTION:Girl Gang Craft\, a fem forward community for makers comes to Witch City for 2 weekends this Summer! Come shop with us on Saturday June 22nd and again on July 27th at Old Town Hall and Derby Square!\n\nFREE TO ATTEND.\n\nApps are open for vendors: girlgangcraft.com/apply.
URL:https://salemforallages.org/event/girl-gang-craft-2/
ATTACH;FMTTYPE=image/jpeg:https://salemforallages.org/wp-content/uploads/2024/06/429779085_1164363214614258_3416513376471237983_n.jpg
END:VEVENT
BEGIN:VEVENT
DTSTART;TZID=America/New_York:20240727T110000
DTEND;TZID=America/New_York:20240727T170000
DTSTAMP:20260425T222306
CREATED:20240722T090022Z
LAST-MODIFIED:20240722T090022Z
UID:19678-1722078000-1722099600@salemforallages.org
SUMMARY:Girl Gang Craft Salem Market Weekend 2
DESCRIPTION:Girl Gang Craft\, a fem forward community for makers comes to Witch City for 2 weekends this Summer! Come shop with us on Saturday\, June 22th and again on Saturday\, July 27th at Old Town Hall and Derby Square! FREE TO ATTEND. \nWe are so excited to have Coleslaw DJ for us for North Shore Pride!
URL:https://salemforallages.org/event/girl-gang-craft-salem-market-weekend-2/
ATTACH;FMTTYPE=image/jpeg:https://salemforallages.org/wp-content/uploads/2024/06/https___cdn.evbuc_.com_images_702591089_17181745163_1_original.jpg
END:VEVENT
BEGIN:VEVENT
DTSTART;TZID=America/New_York:20240727T113000
DTEND;TZID=America/New_York:20240727T160000
DTSTAMP:20260425T222306
CREATED:20240722T090023Z
LAST-MODIFIED:20240722T090023Z
UID:19679-1722079800-1722096000@salemforallages.org
SUMMARY:Magical Transformations
DESCRIPTION:Through our “Magical Transformations” children embrace their charms and express their individuality. Children can choose to transform into a “Witch” or “Wizard”!
URL:https://salemforallages.org/event/magical-transformations-53/
ATTACH;FMTTYPE=image/jpeg:https://salemforallages.org/wp-content/uploads/2024/07/Transformations-12.jpg
END:VEVENT
BEGIN:VEVENT
DTSTART;TZID=America/New_York:20240727T113000
DTEND;TZID=America/New_York:20240727T160000
DTSTAMP:20260425T222306
CREATED:20240723T090011Z
LAST-MODIFIED:20240723T090011Z
UID:19681-1722079800-1722096000@salemforallages.org
SUMMARY:Stop In For a Spell: DIY Potion Bar
DESCRIPTION:Fly in to The Good Witch and Stay for a Spell! Mix up your very own potion at our Potion Bar! \nDrop Ins begin at store opening and end 30 minutes before closing and are offered on a first come\, first serve basis. Purchase online or pay in store. \nDrop Ins may be unavailable during a birthday party or store event. Please call ahead\, or check our posted hours on Google. \nUnder age 4 may participate with the help of a supervising adult.
URL:https://salemforallages.org/event/stop-in-for-a-spell-diy-potion-bar-46/
ATTACH;FMTTYPE=image/jpeg:https://salemforallages.org/wp-content/uploads/2024/07/Stop-In-For-a-Spell-SQUARE-19.jpg
END:VEVENT
BEGIN:VEVENT
DTSTART;TZID=America/New_York:20240727T113000
DTEND;TZID=America/New_York:20240727T160000
DTSTAMP:20260425T222306
CREATED:20240723T090017Z
LAST-MODIFIED:20240723T090017Z
UID:19683-1722079800-1722096000@salemforallages.org
SUMMARY:Potion Brewing Store Experience
DESCRIPTION:Make your visit to The Good Witch of Salem’s shop memorable by booking our in-store Potion Brewing Experience. This activity is led by our Witch Apprentices. \nActivities are recommended for children ages 3 and up. \n*One appointment slot for each child is required.*
URL:https://salemforallages.org/event/potion-brewing-store-experience-46/
ATTACH;FMTTYPE=image/jpeg:https://salemforallages.org/wp-content/uploads/2024/07/Potion-Brewing-Store-Experience-20.jpg
END:VEVENT
BEGIN:VEVENT
DTSTART;TZID=America/New_York:20240727T130000
DTEND;TZID=America/New_York:20240727T143000
DTSTAMP:20260425T222306
CREATED:20240723T090020Z
LAST-MODIFIED:20240723T090020Z
UID:19685-1722085200-1722090600@salemforallages.org
SUMMARY:HERBAL SHRUBS AND VINEGARS TO COOL YOUR THIRST
DESCRIPTION:Herbal shrubs and vinegars have been used for thirst-quenching\, tasty drinks for centuries. While shrubs are fruit and vegetable-based\, the addition of herbs adds to their flavor and health-enhancing benefits. Vinegar-based drinks are marvelous for thirsty adults and kids\, and easy to make. Learn about making your own shrubs and herbal vinegars you can use for mocktails\, cocktails\, mixed drinks\, vinegarade\, and more! We will learn about herbs\, ingredients\, and methods\, and you will go home with 4 oz. of a delicious shrub! Handout and recipes included.
URL:https://salemforallages.org/event/herbal-shrubs-and-vinegars-to-cool-your-thirst/
ATTACH;FMTTYPE=image/jpeg:https://salemforallages.org/wp-content/uploads/2024/07/07_28_LeafPrinting-scaled-1.jpg
END:VEVENT
BEGIN:VEVENT
DTSTART;TZID=America/New_York:20240727T130000
DTEND;TZID=America/New_York:20240727T143000
DTSTAMP:20260425T222306
CREATED:20240723T090024Z
LAST-MODIFIED:20240723T090024Z
UID:19687-1722085200-1722090600@salemforallages.org
SUMMARY:TOUR EN ESPAÑOL
DESCRIPTION:¡Un recorrido por La Casa de los Siete Tejados en español! 13 de julio a las 12:15 P.M.\, 20 de julio a las 1 P.M.\, y 27 de julio a las 1 P.M. \nLa Experiencia de Visita Guiada incluye: \n\nUn recorrido de hasta 45 minutos por The House of the Seven Gables con un intérprete profesional\nAcceso a un recorrido de audio de 30 minutos para su propio dispositivo electrónico sobre los terrenos históricos\nTiempo de exploración en el lugar de nacimiento\, la casa de conteo y la tienda del museo de Nathaniel Hawthorne\nUn mapa único de nuestro sitio histórico.\n\nLa compra de su boleto es un acuerdo con las siguientes exenciones de responsabilidad y nuestras Pautas de servicio para visitantes. Todas las ventas son finales.
URL:https://salemforallages.org/event/tour-en-espanol-2/
END:VEVENT
BEGIN:VEVENT
DTSTART;TZID=America/New_York:20240727T150000
DTEND;TZID=America/New_York:20240727T180000
DTSTAMP:20260425T222306
CREATED:20240723T090024Z
LAST-MODIFIED:20240723T090024Z
UID:19688-1722092400-1722103200@salemforallages.org
SUMMARY:Live Entertainment & Happy Hour
DESCRIPTION:Join the Village Tavern Saturdays for live entertainment and happy each Saturday of the week.
URL:https://salemforallages.org/event/live-entertainment-happy-hour-11/
ATTACH;FMTTYPE=image/jpeg:https://salemforallages.org/wp-content/uploads/2024/05/Daily-Specials-fotor-20240509235039.jpg
END:VEVENT
BEGIN:VEVENT
DTSTART;TZID=America/New_York:20240727T180000
DTEND;TZID=America/New_York:20240727T210000
DTSTAMP:20260425T222306
CREATED:20240725T090010Z
LAST-MODIFIED:20240725T090010Z
UID:19698-1722103200-1722114000@salemforallages.org
SUMMARY:Guy Ford Band at the Salem Ferry Landing
DESCRIPTION:Eclectic Acoustic Rock w/ Guy Ford\, Daniel Rowe\, Brian Wheeler\, Jack O’Soro\, Dave Gagnon & Jeff Ford
URL:https://salemforallages.org/event/guy-ford-band-at-the-salem-ferry-landing/
END:VEVENT
BEGIN:VEVENT
DTSTART;TZID=America/New_York:20240727T190000
DTEND;TZID=America/New_York:20240727T210000
DTSTAMP:20260425T222306
CREATED:20240724T090021Z
LAST-MODIFIED:20240724T090021Z
UID:19689-1722106800-1722114000@salemforallages.org
SUMMARY:Tales & Tombstones
DESCRIPTION:Dusk transforms the city of Salem. As the city of renown seafarers and distinguished architecture fades into the shadows\, a new Salem of the occult and paranormal emerges. \nVisit scenes of grisly murders and ghastly executions\, hear tales of ghosts\, both mischievous and malevolent\, of Salem’s haunted hotels and restaurants\, of long forgotten underground passageways\, ancient curses\, and legends of ghost ships and haunted islands. \nYou will experience all of this and more as you ride the Salem Trolley’s Tales & Tombstones Tour and explore Salem of the Shadows.
URL:https://salemforallages.org/event/tales-tombstones-6/
ATTACH;FMTTYPE=image/jpeg:https://salemforallages.org/wp-content/uploads/2021/11/image.jpg
END:VEVENT
BEGIN:VEVENT
DTSTART;TZID=America/New_York:20240727T200000
DTEND;TZID=America/New_York:20240727T213000
DTSTAMP:20260425T222306
CREATED:20240724T090023Z
LAST-MODIFIED:20240724T090023Z
UID:19690-1722110400-1722115800@salemforallages.org
SUMMARY:Tab Benoit & Anders Osborne With Special Guest Mike Zito
DESCRIPTION:TAB BENOIT: One of the most impressive guitarists to emerge from the rich Bayous of Southern Louisiana in recent years\, Tab Benoit’s guitar tone can be recognized before his Otis-Redding-ish voice resonates from the speakers. He doesn’t rely on any effects and his set up is simple. It consists of a guitar\, cord\, and Category 5 Amplifier. The effects that you hear come from his fingers. ANDERS OSBORNE: Between the potency of his richly detailed songwriting\, his intensely emotional\, soulful vocals and his piercing\, expert guitar work\, New Orleans’ Anders Osborne is a true musical treasure. He is among the most original and visionary musicians writing and performing today. Guitar Player calls him “the poet laureate of Louisiana’s fertile roots music scene.” New Orleans’ Gambit Weekly has honored Osborne as the Entertainer Of The Year. OffBeat named him the Crescent City’s Best Guitarist for the third year in a row\, and the Best Songwriter for the second straight year. Osborne also won Song Of The Year for his composition\, Louisiana Gold.
URL:https://salemforallages.org/event/tab-benoit-anders-osborne-with-special-guest-mike-zito/
ATTACH;FMTTYPE=image/jpeg:https://salemforallages.org/wp-content/uploads/2024/07/072724_1080x1080_Tab-Benoit.jpg
END:VEVENT
BEGIN:VEVENT
DTSTART;TZID=America/New_York:20240728T100000
DTEND;TZID=America/New_York:20240728T120000
DTSTAMP:20260425T222306
CREATED:20240724T090029Z
LAST-MODIFIED:20240724T090029Z
UID:19692-1722160800-1722168000@salemforallages.org
SUMMARY:3rd Annual The World Needs You Here Walk and befree Path to Inclusion
DESCRIPTION:The World Needs You Here Walk is back at Salem Common this summer on Sunday\, July 28th. This community-wide 5K walk\, hosted by Mental Makeover\, is dedicated to raising awareness and funds for mental health\, mental wellness\, and suicide prevention. Explore the exciting new addition to the walk: the Befree Path to Inclusion—a half-mile walk/roll within Salem Common\, sponsored by befree and The Jauron Family Foundation\, promoting inclusion for all abilities. Register today to be part of this empowering event and please reach out to emily@mentalmakeovertoday.org with sponsor or vendor inquiries.
URL:https://salemforallages.org/event/3rd-annual-the-world-needs-you-here-walk-and-befree-path-to-inclusion/
ATTACH;FMTTYPE=image/jpeg:https://salemforallages.org/wp-content/uploads/2024/05/426366111_18217618087278845_8055988321050247329_n.jpg
END:VEVENT
BEGIN:VEVENT
DTSTART;TZID=America/New_York:20240728T113000
DTEND;TZID=America/New_York:20240728T123000
DTSTAMP:20260425T222306
CREATED:20240724T090031Z
LAST-MODIFIED:20240724T090031Z
UID:19693-1722166200-1722169800@salemforallages.org
SUMMARY:Family Paddle Adventure
DESCRIPTION:Gather the crew and set sail for a Sunday filled with fun on the water at our Family Paddle! Perfect for families of all sizes and skill levels\, this event offers a safe and exciting way to explore the beauty of our local waters. Led by qualified instructors\, each paddle session is packed with engaging games and light instruction tailored to make everyone comfortable and confident on the water. \nWhere: Salem Willows Rental and Tour Kiosk\nWhen: Every Saturday morning at 9:30\nIncluded: All paddling equipment and expert instruction\n(Ages 3 yrs and older. Children ages 3-6 must be on a board or tandem kayak with a parent or guardian over 18 years of age). \nDon’t miss this chance to bond with your family and create lasting summer memories!
URL:https://salemforallages.org/event/family-paddle-adventure-7/
ATTACH;FMTTYPE=image/jpeg:https://salemforallages.org/wp-content/uploads/2024/06/CoasttoCoast2022-182.jpg
END:VEVENT
BEGIN:VEVENT
DTSTART;TZID=America/New_York:20240728T113000
DTEND;TZID=America/New_York:20240728T150000
DTSTAMP:20260425T222306
CREATED:20240724T090039Z
LAST-MODIFIED:20240724T090039Z
UID:19696-1722166200-1722178800@salemforallages.org
SUMMARY:Stop In For a Spell: DIY Potion Bar
DESCRIPTION:Fly in to The Good Witch and Stay for a Spell! Mix up your very own potion at our Potion Bar! \nDrop Ins begin at store opening and end 30 minutes before closing and are offered on a first come\, first serve basis. Purchase online or pay in store. \nDrop Ins may be unavailable during a birthday party or store event. Please call ahead\, or check our posted hours on Google. \nUnder age 4 may participate with the help of a supervising adult.
URL:https://salemforallages.org/event/stop-in-for-a-spell-diy-potion-bar-47/
ATTACH;FMTTYPE=image/jpeg:https://salemforallages.org/wp-content/uploads/2024/07/Stop-In-For-a-Spell-SQUARE-20.jpg
END:VEVENT
BEGIN:VEVENT
DTSTART;TZID=America/New_York:20240728T113000
DTEND;TZID=America/New_York:20240728T150000
DTSTAMP:20260425T222306
CREATED:20240725T090011Z
LAST-MODIFIED:20240725T090011Z
UID:19699-1722166200-1722178800@salemforallages.org
SUMMARY:Potion Brewing Store Experience
DESCRIPTION:Make your visit to The Good Witch of Salem’s shop memorable by booking our in-store Potion Brewing Experience. This activity is led by our Witch Apprentices. \nActivities are recommended for children ages 3 and up. \n*One appointment slot for each child is required.*
URL:https://salemforallages.org/event/potion-brewing-store-experience-47/
ATTACH;FMTTYPE=image/jpeg:https://salemforallages.org/wp-content/uploads/2024/07/Potion-Brewing-Store-Experience-21.jpg
END:VEVENT
BEGIN:VEVENT
DTSTART;TZID=America/New_York:20240728T113000
DTEND;TZID=America/New_York:20240728T153000
DTSTAMP:20260425T222306
CREATED:20240724T090033Z
LAST-MODIFIED:20240724T090033Z
UID:19694-1722166200-1722180600@salemforallages.org
SUMMARY:Magical Transformations
DESCRIPTION:Through our “Magical Transformations” children embrace their charms and express their individuality. Children can choose to transform into a “Witch” or “Wizard”!
URL:https://salemforallages.org/event/magical-transformations-54/
ATTACH;FMTTYPE=image/jpeg:https://salemforallages.org/wp-content/uploads/2024/07/Transformations-1-8.jpg
END:VEVENT
BEGIN:VEVENT
DTSTART;TZID=America/New_York:20240728T130000
DTEND;TZID=America/New_York:20240728T150000
DTSTAMP:20260425T222306
CREATED:20240725T090016Z
LAST-MODIFIED:20240725T090016Z
UID:19701-1722171600-1722178800@salemforallages.org
SUMMARY:LEAF PRINTING PARTY
DESCRIPTION:Join us for an afternoon of crafting with nature. Learn to use leaves as stamps to make a one of a kind painting. No experience required\, perfect for beginners and kids. All supplies will be provided. \nHosted by Queen of Cups Apothecary
URL:https://salemforallages.org/event/leaf-printing-party/
ATTACH;FMTTYPE=image/jpeg:https://salemforallages.org/wp-content/uploads/2024/07/07_28_LeafPrinting-scaled-2.jpg
END:VEVENT
BEGIN:VEVENT
DTSTART;TZID=America/New_York:20240728T140000
DTEND;TZID=America/New_York:20240728T160000
DTSTAMP:20260425T222306
CREATED:20240725T090019Z
LAST-MODIFIED:20240725T090019Z
UID:19703-1722175200-1722182400@salemforallages.org
SUMMARY:DIAMOND’S DINE-IN DRAG BRUNCH!
DESCRIPTION:Come on down for Diamond’s Dine-In Drag Brunch! This is a weekly event with local Drag Queen Miz Diamond Wigfall! Someone will be her guest. Be ready for numbers\, games\, drag\, and mimosas all afternoon.
URL:https://salemforallages.org/event/diamonds-dine-in-drag-brunch-52/
ATTACH;FMTTYPE=image/jpeg:https://salemforallages.org/wp-content/uploads/2023/08/Diamond_DineIn_Final-11x171-1.jpg
END:VEVENT
BEGIN:VEVENT
DTSTART;TZID=America/New_York:20240728T150000
DTEND;TZID=America/New_York:20240728T170000
DTSTAMP:20260425T222306
CREATED:20240725T090020Z
LAST-MODIFIED:20240725T090020Z
UID:19704-1722178800-1722186000@salemforallages.org
SUMMARY:PUB SINGING (SEA SHANTY DAY)
DESCRIPTION:Join in on the fun with some hootenanny pub singing and chants. Being lead by local sea shanty chanters.
URL:https://salemforallages.org/event/pub-singing-sea-shanty-day-2/
ATTACH;FMTTYPE=image/jpeg:https://salemforallages.org/wp-content/uploads/2023/05/East-Regiment-Basic.jpg
END:VEVENT
BEGIN:VEVENT
DTSTART;TZID=America/New_York:20240729T113000
DTEND;TZID=America/New_York:20240729T160000
DTSTAMP:20260425T222306
CREATED:20240725T090020Z
LAST-MODIFIED:20240725T090020Z
UID:19705-1722252600-1722268800@salemforallages.org
SUMMARY:Magical Transformations
DESCRIPTION:Through our “Magical Transformations” children embrace their charms and express their individuality. Children can choose to transform into a “Witch” or “Wizard”!
URL:https://salemforallages.org/event/magical-transformations-55/
ATTACH;FMTTYPE=image/jpeg:https://salemforallages.org/wp-content/uploads/2024/07/Transformations-13.jpg
END:VEVENT
BEGIN:VEVENT
DTSTART;TZID=America/New_York:20240729T113000
DTEND;TZID=America/New_York:20240729T160000
DTSTAMP:20260425T222306
CREATED:20240725T090023Z
LAST-MODIFIED:20240725T090023Z
UID:19707-1722252600-1722268800@salemforallages.org
SUMMARY:Stop In For a Spell: DIY Potion Bar
DESCRIPTION:Fly in to The Good Witch and Stay for a Spell! Mix up your very own potion at our Potion Bar! \nDrop Ins begin at store opening and end 30 minutes before closing and are offered on a first come\, first serve basis. Purchase online or pay in store. \nDrop Ins may be unavailable during a birthday party or store event. Please call ahead\, or check our posted hours on Google. \nUnder age 4 may participate with the help of a supervising adult.
URL:https://salemforallages.org/event/stop-in-for-a-spell-diy-potion-bar-48/
ATTACH;FMTTYPE=image/jpeg:https://salemforallages.org/wp-content/uploads/2024/07/Stop-In-For-a-Spell-SQUARE-21.jpg
END:VEVENT
BEGIN:VEVENT
DTSTART;TZID=America/New_York:20240729T113000
DTEND;TZID=America/New_York:20240729T160000
DTSTAMP:20260425T222306
CREATED:20240725T090026Z
LAST-MODIFIED:20240725T090026Z
UID:19709-1722252600-1722268800@salemforallages.org
SUMMARY:Potion Brewing Store Experience
DESCRIPTION:Make your visit to The Good Witch of Salem’s shop memorable by booking our in-store Potion Brewing Experience. This activity is led by our Witch Apprentices. \nActivities are recommended for children ages 3 and up. \n*One appointment slot for each child is required.*
URL:https://salemforallages.org/event/potion-brewing-store-experience-48/
ATTACH;FMTTYPE=image/jpeg:https://salemforallages.org/wp-content/uploads/2024/07/Potion-Brewing-Store-Experience-22.jpg
END:VEVENT
BEGIN:VEVENT
DTSTART;TZID=America/New_York:20240729T123000
DTEND;TZID=America/New_York:20240729T133000
DTSTAMP:20260425T222306
CREATED:20240725T090030Z
LAST-MODIFIED:20240725T090030Z
UID:19711-1722256200-1722259800@salemforallages.org
SUMMARY:Kids Club
DESCRIPTION:Join us Mondays\, Wednesdays\, and Saturdays all summer long for Kids Paddle Club at Salem Willows! We’ll learn to paddle through exploring the beautiful coastline along Salem and while playing fun paddle games like Tsunami and Piano keys! \nSign up for as many sessions as you’d like! \n\nMondays and Wednesdays\, 12:30-1:30; Saturdays 9:30-10:30\nMeet at Coast to Coast Paddle Salem Willows Kiosk\nAges 6-12\n10 kids max per session\n1:5 instructor:kid ratio\nLife jackets will be provided\, though paddlers may bring their own Coast Guard approved life jackets if they’d like.\nPaddlers must be comfortable swimming in the ocean.\nProgram takes place in an ocean environment. Paddlers will be in water over their heads at times\, and life jackets will be worn at all times.
URL:https://salemforallages.org/event/kids-club-18/
ATTACH;FMTTYPE=image/jpeg:https://salemforallages.org/wp-content/uploads/2024/06/IMG_8835.jpg
END:VEVENT
BEGIN:VEVENT
DTSTART;TZID=America/New_York:20240729T193000
DTEND;TZID=America/New_York:20240729T210000
DTSTAMP:20260425T222306
CREATED:20240725T090031Z
LAST-MODIFIED:20240725T090031Z
UID:19712-1722281400-1722286800@salemforallages.org
SUMMARY:Music Quiz Trivia at Village Tavern
DESCRIPTION:Stop into Village Tavern in Salem\, MA Monday nights for smash burgers\, beer\, and their music trivia quiz series!
URL:https://salemforallages.org/event/music-quiz-trivia-at-village-tavern-11/
ATTACH;FMTTYPE=image/jpeg:https://salemforallages.org/wp-content/uploads/2024/05/Daily-Specials-fotor-20240509235039.jpg
END:VEVENT
BEGIN:VEVENT
DTSTART;TZID=America/New_York:20240730T080000
DTEND;TZID=America/New_York:20240730T170000
DTSTAMP:20260425T222306
CREATED:20240725T090031Z
LAST-MODIFIED:20240725T090031Z
UID:19713-1722326400-1722358800@salemforallages.org
SUMMARY:Trivia Tuesdays with Gulu Gulu Cafe
DESCRIPTION: Unleash Your Inner Genius Every Tuesday at Trivia Night! \n\nThink you’re smart? Prove it under the glow of our Tuesday night trivia spotlight! \n Join us for a brain-teasing adventure into general knowledge every week\, where the pursuit of trivia supremacy is as hot as our fresh-out-of-the-oven pizzas! \n\n Compete for fantastic prizes\, bragging rights\, and the satisfaction of knowing you’re part of the smartest crowd in town.\n\n Challenge your friends\, colleagues\, or even that know-it-all neighbor. The more\, the merrier! \n\n Every Tuesday\, the ultimate trivia showdown awaits. Mark your calendars and get ready for an evening of laughter\, learning\, and delicious rewards.\n\nDon’t miss out on the excitement! Grab a slice\, grab a seat\, and let the battle of the brains begin. Trivia Night – where knowledge meets a good time!
URL:https://salemforallages.org/event/trivia-tuesdays-with-gulu-gulu-cafe-16/
ATTACH;FMTTYPE=image/jpeg:https://salemforallages.org/wp-content/uploads/2024/04/432416873_901456205312795_7465705002384209082_n.jpg
END:VEVENT
BEGIN:VEVENT
DTSTART;TZID=America/New_York:20240730T110000
DTEND;TZID=America/New_York:20240730T170000
DTSTAMP:20260425T222306
CREATED:20240726T090011Z
LAST-MODIFIED:20240726T090011Z
UID:19714-1722337200-1722358800@salemforallages.org
SUMMARY:Teatime Tuesdays with the Satanic Temple
DESCRIPTION:Join us every Tuesday during gallery hours for complementary tea with admission to the gallery.
URL:https://salemforallages.org/event/teatime-tuesdays-with-the-satanic-temple-62/
ATTACH;FMTTYPE=image/jpeg:https://salemforallages.org/wp-content/uploads/2023/05/satanic-tea-art-gallery.jpg
END:VEVENT
END:VCALENDAR