BEGIN:VCALENDAR
VERSION:2.0
PRODID:-//Salem for All Ages - ECPv6.15.18//NONSGML v1.0//EN
CALSCALE:GREGORIAN
METHOD:PUBLISH
X-ORIGINAL-URL:https://salemforallages.org
X-WR-CALDESC:Events for Salem for All Ages
REFRESH-INTERVAL;VALUE=DURATION:PT1H
X-Robots-Tag:noindex
X-PUBLISHED-TTL:PT1H
BEGIN:VTIMEZONE
TZID:America/New_York
BEGIN:DAYLIGHT
TZOFFSETFROM:-0500
TZOFFSETTO:-0400
TZNAME:EDT
DTSTART:20230312T070000
END:DAYLIGHT
BEGIN:STANDARD
TZOFFSETFROM:-0400
TZOFFSETTO:-0500
TZNAME:EST
DTSTART:20231105T060000
END:STANDARD
BEGIN:DAYLIGHT
TZOFFSETFROM:-0500
TZOFFSETTO:-0400
TZNAME:EDT
DTSTART:20240310T070000
END:DAYLIGHT
BEGIN:STANDARD
TZOFFSETFROM:-0400
TZOFFSETTO:-0500
TZNAME:EST
DTSTART:20241103T060000
END:STANDARD
BEGIN:DAYLIGHT
TZOFFSETFROM:-0500
TZOFFSETTO:-0400
TZNAME:EDT
DTSTART:20250309T070000
END:DAYLIGHT
BEGIN:STANDARD
TZOFFSETFROM:-0400
TZOFFSETTO:-0500
TZNAME:EST
DTSTART:20251102T060000
END:STANDARD
END:VTIMEZONE
BEGIN:VEVENT
DTSTART;TZID=America/New_York:20240724T113000
DTEND;TZID=America/New_York:20240724T150000
DTSTAMP:20260425T203155
CREATED:20240719T090039Z
LAST-MODIFIED:20240719T090039Z
UID:19627-1721820600-1721833200@salemforallages.org
SUMMARY:Potion Brewing Store Experience
DESCRIPTION:Make your visit to The Good Witch of Salem’s shop memorable by booking our in-store Potion Brewing Experience. This activity is led by our Witch Apprentices. \nActivities are recommended for children ages 3 and up. \n*One appointment slot for each child is required.*
URL:https://salemforallages.org/event/potion-brewing-store-experience-43/
ATTACH;FMTTYPE=image/jpeg:https://salemforallages.org/wp-content/uploads/2024/07/Potion-Brewing-Store-Experience-17.jpg
END:VEVENT
BEGIN:VEVENT
DTSTART;TZID=America/New_York:20240724T113000
DTEND;TZID=America/New_York:20240724T153000
DTSTAMP:20260425T203155
CREATED:20240719T090031Z
LAST-MODIFIED:20240719T090031Z
UID:19623-1721820600-1721835000@salemforallages.org
SUMMARY:Magical Transformations
DESCRIPTION:Through our “Magical Transformations” children embrace their charms and express their individuality. Children can choose to transform into a “Witch” or “Wizard”!
URL:https://salemforallages.org/event/magical-transformations-50/
ATTACH;FMTTYPE=image/jpeg:https://salemforallages.org/wp-content/uploads/2024/07/Transformations-1-7.jpg
END:VEVENT
BEGIN:VEVENT
DTSTART;TZID=America/New_York:20240724T123000
DTEND;TZID=America/New_York:20240724T133000
DTSTAMP:20260425T203155
CREATED:20240719T090042Z
LAST-MODIFIED:20240719T090042Z
UID:19629-1721824200-1721827800@salemforallages.org
SUMMARY:Kids Club
DESCRIPTION:Join us Mondays\, Wednesdays\, and Saturdays all summer long for Kids Paddle Club at Salem Willows! We’ll learn to paddle through exploring the beautiful coastline along Salem and while playing fun paddle games like Tsunami and Piano keys! \nSign up for as many sessions as you’d like! \n\nMondays and Wednesdays\, 12:30-1:30; Saturdays 9:30-10:30\nMeet at Coast to Coast Paddle Salem Willows Kiosk\nAges 6-12\n10 kids max per session\n1:5 instructor:kid ratio\nLife jackets will be provided\, though paddlers may bring their own Coast Guard approved life jackets if they’d like.\nPaddlers must be comfortable swimming in the ocean.\nProgram takes place in an ocean environment. Paddlers will be in water over their heads at times\, and life jackets will be worn at all times.
URL:https://salemforallages.org/event/kids-club-16/
ATTACH;FMTTYPE=image/jpeg:https://salemforallages.org/wp-content/uploads/2024/06/IMG_8835.jpg
END:VEVENT
BEGIN:VEVENT
DTSTART;TZID=America/New_York:20240724T180000
DTEND;TZID=America/New_York:20240724T200000
DTSTAMP:20260425T203155
CREATED:20240720T090010Z
LAST-MODIFIED:20240720T090010Z
UID:19630-1721844000-1721851200@salemforallages.org
SUMMARY:Bingo at Gulu-Gulu Cafe
DESCRIPTION:Stop by Gulu-Gulu Cafe for a fun trivia series that will excite and engage any audience! Quirky\, funny\, and free!
URL:https://salemforallages.org/event/bingo-at-gulu-gulu-cafe-52/
ATTACH;FMTTYPE=image/jpeg:https://salemforallages.org/wp-content/uploads/2023/08/BingoBoardNew.jpg
END:VEVENT
BEGIN:VEVENT
DTSTART;TZID=America/New_York:20240724T180000
DTEND;TZID=America/New_York:20240724T200000
DTSTAMP:20260425T203155
CREATED:20240720T090011Z
LAST-MODIFIED:20240720T090011Z
UID:19631-1721844000-1721851200@salemforallages.org
SUMMARY:SAG-AFTRA Meeting
DESCRIPTION:Our membership is filled with professionals working all of the contracts\, from broadcast to dancers to voiceover artists to actors in commercials\, films\, television\, corporate and educational videos\, and audio recordings. Find information here on local news\, upcoming events and conservatories\, as well as how you can volunteer for local committees. We are thrilled to have you here in New England.
URL:https://salemforallages.org/event/sag-aftra-meeting/
ATTACH;FMTTYPE=image/jpeg:https://salemforallages.org/wp-content/uploads/2024/07/7.24-Salem-Event-Flyer-2.jpg
END:VEVENT
BEGIN:VEVENT
DTSTART;TZID=America/New_York:20240724T183000
DTEND;TZID=America/New_York:20240724T193000
DTSTAMP:20260425T203155
CREATED:20240720T090015Z
LAST-MODIFIED:20240720T090015Z
UID:19634-1721845800-1721849400@salemforallages.org
SUMMARY:Full Moon Yoga
DESCRIPTION:Wild Sea Wellness will be offering monthly yoga classes at The House of the Seven Gables throughout 2024. Be sure to check their website and calendar for details\, dates\, and links to register. \nThe next partnership is scheduled for July 24 at 6:30 p.m. on our seaside lawn (rain location is our spacious Holyoke Room in the Visitor Center).
URL:https://salemforallages.org/event/full-moon-yoga-10/
ATTACH;FMTTYPE=image/jpeg:https://salemforallages.org/wp-content/uploads/2024/07/WildSeaWellness1920x1080-July-2024.jpg
END:VEVENT
BEGIN:VEVENT
DTSTART;TZID=America/New_York:20240724T183000
DTEND;TZID=America/New_York:20240724T203000
DTSTAMP:20260425T203155
CREATED:20240720T090014Z
LAST-MODIFIED:20240720T090014Z
UID:19633-1721845800-1721853000@salemforallages.org
SUMMARY:SATAN SIP ‘N PAINT
DESCRIPTION:Paint a Satanic scene while sipping adult beverages! 21+ event. No painting experience necessary! Instruction\, inspiration\, all art supplies\, refreshments\, snacks\, ice and cups provided. Just bring yourself and your favorite beverage! \nHosted by the talented Salem Art Gallery staff. \nTickets are $33 per person. Availability is limited.
URL:https://salemforallages.org/event/satan-sip-n-paint-18/
ATTACH;FMTTYPE=image/png:https://salemforallages.org/wp-content/uploads/2024/03/8f43122b-9ebc-4e6b-bb40-ff4d2d221137_482x676.png
END:VEVENT
BEGIN:VEVENT
DTSTART;TZID=America/New_York:20240724T193000
DTEND;TZID=America/New_York:20240724T210000
DTSTAMP:20260425T203155
CREATED:20240720T090018Z
LAST-MODIFIED:20240720T090018Z
UID:19636-1721849400-1721854800@salemforallages.org
SUMMARY:Wednesday Wing Nights and Trivia
DESCRIPTION:Join the Village Tavern Wednesday nights form 50 cent wings and Stump Trivia.
URL:https://salemforallages.org/event/wednesday-wing-nights-and-trivia-11/
ATTACH;FMTTYPE=image/jpeg:https://salemforallages.org/wp-content/uploads/2024/05/Daily-Specials-fotor-20240509235039.jpg
END:VEVENT
BEGIN:VEVENT
DTSTART;TZID=America/New_York:20240724T200000
DTEND;TZID=America/New_York:20240724T235000
DTSTAMP:20260425T203155
CREATED:20240720T090018Z
LAST-MODIFIED:20240720T090018Z
UID:19637-1721851200-1721865000@salemforallages.org
SUMMARY:Super Smash Bros Ultimate Tournament @ BitBar
DESCRIPTION:We’re back with another round of Smash Ultimate here at the Bit Bar in Salem\, MAAll skill levels are welcome! \nDoors open for friendlies at 7pm\, bracket starts at 8pm!-$10 entry fee\, 100% goes to prize pool-BYO-controller highly encouraged-Competitors who bring a complete Smash Bros setup (Switch\, Dock\, Copy of Smash Ultimate with all DLC\, AC Adaptor\, and GameCube adaptor) will have their entry fee waved-Extra setups are first come\, first served\, and slots are limited\, so please reach out to us if you plan on bringing your setup-21+ \nFor this tournament\, we will be using the LMBM Ruleset:-3 stocks\, 7 minutes-Hazards Off-1-2-1 strikes-3 bans-no DSR~Stages~Starters:-Battlefield-Final Destination-Hollow Bastion-Pokémon Stadium 2-Small BattlefieldCounterpicks:-Kalos Pokémon League-Town and City-SmashvillePayout for the event will be as follows:1st – 40%2nd – 25%3rd – 15%4th – 10%5th – 5%5% \nThe event will be livestreamed at twitch.tv/bitbarstream and will be hosted by Bebo\, Sunny\, and TEEJ\, and it’s gonna be a bash!We look forward to seeing all of you challengers again\, as well as some new faces!
URL:https://salemforallages.org/event/super-smash-bros-ultimate-tournament-bitbar-4/
ATTACH;FMTTYPE=image/jpeg:https://salemforallages.org/wp-content/uploads/2024/07/405331326_744352374378656_2493508318919145706_n.jpg
END:VEVENT
BEGIN:VEVENT
DTSTART;TZID=America/New_York:20240725T090000
DTEND;TZID=America/New_York:20240725T114500
DTSTAMP:20260425T203155
CREATED:20240720T090019Z
LAST-MODIFIED:20240720T090019Z
UID:19639-1721898000-1721907900@salemforallages.org
SUMMARY:Karaoke at BitBar!
DESCRIPTION:Bit Bar is only place you can sing karaoke while being bathed in the warm glow of dozens of cathode-ray tubes!
URL:https://salemforallages.org/event/karaoke-at-bitbar-4/
ATTACH;FMTTYPE=image/jpeg:https://salemforallages.org/wp-content/uploads/2024/07/422851727_775944737886086_2562482271495837937_n.jpg
END:VEVENT
BEGIN:VEVENT
DTSTART;TZID=America/New_York:20240725T090000
DTEND;TZID=America/New_York:20240725T223000
DTSTAMP:20260425T203155
CREATED:20240720T090018Z
LAST-MODIFIED:20240720T090018Z
UID:19638-1721898000-1721946600@salemforallages.org
SUMMARY:Karaoke in the Lounge at Village Tavern
DESCRIPTION:Join the Village Tavern in Salem on Thursday nights at 9pm for Karaoke.
URL:https://salemforallages.org/event/karaoke-in-the-lounge-at-village-tavern-11/
ATTACH;FMTTYPE=image/jpeg:https://salemforallages.org/wp-content/uploads/2024/05/Daily-Specials-fotor-20240509235039.jpg
END:VEVENT
BEGIN:VEVENT
DTSTART;TZID=America/New_York:20240725T110000
DTEND;TZID=America/New_York:20240725T170000
DTSTAMP:20260425T203155
CREATED:20240720T090019Z
LAST-MODIFIED:20240720T090019Z
UID:19640-1721905200-1721926800@salemforallages.org
SUMMARY:UNVEILING DAY at the Satanic Temple
DESCRIPTION:Join the Salem Art Gallery on July 25th for Free admission and family fun to celebrate the anniversary of the unveiling of our infamous Baphomet statue. Enjoy what we will have to offer on this day including refreshments\, yard games\, and bingo!
URL:https://salemforallages.org/event/unveiling-day-at-the-satanic-temple-2/
ATTACH;FMTTYPE=image/jpeg:https://salemforallages.org/wp-content/uploads/2024/07/Unveiling_Day_1_482x676.jpg
END:VEVENT
BEGIN:VEVENT
DTSTART;TZID=America/New_York:20240725T113000
DTEND;TZID=America/New_York:20240725T160000
DTSTAMP:20260425T203155
CREATED:20240720T090022Z
LAST-MODIFIED:20240720T090022Z
UID:19642-1721907000-1721923200@salemforallages.org
SUMMARY:Magical Transformations
DESCRIPTION:Through our “Magical Transformations” children embrace their charms and express their individuality. Children can choose to transform into a “Witch” or “Wizard”!
URL:https://salemforallages.org/event/magical-transformations-51/
ATTACH;FMTTYPE=image/jpeg:https://salemforallages.org/wp-content/uploads/2024/07/Transformations-10.jpg
END:VEVENT
BEGIN:VEVENT
DTSTART;TZID=America/New_York:20240725T113000
DTEND;TZID=America/New_York:20240725T160000
DTSTAMP:20260425T203155
CREATED:20240721T090010Z
LAST-MODIFIED:20240721T090010Z
UID:19644-1721907000-1721923200@salemforallages.org
SUMMARY:Stop In For a Spell: DIY Potion Bar
DESCRIPTION:Fly in to The Good Witch and Stay for a Spell! Mix up your very own potion at our Potion Bar! \nDrop Ins begin at store opening and end 30 minutes before closing and are offered on a first come\, first serve basis. Purchase online or pay in store. \nDrop Ins may be unavailable during a birthday party or store event. Please call ahead\, or check our posted hours on Google. \nUnder age 4 may participate with the help of a supervising adult.
URL:https://salemforallages.org/event/stop-in-for-a-spell-diy-potion-bar-44/
ATTACH;FMTTYPE=image/jpeg:https://salemforallages.org/wp-content/uploads/2024/07/Stop-In-For-a-Spell-SQUARE-17.jpg
END:VEVENT
BEGIN:VEVENT
DTSTART;TZID=America/New_York:20240725T113000
DTEND;TZID=America/New_York:20240725T160000
DTSTAMP:20260425T203155
CREATED:20240721T090015Z
LAST-MODIFIED:20240721T090015Z
UID:19646-1721907000-1721923200@salemforallages.org
SUMMARY:Potion Brewing Store Experience
DESCRIPTION:Make your visit to The Good Witch of Salem’s shop memorable by booking our in-store Potion Brewing Experience. This activity is led by our Witch Apprentices. \nActivities are recommended for children ages 3 and up. \n*One appointment slot for each child is required.*
URL:https://salemforallages.org/event/potion-brewing-store-experience-44/
ATTACH;FMTTYPE=image/jpeg:https://salemforallages.org/wp-content/uploads/2024/07/Potion-Brewing-Store-Experience-18.jpg
END:VEVENT
BEGIN:VEVENT
DTSTART;TZID=America/New_York:20240725T140000
DTEND;TZID=America/New_York:20240725T160000
DTSTAMP:20260425T203155
CREATED:20240721T090019Z
LAST-MODIFIED:20240721T090019Z
UID:19648-1721916000-1721923200@salemforallages.org
SUMMARY:Salem Paddle Tours
DESCRIPTION:Discover a different side of Salem with our Salem Paddle Tour! Beyond its famous witch trials\, Salem boasts a stunning oceanfront perfect for exploration.  Glide along its historic coastline\, once the world’s richest port\, and immerse yourself in breathtaking natural beauty and maritime heritage.
URL:https://salemforallages.org/event/salem-paddle-tours-17/
ATTACH;FMTTYPE=image/jpeg:https://salemforallages.org/wp-content/uploads/2024/07/CoasttoCoast2022-93-scaled-3.jpg
END:VEVENT
BEGIN:VEVENT
DTSTART;TZID=America/New_York:20240725T150000
DTEND;TZID=America/New_York:20240725T190000
DTSTAMP:20260425T203155
CREATED:20240721T090022Z
LAST-MODIFIED:20240721T090022Z
UID:19650-1721919600-1721934000@salemforallages.org
SUMMARY:Salem Farmers’ Market
DESCRIPTION:The Salem Farmers’ Market returns to Derby Square this summer starting in June\, running through October 10th. The Salem Farmers’ Market dates back to 1634. With its peak around 1930\, an estimated 10\,000 people visited the market on a single Saturday. And you thought parking was tough today! Enjoy fresh produce\, baked goods\, culinary delights\, live performances\, and more!
URL:https://salemforallages.org/event/salem-farmers-market-105/
ATTACH;FMTTYPE=image/jpeg:https://salemforallages.org/wp-content/uploads/2023/06/Day-1-2-hours-is-what-it-takes-to-set-up-the-Salem-Farmers-Market_-every-week-before-we-greet-over-2000-shoppers.jpg
END:VEVENT
BEGIN:VEVENT
DTSTART;TZID=America/New_York:20240725T180000
DTEND;TZID=America/New_York:20240725T190000
DTSTAMP:20260425T203155
CREATED:20240721T090022Z
LAST-MODIFIED:20240721T090022Z
UID:19651-1721930400-1721934000@salemforallages.org
SUMMARY:THURSDAY NIGHT REGIMENT (RUN CLUB)
DESCRIPTION:Calling all runners! Are you ready to lace up your shoes\, hit the pavement\, and join a fantastic community of like-minded individuals? Look no further than the Thursday Night Regiment\, East Regiment Beer Company’s very own run club\, designed to bring together runners of all levels for an incredible weekly experience. Every Thursday at 6pm. \nAt the East Regiment\, we believe in the power of community and the joy of running together. Whether you’re a seasoned marathon runner or a beginner taking your first steps\, our club welcomes everyone with open arms. It’s not about speed or distance; it’s about embracing the shared passion for running and fostering a supportive environment. Our run club is a place where friendships are forged\, stories are shared\, and personal goals are conquered. \nAs a member of our club\, you’ll have the opportunity to earn some exclusive perks. Attend 10 runs\, and you’ll be rewarded with a free glass to commemorate your achievement. But that’s not all! Push yourself further\, attend 25 runs\, and you’ll earn a coveted free t-shirt\, proudly displaying your dedication to our vibrant community. \nBut it’s not just about the rewards; it’s about the experience. We finish our runs at East Regiment Beer Company\, located in the heart of Salem. What better way to celebrate your accomplishments and unwind than rewarding yourself with a well-deserved beer? It’s the perfect opportunity to socialize\, share stories\, and continue building those connections beyond the run. \nRunning in a group offers numerous benefits beyond the physical. It provides motivation\, accountability\, and a sense of camaraderie that can make those long miles feel effortless. Together\, we’ll explore the beautiful streets and scenic routes of Salem\, MA\, while nurturing our passion for running and building lasting connections. Additionally\, running in a group enhances safety as we watch out for one another\, ensuring that everyone enjoys a secure and enjoyable experience. We believe in creating a supportive environment where everyone feels comfortable and confident\, empowering each other to reach new milestones and embrace the joy of running together. Don’t forget to invite your friends\, family\, and co-workers. The more\, the merrier!
URL:https://salemforallages.org/event/thursday-night-regiment-run-club-29/
ATTACH;FMTTYPE=image/jpeg:https://salemforallages.org/wp-content/uploads/2024/06/RunClubV2.jpg
END:VEVENT
BEGIN:VEVENT
DTSTART;TZID=America/New_York:20240725T180000
DTEND;TZID=America/New_York:20240725T190000
DTSTAMP:20260425T203155
CREATED:20240721T090023Z
LAST-MODIFIED:20240721T090023Z
UID:19653-1721930400-1721934000@salemforallages.org
SUMMARY:THURSDAY NIGHT REGIMENT (RUN CLUB)
DESCRIPTION:Calling all runners! Are you ready to lace up your shoes\, hit the pavement\, and join a fantastic community of like-minded individuals? Look no further than the Thursday Night Regiment\, East Regiment Beer Company’s very own run club\, designed to bring together runners of all levels for an incredible weekly experience. Every Thursday at 6pm.
URL:https://salemforallages.org/event/thursday-night-regiment-run-club-30/
ATTACH;FMTTYPE=image/jpeg:https://salemforallages.org/wp-content/uploads/2024/06/RunClubV2.jpg
END:VEVENT
BEGIN:VEVENT
DTSTART;TZID=America/New_York:20240725T180000
DTEND;TZID=America/New_York:20240725T210000
DTSTAMP:20260425T203155
CREATED:20240721T090023Z
LAST-MODIFIED:20240721T090023Z
UID:19652-1721930400-1721941200@salemforallages.org
SUMMARY:BIKE TUNES W/ SUN & SKI
DESCRIPTION:Is your ride feeling a bit off? Come on down to a Bike Tunes Night where we’re offering FREE basic bike adjustments to get you back on track! Our expert technician will fine-tune your bike\, ensuring it’s in top shape for your riding adventures. \nWhat We Offer: \n\n\nBrake checks and adjustments \n\n\nGear tuning \n\n\nTire pressure checks and inflation \n\n\nChain lubrication \n\n\n… And More! \n\n\nIf your bike needs more than just a tune-up\, we’ll provide a detailed recommendation for any additional work required. If you bring it to Sun & Ski they’ll give you a discount on the work done!
URL:https://salemforallages.org/event/bike-tunes-w-sun-ski-5/
ATTACH;FMTTYPE=image/jpeg:https://salemforallages.org/wp-content/uploads/2024/05/BikeTunesWebsite.jpg
END:VEVENT
BEGIN:VEVENT
DTSTART;TZID=America/New_York:20240725T183000
DTEND;TZID=America/New_York:20240725T220000
DTSTAMP:20260425T203155
CREATED:20240721T090023Z
LAST-MODIFIED:20240721T090023Z
UID:19654-1721932200-1721944800@salemforallages.org
SUMMARY:Open-Mic Night
DESCRIPTION:Sing\, dance\, or simply witness local musical talent\, or simply witness the chaos of Gulu-Gulu’s open mic. \n  \nThe best open mic in the World\, on the North Shore\, in Salem! Come join the fun every Thursday night! Anything and everything are welcome. Sing\, Dance\, Hum\, Orate\, or simply witness the beautiful chaos that is the Gulu Gulu Open Mic Shindig. Sign-up at 7:30pm.
URL:https://salemforallages.org/event/open-mic-night-52/
ATTACH;FMTTYPE=image/jpeg:https://salemforallages.org/wp-content/uploads/2023/08/image-asset.jpg
END:VEVENT
BEGIN:VEVENT
DTSTART;TZID=America/New_York:20240725T190000
DTEND;TZID=America/New_York:20240725T203000
DTSTAMP:20260425T203155
CREATED:20240721T090024Z
LAST-MODIFIED:20240721T090024Z
UID:19656-1721934000-1721939400@salemforallages.org
SUMMARY:North Shore Concert Band
DESCRIPTION:Tuesday\, June 25th\, 2024\, 7-8:30 PM\, Salem Willows (rain date\, Thursday June 27th\, 7 PM) \nTheme: “Maritime Music”\, David Benjamin\, Conductor \nThursday\, July 4th\, 2024\, I:00 PM\, Salem Willows (rain date\, Sat.\, July 6th\, I:00 PM \nTheme: “Salem Willows July 4th Celebration”\,  Featuring Patriotic music\, Bob Chadwick\, Guest Conductor \nTuesday\, July 9th\, 2024\, 7-8:30 PM\, Salem Willows (rain date\, Thursday\, July 11th\, 7 PM) \nTheme: “The American Songbook”; Peter Cokkinias\, Guest Conductor\, With Anna Guigui\, Guest Vocalist; \nTuesday\, July 16th\, 2024\, 7-8:30 PM\, Salem Willows  rain date\, Thursday\, July 18th\, 7 PM \nTheme: “Bold & Brassy”; David Benjamin\, Conductor\, Featuring our brass section Players. \nTuesday\, July 23rd\, 2024\, 7-8:30 PM\, Salem Willows (rain date\, Thursday\, July 25th\, 7 PM) \nTheme: “Barbie\, Ken and Taylor Swift”; David Benjamin\, Conductor\, Featuring students of the Alexandra Grace Music School and the music of Taylor Swift- A Family / youth program with a contemporary pop focus. \nTuesday\, July 30th\, 2024\, 7-8:30 PM\, Salem Willows (rain date\, Thursday\, August 1st\, 7 PM) \nTheme: “Vietnam 50th Anniversary Concert” (1955-1975); David Benjamin\, Conductor Featuring Patriotic selections along with music of the 60’s and 70’s \nAdditional Performance: \nSaturday\, September 14th\,2024\, 1:00 PM to 2:30 PM\, Salem\, At the Salem Armory Visitors Center at 2 New Liberty St. It is across the street from a public parking garage.  This FREE concert is part of the Essex Heritage Trails and Sails event\, which runs from September 14th through September 29th. \nNote: The North Shore Concert Band will play outside adjacent to the Breezeway.  The audience will be seated in the shaded park adjacent to the building.  There will be a few benches or you may wish to bring your own chairs or blanket.  There is no rain date scheduled for this concert. \nA Merrytime Days Concert: Family concert/ or Barbie\, Taylor runout/ or Maritime Music.
URL:https://salemforallages.org/event/north-shore-concert-band-17/
ATTACH;FMTTYPE=image/jpeg:https://salemforallages.org/wp-content/uploads/2024/07/20180705_192725-1-1024x576-1.jpg
END:VEVENT
BEGIN:VEVENT
DTSTART;TZID=America/New_York:20240725T190000
DTEND;TZID=America/New_York:20240725T210000
DTSTAMP:20260425T203155
CREATED:20240721T090024Z
LAST-MODIFIED:20240721T090024Z
UID:19655-1721934000-1721941200@salemforallages.org
SUMMARY:Live Music at Salem VFW
DESCRIPTION:Join us for the best events in town! Whether you’re looking for live music\, sports viewing parties\, or local veteran events\, we’ve got you covered. Check out our upcoming events below and mark your calendars.
URL:https://salemforallages.org/event/live-music-at-salem-vfw-19/
ATTACH;FMTTYPE=image/png:https://salemforallages.org/wp-content/uploads/2024/03/VFW-live-music.png
END:VEVENT
BEGIN:VEVENT
DTSTART;TZID=America/New_York:20240725T193000
DTEND;TZID=America/New_York:20240725T213000
DTSTAMP:20260425T203155
CREATED:20240721T090024Z
LAST-MODIFIED:20240721T090024Z
UID:19657-1721935800-1721943000@salemforallages.org
SUMMARY:Thursday night Summer Music Series on the Hannah Glover
DESCRIPTION:The Hannah Glover is back with another summer music series. Join Mahi Mahi cruises for a night out on the water with live music and drinks. Stay tuned for the lineup announcement.
URL:https://salemforallages.org/event/thursday-night-summer-music-series-on-the-hannah-glover-29/
ATTACH;FMTTYPE=image/jpeg:https://salemforallages.org/wp-content/uploads/2024/07/Gloverlitup-scaled-3.jpg
END:VEVENT
BEGIN:VEVENT
DTSTART;TZID=America/New_York:20240726T100000
DTEND;TZID=America/New_York:20240726T140000
DTSTAMP:20260425T203155
CREATED:20240721T090028Z
LAST-MODIFIED:20240721T090028Z
UID:19659-1721988000-1722002400@salemforallages.org
SUMMARY:Wild Edibles at Bakers Island Light
DESCRIPTION:Join naturalist and wild foods enthusiast Russ Cohen on a special edible excursion at Bakers Island Light.\n\n\nExplore Wild Edibles at Bakers Island Light Station \nCome join naturalist and wild foods enthusiast\, Russ Cohen on a special edible excursion out to Bakers Island Light Station\, a historic property owned by Essex Heritage. \nThis 4-hour special trip includes the boat ride aboard Naumkeag and a walking tour of the property with expert Russ Cohen pointing out special species along the trails including the kind you can snack on! Before departing for the main land\, enjoy sumac-ade (a natural alternative to Kool-Aid) and a wild goodie or two made by Russ Cohen himself! The wild edibles tour includes over 3 dozen species of edible wild plants that have existed on the island for some time. Also expect to encounter at least six of the additional native wild edible species that were planted last summer.
URL:https://salemforallages.org/event/wild-edibles-at-bakers-island-light-2/
ATTACH;FMTTYPE=image/jpeg:https://salemforallages.org/wp-content/uploads/2024/07/Wild-Edibles-1536x840-1.jpg
END:VEVENT
BEGIN:VEVENT
DTSTART;TZID=America/New_York:20240726T113000
DTEND;TZID=America/New_York:20240726T160000
DTSTAMP:20260425T203155
CREATED:20240721T090032Z
LAST-MODIFIED:20240721T090032Z
UID:19661-1721993400-1722009600@salemforallages.org
SUMMARY:Magical Transformations
DESCRIPTION:Through our “Magical Transformations” children embrace their charms and express their individuality. Children can choose to transform into a “Witch” or “Wizard”!
URL:https://salemforallages.org/event/magical-transformations-52/
ATTACH;FMTTYPE=image/jpeg:https://salemforallages.org/wp-content/uploads/2024/07/Transformations-11.jpg
END:VEVENT
BEGIN:VEVENT
DTSTART;TZID=America/New_York:20240726T113000
DTEND;TZID=America/New_York:20240726T160000
DTSTAMP:20260425T203155
CREATED:20240721T090035Z
LAST-MODIFIED:20240721T090035Z
UID:19663-1721993400-1722009600@salemforallages.org
SUMMARY:Stop In For a Spell: DIY Potion Bar
DESCRIPTION:Fly in to The Good Witch and Stay for a Spell! Mix up your very own potion at our Potion Bar! \nDrop Ins begin at store opening and end 30 minutes before closing and are offered on a first come\, first serve basis. Purchase online or pay in store. \nDrop Ins may be unavailable during a birthday party or store event. Please call ahead\, or check our posted hours on Google. \nUnder age 4 may participate with the help of a supervising adult.
URL:https://salemforallages.org/event/stop-in-for-a-spell-diy-potion-bar-45/
ATTACH;FMTTYPE=image/jpeg:https://salemforallages.org/wp-content/uploads/2024/07/Stop-In-For-a-Spell-SQUARE-18.jpg
END:VEVENT
BEGIN:VEVENT
DTSTART;TZID=America/New_York:20240726T113000
DTEND;TZID=America/New_York:20240726T160000
DTSTAMP:20260425T203155
CREATED:20240721T090039Z
LAST-MODIFIED:20240721T090039Z
UID:19665-1721993400-1722009600@salemforallages.org
SUMMARY:Potion Brewing Store Experience
DESCRIPTION:Make your visit to The Good Witch of Salem’s shop memorable by booking our in-store Potion Brewing Experience. This activity is led by our Witch Apprentices. \nActivities are recommended for children ages 3 and up. \n*One appointment slot for each child is required.*
URL:https://salemforallages.org/event/potion-brewing-store-experience-45/
ATTACH;FMTTYPE=image/jpeg:https://salemforallages.org/wp-content/uploads/2024/07/Potion-Brewing-Store-Experience-19.jpg
END:VEVENT
BEGIN:VEVENT
DTSTART;TZID=America/New_York:20240726T180000
DTEND;TZID=America/New_York:20240726T191500
DTSTAMP:20260425T203155
CREATED:20240721T090046Z
LAST-MODIFIED:20240721T090046Z
UID:19669-1722016800-1722021300@salemforallages.org
SUMMARY:Summer Salon: Johnny Cash—Songs & Stories with Matt York
DESCRIPTION:Longtime New England musician/author Matt York will perform the songs of Johnny Cash and tell stories about Cash’s career\, spanning from his early beginnings in the 1950’s to his passing in 2003. York will also play some songs from Cash’s peers including members of the Highwaymen. York was recently nominated for the Boston Music Award for Best Country Artist and his album Gently Used was named one of Patriot Ledger’s best albums of 2022.
URL:https://salemforallages.org/event/summer-salon-johnny-cash-songs-stories-with-matt-york/
ATTACH;FMTTYPE=image/jpeg:https://salemforallages.org/wp-content/uploads/2024/07/JohnnyCash_art-1024x610-1.jpg
END:VEVENT
BEGIN:VEVENT
DTSTART;TZID=America/New_York:20240726T180000
DTEND;TZID=America/New_York:20240726T193000
DTSTAMP:20260425T203155
CREATED:20240721T090042Z
LAST-MODIFIED:20240721T090042Z
UID:19667-1722016800-1722022200@salemforallages.org
SUMMARY:Paddle & Pints
DESCRIPTION:Join us for a beautiful 90-minute paddle along the scenic coastline\, followed by a relaxing round of drinks at a local brewery or bar—on us! Whether you’re on a paddleboard or kayak\, this tour promises great views\, better company\, and a perfect pint to top it off. It’s the ideal way to experience the water and wind down with a cold one.
URL:https://salemforallages.org/event/paddle-pints/
ATTACH;FMTTYPE=image/jpeg:https://salemforallages.org/wp-content/uploads/2024/07/13268336_1297864206894734_8994148835758914233_o-1.jpg
END:VEVENT
END:VCALENDAR