BEGIN:VCALENDAR
VERSION:2.0
PRODID:-//Salem for All Ages - ECPv6.15.18//NONSGML v1.0//EN
CALSCALE:GREGORIAN
METHOD:PUBLISH
X-ORIGINAL-URL:https://salemforallages.org
X-WR-CALDESC:Events for Salem for All Ages
REFRESH-INTERVAL;VALUE=DURATION:PT1H
X-Robots-Tag:noindex
X-PUBLISHED-TTL:PT1H
BEGIN:VTIMEZONE
TZID:America/New_York
BEGIN:DAYLIGHT
TZOFFSETFROM:-0500
TZOFFSETTO:-0400
TZNAME:EDT
DTSTART:20240310T070000
END:DAYLIGHT
BEGIN:STANDARD
TZOFFSETFROM:-0400
TZOFFSETTO:-0500
TZNAME:EST
DTSTART:20241103T060000
END:STANDARD
BEGIN:DAYLIGHT
TZOFFSETFROM:-0500
TZOFFSETTO:-0400
TZNAME:EDT
DTSTART:20250309T070000
END:DAYLIGHT
BEGIN:STANDARD
TZOFFSETFROM:-0400
TZOFFSETTO:-0500
TZNAME:EST
DTSTART:20251102T060000
END:STANDARD
BEGIN:DAYLIGHT
TZOFFSETFROM:-0500
TZOFFSETTO:-0400
TZNAME:EDT
DTSTART:20260308T070000
END:DAYLIGHT
BEGIN:STANDARD
TZOFFSETFROM:-0400
TZOFFSETTO:-0500
TZNAME:EST
DTSTART:20261101T060000
END:STANDARD
END:VTIMEZONE
BEGIN:VEVENT
DTSTART;TZID=America/New_York:20250419T103000
DTEND;TZID=America/New_York:20250419T130000
DTSTAMP:20260423T005006
CREATED:20250414T090139Z
LAST-MODIFIED:20250414T090139Z
UID:23218-1745058600-1745067600@salemforallages.org
SUMMARY:Easter at the Pickering House
DESCRIPTION:Join us at the Pickering House and yard for a day of Easter fun for the entire family! We’ll have an egg hunt\, egg decorating\, games\, a visit from a special rabbit\, live music and more! The Cravery food truck will be on site\, and we’ll be serving snacks and other goodies. History\, family\, and fun all come together! \n10:30am – 1:00pm \nEgg Hunt will start at 11:00. \nActivities\, games\, live music throughout the day! \nJoin us at:\n18 Broad St\nSalem\, MA
URL:https://salemforallages.org/event/easter-at-the-pickering-house/
ATTACH;FMTTYPE=image/jpeg:https://salemforallages.org/wp-content/uploads/2025/04/Pickering-House-Easter-Poster.jpg
END:VEVENT
BEGIN:VEVENT
DTSTART;TZID=America/New_York:20250419T110000
DTEND;TZID=America/New_York:20250419T123000
DTSTAMP:20260423T005006
CREATED:20250414T090144Z
LAST-MODIFIED:20250414T090144Z
UID:23220-1745060400-1745065800@salemforallages.org
SUMMARY:Revolution 250 Salem Tour
DESCRIPTION:Everyone knows Salem for the 1692 Witchcraft Trials\, but did you know that Salem made significant contributions to the American Revolution? The shot heard round the world almost happened here\, we were known for our Privateers (legal Pirates)\, who were the most successful against the British\, and British Governor General Thomas Gage encountered some of his biggest challenges to his authority in Salem. \nWe say that without Salem\, the United States may not be the same United States we know today.\nCome to Salem and learn the incredible role that our Patriots played in the start of our country.
URL:https://salemforallages.org/event/revolution-250-salem-tour-2/
ATTACH;FMTTYPE=image/png:https://salemforallages.org/wp-content/uploads/2025/04/Screen-Shot-2025-03-16-at-5.02.45-PM.png
END:VEVENT
BEGIN:VEVENT
DTSTART;TZID=America/New_York:20250419T113000
DTEND;TZID=America/New_York:20250419T140000
DTSTAMP:20260423T005006
CREATED:20250414T090149Z
LAST-MODIFIED:20250414T090149Z
UID:23224-1745062200-1745071200@salemforallages.org
SUMMARY:The Good Witch of Salem’s Fairy Dreams Potion
DESCRIPTION:Fly into The Good Witch and Stay for a Spell! Step into the DIY Good Witch of Salem’s Potion Bar\, where you can mix your very own magical potion creations! Choose your ingredients\, sprinkle in magical moondust\, add in your golden heart intentions\, and seal with a special charm to take home the enchantment!
URL:https://salemforallages.org/event/the-good-witch-of-salems-fairy-dreams-potion-2/
ATTACH;FMTTYPE=image/jpeg:https://salemforallages.org/wp-content/uploads/2025/04/Fairy-Dreams-scaled-1.jpg
END:VEVENT
BEGIN:VEVENT
DTSTART;TZID=America/New_York:20250419T113000
DTEND;TZID=America/New_York:20250419T160000
DTSTAMP:20260423T005006
CREATED:20250414T090145Z
LAST-MODIFIED:20250414T090145Z
UID:23221-1745062200-1745078400@salemforallages.org
SUMMARY:Magical Transformations
DESCRIPTION:Through our “Magical Transformations” children embrace their charms and express their individuality. Children can choose to transform into a “Witch” or “Wizard”!
URL:https://salemforallages.org/event/magical-transformations-306/
ATTACH;FMTTYPE=image/png:https://salemforallages.org/wp-content/uploads/2024/08/Transformations.png
END:VEVENT
BEGIN:VEVENT
DTSTART;TZID=America/New_York:20250419T113000
DTEND;TZID=America/New_York:20250419T160000
DTSTAMP:20260423T005006
CREATED:20250414T090145Z
LAST-MODIFIED:20250414T090145Z
UID:23222-1745062200-1745078400@salemforallages.org
SUMMARY:Potion Brewing Store Experience
DESCRIPTION:Make your visit to The Good Witch of Salem’s shop memorable by booking our in-store Potion Brewing Experience. This activity is led by our Witch Apprentices. \nActivities are recommended for children ages 3 and up. \n*One appointment slot for each child is required.*
URL:https://salemforallages.org/event/potion-brewing-store-experience-298/
ATTACH;FMTTYPE=image/jpeg:https://salemforallages.org/wp-content/uploads/2025/04/Potion-Brewing-Store-Experience-12.jpg
END:VEVENT
BEGIN:VEVENT
DTSTART;TZID=America/New_York:20250419T120000
DTEND;TZID=America/New_York:20250419T133000
DTSTAMP:20260423T005006
CREATED:20250414T090153Z
LAST-MODIFIED:20250414T090153Z
UID:23226-1745064000-1745069400@salemforallages.org
SUMMARY:Craft Witch
DESCRIPTION:Craft Witch is a DIY crafting session with something for everyone! Choose from a wide array of options to create your very own one-of-a-kind craft. Whichever craft you decide to create\, you’ll be provided with all the materials\, tools\, and knowledge needed to let your creativity flourish. Unlike our broom making\, bookbinding\, and spelljar making workshops in which participants are being guided through the crafting process step-by step by an instructor\, the DIY nature of Craft Witch means that you can use the studio time however you wish. Check out the crafting options on our website!
URL:https://salemforallages.org/event/craft-witch-36/
ATTACH;FMTTYPE=image/jpeg:https://salemforallages.org/wp-content/uploads/2025/04/Image-from-iOS-scaled-8.jpg
END:VEVENT
BEGIN:VEVENT
DTSTART;TZID=America/New_York:20250419T180000
DTEND;TZID=America/New_York:20250419T193000
DTSTAMP:20260423T005006
CREATED:20250414T090157Z
LAST-MODIFIED:20250414T090157Z
UID:23228-1745085600-1745091000@salemforallages.org
SUMMARY:Simon Gibson
DESCRIPTION:Described as Chris Farley meets Sam Kinison\, Simon has captivated audiences all over the country with his one of a kind comedic style. The co-host of NBC and USA Network’s CANNONBALL\, LA-based comedian SIMON GIBSON exploded onto the comedy scene after a stand out performance at the JUST FOR LAUGHS NEW FACES showcase in Montreal. He can currently be seen as one of the leads of the Amazon series INSIDE JOKES\, chronicling his journey from open mic comic to the mecca of comedy at JFL Montreal.
URL:https://salemforallages.org/event/simon-gibson/
ATTACH;FMTTYPE=image/png:https://salemforallages.org/wp-content/uploads/2025/04/Simon-Gibson.png
END:VEVENT
BEGIN:VEVENT
DTSTART;TZID=America/New_York:20250419T200000
DTEND;TZID=America/New_York:20250419T220000
DTSTAMP:20260423T005006
CREATED:20250414T090201Z
LAST-MODIFIED:20250414T090201Z
UID:23230-1745092800-1745100000@salemforallages.org
SUMMARY:The Fixx
DESCRIPTION:With Jill Sobule \nThe FIXX has been heralded as one of the most innovative bands to come out of the “MTV” era. \nThe style and substance of the band has always created a special connection with its audience. The Fixx’s themes are often complex\, introspective and thought-provoking and it’s also been mass appeal with three #1 hits\, five in the Top Five\, a dozen reaching the Top Ten and millions of albums sold worldwide. Instantly recognizable\, The Fixx sound is unmistakably unique and stands out among the thousands of artists filling the airwaves.
URL:https://salemforallages.org/event/the-fixx-2/
ATTACH;FMTTYPE=image/jpeg:https://salemforallages.org/wp-content/uploads/2025/04/JL_FIXX-MAIN-PRESS-IMAGE-scaled-1.jpg
END:VEVENT
BEGIN:VEVENT
DTSTART;TZID=America/New_York:20250419T203000
DTEND;TZID=America/New_York:20250419T220000
DTSTAMP:20260423T005006
CREATED:20250414T090205Z
LAST-MODIFIED:20250414T090205Z
UID:23232-1745094600-1745100000@salemforallages.org
SUMMARY:Simon Gibson
DESCRIPTION:Described as Chris Farley meets Sam Kinison\, Simon has captivated audiences all over the country with his one of a kind comedic style. The co-host of NBC and USA Network’s CANNONBALL\, LA-based comedian SIMON GIBSON exploded onto the comedy scene after a stand out performance at the JUST FOR LAUGHS NEW FACES showcase in Montreal. He can currently be seen as one of the leads of the Amazon series INSIDE JOKES\, chronicling his journey from open mic comic to the mecca of comedy at JFL Montreal.
URL:https://salemforallages.org/event/simon-gibson-2/
ATTACH;FMTTYPE=image/png:https://salemforallages.org/wp-content/uploads/2025/04/Simon-Gibson.png
END:VEVENT
BEGIN:VEVENT
DTSTART;TZID=America/New_York:20250420T070000
DTEND;TZID=America/New_York:20250420T130000
DTSTAMP:20260423T005006
CREATED:20250414T090206Z
LAST-MODIFIED:20250414T090206Z
UID:23233-1745132400-1745154000@salemforallages.org
SUMMARY:Easter Brunch
DESCRIPTION:🐰🌷 Hop into spring with an egg-stra special Easter Brunch at Boston Marriott Peabody! 🌷🐰 \nGather your loved ones and celebrate with a feast full of delicious flavors and festive cheer. From savory bites to sweet delights\, there’s something for everyone to enjoy! 🍽️✨ \nMake this Easter one to remember – good food\, great company\, and plenty of springtime joy! 💐🥂 \n📞 Call 978-977-6467 to reserve your spot!
URL:https://salemforallages.org/event/easter-brunch/
ATTACH;FMTTYPE=image/jpeg:https://salemforallages.org/wp-content/uploads/2025/04/Easter-Menu-2025-scaled-1.jpg
END:VEVENT
BEGIN:VEVENT
DTSTART;TZID=America/New_York:20250420T090000
DTEND;TZID=America/New_York:20250420T153000
DTSTAMP:20260423T005006
CREATED:20250418T090013Z
LAST-MODIFIED:20250418T090013Z
UID:23259-1745139600-1745163000@salemforallages.org
SUMMARY:Eric Pape: The Fair God at Hammond Castle Museum
DESCRIPTION:Self-Guided \nAn extraordinary fine art exhibit featuring over 50 works by renowned artist and former Cape Ann resident\, Eric Pape (1870–1938). Curated predominantly from the private collection of Dr. Gregory Conn\, the world’s leading Pape collector and biographer\, this special exhibition showcases a select group of Pape’s 300 illustrations for The Fair God (1898)—many unseen since his death in 1938.
URL:https://salemforallages.org/event/eric-pape-the-fair-god-at-hammond-castle-museum-3/
ATTACH;FMTTYPE=image/jpeg:https://salemforallages.org/wp-content/uploads/2025/04/CACC_600x900px_20250327-cropped.jpg
END:VEVENT
BEGIN:VEVENT
DTSTART;TZID=America/New_York:20250420T100000
DTEND;TZID=America/New_York:20250420T160000
DTSTAMP:20260423T005006
CREATED:20250414T090209Z
LAST-MODIFIED:20250414T090209Z
UID:23235-1745143200-1745164800@salemforallages.org
SUMMARY:Leslie’s Retreat: Salem on the Brink of Revolution Exhibit
DESCRIPTION:This National Park Service exhibit will explore why Crown soldiers under Lt. Col. Alexander Leslie came to Salem on February 26\, 1775\, who were the major players in the event\, and how this event has been remembered and celebrated in Salem in the last 250 years. \nThis free exhibit will be on display from February 15th -April 27th at the Salem Armory Visitor Center\, 2 New Liberty Street\, Salem. \nThe Salem Armory Visitor Center is open Wednesday – Sunday\, 10 am – 4 pm.
URL:https://salemforallages.org/event/leslies-retreat-salem-on-the-brink-of-revolution-exhibit-47/
ATTACH;FMTTYPE=image/jpeg:https://salemforallages.org/wp-content/uploads/2025/02/1775_1782_Salem-Old-North-Bridge-Leslie-Retreat-800x600-1.jpg
END:VEVENT
BEGIN:VEVENT
DTSTART;TZID=America/New_York:20250420T110000
DTEND;TZID=America/New_York:20250420T123000
DTSTAMP:20260423T005006
CREATED:20250414T090210Z
LAST-MODIFIED:20250414T090210Z
UID:23236-1745146800-1745152200@salemforallages.org
SUMMARY:Revolution 250 Salem Tour
DESCRIPTION:Everyone knows Salem for the 1692 Witchcraft Trials\, but did you know that Salem made significant contributions to the American Revolution? The shot heard round the world almost happened here\, we were known for our Privateers (legal Pirates)\, who were the most successful against the British\, and British Governor General Thomas Gage encountered some of his biggest challenges to his authority in Salem. \nWe say that without Salem\, the United States may not be the same United States we know today.\nCome to Salem and learn the incredible role that our Patriots played in the start of our country.
URL:https://salemforallages.org/event/revolution-250-salem-tour-3/
ATTACH;FMTTYPE=image/png:https://salemforallages.org/wp-content/uploads/2025/04/Screen-Shot-2025-03-16-at-5.02.45-PM.png
END:VEVENT
BEGIN:VEVENT
DTSTART;TZID=America/New_York:20250420T113000
DTEND;TZID=America/New_York:20250420T133000
DTSTAMP:20260423T005006
CREATED:20250415T090009Z
LAST-MODIFIED:20250415T090009Z
UID:23242-1745148600-1745155800@salemforallages.org
SUMMARY:Music in the Atrium: Celebrate Mother Earth with Johnny Fire
DESCRIPTION:This month\, our Music in the Atrium series celebrates Planet Earth with live performances by Johnny Fireseed. A project of Framingham-based Fireseed Arts Studios\, lead by artist and musician Patiño Vázquez in collaboration with local musicians and craftspeople\, Johnny Fireseed uses instruments made entirely from upcycled trash and repurposed items to perform original music with an upbeat eco message. The band’s inspiring sound aims to spread a message of joy\, fun and new ways of thinking about consumption and waste far and wide.
URL:https://salemforallages.org/event/music-in-the-atrium-celebrate-mother-earth-with-johnny-fire-2/
ATTACH;FMTTYPE=image/jpeg:https://salemforallages.org/wp-content/uploads/2025/04/Junkyard-Band-scaled-e1742231368823.jpg
END:VEVENT
BEGIN:VEVENT
DTSTART;TZID=America/New_York:20250420T113000
DTEND;TZID=America/New_York:20250420T150000
DTSTAMP:20260423T005006
CREATED:20250414T090211Z
LAST-MODIFIED:20250414T090211Z
UID:23238-1745148600-1745161200@salemforallages.org
SUMMARY:Stop In For a Spell: DIY Potion Bar
DESCRIPTION:Fly in to The Good Witch and Stay for a Spell! Mix up your very own potion at our Potion Bar! \nDrop Ins begin at store opening and end 30 minutes before closing and are offered on a first come\, first serve basis. Purchase online or pay in store. \nDrop Ins may be unavailable during a birthday party or store event. Please call ahead\, or check our posted hours on Google. \nUnder age 4 may participate with the help of a supervising adult.
URL:https://salemforallages.org/event/stop-in-for-a-spell-diy-potion-bar-220/
ATTACH;FMTTYPE=image/jpeg:https://salemforallages.org/wp-content/uploads/2025/04/Stop-In-For-a-Spell-SQUARE-5.jpg
END:VEVENT
BEGIN:VEVENT
DTSTART;TZID=America/New_York:20250420T113000
DTEND;TZID=America/New_York:20250420T150000
DTSTAMP:20260423T005006
CREATED:20250414T090215Z
LAST-MODIFIED:20250414T090215Z
UID:23240-1745148600-1745161200@salemforallages.org
SUMMARY:Potion Brewing Store Experience
DESCRIPTION:Make your visit to The Good Witch of Salem’s shop memorable by booking our in-store Potion Brewing Experience. This activity is led by our Witch Apprentices. \nActivities are recommended for children ages 3 and up. \n*One appointment slot for each child is required.*
URL:https://salemforallages.org/event/potion-brewing-store-experience-299/
ATTACH;FMTTYPE=image/jpeg:https://salemforallages.org/wp-content/uploads/2025/04/Potion-Brewing-Store-Experience-13.jpg
END:VEVENT
BEGIN:VEVENT
DTSTART;TZID=America/New_York:20250420T113000
DTEND;TZID=America/New_York:20250420T153000
DTSTAMP:20260423T005006
CREATED:20250414T090210Z
LAST-MODIFIED:20250414T090210Z
UID:23237-1745148600-1745163000@salemforallages.org
SUMMARY:Magical Transformations
DESCRIPTION:Through our “Magical Transformations” children embrace their charms and express their individuality. Children can choose to transform into a “Witch” or “Wizard”!
URL:https://salemforallages.org/event/magical-transformations-307/
ATTACH;FMTTYPE=image/png:https://salemforallages.org/wp-content/uploads/2024/08/Transformations-1.png
END:VEVENT
BEGIN:VEVENT
DTSTART;TZID=America/New_York:20250421T080000
DTEND;TZID=America/New_York:20250421T170000
DTSTAMP:20260423T005006
CREATED:20250415T090010Z
LAST-MODIFIED:20250415T090010Z
UID:23243-1745222400-1745254800@salemforallages.org
SUMMARY:Puppy Love Adoption
DESCRIPTION:Hosted By: The Good Witch of Salem\, herself! \nLet’s celebrate Love at a “Puppy Love Adoption Party”! Children will stuff their own 16 inch puppy plush\, create accessories\, and learn about crystal magic!\nThis workshop is limited to 4 children\, pre-registration is required. Under age 4 may attend with the help of a supervising adult.\nDue to space constraints\, please refrain from bringing in strollers and wagons. Ticket purchase only admits one (1) participating child.
URL:https://salemforallages.org/event/puppy-love-adoption/
ATTACH;FMTTYPE=image/jpeg:https://salemforallages.org/wp-content/uploads/2025/02/Puppy-Love-2.jpg
END:VEVENT
BEGIN:VEVENT
DTSTART;TZID=America/New_York:20250421T090000
DTEND;TZID=America/New_York:20250421T153000
DTSTAMP:20260423T005006
CREATED:20250418T090013Z
LAST-MODIFIED:20250418T090013Z
UID:23260-1745226000-1745249400@salemforallages.org
SUMMARY:Eric Pape: The Fair God at Hammond Castle Museum
DESCRIPTION:Self-Guided \nAn extraordinary fine art exhibit featuring over 50 works by renowned artist and former Cape Ann resident\, Eric Pape (1870–1938). Curated predominantly from the private collection of Dr. Gregory Conn\, the world’s leading Pape collector and biographer\, this special exhibition showcases a select group of Pape’s 300 illustrations for The Fair God (1898)—many unseen since his death in 1938.
URL:https://salemforallages.org/event/eric-pape-the-fair-god-at-hammond-castle-museum-4/
ATTACH;FMTTYPE=image/jpeg:https://salemforallages.org/wp-content/uploads/2025/04/CACC_600x900px_20250327-cropped.jpg
END:VEVENT
BEGIN:VEVENT
DTSTART;TZID=America/New_York:20250421T100000
DTEND;TZID=America/New_York:20250421T110000
DTSTAMP:20260423T005006
CREATED:20250415T090011Z
LAST-MODIFIED:20250415T090011Z
UID:23244-1745229600-1745233200@salemforallages.org
SUMMARY:Puppy Love Adoption
DESCRIPTION:Hosted By: The Good Witch of Salem\, herself! \nLet’s celebrate Love at a “Puppy Love Adoption Party”! Children will stuff their own 16 inch puppy plush\, create accessories\, and learn about crystal magic!\nThis workshop is limited to 4 children\, pre-registration is required. Under age 4 may attend with the help of a supervising adult.\nDue to space constraints\, please refrain from bringing in strollers and wagons. Ticket purchase only admits one (1) participating child.
URL:https://salemforallages.org/event/puppy-love-adoption-2/
ATTACH;FMTTYPE=image/jpeg:https://salemforallages.org/wp-content/uploads/2025/02/Puppy-Love-2.jpg
END:VEVENT
BEGIN:VEVENT
DTSTART;TZID=America/New_York:20250421T100000
DTEND;TZID=America/New_York:20250421T160000
DTSTAMP:20260423T005006
CREATED:20250415T090011Z
LAST-MODIFIED:20250415T090011Z
UID:23245-1745229600-1745251200@salemforallages.org
SUMMARY:Essex County Days
DESCRIPTION:The House of the Seven Gables is welcoming our neighbors to visit for free this April school vacation with Essex County Days! \nApril 21-25\, families and individuals living in Essex County can visit The Gables on us! Tickets should be purchased in person with a valid ID or recent utility bill with appropriate address within Essex County. \nPlease note: The House of the Seven Gables is open 10 A.M. – 4 P.M.
URL:https://salemforallages.org/event/essex-county-days/
ATTACH;FMTTYPE=image/jpeg:https://salemforallages.org/wp-content/uploads/2025/04/Gables_PhotographyYourWay-scaled-1.jpg
END:VEVENT
BEGIN:VEVENT
DTSTART;TZID=America/New_York:20250421T113000
DTEND;TZID=America/New_York:20250421T160000
DTSTAMP:20260423T005006
CREATED:20250416T090009Z
LAST-MODIFIED:20250416T090009Z
UID:23247-1745235000-1745251200@salemforallages.org
SUMMARY:Magical Transformations
DESCRIPTION:Through our “Magical Transformations” children embrace their charms and express their individuality. Children can choose to transform into a “Witch” or “Wizard”!
URL:https://salemforallages.org/event/magical-transformations-308/
ATTACH;FMTTYPE=image/png:https://salemforallages.org/wp-content/uploads/2024/08/Transformations.png
END:VEVENT
BEGIN:VEVENT
DTSTART;TZID=America/New_York:20250421T113000
DTEND;TZID=America/New_York:20250421T160000
DTSTAMP:20260423T005006
CREATED:20250416T090010Z
LAST-MODIFIED:20250416T090010Z
UID:23248-1745235000-1745251200@salemforallages.org
SUMMARY:Potion Brewing Store Experience
DESCRIPTION:Make your visit to The Good Witch of Salem’s shop memorable by booking our in-store Potion Brewing Experience. This activity is led by our Witch Apprentices. \nActivities are recommended for children ages 3 and up. \n*One appointment slot for each child is required.*
URL:https://salemforallages.org/event/potion-brewing-store-experience-300/
ATTACH;FMTTYPE=image/jpeg:https://salemforallages.org/wp-content/uploads/2025/04/Potion-Brewing-Store-Experience-14.jpg
END:VEVENT
BEGIN:VEVENT
DTSTART;TZID=America/New_York:20250421T190000
DTEND;TZID=America/New_York:20250421T203000
DTSTAMP:20260423T005006
CREATED:20250416T090020Z
LAST-MODIFIED:20250416T090020Z
UID:23252-1745262000-1745267400@salemforallages.org
SUMMARY:Vibrato Bar: What the Fach? Miscast Cabaret Edition
DESCRIPTION:Join us at the Vibrato Bar – the North Shore’s ONLY classical karaoke bar!\nApril 21 Vibrato Bar- Open mic party\nTheme: What the Fach? Miscast Cabaret\nThis is your chance to sing that aria they told you you’d never perform.\nNot a Verdi tenor? Don’t care. Have you heard that one aria so many times you could sing it in your sleep? Go for it. Do you have the high notes for Queen of the Night\, but would never get cast in the role? Do. Ittttttt.\nWe’ve got a world class pianist who can sight read anything (yes\, really)\, so bring your sheet music and your courage\, and come here the music play!
URL:https://salemforallages.org/event/vibrato-bar-what-the-fach-miscast-cabaret-edition/
ATTACH;FMTTYPE=image/jpeg:https://salemforallages.org/wp-content/uploads/2025/04/Vibrato-Bar.jpg
END:VEVENT
BEGIN:VEVENT
DTSTART;TZID=America/New_York:20250421T190000
DTEND;TZID=America/New_York:20250421T210000
DTSTAMP:20260423T005006
CREATED:20250416T090016Z
LAST-MODIFIED:20250416T090016Z
UID:23250-1745262000-1745269200@salemforallages.org
SUMMARY:Bingo with Great Gaucho
DESCRIPTION:Join us at the Taproom every Monday night for FREE BINGO with Greta Gaucho at 7:00 pm. \nDot it if ya got it for four rounds to win a Far From The Tree gift card and a prize from the fabulous prize basket. \nThe Far From the Tree taproom has an open food policy. (Bring your own food)
URL:https://salemforallages.org/event/bingo-with-great-gaucho-7/
ATTACH;FMTTYPE=image/jpeg:https://salemforallages.org/wp-content/uploads/2025/04/Add-a-subheading-2.jpg
END:VEVENT
BEGIN:VEVENT
DTSTART;TZID=America/New_York:20250422T090000
DTEND;TZID=America/New_York:20250422T153000
DTSTAMP:20260423T005006
CREATED:20250418T090014Z
LAST-MODIFIED:20250418T090014Z
UID:23261-1745312400-1745335800@salemforallages.org
SUMMARY:Eric Pape: The Fair God at Hammond Castle Museum
DESCRIPTION:Self-Guided \nAn extraordinary fine art exhibit featuring over 50 works by renowned artist and former Cape Ann resident\, Eric Pape (1870–1938). Curated predominantly from the private collection of Dr. Gregory Conn\, the world’s leading Pape collector and biographer\, this special exhibition showcases a select group of Pape’s 300 illustrations for The Fair God (1898)—many unseen since his death in 1938.
URL:https://salemforallages.org/event/eric-pape-the-fair-god-at-hammond-castle-museum-5/
ATTACH;FMTTYPE=image/jpeg:https://salemforallages.org/wp-content/uploads/2025/04/CACC_600x900px_20250327-cropped.jpg
END:VEVENT
BEGIN:VEVENT
DTSTART;TZID=America/New_York:20250422T100000
DTEND;TZID=America/New_York:20250422T110000
DTSTAMP:20260423T005006
CREATED:20250416T090023Z
LAST-MODIFIED:20250416T090023Z
UID:23254-1745316000-1745319600@salemforallages.org
SUMMARY:Flower Power Slime Potions
DESCRIPTION:Children will create their own flower power themed slime creation. Students will get to take home their slime. Our magical employees will guide children in creating their own slime creations.
URL:https://salemforallages.org/event/flower-power-slime-potions-3/
ATTACH;FMTTYPE=image/jpeg:https://salemforallages.org/wp-content/uploads/2025/04/Flower-Power-Slime-Potions.jpg
END:VEVENT
BEGIN:VEVENT
DTSTART;TZID=America/New_York:20250422T100000
DTEND;TZID=America/New_York:20250422T160000
DTSTAMP:20260423T005006
CREATED:20250418T090015Z
LAST-MODIFIED:20250418T090015Z
UID:23262-1745316000-1745337600@salemforallages.org
SUMMARY:Essex County Days
DESCRIPTION:The House of the Seven Gables is welcoming our neighbors to visit for free this April school vacation with Essex County Days! \nApril 21-25\, families and individuals living in Essex County can visit The Gables on us! Tickets should be purchased in person with a valid ID or recent utility bill with appropriate address within Essex County. \nPlease note: The House of the Seven Gables is open 10 A.M. – 4 P.M.
URL:https://salemforallages.org/event/essex-county-days-2/
ATTACH;FMTTYPE=image/jpeg:https://salemforallages.org/wp-content/uploads/2025/04/Gables_PhotographyYourWay-scaled-2.jpg
END:VEVENT
BEGIN:VEVENT
DTSTART;TZID=America/New_York:20250422T113000
DTEND;TZID=America/New_York:20250422T140000
DTSTAMP:20260423T005006
CREATED:20250418T090027Z
LAST-MODIFIED:20250418T090027Z
UID:23269-1745321400-1745330400@salemforallages.org
SUMMARY:Spring Broom Decorating
DESCRIPTION:Fly into The Good Witch and Stay for a Spell! Unleash your creativity at the Good Witch of Salem’s Broom Decorating Station\, where you can transform a broom into a magical masterpiece! Use enchanting tape\, colorful ribbons\, sparkling stickers\, and shimmering gems to create a broom that’s uniquely yours. \n  \n 
URL:https://salemforallages.org/event/spring-broom-decorating-3/
ATTACH;FMTTYPE=image/png:https://salemforallages.org/wp-content/uploads/2025/03/Spring-Broom-Decorating.png
END:VEVENT
BEGIN:VEVENT
DTSTART;TZID=America/New_York:20250422T113000
DTEND;TZID=America/New_York:20250422T150000
DTSTAMP:20260423T005006
CREATED:20250418T090019Z
LAST-MODIFIED:20250418T090019Z
UID:23265-1745321400-1745334000@salemforallages.org
SUMMARY:Stop In For a Spell: DIY Potion Bar
DESCRIPTION:Fly in to The Good Witch and Stay for a Spell! Mix up your very own potion at our Potion Bar! \nDrop Ins begin at store opening and end 30 minutes before closing and are offered on a first come\, first serve basis. Purchase online or pay in store. \nDrop Ins may be unavailable during a birthday party or store event. Please call ahead\, or check our posted hours on Google. \nUnder age 4 may participate with the help of a supervising adult.
URL:https://salemforallages.org/event/stop-in-for-a-spell-diy-potion-bar-221/
ATTACH;FMTTYPE=image/jpeg:https://salemforallages.org/wp-content/uploads/2025/04/Stop-In-For-a-Spell-SQUARE-6.jpg
END:VEVENT
END:VCALENDAR