BEGIN:VCALENDAR
VERSION:2.0
PRODID:-//Salem for All Ages - ECPv6.15.18//NONSGML v1.0//EN
CALSCALE:GREGORIAN
METHOD:PUBLISH
X-ORIGINAL-URL:https://salemforallages.org
X-WR-CALDESC:Events for Salem for All Ages
REFRESH-INTERVAL;VALUE=DURATION:PT1H
X-Robots-Tag:noindex
X-PUBLISHED-TTL:PT1H
BEGIN:VTIMEZONE
TZID:America/New_York
BEGIN:DAYLIGHT
TZOFFSETFROM:-0500
TZOFFSETTO:-0400
TZNAME:EDT
DTSTART:20230312T070000
END:DAYLIGHT
BEGIN:STANDARD
TZOFFSETFROM:-0400
TZOFFSETTO:-0500
TZNAME:EST
DTSTART:20231105T060000
END:STANDARD
BEGIN:DAYLIGHT
TZOFFSETFROM:-0500
TZOFFSETTO:-0400
TZNAME:EDT
DTSTART:20240310T070000
END:DAYLIGHT
BEGIN:STANDARD
TZOFFSETFROM:-0400
TZOFFSETTO:-0500
TZNAME:EST
DTSTART:20241103T060000
END:STANDARD
BEGIN:DAYLIGHT
TZOFFSETFROM:-0500
TZOFFSETTO:-0400
TZNAME:EDT
DTSTART:20250309T070000
END:DAYLIGHT
BEGIN:STANDARD
TZOFFSETFROM:-0400
TZOFFSETTO:-0500
TZNAME:EST
DTSTART:20251102T060000
END:STANDARD
END:VTIMEZONE
BEGIN:VEVENT
DTSTART;TZID=America/New_York:20240126T190000
DTEND;TZID=America/New_York:20240126T210000
DTSTAMP:20260422T142547
CREATED:20240107T100014Z
LAST-MODIFIED:20240107T100014Z
UID:17617-1706295600-1706302800@salemforallages.org
SUMMARY:Friday Night Music with American Flatbread
DESCRIPTION:Join us for live music\, enjoy rock and country.
URL:https://salemforallages.org/event/friday-night-music-with-american-flatbread-34/
ATTACH;FMTTYPE=image/jpeg:https://salemforallages.org/wp-content/uploads/2023/06/American-Flatbread-.jpg
END:VEVENT
BEGIN:VEVENT
DTSTART;TZID=America/New_York:20240126T193000
DTEND;TZID=America/New_York:20240126T210000
DTSTAMP:20260422T142547
CREATED:20240118T100012Z
LAST-MODIFIED:20240118T100012Z
UID:17674-1706297400-1706302800@salemforallages.org
SUMMARY:Altered Worlds: Guitarist Aaron Larget-Caplan In Concert
DESCRIPTION:Acclaimed guitarist and composer Aaron Larget-Caplan returns to Salem State for a special one-night-only concert. The program includes music by Bach\, Cage\, Fujii\, and Shende. The evening concludes with the theatrical performance and US premiere of Heretic\, a micro-opera for guitarist by Richard Cameron-Wolfe. Inspired by Arthur Machen’s haunting 1907 novel this realization is a collaboration with theatre faculty Jerry Johnson and Aaron Larget-Caplan.\n\nBorn Arthur Llewelyn Jones in 1863\,  Arthur Machen became one of the most influential writers of his generation. He drew on the dark landscapes of his childhood in Wales\, together with his adult life in bohemian fin-de-siécle London\, to create magical and disturbing tales. His admirers include Stephen King\, and H. P. Lovecraft\, who described him as one of the four ‘modern masters of the horror story’.\n\nTICKETS\n$15 general/$10 students/free for students with ID and under 18
URL:https://salemforallages.org/event/altered-worlds-guitarist-aaron-larget-caplan-in-concert/
ATTACH;FMTTYPE=image/jpeg:https://salemforallages.org/wp-content/uploads/2024/01/Aaron-Seated-by-Paula-Morin-3-1-high-res-scaled-1.jpg
END:VEVENT
BEGIN:VEVENT
DTSTART;TZID=America/New_York:20240126T200000
DTEND;TZID=America/New_York:20240126T220000
DTSTAMP:20260422T142547
CREATED:20240108T100011Z
LAST-MODIFIED:20240108T100011Z
UID:17620-1706299200-1706306400@salemforallages.org
SUMMARY:TUSK – The World’s #1 Fleetwood Mac Tribute
DESCRIPTION:But of all the Fleetwood Mac tributes playing around the United States today\, what exactly sets Tusk apart? \nIs it more than five skilled professionals turned masters of their trade through decades of individual musical study\, live performance\, creative risk\, and devotion to the art? \nIs it more than their affection and respect for the Fleetwood Mac experience\, an entity that continues to endure over 50 years of musical and cultural evolution? \nIs it more than vocal similarities\, common physical traits\, or good costumes? \nTo be sure\, one does not fare well in the tribute scene without displaying some or all of these characteristics. So what qualities does Tusk possess that can’t be learned\, bought\, or created simply from a desire to have them? \nChemistry. Synergy. Intuition.
URL:https://salemforallages.org/event/tusk-the-worlds-1-fleetwood-mac-tribute/
ATTACH;FMTTYPE=image/jpeg:https://salemforallages.org/wp-content/uploads/2024/01/bruce-1.jpg
END:VEVENT
BEGIN:VEVENT
DTSTART;TZID=America/New_York:20240126T200000
DTEND;TZID=America/New_York:20240126T230000
DTSTAMP:20260422T142547
CREATED:20240108T100010Z
LAST-MODIFIED:20240108T100010Z
UID:17619-1706299200-1706310000@salemforallages.org
SUMMARY:Friday Night Music with Gulu-Gulu Cafe
DESCRIPTION:Join Gulu-Gulu Cafe Friday nights for their live music series. Bands and musicians range from acoustic guitar\, jazz standards\, saxophones\, trios\, and more! Support live musicians and listen to live music!
URL:https://salemforallages.org/event/friday-night-music-with-gulu-gulu-cafe-26/
ATTACH;FMTTYPE=image/jpeg:https://salemforallages.org/wp-content/uploads/2023/08/38864120_1780760032044977_6011049327684747264_n.jpg
END:VEVENT
BEGIN:VEVENT
DTSTART;TZID=America/New_York:20240127T080000
DTEND;TZID=America/New_York:20240127T170000
DTSTAMP:20260422T142547
CREATED:20240108T100013Z
LAST-MODIFIED:20240108T100013Z
UID:17622-1706342400-1706374800@salemforallages.org
SUMMARY:Book a “Good Witch Magical Transformation”
DESCRIPTION:Children\, tweens\, teens\, and adults are all welcome to participate in our “Good Witch Transformations”! \nThrough our transformations children unleash their own spellbinding charms and embrace their individuality. Children are invited to browse our collection of witch hats and dresses. Adorned with shimmering stars\, flowing capes\, and ribbons of enchantment\, these outfits are sure to celebrate their unique spirits. \nOur talented apprentices delicately apply a touch of stardust and add sprinkles of color that match your child’s vibrant personality. As they gaze upon their reflection\, their eyes light up with a newfound confidence and a sense of whimsical delight. They have become the magical beings they’ve always dreamt of\, casting spells and brewing potions in their imaginary world. Their laughter fills the air as they twirl and spin\, radiating with joy and wonder.
URL:https://salemforallages.org/event/book-a-good-witch-magical-transformation-19/
ATTACH;FMTTYPE=image/jpeg:https://salemforallages.org/wp-content/uploads/2023/08/magical-transoformations-.jpg
END:VEVENT
BEGIN:VEVENT
DTSTART;TZID=America/New_York:20240127T100000
DTEND;TZID=America/New_York:20240127T140000
DTSTAMP:20260422T142547
CREATED:20240109T100010Z
LAST-MODIFIED:20240109T100010Z
UID:17623-1706349600-1706364000@salemforallages.org
SUMMARY:Book a “Good Witch Transformation”
DESCRIPTION:Thank you for your interest in a “Good Witch” Transformation! \nThrough our transformations children unleash their own spellbinding charms and embrace their individuality. Children are invited to browse our collection of witch hats and dresses. Adorned with shimmering stars\, flowing capes\, and ribbons of enchantment\, these outfits are sure to celebrate their unique spirits. \nOur talented apprentices delicately apply a touch of stardust and add sprinkles of color that match your child’s vibrant personality. As they gaze upon their reflection\, their eyes light up with a newfound confidence and a sense of whimsical delight. They have become the magical beings they’ve always dreamt of\, casting spells and brewing potions in their imaginary world. Their laughter fills the air as they twirl and spin\, radiating with joy and wonder.
URL:https://salemforallages.org/event/book-a-good-witch-transformation-63/
END:VEVENT
BEGIN:VEVENT
DTSTART;TZID=America/New_York:20240127T103000
DTEND;TZID=America/New_York:20240127T123000
DTSTAMP:20260422T142547
CREATED:20240119T100008Z
LAST-MODIFIED:20240119T100008Z
UID:17676-1706351400-1706358600@salemforallages.org
SUMMARY:Process Art Mornings
DESCRIPTION:Informal in-process art making
URL:https://salemforallages.org/event/process-art-mornings-38/
ATTACH;FMTTYPE=image/jpeg:https://salemforallages.org/wp-content/uploads/2023/05/01.jpg
END:VEVENT
BEGIN:VEVENT
DTSTART;TZID=America/New_York:20240127T110000
DTEND;TZID=America/New_York:20240127T120000
DTSTAMP:20260422T142547
CREATED:20240119T100009Z
LAST-MODIFIED:20240119T100009Z
UID:17677-1706353200-1706356800@salemforallages.org
SUMMARY:2ND ANNUAL MENTAL MAKEOVER POLAR PLUNGE 2024
DESCRIPTION:Let’s get freezin’ for a reason: Join us on January 27th\, 2024 at Winter Island Park in Salem\, MA for a Mental Makeover Polar Plunge to raise awareness and funds to fight the stigma surrounding mental health!
URL:https://salemforallages.org/event/2nd-annual-mental-makeover-polar-plunge-2024/
END:VEVENT
BEGIN:VEVENT
DTSTART;TZID=America/New_York:20240127T110000
DTEND;TZID=America/New_York:20240127T210000
DTSTAMP:20260422T142547
CREATED:20240123T100013Z
LAST-MODIFIED:20240123T100013Z
UID:17715-1706353200-1706389200@salemforallages.org
SUMMARY:Salem Saves Animals with Crow Haven Corner
DESCRIPTION:Stop by Crow Haven Corner from January 26-28 to receive 20% off purchases & $5 off in-house readings. Come visit Salem Saves Animals\, everything is tax-free & all proceeds help animals.
URL:https://salemforallages.org/event/salem-saves-animals-with-crow-haven-corner-2/
ATTACH;FMTTYPE=image/jpeg:https://salemforallages.org/wp-content/uploads/2024/01/Image-1.jpg
END:VEVENT
BEGIN:VEVENT
DTSTART;TZID=America/New_York:20240127T130000
DTEND;TZID=America/New_York:20240127T140000
DTSTAMP:20260422T142547
CREATED:20240119T100009Z
LAST-MODIFIED:20240119T100009Z
UID:17678-1706360400-1706364000@salemforallages.org
SUMMARY:Winter Slime Potions with the Good Witch of Salem
DESCRIPTION:Children will mix\, mash\, drop\, and stir their very own candy\, LEGO or dinosaur themed slime creation. Students will get to take home their slime. Our magical employees will guide children in creating their own slime creations.\n\nThis workshop is limited to 8 children\, pre-registration is required. Under age 4 may attend with the help of a supervising adult.
URL:https://salemforallages.org/event/winter-slime-potions-with-the-good-witch-of-salem/
ATTACH;FMTTYPE=image/jpeg:https://salemforallages.org/wp-content/uploads/2024/01/winter-slime-potions.jpg
END:VEVENT
BEGIN:VEVENT
DTSTART;TZID=America/New_York:20240127T130000
DTEND;TZID=America/New_York:20240127T150000
DTSTAMP:20260422T142547
CREATED:20240119T100012Z
LAST-MODIFIED:20240119T100012Z
UID:17680-1706360400-1706367600@salemforallages.org
SUMMARY:Rockhopper Penguins at the PEM
DESCRIPTION:Rockhopper penguins\, named after their ability to jump from rock to rock\, live on islands North of Antarctica. The rockhoppers’ most iconic feature is their yellow crowns\, which look like grumpy eyebrows. Join us as we turn rocks into rockhoppers! Then\, find the species of penguins from PEM’s natural history collection on view in the galleries. \nRegular Drop-in Art Making is held in person Friday–Monday in our Create Space studios. Friday art making is recommended for ages 10 to adult\, while Saturday–Monday activities are suitable for ages 4 and up. Activities are created and led by PEM’s Education team.
URL:https://salemforallages.org/event/rockhopper-penguins-at-the-pem-6/
ATTACH;FMTTYPE=image/jpeg:https://salemforallages.org/wp-content/uploads/2024/01/Ev_RockhopperPenguins_lk_rep_002a.jpg
END:VEVENT
BEGIN:VEVENT
DTSTART;TZID=America/New_York:20240127T150000
DTEND;TZID=America/New_York:20240127T163000
DTSTAMP:20260422T142547
CREATED:20240119T100012Z
LAST-MODIFIED:20240119T100012Z
UID:17681-1706367600-1706373000@salemforallages.org
SUMMARY:Salve Making: Treat Your Winter Skin
DESCRIPTION:Winter is hard on your skin\, but you can make it feel better with a salve you make and scent yourself! \nIn this make-and take workshop you will learn about oils and herbs that soothe and heal your skin—whether lips\, elbows\, hands\, or anywhere else—and leave with a salve that will have you loving your skin. \nWe will discuss herbs\, infused and essential oils\, and the salve-making technique. \nYou’ll be able to scent your own salve to take home with your choice of several essential oils. A comprehensive handout is included\, so you can make your own salves at home. \nAll materials included. \nPlease note: If you would like to bring a child age 10 to 15\, you may do so\, as long the child is accompanied by an adult
URL:https://salemforallages.org/event/salve-making-treat-your-winter-skin/
ATTACH;FMTTYPE=image/jpeg:https://salemforallages.org/wp-content/uploads/2024/01/Salve.jpg
END:VEVENT
BEGIN:VEVENT
DTSTART;TZID=America/New_York:20240127T180000
DTEND;TZID=America/New_York:20240127T210000
DTSTAMP:20260422T142547
CREATED:20240120T100009Z
LAST-MODIFIED:20240120T100009Z
UID:17683-1706378400-1706389200@salemforallages.org
SUMMARY:Reggae Night at East Regiment Beer Co.
DESCRIPTION:Featuring Live music from Dis-N-Dat Band. Award-winning reggae band featuring Trinidadian steel pan player Sista Dee and 4 time Grammy nominated ex Black Uhuru/sugar Minot drummer Rangotan.
URL:https://salemforallages.org/event/reggae-night-at-east-regiment-beer-co/
ATTACH;FMTTYPE=image/jpeg:https://salemforallages.org/wp-content/uploads/2024/01/ReggaeNightFB-scaled-1.jpg
END:VEVENT
BEGIN:VEVENT
DTSTART;TZID=America/New_York:20240127T190000
DTEND;TZID=America/New_York:20240127T190000
DTSTAMP:20260422T142547
CREATED:20240120T100014Z
LAST-MODIFIED:20240120T100014Z
UID:17686-1706382000-1706382000@salemforallages.org
SUMMARY:Salem Comedy & Spirits Festival
DESCRIPTION:Lift your Spirits & Laugh the cold away with this Celebration of Comedy & Spirits in Historic Salem\, Massachusetts.​ \nFeaturing top local & national comedians and locally crafted spirits. \nSee the full lineup and schedule at SalemComedyFestival.com.
URL:https://salemforallages.org/event/salem-comedy-spirits-festival-7/
ATTACH;FMTTYPE=image/jpeg:https://salemforallages.org/wp-content/uploads/2024/01/SalemComedyFestivalbyJohnAndrews-CreativeSalem_0129.jpg
END:VEVENT
BEGIN:VEVENT
DTSTART;TZID=America/New_York:20240127T190000
DTEND;TZID=America/New_York:20240127T210000
DTSTAMP:20260422T142547
CREATED:20240120T100014Z
LAST-MODIFIED:20240120T100014Z
UID:17685-1706382000-1706389200@salemforallages.org
SUMMARY:Keys at Counter
DESCRIPTION:Join us at The Hotel Salem Counter Bar for Keys at Counter! Experience an unforgettable night of music and relaxation!
URL:https://salemforallages.org/event/keys-at-counter-2/
ATTACH;FMTTYPE=image/jpeg:https://salemforallages.org/wp-content/uploads/2024/01/HotelSalem_Freebird-121-1.jpg
END:VEVENT
BEGIN:VEVENT
DTSTART;TZID=America/New_York:20240127T200000
DTEND;TZID=America/New_York:20240127T220000
DTSTAMP:20260422T142547
CREATED:20240120T100014Z
LAST-MODIFIED:20240120T100014Z
UID:17687-1706385600-1706392800@salemforallages.org
SUMMARY:Red Hot Chilli Pipers
DESCRIPTION:Bagpipes with attitude.  Drums with a Scottish accent. A blazing rock band and show so hot\, it carries its own health warning! \nIt’s Bagpipes. It’s Rock. It’s Bagrock. AC/DC meets the poet Robert Burns. Where rock anthems sit comfortably alongside the great tunes from the glens and the mountains of Scotland. \nIt’s The Red Hot Chilli PIPERS – (NOT the Peppers!) — a 9-piece ensemble consisting of pipers\, guitarists\, keyboards\, and drummers — who have been rocking the world from New York to Beijing to Melbourne and everywhere in between with musicianship of the highest order and a passion for pipes that will leave you breathless.  The band has four music degrees from the Royal Scottish Academy of Music and Drama and all the pipers and drummers have played at the top level in bagpiping.
URL:https://salemforallages.org/event/red-hot-chilli-pipers/
ATTACH;FMTTYPE=image/jpeg:https://salemforallages.org/wp-content/uploads/2024/01/rhcp.jpg
END:VEVENT
BEGIN:VEVENT
DTSTART;TZID=America/New_York:20240128T100000
DTEND;TZID=America/New_York:20240128T140000
DTSTAMP:20260422T142547
CREATED:20240120T100017Z
LAST-MODIFIED:20240120T100017Z
UID:17689-1706436000-1706450400@salemforallages.org
SUMMARY:Book a “Good Witch Transformation”
DESCRIPTION:Thank you for your interest in a “Good Witch” Transformation! \nThrough our transformations children unleash their own spellbinding charms and embrace their individuality. Children are invited to browse our collection of witch hats and dresses. Adorned with shimmering stars\, flowing capes\, and ribbons of enchantment\, these outfits are sure to celebrate their unique spirits. \nOur talented apprentices delicately apply a touch of stardust and add sprinkles of color that match your child’s vibrant personality. As they gaze upon their reflection\, their eyes light up with a newfound confidence and a sense of whimsical delight. They have become the magical beings they’ve always dreamt of\, casting spells and brewing potions in their imaginary world. Their laughter fills the air as they twirl and spin\, radiating with joy and wonder.
URL:https://salemforallages.org/event/book-a-good-witch-transformation-64/
END:VEVENT
BEGIN:VEVENT
DTSTART;TZID=America/New_York:20240128T110000
DTEND;TZID=America/New_York:20240128T210000
DTSTAMP:20260422T142547
CREATED:20240123T100013Z
LAST-MODIFIED:20240123T100013Z
UID:17716-1706439600-1706475600@salemforallages.org
SUMMARY:Salem Saves Animals with Crow Haven Corner
DESCRIPTION:Stop by Crow Haven Corner from January 26-28 to receive 20% off purchases & $5 off in-house readings. Come visit Salem Saves Animals\, everything is tax-free & all proceeds help animals.
URL:https://salemforallages.org/event/salem-saves-animals-with-crow-haven-corner-3/
ATTACH;FMTTYPE=image/jpeg:https://salemforallages.org/wp-content/uploads/2024/01/Image-1.jpg
END:VEVENT
BEGIN:VEVENT
DTSTART;TZID=America/New_York:20240128T130000
DTEND;TZID=America/New_York:20240128T150000
DTSTAMP:20260422T142547
CREATED:20240121T100008Z
LAST-MODIFIED:20240121T100008Z
UID:17692-1706446800-1706454000@salemforallages.org
SUMMARY:Rockhopper Penguins at the PEM
DESCRIPTION:Rockhopper penguins\, named after their ability to jump from rock to rock\, live on islands North of Antarctica. The rockhoppers’ most iconic feature is their yellow crowns\, which look like grumpy eyebrows. Join us as we turn rocks into rockhoppers! Then\, find the species of penguins from PEM’s natural history collection on view in the galleries. \nRegular Drop-in Art Making is held in person Friday–Monday in our Create Space studios. Friday art making is recommended for ages 10 to adult\, while Saturday–Monday activities are suitable for ages 4 and up. Activities are created and led by PEM’s Education team.
URL:https://salemforallages.org/event/rockhopper-penguins-at-the-pem-7/
ATTACH;FMTTYPE=image/jpeg:https://salemforallages.org/wp-content/uploads/2024/01/Ev_RockhopperPenguins_lk_rep_002a.jpg
END:VEVENT
BEGIN:VEVENT
DTSTART;TZID=America/New_York:20240128T130000
DTEND;TZID=America/New_York:20240128T170000
DTSTAMP:20260422T142547
CREATED:20240120T100018Z
LAST-MODIFIED:20240120T100018Z
UID:17690-1706446800-1706461200@salemforallages.org
SUMMARY:Boozy Book Fair at East Regiment Beer Co.
DESCRIPTION:Our friends at Wicked Good Books will be hosting a book fair in our taproom! Grab a drink and browse a selection of books. Books will vary from children’s books to adults\, with top selling books and staff favorites! There should be something for all book lovers!
URL:https://salemforallages.org/event/boozy-book-fair-at-east-regiment-beer-co/
ATTACH;FMTTYPE=image/jpeg:https://salemforallages.org/wp-content/uploads/2024/01/BookFair-scaled-1.jpg
END:VEVENT
BEGIN:VEVENT
DTSTART;TZID=America/New_York:20240128T140000
DTEND;TZID=America/New_York:20240128T150000
DTSTAMP:20260422T142547
CREATED:20240121T100009Z
LAST-MODIFIED:20240121T100009Z
UID:17693-1706450400-1706454000@salemforallages.org
SUMMARY:Imagination Movers
DESCRIPTION:EXAMPLE OF THE POWER OF IMAGINATION. \n\nIn 2002\, four New Orleans friends– Rich Collins\, Scott Durbin\, Dave Poche\, and Scott “Smitty” Smith– had an idea. \nThey thought kids wanted and deserved music that spoke to them\, not down to them. So\, they started gathering after their kids’ bedtimes to write songs and brainstorm ideas about a children’s television show. \nCelebrating over 20 years of entertaining families\, you can watch the 76 episodes of their Emmy-winning “Imagination Movers” TV show on the Disney+\, or listen to the Movers’ songs\, a catalog of more than 250 original compositions\, which continue to populate the playlists of families everywhere.
URL:https://salemforallages.org/event/imagination-movers/
ATTACH;FMTTYPE=image/jpeg:https://salemforallages.org/wp-content/uploads/2024/01/imagination-movers-1.jpg
END:VEVENT
BEGIN:VEVENT
DTSTART;TZID=America/New_York:20240128T150000
DTEND;TZID=America/New_York:20240128T170000
DTSTAMP:20260422T142547
CREATED:20240121T100012Z
LAST-MODIFIED:20240121T100012Z
UID:17695-1706454000-1706461200@salemforallages.org
SUMMARY:Wonderful Self-Care Cafe
DESCRIPTION:Join us to relax\, have a cup of coffee or tea + conversations
URL:https://salemforallages.org/event/wonderful-self-care-cafe-38/
ATTACH;FMTTYPE=image/jpeg:https://salemforallages.org/wp-content/uploads/2023/05/01.jpg
END:VEVENT
BEGIN:VEVENT
DTSTART;TZID=America/New_York:20240128T150000
DTEND;TZID=America/New_York:20240128T170000
DTSTAMP:20260422T142547
CREATED:20240121T100012Z
LAST-MODIFIED:20240121T100012Z
UID:17696-1706454000-1706461200@salemforallages.org
SUMMARY:Pub Singing Sea Shanty Day at East Regiment Beer Co.
DESCRIPTION:Join in on the fun with some hootenanny pub singing and chants. Being lead by local sea shanty chanters.
URL:https://salemforallages.org/event/pub-singing-sea-shanty-day-at-east-regiment-beer-co/
ATTACH;FMTTYPE=image/jpeg:https://salemforallages.org/wp-content/uploads/2024/01/Instagram-Images-2024-01-09T114006.140.jpg
END:VEVENT
BEGIN:VEVENT
DTSTART;TZID=America/New_York:20240128T160000
DTEND;TZID=America/New_York:20240128T190000
DTSTAMP:20260422T142547
CREATED:20240121T100012Z
LAST-MODIFIED:20240121T100012Z
UID:17697-1706457600-1706468400@salemforallages.org
SUMMARY:DIAMOND’S DINE-IN DRAG BRUNCH!
DESCRIPTION:Come on down for Diamond’s Dine-In Drag Brunch! This is a weekly event with local Drag Queen Miz Diamond Wigfall! Someone will be her guest. Be ready for numbers\, games\, drag\, and mimosas all afternoon.
URL:https://salemforallages.org/event/diamonds-dine-in-drag-brunch-26/
ATTACH;FMTTYPE=image/jpeg:https://salemforallages.org/wp-content/uploads/2023/08/Diamond_DineIn_Final-11x171-1.jpg
END:VEVENT
BEGIN:VEVENT
DTSTART;TZID=America/New_York:20240129T100000
DTEND;TZID=America/New_York:20240129T140000
DTSTAMP:20260422T142547
CREATED:20240121T100013Z
LAST-MODIFIED:20240121T100013Z
UID:17698-1706522400-1706536800@salemforallages.org
SUMMARY:Book a “Good Witch Transformation”
DESCRIPTION:Thank you for your interest in a “Good Witch” Transformation! \nThrough our transformations children unleash their own spellbinding charms and embrace their individuality. Children are invited to browse our collection of witch hats and dresses. Adorned with shimmering stars\, flowing capes\, and ribbons of enchantment\, these outfits are sure to celebrate their unique spirits. \nOur talented apprentices delicately apply a touch of stardust and add sprinkles of color that match your child’s vibrant personality. As they gaze upon their reflection\, their eyes light up with a newfound confidence and a sense of whimsical delight. They have become the magical beings they’ve always dreamt of\, casting spells and brewing potions in their imaginary world. Their laughter fills the air as they twirl and spin\, radiating with joy and wonder.
URL:https://salemforallages.org/event/book-a-good-witch-transformation-65/
END:VEVENT
BEGIN:VEVENT
DTSTART;TZID=America/New_York:20240129T140000
DTEND;TZID=America/New_York:20240129T160000
DTSTAMP:20260422T142547
CREATED:20240121T100013Z
LAST-MODIFIED:20240121T100013Z
UID:17699-1706536800-1706544000@salemforallages.org
SUMMARY:Rockhopper Penguins at the PEM
DESCRIPTION:Rockhopper penguins\, named after their ability to jump from rock to rock\, live on islands North of Antarctica. The rockhoppers’ most iconic feature is their yellow crowns\, which look like grumpy eyebrows. Join us as we turn rocks into rockhoppers! Then\, find the species of penguins from PEM’s natural history collection on view in the galleries. \nRegular Drop-in Art Making is held in person Friday–Monday in our Create Space studios. Friday art making is recommended for ages 10 to adult\, while Saturday–Monday activities are suitable for ages 4 and up. Activities are created and led by PEM’s Education team.
URL:https://salemforallages.org/event/rockhopper-penguins-at-the-pem-8/
ATTACH;FMTTYPE=image/jpeg:https://salemforallages.org/wp-content/uploads/2024/01/Ev_RockhopperPenguins_lk_rep_002a.jpg
END:VEVENT
BEGIN:VEVENT
DTSTART;TZID=America/New_York:20240130T110000
DTEND;TZID=America/New_York:20240130T170000
DTSTAMP:20260422T142547
CREATED:20240121T100013Z
LAST-MODIFIED:20240121T100013Z
UID:17700-1706612400-1706634000@salemforallages.org
SUMMARY:Teatime Tuesdays with the Satanic Temple
DESCRIPTION:Join us every Tuesday during gallery hours for complementary tea with admission to the gallery.
URL:https://salemforallages.org/event/teatime-tuesdays-with-the-satanic-temple-36/
ATTACH;FMTTYPE=image/jpeg:https://salemforallages.org/wp-content/uploads/2023/05/satanic-tea-art-gallery.jpg
END:VEVENT
BEGIN:VEVENT
DTSTART;TZID=America/New_York:20240131T180000
DTEND;TZID=America/New_York:20240131T200000
DTSTAMP:20260422T142547
CREATED:20240121T100013Z
LAST-MODIFIED:20240121T100013Z
UID:17701-1706724000-1706731200@salemforallages.org
SUMMARY:Bingo at Gulu-Gulu Cafe
DESCRIPTION:Stop by Gulu-Gulu Cafe for a fun trivia series that will excite and engage any audience! Quirky\, funny\, and free!
URL:https://salemforallages.org/event/bingo-at-gulu-gulu-cafe-27/
ATTACH;FMTTYPE=image/jpeg:https://salemforallages.org/wp-content/uploads/2023/08/BingoBoardNew.jpg
END:VEVENT
BEGIN:VEVENT
DTSTART;TZID=America/New_York:20240131T190000
DTEND;TZID=America/New_York:20240131T210000
DTSTAMP:20260422T142547
CREATED:20240126T100009Z
LAST-MODIFIED:20240126T100009Z
UID:17718-1706727600-1706734800@salemforallages.org
SUMMARY:Small Batch Trivia With Geeks Who Drink
DESCRIPTION:Join us each Wednesday for 2 hours of general knowledge\, pop culture trivia hosted by our friends from Geeks Who Drink! Appropriate for all ages. Prizes for the top two teams! \nSeating starts at 6:45. As of now we are not taking reservations\, and seating is first-come\, first-served. We may implement a call-ahead waitlist or reservations in the future should interest allow.\nOrder minimum: $15 per person. \n*For those of you yearning for the return of Nerd Trivia\, we’re sorry to disappoint. We feel this format will include more people in the fun! We WILL be hosting themed trivia from time to time\, so look for those special events coming soon.
URL:https://salemforallages.org/event/small-batch-trivia-with-geeks-who-drink/
ATTACH;FMTTYPE=image/jpeg:https://salemforallages.org/wp-content/uploads/2024/01/419132312_863957225729360_4273940916293433697_n.jpg
END:VEVENT
BEGIN:VEVENT
DTSTART;TZID=America/New_York:20240201T180000
DTEND;TZID=America/New_York:20240201T200000
DTSTAMP:20260422T142547
CREATED:20240121T100014Z
LAST-MODIFIED:20240121T100014Z
UID:17703-1706810400-1706817600@salemforallages.org
SUMMARY:Thursday Night Regiment Run Club
DESCRIPTION:Calling all runners! Are you ready to lace up your shoes\, hit the pavement\, and join a fantastic community of like-minded individuals? Look no further than the Thursday Night Regiment\, East Regiment Beer Company’s very own run club\, designed to bring together runners of all levels for an incredible weekly experience. Every Thursday at 6pm.
URL:https://salemforallages.org/event/thursday-night-regiment-run-club-4/
ATTACH;FMTTYPE=image/jpeg:https://salemforallages.org/wp-content/uploads/2024/01/417411302_18330583423099216_2490907441340422180_n.jpg
END:VEVENT
END:VCALENDAR