BEGIN:VCALENDAR
VERSION:2.0
PRODID:-//Salem for All Ages - ECPv6.15.18//NONSGML v1.0//EN
CALSCALE:GREGORIAN
METHOD:PUBLISH
X-ORIGINAL-URL:https://salemforallages.org
X-WR-CALDESC:Events for Salem for All Ages
REFRESH-INTERVAL;VALUE=DURATION:PT1H
X-Robots-Tag:noindex
X-PUBLISHED-TTL:PT1H
BEGIN:VTIMEZONE
TZID:America/New_York
BEGIN:DAYLIGHT
TZOFFSETFROM:-0500
TZOFFSETTO:-0400
TZNAME:EDT
DTSTART:20230312T070000
END:DAYLIGHT
BEGIN:STANDARD
TZOFFSETFROM:-0400
TZOFFSETTO:-0500
TZNAME:EST
DTSTART:20231105T060000
END:STANDARD
BEGIN:DAYLIGHT
TZOFFSETFROM:-0500
TZOFFSETTO:-0400
TZNAME:EDT
DTSTART:20240310T070000
END:DAYLIGHT
BEGIN:STANDARD
TZOFFSETFROM:-0400
TZOFFSETTO:-0500
TZNAME:EST
DTSTART:20241103T060000
END:STANDARD
BEGIN:DAYLIGHT
TZOFFSETFROM:-0500
TZOFFSETTO:-0400
TZNAME:EDT
DTSTART:20250309T070000
END:DAYLIGHT
BEGIN:STANDARD
TZOFFSETFROM:-0400
TZOFFSETTO:-0500
TZNAME:EST
DTSTART:20251102T060000
END:STANDARD
END:VTIMEZONE
BEGIN:VEVENT
DTSTART;TZID=America/New_York:20240708T113000
DTEND;TZID=America/New_York:20240708T160000
DTSTAMP:20260425T094404
CREATED:20240701T090029Z
LAST-MODIFIED:20240701T090029Z
UID:19385-1720438200-1720454400@salemforallages.org
SUMMARY:Magical Transformations
DESCRIPTION:Through our “Magical Transformations” children embrace their charms and express their individuality. Children can choose to transform into a “Witch” or “Wizard”!
URL:https://salemforallages.org/event/magical-transformations-35/
ATTACH;FMTTYPE=image/jpeg:https://salemforallages.org/wp-content/uploads/2024/07/Transformations.jpg
END:VEVENT
BEGIN:VEVENT
DTSTART;TZID=America/New_York:20240708T113000
DTEND;TZID=America/New_York:20240708T160000
DTSTAMP:20260425T094404
CREATED:20240701T090032Z
LAST-MODIFIED:20240701T090032Z
UID:19387-1720438200-1720454400@salemforallages.org
SUMMARY:Stop In For a Spell: DIY Potion Bar
DESCRIPTION:Fly in to The Good Witch and Stay for a Spell! Mix up your very own potion at our Potion Bar! \nDrop Ins begin at store opening and end 30 minutes before closing and are offered on a first come\, first serve basis. Purchase online or pay in store. \nDrop Ins may be unavailable during a birthday party or store event. Please call ahead\, or check our posted hours on Google. \nUnder age 4 may participate with the help of a supervising adult.
URL:https://salemforallages.org/event/stop-in-for-a-spell-diy-potion-bar-28/
ATTACH;FMTTYPE=image/jpeg:https://salemforallages.org/wp-content/uploads/2024/07/Stop-In-For-a-Spell-SQUARE-1.jpg
END:VEVENT
BEGIN:VEVENT
DTSTART;TZID=America/New_York:20240708T113000
DTEND;TZID=America/New_York:20240708T160000
DTSTAMP:20260425T094404
CREATED:20240701T090036Z
LAST-MODIFIED:20240701T090036Z
UID:19389-1720438200-1720454400@salemforallages.org
SUMMARY:Potion Brewing Store Experience
DESCRIPTION:Make your visit to The Good Witch of Salem’s shop memorable by booking our in-store Potion Brewing Experience. This activity is led by our Witch Apprentices. \nActivities are recommended for children ages 3 and up. \n*One appointment slot for each child is required.*
URL:https://salemforallages.org/event/potion-brewing-store-experience-28/
ATTACH;FMTTYPE=image/jpeg:https://salemforallages.org/wp-content/uploads/2024/07/Potion-Brewing-Store-Experience-2.jpg
END:VEVENT
BEGIN:VEVENT
DTSTART;TZID=America/New_York:20240708T123000
DTEND;TZID=America/New_York:20240708T133000
DTSTAMP:20260425T094404
CREATED:20240702T090020Z
LAST-MODIFIED:20240702T090020Z
UID:19395-1720441800-1720445400@salemforallages.org
SUMMARY:Kids Club
DESCRIPTION:Join us Mondays\, Wednesdays\, and Saturdays all summer long for Kids Paddle Club at Salem Willows! We’ll learn to paddle through exploring the beautiful coastline along Salem and while playing fun paddle games like Tsunami and Piano keys! \nSign up for as many sessions as you’d like! \n\nMondays and Wednesdays\, 12:30-1:30; Saturdays 9:30-10:30\nMeet at Coast to Coast Paddle Salem Willows Kiosk\nAges 6-12\n10 kids max per session\n1:5 instructor:kid ratio\nLife jackets will be provided\, though paddlers may bring their own Coast Guard approved life jackets if they’d like.\nPaddlers must be comfortable swimming in the ocean.\nProgram takes place in an ocean environment. Paddlers will be in water over their heads at times\, and life jackets will be worn at all times.
URL:https://salemforallages.org/event/kids-club-9/
ATTACH;FMTTYPE=image/jpeg:https://salemforallages.org/wp-content/uploads/2024/06/IMG_8835.jpg
END:VEVENT
BEGIN:VEVENT
DTSTART;TZID=America/New_York:20240708T193000
DTEND;TZID=America/New_York:20240708T210000
DTSTAMP:20260425T094404
CREATED:20240702T090020Z
LAST-MODIFIED:20240702T090020Z
UID:19396-1720467000-1720472400@salemforallages.org
SUMMARY:Music Quiz Trivia at Village Tavern
DESCRIPTION:Stop into Village Tavern in Salem\, MA Monday nights for smash burgers\, beer\, and their music trivia quiz series!
URL:https://salemforallages.org/event/music-quiz-trivia-at-village-tavern-8/
ATTACH;FMTTYPE=image/jpeg:https://salemforallages.org/wp-content/uploads/2024/05/Daily-Specials-fotor-20240509235039.jpg
END:VEVENT
BEGIN:VEVENT
DTSTART;TZID=America/New_York:20240709T080000
DTEND;TZID=America/New_York:20240709T170000
DTSTAMP:20260425T094404
CREATED:20240702T090020Z
LAST-MODIFIED:20240702T090020Z
UID:19397-1720512000-1720544400@salemforallages.org
SUMMARY:Ginger Cajun Seafood Pride Nights
DESCRIPTION:Ginger has a Pride Night every second and fourth Wednesdays of the month from 7 to 10. It’s a safe place for LGBT+ people and allies to come\, hang out and have fun. They also have a special drink list for it.
URL:https://salemforallages.org/event/ginger-cajun-seafood-pride-nights-14/
ATTACH;FMTTYPE=image/jpeg:https://salemforallages.org/wp-content/uploads/2023/05/Pride-Flag.jpg
END:VEVENT
BEGIN:VEVENT
DTSTART;TZID=America/New_York:20240709T080000
DTEND;TZID=America/New_York:20240709T170000
DTSTAMP:20260425T094404
CREATED:20240703T090014Z
LAST-MODIFIED:20240703T090014Z
UID:19402-1720512000-1720544400@salemforallages.org
SUMMARY:Trivia Tuesdays with Gulu Gulu Cafe
DESCRIPTION: Unleash Your Inner Genius Every Tuesday at Trivia Night! \n\nThink you’re smart? Prove it under the glow of our Tuesday night trivia spotlight! \n Join us for a brain-teasing adventure into general knowledge every week\, where the pursuit of trivia supremacy is as hot as our fresh-out-of-the-oven pizzas! \n\n Compete for fantastic prizes\, bragging rights\, and the satisfaction of knowing you’re part of the smartest crowd in town.\n\n Challenge your friends\, colleagues\, or even that know-it-all neighbor. The more\, the merrier! \n\n Every Tuesday\, the ultimate trivia showdown awaits. Mark your calendars and get ready for an evening of laughter\, learning\, and delicious rewards.\n\nDon’t miss out on the excitement! Grab a slice\, grab a seat\, and let the battle of the brains begin. Trivia Night – where knowledge meets a good time!
URL:https://salemforallages.org/event/trivia-tuesdays-with-gulu-gulu-cafe-13/
ATTACH;FMTTYPE=image/jpeg:https://salemforallages.org/wp-content/uploads/2024/04/432416873_901456205312795_7465705002384209082_n.jpg
END:VEVENT
BEGIN:VEVENT
DTSTART;TZID=America/New_York:20240709T101500
DTEND;TZID=America/New_York:20240709T133000
DTSTAMP:20260425T094404
CREATED:20240703T090015Z
LAST-MODIFIED:20240703T090015Z
UID:19403-1720520100-1720531800@salemforallages.org
SUMMARY:Plein Air Sketch Class with Sue Wheeler of Arts Abound
DESCRIPTION:Classes are offered from 10:15 am to 12:15 pm on\nFrom stick figure doodlers to first-rate talents\, join us for a seaside\, Plein Air sketch class with Sue Wheeler of Arts Abound in Magnolia. All skill levels are welcome! This two-hour session includes a 30-minute beginner sketch lesson. All you need to bring is a sketchbook\, pencils and an eraser. We encourage you to bring a folding chair and sunscreen as this program is outdoors. Please note: watercolors\, pastels\, oils\, or acrylics are not permitted on the Museum grounds. \n\nAttendees who wish to tour Hammond Castle Museum after this class are entitled to a 20% discount on a self-guided tour. Tour tickets may be purchased in the Museum Shop before 3:00 p.m. on the day of this class\nAbout Sue Wheeler: Sue Wheeler has a lifetime of making art through various mediums from delectable pastries to abstracts in pastels\, watercolor\, and acrylics. She enjoys using her creative flair in quilting and interior design as well. In early 2019\, Sue opened her own gallery and studio\, Arts Abound in Magnolia Village\, MA as an artistic haven for local artists. Through the gallery\, over 30 artists featured their creative works ranging from paintings\, hand-painted silk scarves\, silver jewelry\, and more. Sue also ran many workshops and classes featuring many of the artists. 
URL:https://salemforallages.org/event/plein-air-sketch-class-with-sue-wheeler-of-arts-abound-5/
ATTACH;FMTTYPE=image/jpeg:https://salemforallages.org/wp-content/uploads/2024/04/File-1705_medium.jpg
END:VEVENT
BEGIN:VEVENT
DTSTART;TZID=America/New_York:20240709T110000
DTEND;TZID=America/New_York:20240709T170000
DTSTAMP:20260425T094404
CREATED:20240703T090015Z
LAST-MODIFIED:20240703T090015Z
UID:19404-1720522800-1720544400@salemforallages.org
SUMMARY:Teatime Tuesdays with the Satanic Temple
DESCRIPTION:Join us every Tuesday during gallery hours for complementary tea with admission to the gallery.
URL:https://salemforallages.org/event/teatime-tuesdays-with-the-satanic-temple-59/
ATTACH;FMTTYPE=image/jpeg:https://salemforallages.org/wp-content/uploads/2023/05/satanic-tea-art-gallery.jpg
END:VEVENT
BEGIN:VEVENT
DTSTART;TZID=America/New_York:20240709T113000
DTEND;TZID=America/New_York:20240709T150000
DTSTAMP:20260425T094404
CREATED:20240704T090009Z
LAST-MODIFIED:20240704T090009Z
UID:19408-1720524600-1720537200@salemforallages.org
SUMMARY:Stop In For a Spell: DIY Potion Bar
DESCRIPTION:Fly in to The Good Witch and Stay for a Spell! Mix up your very own potion at our Potion Bar! \nDrop Ins begin at store opening and end 30 minutes before closing and are offered on a first come\, first serve basis. Purchase online or pay in store. \nDrop Ins may be unavailable during a birthday party or store event. Please call ahead\, or check our posted hours on Google. \nUnder age 4 may participate with the help of a supervising adult.
URL:https://salemforallages.org/event/stop-in-for-a-spell-diy-potion-bar-29/
ATTACH;FMTTYPE=image/jpeg:https://salemforallages.org/wp-content/uploads/2024/07/Stop-In-For-a-Spell-SQUARE-2.jpg
END:VEVENT
BEGIN:VEVENT
DTSTART;TZID=America/New_York:20240709T113000
DTEND;TZID=America/New_York:20240709T150000
DTSTAMP:20260425T094404
CREATED:20240704T090014Z
LAST-MODIFIED:20240704T090014Z
UID:19410-1720524600-1720537200@salemforallages.org
SUMMARY:Potion Brewing Store Experience
DESCRIPTION:Make your visit to The Good Witch of Salem’s shop memorable by booking our in-store Potion Brewing Experience. This activity is led by our Witch Apprentices. \nActivities are recommended for children ages 3 and up. \n*One appointment slot for each child is required.*
URL:https://salemforallages.org/event/potion-brewing-store-experience-29/
ATTACH;FMTTYPE=image/jpeg:https://salemforallages.org/wp-content/uploads/2024/07/Potion-Brewing-Store-Experience-3.jpg
END:VEVENT
BEGIN:VEVENT
DTSTART;TZID=America/New_York:20240709T113000
DTEND;TZID=America/New_York:20240709T153000
DTSTAMP:20260425T094404
CREATED:20240703T090015Z
LAST-MODIFIED:20240703T090015Z
UID:19405-1720524600-1720539000@salemforallages.org
SUMMARY:Magical Transformations
DESCRIPTION:Through our “Magical Transformations” children embrace their charms and express their individuality. Children can choose to transform into a “Witch” or “Wizard”!
URL:https://salemforallages.org/event/magical-transformations-36/
ATTACH;FMTTYPE=image/jpeg:https://salemforallages.org/wp-content/uploads/2024/07/Transformations-1-1.jpg
END:VEVENT
BEGIN:VEVENT
DTSTART;TZID=America/New_York:20240709T163000
DTEND;TZID=America/New_York:20240709T173000
DTSTAMP:20260425T094404
CREATED:20240704T090018Z
LAST-MODIFIED:20240704T090018Z
UID:19412-1720542600-1720546200@salemforallages.org
SUMMARY:Sleeping Beauty at the Castle – A Princess Party
DESCRIPTION:This event is ideal for children between the ages of 2 and 8 years old.\nIncludes: Cupcakes and coffee/tea for adults / beverage for little ones.\nWeather permitting\, we will end the evening with a Bubble party on our ocean-facing lawn! \nStep into a world of enchantment and join Sleeping Beauty for an unforgettable royal\ncelebration at the historic Hammond Castle! Begin your adventure by crossing the red carpet-\nlined drawbridge\, reminiscent of Aurora's own castle\, leading you into the grand entrance.\nDescend the spiral stairs to the majestic Great Hall\, where the festivities will unfold like pages\nfrom a storybook. \nGather around as Princess Aurora captivates your little one with enchanting tales of her\nadventures\, and sing along to beloved tunes as she brings magic to life with her beautiful\nvoice. Bring your camera to capture unforgettable moments with the Princess\, and don’t miss\nthe chance to snap photos on the red carpet. Watch your little ones show off their favorite\nprincess or royal cosplay as they strut down the red carpet\, celebrating the magic of make-\nbelieve. This event promises to be a dream come true for both children and adults alike! \nThe Museum will not be open for tours at the time of this program. Attendees who wish to tour\nthe Museum on the day of this program are entitled to a 20% discount on self-guided tours.\nAdmission may be purchased in the Museum Shop before 3:00 p.m. on the day of this special\nevent. Little ones four and under are entitled to free admission for Museum Tours. \nAll proceeds from this event will support the ongoing efforts to restore and preserve the\nMuseum. All ticket sales are final\, and refunds are not offered. \nParking is free. Please arrive 15 minutes prior to the start of this event to allow enough time\nfor the check-in process. Heavy traffic should be considered when planning your travel time.
URL:https://salemforallages.org/event/sleeping-beauty-at-the-castle-a-princess-party/
ATTACH;FMTTYPE=image/jpeg:https://salemforallages.org/wp-content/uploads/2024/07/princess-party-1-3.jpg
END:VEVENT
BEGIN:VEVENT
DTSTART;TZID=America/New_York:20240709T193000
DTEND;TZID=America/New_York:20240709T210000
DTSTAMP:20260425T094404
CREATED:20240704T090021Z
LAST-MODIFIED:20240704T090021Z
UID:19414-1720553400-1720558800@salemforallages.org
SUMMARY:Taco Tuesday and Opinionation Trivia
DESCRIPTION:Join the Village Tavern Tuesdays for their Taco Tuesday and Trivia deals!
URL:https://salemforallages.org/event/taco-tuesday-and-opinionation-trivia-8/
ATTACH;FMTTYPE=image/jpeg:https://salemforallages.org/wp-content/uploads/2024/05/Daily-Specials-fotor-20240509235039.jpg
END:VEVENT
BEGIN:VEVENT
DTSTART;TZID=America/New_York:20240710T100000
DTEND;TZID=America/New_York:20240710T110000
DTSTAMP:20260425T094404
CREATED:20240704T090021Z
LAST-MODIFIED:20240704T090021Z
UID:19415-1720605600-1720609200@salemforallages.org
SUMMARY:Bubbles & Books Storytime at the Castle
DESCRIPTION:Join us every Wednesday morning in July & August for Bubbles and Books on our seaside lawn. Fairytales do come true at castles by the sea!  \nFeel free to bring a blanket for your little one to cuddle with while we enjoy storytime on the ocean-facing lawn. Don’t forget the sunscreen! We’ll have thousands of bubbles\, snacks\, and music too! We encourage little ones to dress up in their favorite crown\, gown\, or anything else that makes them happy! \nTickets for this event are $10 for adults\, Kids 8 and under are $5. Hammond Castle Museum Member savings apply. We recommend that you arrive 15 minutes early to allow enough time for the walk from the parking lot down to the museum\, then for the check-in process and the walk to the lawn. There are many stairs throughout the campus and inside the Museum. Just to let you know\, strollers are not allowed in the Museum. \nThis ticket grants you access to the Bubbles & Books program which will be held on the ocean-facing lawn. If you wish to tour the museum after this program\, ticket holders may purchase Self-Guided Tour tickets in the Museum Shop at a 20% discount. Tickets are non-refundable. All proceeds from this program will support the restoration and preservation of the Museum.
URL:https://salemforallages.org/event/bubbles-books-storytime-at-the-castle-2/
ATTACH;FMTTYPE=image/jpeg:https://salemforallages.org/wp-content/uploads/2024/06/Bubbles-Books-24-1-3.jpg
END:VEVENT
BEGIN:VEVENT
DTSTART;TZID=America/New_York:20240710T113000
DTEND;TZID=America/New_York:20240710T150000
DTSTAMP:20260425T094404
CREATED:20240704T090024Z
LAST-MODIFIED:20240704T090024Z
UID:19418-1720611000-1720623600@salemforallages.org
SUMMARY:Stop In For a Spell: DIY Potion Bar
DESCRIPTION:Fly in to The Good Witch and Stay for a Spell! Mix up your very own potion at our Potion Bar! \nDrop Ins begin at store opening and end 30 minutes before closing and are offered on a first come\, first serve basis. Purchase online or pay in store. \nDrop Ins may be unavailable during a birthday party or store event. Please call ahead\, or check our posted hours on Google. \nUnder age 4 may participate with the help of a supervising adult.
URL:https://salemforallages.org/event/stop-in-for-a-spell-diy-potion-bar-30/
ATTACH;FMTTYPE=image/jpeg:https://salemforallages.org/wp-content/uploads/2024/07/Stop-In-For-a-Spell-SQUARE-3.jpg
END:VEVENT
BEGIN:VEVENT
DTSTART;TZID=America/New_York:20240710T113000
DTEND;TZID=America/New_York:20240710T150000
DTSTAMP:20260425T094404
CREATED:20240704T090028Z
LAST-MODIFIED:20240704T090028Z
UID:19420-1720611000-1720623600@salemforallages.org
SUMMARY:Potion Brewing Store Experience
DESCRIPTION:Make your visit to The Good Witch of Salem’s shop memorable by booking our in-store Potion Brewing Experience. This activity is led by our Witch Apprentices. \nActivities are recommended for children ages 3 and up. \n*One appointment slot for each child is required.*
URL:https://salemforallages.org/event/potion-brewing-store-experience-30/
ATTACH;FMTTYPE=image/jpeg:https://salemforallages.org/wp-content/uploads/2024/07/Potion-Brewing-Store-Experience-4.jpg
END:VEVENT
BEGIN:VEVENT
DTSTART;TZID=America/New_York:20240710T113000
DTEND;TZID=America/New_York:20240710T153000
DTSTAMP:20260425T094404
CREATED:20240704T090021Z
LAST-MODIFIED:20240704T090021Z
UID:19416-1720611000-1720625400@salemforallages.org
SUMMARY:Magical Transformations
DESCRIPTION:Through our “Magical Transformations” children embrace their charms and express their individuality. Children can choose to transform into a “Witch” or “Wizard”!
URL:https://salemforallages.org/event/magical-transformations-37/
ATTACH;FMTTYPE=image/jpeg:https://salemforallages.org/wp-content/uploads/2024/07/Transformations-1-2.jpg
END:VEVENT
BEGIN:VEVENT
DTSTART;TZID=America/New_York:20240710T123000
DTEND;TZID=America/New_York:20240710T133000
DTSTAMP:20260425T094404
CREATED:20240704T090031Z
LAST-MODIFIED:20240704T090031Z
UID:19422-1720614600-1720618200@salemforallages.org
SUMMARY:Kids Club
DESCRIPTION:Join us Mondays\, Wednesdays\, and Saturdays all summer long for Kids Paddle Club at Salem Willows! We’ll learn to paddle through exploring the beautiful coastline along Salem and while playing fun paddle games like Tsunami and Piano keys! \nSign up for as many sessions as you’d like! \n\nMondays and Wednesdays\, 12:30-1:30; Saturdays 9:30-10:30\nMeet at Coast to Coast Paddle Salem Willows Kiosk\nAges 6-12\n10 kids max per session\n1:5 instructor:kid ratio\nLife jackets will be provided\, though paddlers may bring their own Coast Guard approved life jackets if they’d like.\nPaddlers must be comfortable swimming in the ocean.\nProgram takes place in an ocean environment. Paddlers will be in water over their heads at times\, and life jackets will be worn at all times.
URL:https://salemforallages.org/event/kids-club-10/
ATTACH;FMTTYPE=image/jpeg:https://salemforallages.org/wp-content/uploads/2024/06/IMG_8835.jpg
END:VEVENT
BEGIN:VEVENT
DTSTART;TZID=America/New_York:20240710T180000
DTEND;TZID=America/New_York:20240710T200000
DTSTAMP:20260425T094404
CREATED:20240705T090010Z
LAST-MODIFIED:20240705T090010Z
UID:19423-1720634400-1720641600@salemforallages.org
SUMMARY:Bingo at Gulu-Gulu Cafe
DESCRIPTION:Stop by Gulu-Gulu Cafe for a fun trivia series that will excite and engage any audience! Quirky\, funny\, and free!
URL:https://salemforallages.org/event/bingo-at-gulu-gulu-cafe-50/
ATTACH;FMTTYPE=image/jpeg:https://salemforallages.org/wp-content/uploads/2023/08/BingoBoardNew.jpg
END:VEVENT
BEGIN:VEVENT
DTSTART;TZID=America/New_York:20240710T183000
DTEND;TZID=America/New_York:20240710T203000
DTSTAMP:20260425T094404
CREATED:20240705T090011Z
LAST-MODIFIED:20240705T090011Z
UID:19424-1720636200-1720643400@salemforallages.org
SUMMARY:SATAN SIP ‘N PAINT
DESCRIPTION:Paint a Satanic scene while sipping adult beverages! 21+ event. No painting experience necessary! Instruction\, inspiration\, all art supplies\, refreshments\, snacks\, ice and cups provided. Just bring yourself and your favorite beverage! \nHosted by the talented Salem Art Gallery staff. \nTickets are $33 per person. Availability is limited.
URL:https://salemforallages.org/event/satan-sip-n-paint-16/
ATTACH;FMTTYPE=image/png:https://salemforallages.org/wp-content/uploads/2024/03/8f43122b-9ebc-4e6b-bb40-ff4d2d221137_482x676.png
END:VEVENT
BEGIN:VEVENT
DTSTART;TZID=America/New_York:20240710T193000
DTEND;TZID=America/New_York:20240710T210000
DTSTAMP:20260425T094404
CREATED:20240705T090012Z
LAST-MODIFIED:20240705T090012Z
UID:19425-1720639800-1720645200@salemforallages.org
SUMMARY:Wednesday Wing Nights and Trivia
DESCRIPTION:Join the Village Tavern Wednesday nights form 50 cent wings and Stump Trivia.
URL:https://salemforallages.org/event/wednesday-wing-nights-and-trivia-9/
ATTACH;FMTTYPE=image/jpeg:https://salemforallages.org/wp-content/uploads/2024/05/Daily-Specials-fotor-20240509235039.jpg
END:VEVENT
BEGIN:VEVENT
DTSTART;TZID=America/New_York:20240710T200000
DTEND;TZID=America/New_York:20240710T235000
DTSTAMP:20260425T094404
CREATED:20240705T090013Z
LAST-MODIFIED:20240705T090013Z
UID:19426-1720641600-1720655400@salemforallages.org
SUMMARY:Super Smash Bros Ultimate Tournament @ BitBar
DESCRIPTION:We’re back with another round of Smash Ultimate here at the Bit Bar in Salem\, MAAll skill levels are welcome! \nDoors open for friendlies at 7pm\, bracket starts at 8pm!-$10 entry fee\, 100% goes to prize pool-BYO-controller highly encouraged-Competitors who bring a complete Smash Bros setup (Switch\, Dock\, Copy of Smash Ultimate with all DLC\, AC Adaptor\, and GameCube adaptor) will have their entry fee waved-Extra setups are first come\, first served\, and slots are limited\, so please reach out to us if you plan on bringing your setup-21+ \nFor this tournament\, we will be using the LMBM Ruleset:-3 stocks\, 7 minutes-Hazards Off-1-2-1 strikes-3 bans-no DSR~Stages~Starters:-Battlefield-Final Destination-Hollow Bastion-Pokémon Stadium 2-Small BattlefieldCounterpicks:-Kalos Pokémon League-Town and City-SmashvillePayout for the event will be as follows:1st – 40%2nd – 25%3rd – 15%4th – 10%5th – 5%5% \nThe event will be livestreamed at twitch.tv/bitbarstream and will be hosted by Bebo\, Sunny\, and TEEJ\, and it’s gonna be a bash!We look forward to seeing all of you challengers again\, as well as some new faces!
URL:https://salemforallages.org/event/super-smash-bros-ultimate-tournament-bitbar-2/
ATTACH;FMTTYPE=image/jpeg:https://salemforallages.org/wp-content/uploads/2024/07/405331326_744352374378656_2493508318919145706_n.jpg
END:VEVENT
BEGIN:VEVENT
DTSTART;TZID=America/New_York:20240711T090000
DTEND;TZID=America/New_York:20240711T114500
DTSTAMP:20260425T094404
CREATED:20240705T090014Z
LAST-MODIFIED:20240705T090014Z
UID:19428-1720688400-1720698300@salemforallages.org
SUMMARY:Karaoke at BitBar!
DESCRIPTION:Bit Bar is only place you can sing karaoke while being bathed in the warm glow of dozens of cathode-ray tubes!
URL:https://salemforallages.org/event/karaoke-at-bitbar-2/
ATTACH;FMTTYPE=image/jpeg:https://salemforallages.org/wp-content/uploads/2024/07/422851727_775944737886086_2562482271495837937_n.jpg
END:VEVENT
BEGIN:VEVENT
DTSTART;TZID=America/New_York:20240711T090000
DTEND;TZID=America/New_York:20240711T223000
DTSTAMP:20260425T094404
CREATED:20240705T090014Z
LAST-MODIFIED:20240705T090014Z
UID:19427-1720688400-1720737000@salemforallages.org
SUMMARY:Karaoke in the Lounge at Village Tavern
DESCRIPTION:Join the Village Tavern in Salem on Thursday nights at 9pm for Karaoke.
URL:https://salemforallages.org/event/karaoke-in-the-lounge-at-village-tavern-9/
ATTACH;FMTTYPE=image/jpeg:https://salemforallages.org/wp-content/uploads/2024/05/Daily-Specials-fotor-20240509235039.jpg
END:VEVENT
BEGIN:VEVENT
DTSTART;TZID=America/New_York:20240711T113000
DTEND;TZID=America/New_York:20240711T160000
DTSTAMP:20260425T094404
CREATED:20240705T090015Z
LAST-MODIFIED:20240705T090015Z
UID:19429-1720697400-1720713600@salemforallages.org
SUMMARY:Magical Transformations
DESCRIPTION:Through our “Magical Transformations” children embrace their charms and express their individuality. Children can choose to transform into a “Witch” or “Wizard”!
URL:https://salemforallages.org/event/magical-transformations-38/
ATTACH;FMTTYPE=image/jpeg:https://salemforallages.org/wp-content/uploads/2024/07/Transformations-2.jpg
END:VEVENT
BEGIN:VEVENT
DTSTART;TZID=America/New_York:20240711T113000
DTEND;TZID=America/New_York:20240711T160000
DTSTAMP:20260425T094404
CREATED:20240705T090018Z
LAST-MODIFIED:20240705T090018Z
UID:19431-1720697400-1720713600@salemforallages.org
SUMMARY:Stop In For a Spell: DIY Potion Bar
DESCRIPTION:Fly in to The Good Witch and Stay for a Spell! Mix up your very own potion at our Potion Bar! \nDrop Ins begin at store opening and end 30 minutes before closing and are offered on a first come\, first serve basis. Purchase online or pay in store. \nDrop Ins may be unavailable during a birthday party or store event. Please call ahead\, or check our posted hours on Google. \nUnder age 4 may participate with the help of a supervising adult.
URL:https://salemforallages.org/event/stop-in-for-a-spell-diy-potion-bar-31/
ATTACH;FMTTYPE=image/jpeg:https://salemforallages.org/wp-content/uploads/2024/07/Stop-In-For-a-Spell-SQUARE-4.jpg
END:VEVENT
BEGIN:VEVENT
DTSTART;TZID=America/New_York:20240711T113000
DTEND;TZID=America/New_York:20240711T160000
DTSTAMP:20260425T094404
CREATED:20240705T090021Z
LAST-MODIFIED:20240705T090021Z
UID:19433-1720697400-1720713600@salemforallages.org
SUMMARY:Potion Brewing Store Experience
DESCRIPTION:Make your visit to The Good Witch of Salem’s shop memorable by booking our in-store Potion Brewing Experience. This activity is led by our Witch Apprentices. \nActivities are recommended for children ages 3 and up. \n*One appointment slot for each child is required.*
URL:https://salemforallages.org/event/potion-brewing-store-experience-31/
ATTACH;FMTTYPE=image/jpeg:https://salemforallages.org/wp-content/uploads/2024/07/Potion-Brewing-Store-Experience-5.jpg
END:VEVENT
BEGIN:VEVENT
DTSTART;TZID=America/New_York:20240711T140000
DTEND;TZID=America/New_York:20240711T160000
DTSTAMP:20260425T094404
CREATED:20240705T090026Z
LAST-MODIFIED:20240705T090026Z
UID:19435-1720706400-1720713600@salemforallages.org
SUMMARY:Salem Paddle Tours
DESCRIPTION:Discover a different side of Salem with our Salem Paddle Tour! Beyond its famous witch trials\, Salem boasts a stunning oceanfront perfect for exploration.  Glide along its historic coastline\, once the world’s richest port\, and immerse yourself in breathtaking natural beauty and maritime heritage.
URL:https://salemforallages.org/event/salem-paddle-tours-13/
ATTACH;FMTTYPE=image/jpeg:https://salemforallages.org/wp-content/uploads/2024/07/CoasttoCoast2022-93-scaled-1.jpg
END:VEVENT
BEGIN:VEVENT
DTSTART;TZID=America/New_York:20240711T150000
DTEND;TZID=America/New_York:20240711T190000
DTSTAMP:20260425T094404
CREATED:20240705T090029Z
LAST-MODIFIED:20240705T090029Z
UID:19437-1720710000-1720724400@salemforallages.org
SUMMARY:Salem Farmers’ Market
DESCRIPTION:The Salem Farmers’ Market returns to Derby Square this summer starting in June\, running through October 10th. The Salem Farmers’ Market dates back to 1634. With its peak around 1930\, an estimated 10\,000 people visited the market on a single Saturday. And you thought parking was tough today! Enjoy fresh produce\, baked goods\, culinary delights\, live performances\, and more!
URL:https://salemforallages.org/event/salem-farmers-market-103/
ATTACH;FMTTYPE=image/jpeg:https://salemforallages.org/wp-content/uploads/2023/06/Day-1-2-hours-is-what-it-takes-to-set-up-the-Salem-Farmers-Market_-every-week-before-we-greet-over-2000-shoppers.jpg
END:VEVENT
END:VCALENDAR