BEGIN:VCALENDAR
VERSION:2.0
PRODID:-//Salem for All Ages - ECPv6.15.18//NONSGML v1.0//EN
CALSCALE:GREGORIAN
METHOD:PUBLISH
X-WR-CALNAME:Salem for All Ages
X-ORIGINAL-URL:https://salemforallages.org
X-WR-CALDESC:Events for Salem for All Ages
REFRESH-INTERVAL;VALUE=DURATION:PT1H
X-Robots-Tag:noindex
X-PUBLISHED-TTL:PT1H
BEGIN:VTIMEZONE
TZID:America/New_York
BEGIN:DAYLIGHT
TZOFFSETFROM:-0500
TZOFFSETTO:-0400
TZNAME:EDT
DTSTART:20220313T070000
END:DAYLIGHT
BEGIN:STANDARD
TZOFFSETFROM:-0400
TZOFFSETTO:-0500
TZNAME:EST
DTSTART:20221106T060000
END:STANDARD
BEGIN:DAYLIGHT
TZOFFSETFROM:-0500
TZOFFSETTO:-0400
TZNAME:EDT
DTSTART:20230312T070000
END:DAYLIGHT
BEGIN:STANDARD
TZOFFSETFROM:-0400
TZOFFSETTO:-0500
TZNAME:EST
DTSTART:20231105T060000
END:STANDARD
BEGIN:DAYLIGHT
TZOFFSETFROM:-0500
TZOFFSETTO:-0400
TZNAME:EDT
DTSTART:20240310T070000
END:DAYLIGHT
BEGIN:STANDARD
TZOFFSETFROM:-0400
TZOFFSETTO:-0500
TZNAME:EST
DTSTART:20241103T060000
END:STANDARD
END:VTIMEZONE
BEGIN:VEVENT
DTSTART;TZID=America/New_York:20230822T120000
DTEND;TZID=America/New_York:20230822T140000
DTSTAMP:20260425T074159
CREATED:20230820T090019Z
LAST-MODIFIED:20230820T090019Z
UID:16274-1692705600-1692712800@salemforallages.org
SUMMARY:“Walk In” Potion Brewing
DESCRIPTION:Calling all Potion Masters! Stop by during our “walk-in” times to brew your very own potion. There will be two (2) recipes to choose from. Create a “Dragon’s Breath” potion or a “Love Potion”.\n\nOur magical employees will guide children to measure\, mix\, and create! Students will get to take home their potion. No pre-registration is required – just walk in and pay in the store! Availability is based on space at our activity table\, a small wait may be required.
URL:https://salemforallages.org/event/walk-in-potion-brewing-25/
ATTACH;FMTTYPE=image/jpeg:https://salemforallages.org/wp-content/uploads/2023/08/Summer-2023-Promos-7-1-7.jpg
END:VEVENT
BEGIN:VEVENT
DTSTART;TZID=America/New_York:20230822T110000
DTEND;TZID=America/New_York:20230822T170000
DTSTAMP:20260425T074159
CREATED:20230820T090018Z
LAST-MODIFIED:20230820T090018Z
UID:16273-1692702000-1692723600@salemforallages.org
SUMMARY:Teatime Tuesdays with the Satanic Temple
DESCRIPTION:Join us every Tuesday during gallery hours for complementary tea with admission to the gallery.
URL:https://salemforallages.org/event/teatime-tuesdays-with-the-satanic-temple-13/
ATTACH;FMTTYPE=image/jpeg:https://salemforallages.org/wp-content/uploads/2023/05/satanic-tea-art-gallery.jpg
END:VEVENT
BEGIN:VEVENT
DTSTART;TZID=America/New_York:20230822T090000
DTEND;TZID=America/New_York:20230822T110000
DTSTAMP:20260425T074159
CREATED:20230820T090018Z
LAST-MODIFIED:20230820T090018Z
UID:16272-1692694800-1692702000@salemforallages.org
SUMMARY:Summer Science
DESCRIPTION:Join The Good Witch of Salem for a three-day “Summer Science” summer program. Children will explore summer-themed science experiments like sand volcanoes\, ocean slime\, and bubble fun! \nThis workshop is limited to 8 children ages 4+\, pre-registration is required.
URL:https://salemforallages.org/event/summer-science/
END:VEVENT
BEGIN:VEVENT
DTSTART;TZID=America/New_York:20230821T110000
DTEND;TZID=America/New_York:20230821T140000
DTSTAMP:20260425T074159
CREATED:20230820T090017Z
LAST-MODIFIED:20230820T090017Z
UID:16270-1692615600-1692626400@salemforallages.org
SUMMARY:“Walk In” Potion Brewing
DESCRIPTION:Calling all Potion Masters! Stop by during our “walk-in” times to brew your very own potion. There will be two (2) recipes to choose from. Create a “Dragon’s Breath” potion or a “Love Potion”.\n\nOur magical employees will guide children to measure\, mix\, and create! Students will get to take home their potion. No pre-registration is required – just walk in and pay in the store! Availability is based on space at our activity table\, a small wait may be required.
URL:https://salemforallages.org/event/walk-in-potion-brewing-24/
ATTACH;FMTTYPE=image/jpeg:https://salemforallages.org/wp-content/uploads/2023/08/Summer-2023-Promos-7-1-6.jpg
END:VEVENT
BEGIN:VEVENT
DTSTART;TZID=America/New_York:20230820T190000
DTEND;TZID=America/New_York:20230820T213000
DTSTAMP:20260425T074159
CREATED:20230820T090016Z
LAST-MODIFIED:20230820T090016Z
UID:16269-1692558000-1692567000@salemforallages.org
SUMMARY:HP Lovecraft & The Salem Connection
DESCRIPTION:HP Lovecraft was a writer who delved in the genres of science fiction\, fantasy and horror. He specialized in the weird that captured the imagination of many of his fans. He loved Providence\, RI but one of his other favorite cities was Salem\, MA that many believe to be the famed Arkham in his books. He came to Salem several times and used the homes\, buildings and the 1692 witchcraft trials as inspiration for some of his tales of the fantastic. Join us for our special Lovecraft History Tour. You’ll learn about the man and how Salem influenced many of his writings and how he references Salem in his books. You’ll visit several locations throughout the city including the Crowninshield-Bentley House\, Witch House\, Old Train Station location and more.
URL:https://salemforallages.org/event/hp-lovecraft-the-salem-connection-3/
ATTACH;FMTTYPE=image/jpeg:https://salemforallages.org/wp-content/uploads/2023/04/H._P._Lovecraft_June_1934.jpg
END:VEVENT
BEGIN:VEVENT
DTSTART;TZID=America/New_York:20230820T180000
DTEND;TZID=America/New_York:20230820T190000
DTSTAMP:20260425T074159
CREATED:20230820T090012Z
LAST-MODIFIED:20230820T090012Z
UID:16267-1692554400-1692558000@salemforallages.org
SUMMARY:Terror Next Door
DESCRIPTION:On this expert-guided\, interactive and deep-dive into the Witch Trials explore in rare detail how a house and neighborhood reveal stories of terror and survival as they witnessed one of the darkest periods in American history. We’ll start inside the c1667 Daniels House where you’ll tour a living home from the Trials and choose from a selection of historical drinks to take with you while we explore the Witch Trials sites in the incredibly preserved surrounding neighborhood. Small groups allow for a more intimate experience\, we recommend booking in advance to ensure a spot.\n~1.75 hours\, approx 1 mile walking $36/person\n\nFor Daily Tour Times click HERE
URL:https://salemforallages.org/event/terror-next-door-28/
ATTACH;FMTTYPE=image/jpeg:https://salemforallages.org/wp-content/uploads/2023/08/Terror-Next-Door-1-scaled-6.jpeg
END:VEVENT
BEGIN:VEVENT
DTSTART;TZID=America/New_York:20230820T173000
DTEND;TZID=America/New_York:20230820T213000
DTSTAMP:20260425T074159
CREATED:20230820T090012Z
LAST-MODIFIED:20230820T090012Z
UID:16266-1692552600-1692567000@salemforallages.org
SUMMARY:Sundays-Industry Night at the Village Tavern
DESCRIPTION:30% OFF ALL FOOD ITEMS ON OUR ENTIRE MENU! \nFREE POOL-ALL TABLES-ALL NIGHT \nJust let us know you are a current or past restaurant employee and the discount and FREE pool are on us! (Bring your Co-Workers Too!)
URL:https://salemforallages.org/event/sundays-industry-night-at-the-village-tavern-22/
ATTACH;FMTTYPE=image/jpeg:https://salemforallages.org/wp-content/uploads/2023/03/Village-Tavern-Indusrty-Night.jpg
END:VEVENT
BEGIN:VEVENT
DTSTART;TZID=America/New_York:20230820T160000
DTEND;TZID=America/New_York:20230820T190000
DTSTAMP:20260425T074159
CREATED:20230820T090012Z
LAST-MODIFIED:20230820T090012Z
UID:16265-1692547200-1692558000@salemforallages.org
SUMMARY:DIAMOND’S DINE-IN DRAG BRUNCH!
DESCRIPTION:Come on down for Diamond’s Dine-In Drag Brunch! This is a weekly event with local Drag Queen Miz Diamond Wigfall! Someone will be her guest. Be ready for numbers\, games\, drag\, and mimosas all afternoon.
URL:https://salemforallages.org/event/diamonds-dine-in-drag-brunch-3/
ATTACH;FMTTYPE=image/jpeg:https://salemforallages.org/wp-content/uploads/2023/08/Diamond_DineIn_Final-11x171-1.jpg
END:VEVENT
BEGIN:VEVENT
DTSTART;TZID=America/New_York:20230820T150000
DTEND;TZID=America/New_York:20230820T170000
DTSTAMP:20260425T074159
CREATED:20230820T090011Z
LAST-MODIFIED:20230820T090011Z
UID:16264-1692543600-1692550800@salemforallages.org
SUMMARY:Wonderful Self-Care Cafe
DESCRIPTION:Join us to relax\, have a cup of coffee or tea + conversations
URL:https://salemforallages.org/event/wonderful-self-care-cafe-15/
ATTACH;FMTTYPE=image/jpeg:https://salemforallages.org/wp-content/uploads/2023/05/01.jpg
END:VEVENT
BEGIN:VEVENT
DTSTART;TZID=America/New_York:20230820T140000
DTEND;TZID=America/New_York:20230820T153000
DTSTAMP:20260425T074159
CREATED:20230820T090008Z
LAST-MODIFIED:20230820T090008Z
UID:16262-1692540000-1692545400@salemforallages.org
SUMMARY:The Life of Francis Perkins Lecture
DESCRIPTION:Join us August 20th at 2 P.M. for an engaging lecture by Frances Perkins Center exhibition volunteer\, Cathy Freedberg on the life and influence of Frances Perkins. \nFrances Perkins (1880-1965)\, the first woman to serve in a U.S. presidential cabinet\, was Secretary of Labor (1933-1945) for the entire tenure of President Franklin Delano Roosevelt. Perkins was the driving force behind many of the groundbreaking New Deal programs that are still the foundation of the American social safety net — Social Security\, unemployment insurance\, the 40-hour work week\, and the minimum wage. \nTickets are $10 for the public and free for Gables members. \nThe House of the Seven Gables will be hosting the traveling exhibit The Life and Legacy of Frances Perkins from August 18-September 18\, 2023. To learn more\, click here. \nhttps://7gables.org/event/the-life-of-frances-perkins-lecture/
URL:https://salemforallages.org/event/the-life-of-francis-perkins-lecture/
ATTACH;FMTTYPE=image/jpeg:https://salemforallages.org/wp-content/uploads/2023/08/Frances-Perkins-Lecture-1920x1080-1.jpg
END:VEVENT
BEGIN:VEVENT
DTSTART;TZID=America/New_York:20230820T130000
DTEND;TZID=America/New_York:20230820T153000
DTSTAMP:20260425T074159
CREATED:20230820T090008Z
LAST-MODIFIED:20230820T090008Z
UID:16261-1692536400-1692545400@salemforallages.org
SUMMARY:Boat Tour to Bakers Island Lighthouse
DESCRIPTION:Climb aboard Naumkeag\, Essex Heritage’s landing craft for a trip to Bakers Island Light Station. Enjoy a 30-minute cruise from Salem past rugged coastline\, harbor islands\, and five lighthouses to Bakers Island. The light station is a 10-acre property that has been in use aiding in maritime navigation for almost 250 years. The site features an 1820 light tower\, two keepers houses\, and historic trails. During your visit you will have the chance to explore the natural landscape\, learn about the history of the light station\, and relax on the island setting. \nBoat Departure Location: Naumkeag departs from the Salem Ferry dock at 10 Blaney Street\, Salem MA 01970. \nWhat You Need To Know Before You Go! (Frequently Asked Questions) \nHow much does the trip cost? \n\nAdults: $39\nChildren (4-12 yr): $29\nEssex Heritage Members receive a 20% discount! (A discount code will be provided on membership confirmation letter.)\n\nHow long is the trip? \nAbout 2.5 hours round-trip
URL:https://salemforallages.org/event/boat-tour-to-bakers-island-lighthouse-10/
ATTACH;FMTTYPE=image/jpeg:https://salemforallages.org/wp-content/uploads/2023/06/2023-Bakers-Island-Boat-Tour.jpg
END:VEVENT
BEGIN:VEVENT
DTSTART;TZID=America/New_York:20230820T120000
DTEND;TZID=America/New_York:20230820T143000
DTSTAMP:20260425T074159
CREATED:20230820T090007Z
LAST-MODIFIED:20230820T090007Z
UID:16260-1692532800-1692541800@salemforallages.org
SUMMARY:Baby Goats at Brewery
DESCRIPTION:Come see and hold some baby goats. Mapledell Farms will be onsite with baby goats for the afternoon. Touch\, pet\, hold and learn about the goats.\nCome for the beers\, stay for the bahs!!!
URL:https://salemforallages.org/event/baby-goats-at-brewery/
ATTACH;FMTTYPE=image/jpeg:https://salemforallages.org/wp-content/uploads/2023/05/East-Regiment-Basic.jpg
END:VEVENT
BEGIN:VEVENT
DTSTART;TZID=America/New_York:20230820T110000
DTEND;TZID=America/New_York:20230820T150000
DTSTAMP:20260425T074159
CREATED:20230815T090008Z
LAST-MODIFIED:20230815T090008Z
UID:16258-1692529200-1692543600@salemforallages.org
SUMMARY:Hands-on History!
DESCRIPTION:Join us for Hands-on History at The Gables! Each weekend in July and August we invite young (and young at heart!) guests to explore different elements of colonial life through hands-on activities. These drop-in programs will run 11 A.M. to 3 P.M. Saturdays and Sundays and are free with the purchase of admission. This summer\, we will be exploring traditional children’s games and the art of calligraphy. \nWe hope to see you soon for some hands-on fun!
URL:https://salemforallages.org/event/hands-on-history-32/
END:VEVENT
BEGIN:VEVENT
DTSTART;TZID=America/New_York:20230820T110000
DTEND;TZID=America/New_York:20230820T121500
DTSTAMP:20260425T074159
CREATED:20230815T090008Z
LAST-MODIFIED:20230815T090008Z
UID:16259-1692529200-1692533700@salemforallages.org
SUMMARY:Goat Yoga
DESCRIPTION:Goat Yoga is back! Thanks to our friends at Salty Buddha and Mapledell Farms. Grab your tickets quick as spots are extremely limited. \nTickets include one hour of Yoga\, one on one time with goats & a beer post yoga \nTickets: https://thesaltybuddha.com/workshops
URL:https://salemforallages.org/event/goat-yoga-2/
ATTACH;FMTTYPE=image/jpeg:https://salemforallages.org/wp-content/uploads/2023/05/East-Regiment-Basic.jpg
END:VEVENT
BEGIN:VEVENT
DTSTART;TZID=America/New_York:20230820T100000
DTEND;TZID=America/New_York:20230820T113000
DTSTAMP:20260425T074159
CREATED:20230814T090030Z
LAST-MODIFIED:20230814T090030Z
UID:16256-1692525600-1692531000@salemforallages.org
SUMMARY:Falconry & The Medieval World at Hammond Castle Museum
DESCRIPTION:Falconry is the sport of hunting with a trained bird of prey. It is also the demanding art of training a predatory bird that is by nature wary of people to hunt cooperatively with a human partner. While the sport has a 4\,000-year history\, its glory days were indisputably the medieval period. \n\nWhile this hour-long program centers around live birds used in falconry\, it is not a flight demonstration but a history-rich look at an ancient sport. Focusing on the medieval period\, it explains the characteristics of the birds of prey used\, how the sport reflected the lifestyle of the time and the historical reasons behind falconry’s rise and fall.\n\nThis ticket grants you access to the Falconry & the Medieval World: A Live Bird Presentation which will be held in a tent on the ocean-facing lawn as well as access to the Museum Shop. A separate tour ticket will be required to enter beyond the Museum Shop for a guided or self-guided tour. If you wish to tour Hammond Castle Museum at the conclusion of this program\, ticket holders may purchase Self-Guided Tour tickets in the Museum Shop at a 20% discount.  All proceeds from this educational program support additional educational programs and ongoing Museum restorations.
URL:https://salemforallages.org/event/falconry-the-medieval-world-at-hammond-castle-museum/
ATTACH;FMTTYPE=image/jpeg:https://salemforallages.org/wp-content/uploads/2023/08/wingmastersjulieredtailedhawk.jpg
END:VEVENT
BEGIN:VEVENT
DTSTART;TZID=America/New_York:20230819T180000
DTEND;TZID=America/New_York:20230819T210000
DTSTAMP:20260425T074159
CREATED:20230814T090030Z
LAST-MODIFIED:20230814T090030Z
UID:16255-1692468000-1692478800@salemforallages.org
SUMMARY:Bong Painting
DESCRIPTION:*IMPORTANT* We would like to remind everyone that attendance for the this event is strictly for those who are 21 years of age or older\, and must have a valid ID. Unfortunately\, those without valid ID that night will not be given a refund for their tickets. \nJoin us at the East Regiment Beer Co. in Salem anytime between 6 and 9 PM to create a beautiful work of art\, that you can fill with your favorite “herbal remedy”. The cost is $35 per Bong and Inebri-Art will supply all the materials you’ll need to customize your bong (product sold separately.) \nA limited number of bongs are available\, so don’t wait and book tickets today! Cancellations must be made 24 hours in advance. Cancelations must be made 24 hours in advance.
URL:https://salemforallages.org/event/bong-painting/
ATTACH;FMTTYPE=image/jpeg:https://salemforallages.org/wp-content/uploads/2023/05/East-Regiment-Basic.jpg
END:VEVENT
BEGIN:VEVENT
DTSTART;TZID=America/New_York:20230819T180000
DTEND;TZID=America/New_York:20230819T190000
DTSTAMP:20260425T074159
CREATED:20230814T090027Z
LAST-MODIFIED:20230814T090027Z
UID:16253-1692468000-1692471600@salemforallages.org
SUMMARY:Terror Next Door
DESCRIPTION:On this expert-guided\, interactive and deep-dive into the Witch Trials explore in rare detail how a house and neighborhood reveal stories of terror and survival as they witnessed one of the darkest periods in American history. We’ll start inside the c1667 Daniels House where you’ll tour a living home from the Trials and choose from a selection of historical drinks to take with you while we explore the Witch Trials sites in the incredibly preserved surrounding neighborhood. Small groups allow for a more intimate experience\, we recommend booking in advance to ensure a spot.\n~1.75 hours\, approx 1 mile walking $36/person\n\nFor Daily Tour Times click HERE
URL:https://salemforallages.org/event/terror-next-door-27/
ATTACH;FMTTYPE=image/jpeg:https://salemforallages.org/wp-content/uploads/2023/08/Terror-Next-Door-1-scaled-5.jpeg
END:VEVENT
BEGIN:VEVENT
DTSTART;TZID=America/New_York:20230819T150000
DTEND;TZID=America/New_York:20230819T180000
DTSTAMP:20260425T074159
CREATED:20230814T090027Z
LAST-MODIFIED:20230814T090027Z
UID:16252-1692457200-1692468000@salemforallages.org
SUMMARY:Live Music at the Village Tavern
DESCRIPTION:Enjoy delicious food while enjoying live music with your community every Saturday at the Village Tavern in Downtown Salem.
URL:https://salemforallages.org/event/live-music-at-the-village-tavern-23/
ATTACH;FMTTYPE=image/jpeg:https://salemforallages.org/wp-content/uploads/2023/03/Live-Music-Village-Taven.jpg
END:VEVENT
BEGIN:VEVENT
DTSTART;TZID=America/New_York:20230819T130000
DTEND;TZID=America/New_York:20230819T160000
DTSTAMP:20260425T074159
CREATED:20230814T090025Z
LAST-MODIFIED:20230814T090025Z
UID:16250-1692450000-1692460800@salemforallages.org
SUMMARY:“Walk In” Potion Brewing
DESCRIPTION:Calling all Potion Masters! Stop by during our “walk-in” times to brew your very own potion. There will be two (2) recipes to choose from. Create a “Dragon’s Breath” potion or a “Love Potion”.\n\nOur magical employees will guide children to measure\, mix\, and create! Students will get to take home their potion. No pre-registration is required – just walk in and pay in the store! Availability is based on space at our activity table\, a small wait may be required.
URL:https://salemforallages.org/event/walk-in-potion-brewing-23/
ATTACH;FMTTYPE=image/jpeg:https://salemforallages.org/wp-content/uploads/2023/08/Summer-2023-Promos-7-1-5.jpg
END:VEVENT
BEGIN:VEVENT
DTSTART;TZID=America/New_York:20230819T120000
DTEND;TZID=America/New_York:20230819T190000
DTSTAMP:20260425T074159
CREATED:20230814T090022Z
LAST-MODIFIED:20230814T090022Z
UID:16248-1692446400-1692471600@salemforallages.org
SUMMARY:Salem Merry-time Fest
DESCRIPTION:Join us for the Salem Merry-time Fest from noon to 7pm on Saturday\, August 19\, 2023\, at Salem Maritime National Historic Site on Derby Street. This event is free and open to the public. This one-day festival marks a return of the park’s annual summer event.  In previous years\, Salem Maritime held the “Salem Maritime Festival” at the park each summer. Following state and local guidance\, the festival was canceled in 2020 and remained on hiatus throughout the COVID-19 pandemic.  \n  \nThis year\, the Salem Merry-time Fest will feature a wide range of entertainment\, including musicians\, magic\, visiting vessels\, and hands-on activities. This year’s event will also introduce the first “Great Salem Maritime Cardboard Boat Regatta.” Teams of two will test their ingenuity by building homemade cardboard boats that will launch from Derby Beach. Boat registration is required; all rules are on the park website.      \n  \n“We’re excited to reconnect with Salem residents\, our partners\, and visitors by launching the Salem Merry-time Fest\, new to the park but rooted in tradition and Salem spirit\,” said Superintendent Jennifer Hardin of Salem Maritime and Saugus Iron Works National Historic Sites. “Salem Maritime is committed to providing opportunities for visitors to meaningfully engage with our maritime history and culture in fun and unique ways.”   \n  \nStay up-to-date and learn more about how to participate in this year’s event at https://www.nps.gov/sama/planyourvisit/salem-merry-time-fest.htm \n                                                                                                      www.nps.gov
URL:https://salemforallages.org/event/salem-merry-time-fest/
ATTACH;FMTTYPE=image/jpeg:https://salemforallages.org/wp-content/uploads/2023/08/P1010045_1.jpg
END:VEVENT
BEGIN:VEVENT
DTSTART;TZID=America/New_York:20230819T110000
DTEND;TZID=America/New_York:20230819T190000
DTSTAMP:20260425T074159
CREATED:20230814T090017Z
LAST-MODIFIED:20230814T090017Z
UID:16245-1692442800-1692471600@salemforallages.org
SUMMARY:Salem Jazz & Soul Festival 2023
DESCRIPTION:The festival will happen on August 19th from 11-7pm at the Salem Willows. There will be a beer garden\, curated vendors fair\, educational clinics in the education tent\, and of course incredible performers.
URL:https://salemforallages.org/event/salem-jazz-soul-festival-2023/
ATTACH;FMTTYPE=image/jpeg:https://salemforallages.org/wp-content/uploads/2023/08/298156673_5530886120287739_5676923455099845166_n-scaled-1.jpg
END:VEVENT
BEGIN:VEVENT
DTSTART;TZID=America/New_York:20230819T110000
DTEND;TZID=America/New_York:20230819T150000
DTSTAMP:20260425T074159
CREATED:20230814T090022Z
LAST-MODIFIED:20230814T090022Z
UID:16247-1692442800-1692457200@salemforallages.org
SUMMARY:Hands-on History!
DESCRIPTION:Join us for Hands-on History at The Gables! Each weekend in July and August we invite young (and young at heart!) guests to explore different elements of colonial life through hands-on activities. These drop-in programs will run 11 A.M. to 3 P.M. Saturdays and Sundays and are free with the purchase of admission. This summer\, we will be exploring traditional children’s games and the art of calligraphy. \nWe hope to see you soon for some hands-on fun!
URL:https://salemforallages.org/event/hands-on-history-31/
END:VEVENT
BEGIN:VEVENT
DTSTART;TZID=America/New_York:20230819T110000
DTEND;TZID=America/New_York:20230819T140000
DTSTAMP:20260425T074159
CREATED:20230814T090017Z
LAST-MODIFIED:20230814T090017Z
UID:16244-1692442800-1692453600@salemforallages.org
SUMMARY:Boat Tour to Misery Island
DESCRIPTION:Journey on Essex Heritage’s landing craft Naumkeag to Great Misery Island in Salem Sound. Along the way\, hear stories about the rich history of the harbor and how the Misery Islands acquired their unique name. When you arrive\, you’ll have 2 hours to explore the trails\, open meadows\, rocky shoreline\, and hidden coves on the island. The Misery Islands are managed by The Trustees. More information about the islands as well as a trail map can be found HERE \nBoat Departure Location: Naumkeag departs from the Salem Ferry dock at 10 Blaney Street\, Salem MA 01970. \nWhat You Need To Know Before You Go! Frequently Asked Questions \nHow much does this cost? \n\nAdults: $39\nChildren (4-12 yr): $29\nEssex Heritage Members receive a 20% discount! (A discount code will be provided on membership confirmation letter.)\n\nHow long is the trip? \nAbout 3 hours round-trip (30-minute trip to and from the islands\, and 2 hours on Great Misery Island)
URL:https://salemforallages.org/event/boat-tour-to-misery-island-10/
ATTACH;FMTTYPE=image/jpeg:https://salemforallages.org/wp-content/uploads/2023/06/2023-misery-island-boat-tour-.jpg
END:VEVENT
BEGIN:VEVENT
DTSTART;TZID=America/New_York:20230819T103000
DTEND;TZID=America/New_York:20230819T123000
DTSTAMP:20260425T074159
CREATED:20230814T090017Z
LAST-MODIFIED:20230814T090017Z
UID:16243-1692441000-1692448200@salemforallages.org
SUMMARY:Process Art Mornings
DESCRIPTION:Informal in-process art making
URL:https://salemforallages.org/event/process-art-mornings-15/
ATTACH;FMTTYPE=image/jpeg:https://salemforallages.org/wp-content/uploads/2023/05/01.jpg
END:VEVENT
BEGIN:VEVENT
DTSTART;TZID=America/New_York:20230819T080000
DTEND;TZID=America/New_York:20230819T170000
DTSTAMP:20260425T074159
CREATED:20230814T090016Z
LAST-MODIFIED:20230814T090016Z
UID:16242-1692432000-1692464400@salemforallages.org
SUMMARY:SALEM FLEA
DESCRIPTION:THE SALEM FLEA’S 7TH ANNUAL SUMMER MARKET SERIES WILL BE HELD ON THE 3RD SATURDAY OF THE MONTH\, MAY-SEPTEMBER \n40+ LOCAL VINTAGE\, HANDMADE ART VENDORS LOCATED IN THE HEART OF HISTORIC SALEM MASSACHUSETTS
URL:https://salemforallages.org/event/salem-flea-3/
ATTACH;FMTTYPE=image/jpeg:https://salemforallages.org/wp-content/uploads/2023/06/IMG_2259.jpg
END:VEVENT
BEGIN:VEVENT
DTSTART;TZID=America/New_York:20230818T210000
DTEND;TZID=America/New_York:20230818T223000
DTSTAMP:20260425T074159
CREATED:20230814T090016Z
LAST-MODIFIED:20230814T090016Z
UID:16241-1692392400-1692397800@salemforallages.org
SUMMARY:Live DJ Music Fridays at the Village Tavern
DESCRIPTION:Enjoy a live DJ set every Friday night at the Village Tavern Salem with great food and drinks. Enjoy a night out on the town with the Salem community.
URL:https://salemforallages.org/event/live-dj-music-fridays-at-the-village-tavern-23/
ATTACH;FMTTYPE=image/jpeg:https://salemforallages.org/wp-content/uploads/2023/03/Live-DJ-at-Village-Tavern.jpg
END:VEVENT
BEGIN:VEVENT
DTSTART;TZID=America/New_York:20230818T200000
DTEND;TZID=America/New_York:20230818T230000
DTSTAMP:20260425T074159
CREATED:20230814T090016Z
LAST-MODIFIED:20230814T090016Z
UID:16240-1692388800-1692399600@salemforallages.org
SUMMARY:Friday Night Music with Gulu-Gulu Cafe
DESCRIPTION:Join Gulu-Gulu Cafe Friday nights for their live music series. Bands and musicians range from acoustic guitar\, jazz standards\, saxophones\, trios\, and more! Support live musicians and listen to live music!
URL:https://salemforallages.org/event/friday-night-music-with-gulu-gulu-cafe-3/
ATTACH;FMTTYPE=image/jpeg:https://salemforallages.org/wp-content/uploads/2023/08/38864120_1780760032044977_6011049327684747264_n.jpg
END:VEVENT
BEGIN:VEVENT
DTSTART;TZID=America/New_York:20230818T200000
DTEND;TZID=America/New_York:20230818T213000
DTSTAMP:20260425T074159
CREATED:20230814T090015Z
LAST-MODIFIED:20230814T090015Z
UID:16239-1692388800-1692394200@salemforallages.org
SUMMARY:Ru Paul Viewing Party with Miz Diamond
DESCRIPTION:Stop by Bit Bar every Friday night for a live viewing of Ru Paul’s Drag Race with local Drag Queen Miz Diamond.
URL:https://salemforallages.org/event/ru-paul-viewing-party-with-miz-diamond-20/
ATTACH;FMTTYPE=image/jpeg:https://salemforallages.org/wp-content/uploads/2022/12/OIP.jpg
END:VEVENT
BEGIN:VEVENT
DTSTART;TZID=America/New_York:20230818T190000
DTEND;TZID=America/New_York:20230818T210000
DTSTAMP:20260425T074159
CREATED:20230814T090015Z
LAST-MODIFIED:20230814T090015Z
UID:16238-1692385200-1692392400@salemforallages.org
SUMMARY:Friday Night Music with American Flatbread
DESCRIPTION:Join us for live music\, enjoy rock and country.
URL:https://salemforallages.org/event/friday-night-music-with-american-flatbread-11/
ATTACH;FMTTYPE=image/jpeg:https://salemforallages.org/wp-content/uploads/2023/06/American-Flatbread-.jpg
END:VEVENT
BEGIN:VEVENT
DTSTART;TZID=America/New_York:20230818T180000
DTEND;TZID=America/New_York:20230818T210000
DTSTAMP:20260425T074159
CREATED:20230814T090011Z
LAST-MODIFIED:20230814T090011Z
UID:16235-1692381600-1692392400@salemforallages.org
SUMMARY:Friday Night Music at East Regiment
DESCRIPTION:Support local artists at East Regiment Beer Company with their Friday Night Music series. Each week will highlight a new local artists that will take the stage to fill the bar with tunes. Enjoy the bars bespoke aesthetic and delicious locally made beers.
URL:https://salemforallages.org/event/friday-night-music-at-east-regiment-23/
ATTACH;FMTTYPE=image/jpeg:https://salemforallages.org/wp-content/uploads/2023/03/East-Regiment-Live-Music.jpg
END:VEVENT
END:VCALENDAR