BEGIN:VCALENDAR
VERSION:2.0
PRODID:-//Salem for All Ages - ECPv6.15.18//NONSGML v1.0//EN
CALSCALE:GREGORIAN
METHOD:PUBLISH
X-WR-CALNAME:Salem for All Ages
X-ORIGINAL-URL:https://salemforallages.org
X-WR-CALDESC:Events for Salem for All Ages
REFRESH-INTERVAL;VALUE=DURATION:PT1H
X-Robots-Tag:noindex
X-PUBLISHED-TTL:PT1H
BEGIN:VTIMEZONE
TZID:America/New_York
BEGIN:DAYLIGHT
TZOFFSETFROM:-0500
TZOFFSETTO:-0400
TZNAME:EDT
DTSTART:20220313T070000
END:DAYLIGHT
BEGIN:STANDARD
TZOFFSETFROM:-0400
TZOFFSETTO:-0500
TZNAME:EST
DTSTART:20221106T060000
END:STANDARD
BEGIN:DAYLIGHT
TZOFFSETFROM:-0500
TZOFFSETTO:-0400
TZNAME:EDT
DTSTART:20230312T070000
END:DAYLIGHT
BEGIN:STANDARD
TZOFFSETFROM:-0400
TZOFFSETTO:-0500
TZNAME:EST
DTSTART:20231105T060000
END:STANDARD
BEGIN:DAYLIGHT
TZOFFSETFROM:-0500
TZOFFSETTO:-0400
TZNAME:EDT
DTSTART:20240310T070000
END:DAYLIGHT
BEGIN:STANDARD
TZOFFSETFROM:-0400
TZOFFSETTO:-0500
TZNAME:EST
DTSTART:20241103T060000
END:STANDARD
END:VTIMEZONE
BEGIN:VEVENT
DTSTART;TZID=America/New_York:20230916T080000
DTEND;TZID=America/New_York:20230916T170000
DTSTAMP:20260424T222640
CREATED:20230907T090031Z
LAST-MODIFIED:20230907T090031Z
UID:16476-1694851200-1694883600@salemforallages.org
SUMMARY:SALEM FLEA
DESCRIPTION:THE SALEM FLEA’S 7TH ANNUAL SUMMER MARKET SERIES WILL BE HELD ON THE 3RD SATURDAY OF THE MONTH\, MAY-SEPTEMBER \n40+ LOCAL VINTAGE\, HANDMADE ART VENDORS LOCATED IN THE HEART OF HISTORIC SALEM MASSACHUSETTS
URL:https://salemforallages.org/event/salem-flea-4/
ATTACH;FMTTYPE=image/jpeg:https://salemforallages.org/wp-content/uploads/2023/06/IMG_2259.jpg
END:VEVENT
BEGIN:VEVENT
DTSTART;TZID=America/New_York:20230915T200000
DTEND;TZID=America/New_York:20230915T230000
DTSTAMP:20260424T222640
CREATED:20230907T090031Z
LAST-MODIFIED:20230907T090031Z
UID:16475-1694808000-1694818800@salemforallages.org
SUMMARY:Friday Night Music with Gulu-Gulu Cafe
DESCRIPTION:Join Gulu-Gulu Cafe Friday nights for their live music series. Bands and musicians range from acoustic guitar\, jazz standards\, saxophones\, trios\, and more! Support live musicians and listen to live music!
URL:https://salemforallages.org/event/friday-night-music-with-gulu-gulu-cafe-7/
ATTACH;FMTTYPE=image/jpeg:https://salemforallages.org/wp-content/uploads/2023/08/38864120_1780760032044977_6011049327684747264_n.jpg
END:VEVENT
BEGIN:VEVENT
DTSTART;TZID=America/New_York:20230915T193000
DTEND;TZID=America/New_York:20230915T210000
DTSTAMP:20260424T222640
CREATED:20230907T090029Z
LAST-MODIFIED:20230907T090029Z
UID:16473-1694806200-1694811600@salemforallages.org
SUMMARY:IzumonookunI by Aretha Aoki and Ryan MacDonald
DESCRIPTION:This event is a SALEM NIGHT with free admission for Salem residents with ID at the door.  \nIzumonookunI is a multidisciplinary dance inspired by Izumo no Okuni\, 17th century cis-female founder of the Japanese dance-drama form\, kabuki—a form that currently contains little trace of its cis-femalecentric\, grassroots\, counter-cultural origins. Choreographer Aretha Aoki and Bessie-nominated sound designer and artist Ryan MacDonald are resurrecting and re-imagining Okuni as a punk/synthwave/glam-goth figure. IzumokookunI aims to reclaim the origins of kabuki\, collapse reductive binaries\, and allow audiences to make new connections between seemingly disparate forms. \nThis event includes a Q and A with the artists after the performance. \nTickets are $15 general/$10 seniors/free for all students with ID and under 18.\nAll Salem State faculty and staff admitted free with university ID.
URL:https://salemforallages.org/event/izumonookuni-by-aretha-aoki-and-ryan-macdonald/
ATTACH;FMTTYPE=image/jpeg:https://salemforallages.org/wp-content/uploads/2023/09/bgV-TPLgLL4gNV7_sxS_M4opatA2aORJpkBAAagtcFo.jpg
END:VEVENT
BEGIN:VEVENT
DTSTART;TZID=America/New_York:20230915T190000
DTEND;TZID=America/New_York:20230915T210000
DTSTAMP:20260424T222640
CREATED:20230907T090028Z
LAST-MODIFIED:20230907T090028Z
UID:16472-1694804400-1694811600@salemforallages.org
SUMMARY:Friday Night Music with American Flatbread
DESCRIPTION:Join us for live music\, enjoy rock and country.
URL:https://salemforallages.org/event/friday-night-music-with-american-flatbread-15/
ATTACH;FMTTYPE=image/jpeg:https://salemforallages.org/wp-content/uploads/2023/06/American-Flatbread-.jpg
END:VEVENT
BEGIN:VEVENT
DTSTART;TZID=America/New_York:20230915T180000
DTEND;TZID=America/New_York:20230915T200000
DTSTAMP:20260424T222640
CREATED:20230915T090010Z
LAST-MODIFIED:20230915T090010Z
UID:16525-1694800800-1694808000@salemforallages.org
SUMMARY:Salem Art Assoc ArtoberFest Reception
DESCRIPTION:Salem Arts Association members and community of artists explore Salem’s history with autumn\, Halloween\, witchcraft\, and the spirit of the season. The resulting exhibit represents diverse interpretations of the theme and how\, by bringing them together\, we create a collective understanding of it. The opening reception is Friday\, September 15 from 6-8 PM. The exhibit will be on display September 16 through Saturday November 22\, and Gallery Hours are Saturdays & Sundays from 12-6 pm.
URL:https://salemforallages.org/event/salem-art-assoc-artoberfest-reception/
ATTACH;FMTTYPE=image/jpeg:https://salemforallages.org/wp-content/uploads/2023/09/unnamed-69.jpg
END:VEVENT
BEGIN:VEVENT
DTSTART;TZID=America/New_York:20230915T180000
DTEND;TZID=America/New_York:20230915T200000
DTSTAMP:20260424T222640
CREATED:20230907T090025Z
LAST-MODIFIED:20230907T090025Z
UID:16470-1694800800-1694808000@salemforallages.org
SUMMARY:Lore by Candlelight
DESCRIPTION:Experience New England’s fantastical past by spending an evening in one of the oldest homes in Salem. You will be immersed in original rooms dimly lit by candles while experiencing New England’s history\, legends\, and lore that have been passed down for generations. Join us to explore the reality of our terrifying past. BYOB alcohol.
URL:https://salemforallages.org/event/lore-by-candlelight-5/
ATTACH;FMTTYPE=image/jpeg:https://salemforallages.org/wp-content/uploads/2023/09/Local-Lore-by-Candlelight-2-scaled-3.jpg
END:VEVENT
BEGIN:VEVENT
DTSTART;TZID=America/New_York:20230915T113000
DTEND;TZID=America/New_York:20230915T120000
DTSTAMP:20260424T222640
CREATED:20230907T090023Z
LAST-MODIFIED:20230907T090023Z
UID:16468-1694777400-1694779200@salemforallages.org
SUMMARY:Hispanic Heritage Month Flag Raising at Riley Plaza
DESCRIPTION:Join the community at Riley Plaza for their Hispanic Heritage Month Flag Raising.
URL:https://salemforallages.org/event/hispanic-heritage-month-flag-raising-at-riley-plaza/
ATTACH;FMTTYPE=image/jpeg:https://salemforallages.org/wp-content/uploads/2023/09/unnamed-68.jpg
END:VEVENT
BEGIN:VEVENT
DTSTART;TZID=America/New_York:20230915T103000
DTEND;TZID=America/New_York:20230915T123000
DTSTAMP:20260424T222640
CREATED:20230907T090022Z
LAST-MODIFIED:20230907T090022Z
UID:16467-1694773800-1694781000@salemforallages.org
SUMMARY:Wonder Kids’ Art Days
DESCRIPTION:Easy art-making for the under 5 crowd
URL:https://salemforallages.org/event/wonder-kids-art-days-19/
ATTACH;FMTTYPE=image/jpeg:https://salemforallages.org/wp-content/uploads/2023/05/01.jpg
END:VEVENT
BEGIN:VEVENT
DTSTART;TZID=America/New_York:20230915T090000
DTEND;TZID=America/New_York:20230924T170000
DTSTAMP:20260424T222640
CREATED:20230907T090022Z
LAST-MODIFIED:20230907T090022Z
UID:16466-1694768400-1695574800@salemforallages.org
SUMMARY:Trails & Sails
DESCRIPTION:Discover special places in your backyard during Trails & Sails! Be guided through unique landscapes on land and sea\, explore historic properties\, and take in cultural experiences of all kinds. Find what makes Essex County like nowhere else. \nWe’re gearing up for another fantastic year of Trails & Sails in 2023 which will take place Friday\, September 15th through Sunday\, September 24th. \nThe full online schedule of events is now live and Trails & Sails guidebooks can be picked up at locations throughout Essex County including many local public libraries and Visitor Centers. We recommend calling ahead to make sure they still have them in stock. Want to go paperless? You can also download a digital guide!
URL:https://salemforallages.org/event/trails-sails-30/
ATTACH;FMTTYPE=image/jpeg:https://salemforallages.org/wp-content/uploads/2021/11/unnamed.jpg
END:VEVENT
BEGIN:VEVENT
DTSTART;TZID=America/New_York:20230914T210000
DTEND;TZID=America/New_York:20230914T220000
DTSTAMP:20260424T222640
CREATED:20230907T090022Z
LAST-MODIFIED:20230907T090022Z
UID:16465-1694725200-1694728800@salemforallages.org
SUMMARY:‘She Changes Everything She Touches’: Shapeshifting & the Yoga of Animal Archetypes
DESCRIPTION:Circe is often referred to as ‘the lady of the beasts’ based on the imagery of her sharing her home with animals. Her ability to change men into pigs and back again has been retold and reimagined in countless tales. In this course we will connect with Circe and her animal archetypes through meditation\, discussion\, ritual action\, and feral yoga. \n  \nContent will include: \n-the evolution of animal archetype to human-form deity
URL:https://salemforallages.org/event/she-changes-everything-she-touches-shapeshifting-the-yoga-of-animal-archetypes/
END:VEVENT
BEGIN:VEVENT
DTSTART;TZID=America/New_York:20230914T193000
DTEND;TZID=America/New_York:20230914T213000
DTSTAMP:20260424T222640
CREATED:20230907T090019Z
LAST-MODIFIED:20230907T090019Z
UID:16463-1694719800-1694727000@salemforallages.org
SUMMARY:Thursday night Summer Music Series on the Hannah Glover
DESCRIPTION:The Hannah Glover is back with another summer music series. Join Mahi Mahi cruises for a night out on the water with live music and drinks. Stay tuned for the lineup announcement.
URL:https://salemforallages.org/event/thursday-night-summer-music-series-on-the-hannah-glover-12/
ATTACH;FMTTYPE=image/jpeg:https://salemforallages.org/wp-content/uploads/2023/09/Gloverlitup-scaled-1.jpg
END:VEVENT
BEGIN:VEVENT
DTSTART;TZID=America/New_York:20230914T183000
DTEND;TZID=America/New_York:20230914T220000
DTSTAMP:20260424T222640
CREATED:20230907T090019Z
LAST-MODIFIED:20230907T090019Z
UID:16462-1694716200-1694728800@salemforallages.org
SUMMARY:Open-Mic Night
DESCRIPTION:Sing\, dance\, or simply witness local musical talent\, or simply witness the chaos of Gulu-Gulu’s open mic. \n  \nThe best open mic in the World\, on the North Shore\, in Salem! Come join the fun every Thursday night! Anything and everything are welcome. Sing\, Dance\, Hum\, Orate\, or simply witness the beautiful chaos that is the Gulu Gulu Open Mic Shindig. Sign-up at 7:30pm.
URL:https://salemforallages.org/event/open-mic-night-7/
ATTACH;FMTTYPE=image/jpeg:https://salemforallages.org/wp-content/uploads/2023/08/image-asset.jpg
END:VEVENT
BEGIN:VEVENT
DTSTART;TZID=America/New_York:20230914T180000
DTEND;TZID=America/New_York:20230914T210000
DTSTAMP:20260424T222640
CREATED:20230907T090013Z
LAST-MODIFIED:20230907T090013Z
UID:16457-1694714400-1694725200@salemforallages.org
SUMMARY:Candlelight Tours of Hammond Castle Museum
DESCRIPTION:Tours are offered at 6\, 7 & 8 p.m. \nMember benefits apply to Candlelight Tour tickets.\nAll proceeds from this program will support the restoration and preservation of the Museum. \nFollowing the advice of his mentor Alexander Graham Bell\, John Hays Hammond Jr. conducted the majority of his work in the evening. While this put Hammond at odds with the rest of the inhabitants of the castle – including his wife Irene – he concluded that working throughout the night and sleeping during the day positively impacted his work as an inventor.\n\nWith this in mind\, “Candlelight tours” are offered Thursday evenings in August and September and offer you the chance to see the building as Hammond so often did; after dark. During these approximately 55-minute fully-guided tours\, you will be escorted throughout many of the Museum’s galleries\, including rooms in the Hammond residence which are not usually a part of the daytime guided experience. The Candlelit tour places an emphasis on the Castle’s role as John and Irene Hammond’s private home\, in addition to covering more general architectural and historical details of the building and collection. Don’t miss this rare opportunity to see the Castle through Hammond’s eyes! \nCarry-In/Carry-Out Picnics: Guests may enjoy a carry-in/carry-out picnic on our seaside lawn before their tour on Thursday evenings in August! Reservations are $5 per party and start one hour prior to your ticketed evening tour. Reservations are required in advance.  Hammond Castle Museum members enjoy complimentary picnic reservations.
URL:https://salemforallages.org/event/candlelight-tours-of-hammond-castle-museum-6/
ATTACH;FMTTYPE=image/jpeg:https://salemforallages.org/wp-content/uploads/2023/09/Great-Hall-Fireplace-scaled-1.jpg
END:VEVENT
BEGIN:VEVENT
DTSTART;TZID=America/New_York:20230914T180000
DTEND;TZID=America/New_York:20230914T200000
DTSTAMP:20260424T222640
CREATED:20230907T090016Z
LAST-MODIFIED:20230907T090016Z
UID:16460-1694714400-1694721600@salemforallages.org
SUMMARY:Lore by Candlelight
DESCRIPTION:Experience New England’s fantastical past by spending an evening in one of the oldest homes in Salem. You will be immersed in original rooms dimly lit by candles while experiencing New England’s history\, legends\, and lore that have been passed down for generations. Join us to explore the reality of our terrifying past. BYOB alcohol.
URL:https://salemforallages.org/event/lore-by-candlelight-4/
ATTACH;FMTTYPE=image/jpeg:https://salemforallages.org/wp-content/uploads/2023/09/Local-Lore-by-Candlelight-2-scaled-2.jpg
END:VEVENT
BEGIN:VEVENT
DTSTART;TZID=America/New_York:20230914T180000
DTEND;TZID=America/New_York:20230914T190000
DTSTAMP:20260424T222640
CREATED:20230907T090016Z
LAST-MODIFIED:20230907T090016Z
UID:16459-1694714400-1694718000@salemforallages.org
SUMMARY:Spiritualism Tours of Hammond Castle Museum
DESCRIPTION:Since its completion in 1929\, Hammond Castle Museum has attracted rumors and urban legends of supernatural associations and occult happening. While most of these wild stories can be dismissed as pure fiction\, the building occupies a fascinating place within the broader historical context of the development of spiritualist and spiritualist-adjacent fields in American culture. The spiritualist movement enthralled America’s upper and middle classes during the late 19th and early 20th centuries. Both John Hays Hammond Jr. and his wife\, Irene\, were fascinated with wide-ranging topics including Astrology\, Divination\, Numerology\, Extrasensory Perception (ESP)\, and Mediumship. \nEvery Thursday evening in August\, September\, and October (and even a couple of Wednesday nights in October too) we offer Spiritualism Tours\, This specialty tour explores the history of American spiritualism\, with a particular focus on contextualizing the movement within broader contemporary cultural trends and discussing the Hammonds’ own complicated engagements with these cultural phenomena. From John Hays Hammond Jr.’s attempts to communicate with supernatural entities using a Faraday Cage\, to Irene Hammond’s work on a comprehensive survey of astrological signs; over the course of this approximately 55-minute fully-guided tour\, the dramatic gothic-inspired architecture of the building and night-time atmosphere will set the stage for a fun and informative seasonal experience unlike any other! \nCarry-In/Carry-Out Picnics: Guests may enjoy a carry-in/carry-out picnic on our seaside lawn before their tour on Thursday evenings in August! Reservations are $5 per party and start one hour prior to your ticketed evening tour. Reservations are required in advance.  Hammond Castle Museum members enjoy complimentary picnic reservations.
URL:https://salemforallages.org/event/spiritualism-tours-of-hammond-castle-museum-6/
ATTACH;FMTTYPE=image/jpeg:https://salemforallages.org/wp-content/uploads/2023/08/20200813_115337-1-1.jpg
END:VEVENT
BEGIN:VEVENT
DTSTART;TZID=America/New_York:20230914T150000
DTEND;TZID=America/New_York:20230914T190000
DTSTAMP:20260424T222640
CREATED:20230904T090015Z
LAST-MODIFIED:20230904T090015Z
UID:16454-1694703600-1694718000@salemforallages.org
SUMMARY:Salem Farmers’ Market
DESCRIPTION:Stop by the historic Derby Square abutting Front Street in Downtown Salem\, Thursdays for farm fresh food\, live music\, cooking demos\, and more! Stop by to see the community art project the Tree of Care and Wonder from the artists in residence at Artist’s Row.
URL:https://salemforallages.org/event/salem-farmers-market-89/
ATTACH;FMTTYPE=image/jpeg:https://salemforallages.org/wp-content/uploads/2023/06/Day-1-2-hours-is-what-it-takes-to-set-up-the-Salem-Farmers-Market_-every-week-before-we-greet-over-2000-shoppers.jpg
END:VEVENT
BEGIN:VEVENT
DTSTART;TZID=America/New_York:20230914T150000
DTEND;TZID=America/New_York:20230914T180000
DTSTAMP:20260424T222640
CREATED:20230904T090014Z
LAST-MODIFIED:20230904T090014Z
UID:16453-1694703600-1694714400@salemforallages.org
SUMMARY:Salem Farmers’ Market
DESCRIPTION:Enhance the quality of life in the Salem downtown area by providing a community activity that fosters social gathering and interaction. Provide a convenient and congenial means of purchasing locally grown or prepared food products. Support local agriculture and producers by providing a direct market for their produce and goods.
URL:https://salemforallages.org/event/salem-farmers-market-88/
ATTACH;FMTTYPE=image/jpeg:https://salemforallages.org/wp-content/uploads/2023/06/272400995_5472492029433641_8081019549816711413_n-e1670880301206.jpg
END:VEVENT
BEGIN:VEVENT
DTSTART;TZID=America/New_York:20230914T130000
DTEND;TZID=America/New_York:20230914T160000
DTSTAMP:20260424T222640
CREATED:20230904T090013Z
LAST-MODIFIED:20230904T090013Z
UID:16451-1694696400-1694707200@salemforallages.org
SUMMARY:“Walk In” Potion Brewing
DESCRIPTION:Calling all Potion Masters! Stop by during our “walk-in” times to brew your very own potion. There will be two (2) recipes to choose from. Create a “Dragon’s Breath” potion or a “Love Potion”.\n\nOur magical employees will guide children to measure\, mix\, and create! Students will get to take home their potion. No pre-registration is required – just walk in and pay in the store! Availability is based on space at our activity table\, a small wait may be required.
URL:https://salemforallages.org/event/walk-in-potion-brewing-32/
ATTACH;FMTTYPE=image/jpeg:https://salemforallages.org/wp-content/uploads/2023/09/Summer-2023-Promos-7-1.jpg
END:VEVENT
BEGIN:VEVENT
DTSTART;TZID=America/New_York:20230913T200000
DTEND;TZID=America/New_York:20230913T213000
DTSTAMP:20260424T222640
CREATED:20230904T090009Z
LAST-MODIFIED:20230904T090009Z
UID:16449-1694635200-1694640600@salemforallages.org
SUMMARY:Music Video Bingo at Bit Bar
DESCRIPTION:Every Wednesday night Bit Bar hosts their weekly music video bingo series. Stop in for a drink and some good food and enjoy a fun twist on the classic game of bingo. Please keep in mind that after 8pm Bit Bar becomes a 21+ venue.
URL:https://salemforallages.org/event/music-video-bingo-at-bit-bar-24/
ATTACH;FMTTYPE=image/jpeg:https://salemforallages.org/wp-content/uploads/2023/09/338423068_142292285211606_5545528719926614393_n-scaled-1.jpg
END:VEVENT
BEGIN:VEVENT
DTSTART;TZID=America/New_York:20230913T180000
DTEND;TZID=America/New_York:20230913T200000
DTSTAMP:20260424T222640
CREATED:20230903T090012Z
LAST-MODIFIED:20230903T090012Z
UID:16448-1694628000-1694635200@salemforallages.org
SUMMARY:Bingo at Gulu-Gulu Cafe
DESCRIPTION:Stop by Gulu-Gulu Cafe for a fun trivia series that will excite and engage any audience! Quirky\, funny\, and free!
URL:https://salemforallages.org/event/bingo-at-gulu-gulu-cafe-7/
ATTACH;FMTTYPE=image/jpeg:https://salemforallages.org/wp-content/uploads/2023/08/BingoBoardNew.jpg
END:VEVENT
BEGIN:VEVENT
DTSTART;TZID=America/New_York:20230913T100000
DTEND;TZID=America/New_York:20230913T110000
DTSTAMP:20260424T222640
CREATED:20230903T090012Z
LAST-MODIFIED:20230903T090012Z
UID:16447-1694599200-1694602800@salemforallages.org
SUMMARY:Bubbles & Books Storytime at Hammond Castle Museum
DESCRIPTION:$10 adults\, Kids 12 and under are $5. \nJoin us every Wednesday morning in July & August for Bubbles and Books on our seaside lawn. Fairytales do come true at castles by the sea!\n\nDoors open at 10 am. Stories start at 10:15 am. Feel free to bring a blanket for your little one to cuddle with while we enjoy Storytime on the ocean-facing lawn. Don’t forget the sunscreen! We’ll have thousands of bubbles\, coloring\, snacks and music too! We encourage little ones to dress up in their favorite crown\, gown or anything else that makes them happy!\n\nThis ticket grants you access to the Bubbles & Books program which will be held on the ocean-facing lawn. If you wish to tour the museum at the conclusion of this program\, ticket holders may purchase Self-Guided Tour tickets in the Museum Shop at a 20% discount. All proceeds from this program will support the restoration and preservation of the museum.
URL:https://salemforallages.org/event/bubbles-books-storytime-at-hammond-castle-museum-11/
ATTACH;FMTTYPE=image/jpeg:https://salemforallages.org/wp-content/uploads/2023/06/291998637_409979197858042_4431356585991612295_n-1.jpg
END:VEVENT
BEGIN:VEVENT
DTSTART;TZID=America/New_York:20230913T090000
DTEND;TZID=America/New_York:20230913T100000
DTSTAMP:20260424T222640
CREATED:20230903T090011Z
LAST-MODIFIED:20230903T090011Z
UID:16446-1694595600-1694599200@salemforallages.org
SUMMARY:Book a “Good Witch Experience”
DESCRIPTION:Thank you for your interest in a “Good Witch” Experience!  We offer this private reservation to those that wish to interact and create with The Good Witch of Salem. \nA one (1) hour in-store experience includes: \n\nPrivate Meet & Greet with The Good Witch of Salem\n“The Ultimate Good Witch Magic Package” Witch Transformation for one (1) child\n\nWitch Hat\, Starry Cape\, Good Witch Dress\, Silky Sash\, Hair Extension\nTouch of Glitter and Stars\, Pink Eye Shadow\, Rosy Cheeks\n\n\nInstructor-led premium craft activity for one (1) child\n\nChoice of potion brewing\, broom making\, witch hat decorating or spell book binding\nIf booking more than one (1) child\, only one (1) activity type may be selected.\n\n\n\nTo reserve your experience\, please select a date and time slot from our booking calendar. If you would like to book three (3) or more participating children\, please contact the store to reserve an experience. \nFull payment is due upon booking.
URL:https://salemforallages.org/event/book-a-good-witch-experience-2/
ATTACH;FMTTYPE=image/jpeg:https://salemforallages.org/wp-content/uploads/2023/08/The-Good-Witch-Experience-Sep-Oct.jpg
END:VEVENT
BEGIN:VEVENT
DTSTART;TZID=America/New_York:20230912T220000
DTEND;TZID=America/New_York:20230912T230000
DTSTAMP:20260424T222640
CREATED:20230903T090011Z
LAST-MODIFIED:20230903T090011Z
UID:16445-1694556000-1694559600@salemforallages.org
SUMMARY:Karaoke with Bit Bar
DESCRIPTION:Stop by Bit Bar on Tuesday nights for Karaoke\, drinks\, and delicious food for your entire crew. After 8pm Bit Bar becomes a 21+ venue so keep that in mind when making your plans.
URL:https://salemforallages.org/event/karaoke-with-bit-bar-30/
ATTACH;FMTTYPE=image/jpeg:https://salemforallages.org/wp-content/uploads/2023/03/327156489_1177573399559083_449673593338478343_n.jpg
END:VEVENT
BEGIN:VEVENT
DTSTART;TZID=America/New_York:20230912T200000
DTEND;TZID=America/New_York:20230912T220000
DTSTAMP:20260424T222640
CREATED:20230903T090011Z
LAST-MODIFIED:20230903T090011Z
UID:16444-1694548800-1694556000@salemforallages.org
SUMMARY:Not Your Average Trivia (BIT BAR)
DESCRIPTION:Join the staff over at Bit Bar for a truly unique trivia experience! Get your friends and family together and team up to take on Tuesday Trivia Nights with Bit Bar.
URL:https://salemforallages.org/event/not-your-average-trivia-bit-bar-23/
ATTACH;FMTTYPE=image/jpeg:https://salemforallages.org/wp-content/uploads/2023/03/Not-Your-Average-Trivia-Bit-Bar.jpg
END:VEVENT
BEGIN:VEVENT
DTSTART;TZID=America/New_York:20230912T110000
DTEND;TZID=America/New_York:20230912T170000
DTSTAMP:20260424T222640
CREATED:20230903T090010Z
LAST-MODIFIED:20230903T090010Z
UID:16443-1694516400-1694538000@salemforallages.org
SUMMARY:Teatime Tuesdays with the Satanic Temple
DESCRIPTION:Join us every Tuesday during gallery hours for complementary tea with admission to the gallery.
URL:https://salemforallages.org/event/teatime-tuesdays-with-the-satanic-temple-16/
ATTACH;FMTTYPE=image/jpeg:https://salemforallages.org/wp-content/uploads/2023/05/satanic-tea-art-gallery.jpg
END:VEVENT
BEGIN:VEVENT
DTSTART;TZID=America/New_York:20230912T080000
DTEND;TZID=America/New_York:20230912T170000
DTSTAMP:20260424T222640
CREATED:20230903T090010Z
LAST-MODIFIED:20230903T090010Z
UID:16442-1694505600-1694538000@salemforallages.org
SUMMARY:Ginger Cajun Seafood Pride Nights
DESCRIPTION:Ginger has a Pride Night every second and fourth Wednesdays of the month from 7 to 10. It’s a safe place for LGBT+ people and allies to come\, hang out and have fun. They also have a special drink list for it.
URL:https://salemforallages.org/event/ginger-cajun-seafood-pride-nights-4/
ATTACH;FMTTYPE=image/jpeg:https://salemforallages.org/wp-content/uploads/2023/05/Pride-Flag.jpg
END:VEVENT
BEGIN:VEVENT
DTSTART;TZID=America/New_York:20230910T180000
DTEND;TZID=America/New_York:20230910T193000
DTSTAMP:20260424T222640
CREATED:20230902T090019Z
LAST-MODIFIED:20230902T090019Z
UID:16440-1694368800-1694374200@salemforallages.org
SUMMARY:Behind Closed Doors
DESCRIPTION:The House of the Seven Gables has many stories to tell\, but we can only tell so many on our usual tour. Join The Gables for a special “Behind the Scenes” tour where you will get into spaces the public generally isn’t allowed\, hear some of the lesser-known stories\, and enjoy The Gables like few ever have! \nThis is a 90-minute tour in which you will be standing and walking on uneven floors\, ducking\, and maneuvering through areas with limited lighting. Hard hats and flashlights will be provided and are required. A waiver will be presented to you upon your arrival. Space is limited and registration is required. \nhttps://7gables.org/event/behind-closed-doors-sept-10-2023/
URL:https://salemforallages.org/event/behind-closed-doors/
ATTACH;FMTTYPE=image/jpeg:https://salemforallages.org/wp-content/uploads/2023/09/Behind-Closed-Doors-1920x1080-1.jpg
END:VEVENT
BEGIN:VEVENT
DTSTART;TZID=America/New_York:20230910T160000
DTEND;TZID=America/New_York:20230910T190000
DTSTAMP:20260424T222640
CREATED:20230902T090019Z
LAST-MODIFIED:20230902T090019Z
UID:16439-1694361600-1694372400@salemforallages.org
SUMMARY:DIAMOND’S DINE-IN DRAG BRUNCH!
DESCRIPTION:Come on down for Diamond’s Dine-In Drag Brunch! This is a weekly event with local Drag Queen Miz Diamond Wigfall! Someone will be her guest. Be ready for numbers\, games\, drag\, and mimosas all afternoon.
URL:https://salemforallages.org/event/diamonds-dine-in-drag-brunch-6/
ATTACH;FMTTYPE=image/jpeg:https://salemforallages.org/wp-content/uploads/2023/08/Diamond_DineIn_Final-11x171-1.jpg
END:VEVENT
BEGIN:VEVENT
DTSTART;TZID=America/New_York:20230910T150000
DTEND;TZID=America/New_York:20230910T170000
DTSTAMP:20260424T222640
CREATED:20230902T090019Z
LAST-MODIFIED:20230902T090019Z
UID:16438-1694358000-1694365200@salemforallages.org
SUMMARY:Wonderful Self-Care Cafe
DESCRIPTION:Join us to relax\, have a cup of coffee or tea + conversations
URL:https://salemforallages.org/event/wonderful-self-care-cafe-18/
ATTACH;FMTTYPE=image/jpeg:https://salemforallages.org/wp-content/uploads/2023/05/01.jpg
END:VEVENT
BEGIN:VEVENT
DTSTART;TZID=America/New_York:20230910T130000
DTEND;TZID=America/New_York:20230910T160000
DTSTAMP:20260424T222640
CREATED:20230902T090016Z
LAST-MODIFIED:20230902T090016Z
UID:16436-1694350800-1694361600@salemforallages.org
SUMMARY:Enduring Hawthorne
DESCRIPTION:On Sunday\, September 10\, from 1-4 p.m.\, join The House of the Seven Gables\, NPS\, Essex Heritage\, The Salem Athenaeum\, and Theater in the Open as we celebrate Salem Literary Fest with the 4th presentation of Enduring Hawthorne! Watch as a curated selection of Hawthorne’s most famous short stories come to life in The Gables’ historic houses. Guests will be treated to four stories\, each played out in a different historic setting\, fully activating the site and spaces. Please note that there will be periods of walking and standing\, as well as an outdoor element\, so dress accordingly. \nSalem Lit Fest \n  \nhttps://7gables.org/event/enduring-hawthorne-2023/
URL:https://salemforallages.org/event/enduring-hawthorne/
ATTACH;FMTTYPE=image/jpeg:https://salemforallages.org/wp-content/uploads/2023/09/Enduring-Hawthorne-1920x1080-1.jpg
END:VEVENT
END:VCALENDAR