BEGIN:VCALENDAR
VERSION:2.0
PRODID:-//Salem for All Ages - ECPv6.15.18//NONSGML v1.0//EN
CALSCALE:GREGORIAN
METHOD:PUBLISH
X-WR-CALNAME:Salem for All Ages
X-ORIGINAL-URL:https://salemforallages.org
X-WR-CALDESC:Events for Salem for All Ages
REFRESH-INTERVAL;VALUE=DURATION:PT1H
X-Robots-Tag:noindex
X-PUBLISHED-TTL:PT1H
BEGIN:VTIMEZONE
TZID:America/New_York
BEGIN:DAYLIGHT
TZOFFSETFROM:-0500
TZOFFSETTO:-0400
TZNAME:EDT
DTSTART:20230312T070000
END:DAYLIGHT
BEGIN:STANDARD
TZOFFSETFROM:-0400
TZOFFSETTO:-0500
TZNAME:EST
DTSTART:20231105T060000
END:STANDARD
BEGIN:DAYLIGHT
TZOFFSETFROM:-0500
TZOFFSETTO:-0400
TZNAME:EDT
DTSTART:20240310T070000
END:DAYLIGHT
BEGIN:STANDARD
TZOFFSETFROM:-0400
TZOFFSETTO:-0500
TZNAME:EST
DTSTART:20241103T060000
END:STANDARD
BEGIN:DAYLIGHT
TZOFFSETFROM:-0500
TZOFFSETTO:-0400
TZNAME:EDT
DTSTART:20250309T070000
END:DAYLIGHT
BEGIN:STANDARD
TZOFFSETFROM:-0400
TZOFFSETTO:-0500
TZNAME:EST
DTSTART:20251102T060000
END:STANDARD
END:VTIMEZONE
BEGIN:VEVENT
DTSTART;TZID=America/New_York:20240609T170000
DTEND;TZID=America/New_York:20240609T183000
DTSTAMP:20260424T213725
CREATED:20240602T090042Z
LAST-MODIFIED:20240602T090042Z
UID:18922-1717952400-1717957800@salemforallages.org
SUMMARY:The Salem Rainbow Stroll
DESCRIPTION:JOIN THE SALEM RAINBOW STROLL\,  A PRIDE-FILLED JAUNT ABOUT TOWN\, AS WE UNCOVER THE HIDDEN LGBTQIA+ HISTORY OF SALEM & NEW ENGLAND.\n\nWALK WITH AN EXPERIENCED GUIDE AND CELEBRATE QUEER LOCAL STORIES\, OLD AND NEW.\n\n\n\n\nJOIN THE SALEM RAINBOW STROLL\,  A PRIDE-FILLED JAUNT ABOUT TOWN\, AS WE UNCOVER THE HIDDEN LGBTQIA+ HISTORY OF SALEM & NEW ENGLAND.\n\n​\n\n \n WALK WITH AN EXPERIENCED GUIDE AND CELEBRATE QUEER LOCAL STORIES\, OLD AND NEW.
URL:https://salemforallages.org/event/the-salem-rainbow-stroll-4/
ATTACH;FMTTYPE=image/jpeg:https://salemforallages.org/wp-content/uploads/2024/06/rainbow-stroll-1.jpg
END:VEVENT
BEGIN:VEVENT
DTSTART;TZID=America/New_York:20240609T180000
DTEND;TZID=America/New_York:20240609T190000
DTSTAMP:20260424T213725
CREATED:20240602T090045Z
LAST-MODIFIED:20240602T090045Z
UID:18924-1717956000-1717959600@salemforallages.org
SUMMARY:A Bronx Tale w/ Chazz Palminteri
DESCRIPTION:A ONE MAN STAGE-PLAY. Bronx-born and raised Chazz Palminteri wrote A Bronx Tale in 1988. The powerful one- man stage play depicted his bruising childhood which included witnessing a gangland killing when he was nine years old. Palminteri played 18 characters and brought them all to life in his autobiographical play. His friends\, enemies and family came alive on stage. Hollywood Studios went crazy after seeing it and offered him millions of dollars to turn it into a major movie. There was one catch… They wanted to put a star in the role of Sonny and someone else to write the screenplay. With $200 dollars in the bank…Palminteri said No… he would hold out and wait. He wanted to play Sonny and write the screenplay. Then one night Palminteri walked into his dressing room and sitting there was Robert De Niro who just saw the show. Robert DeNiro gave Palminteri the chance he was waiting for… And as they say in Hollywood the rest is history. Palminteri wrote the screenplay for the film A Bronx Tale and then most recently wrote the book for the Broadway Musical. It was the first time in history that the same actor wrote the one-man play\, the movie\, and the Broadway Musical and starred in each one. In the past 35 years\, Chazz has appeared in over 60 films. To name a few – The Usual Suspects\, Analyze This\, Mulholland Falls\, Jade\, Guide to Recognizing Your Saints\, Legend\, and Bullets over Broadway\, which he was nominated for an Academy Award. He has starred in over 20 television series and has won 3 Emmy’s. Chazz is most recently seen in Modern Family\, Godfather of Harlem\, Law & Order and Gravesend.
URL:https://salemforallages.org/event/a-bronx-tale-w-chazz-palminteri/
ATTACH;FMTTYPE=image/jpeg:https://salemforallages.org/wp-content/uploads/2022/04/1-1.jpg
END:VEVENT
BEGIN:VEVENT
DTSTART;TZID=America/New_York:20240609T183000
DTEND;TZID=America/New_York:20240609T220000
DTSTAMP:20260424T213725
CREATED:20240602T090046Z
LAST-MODIFIED:20240602T090046Z
UID:18925-1717957800-1717970400@salemforallages.org
SUMMARY:Murder on the Flying Saucer: A Mystery Event
DESCRIPTION:Murder on the Flying Saucer \nGet ready for a night of mystery and intrigue at Flying Saucer Pizza Company! Buy your ticket and cruise through the cosmos! Enjoy a high class atmosphere in space! Indulge in the company of the rich\, the famous\, and the dangerous…. \nJoin us at Flying Saucer Pizza Company for an interactive murder mystery event. \nPlay as a suspect and hide the truth\, or as a detective and connect the dots amongst the constellations before it’s too late…. \nAll you can eat pizza. Beverages available for purchase.
URL:https://salemforallages.org/event/murder-on-the-flying-saucer-a-mystery-event/
ATTACH;FMTTYPE=image/jpeg:https://salemforallages.org/wp-content/uploads/2024/06/https___cdn.evbuc_.com_images_760131959_266959981764_1_original.jpg
END:VEVENT
BEGIN:VEVENT
DTSTART;TZID=America/New_York:20240610T100000
DTEND;TZID=America/New_York:20240610T110000
DTSTAMP:20260424T213725
CREATED:20240602T090049Z
LAST-MODIFIED:20240602T090049Z
UID:18927-1718013600-1718017200@salemforallages.org
SUMMARY:Remembering Bridget
DESCRIPTION:Jennifer Emerson hosts this impactful and powerful ceremony commemorating the execution of the first victim of the 1692 Salem Witchcraft Hysteria on June 10th. All that day at Turners Seafood on Church Street\, one dollar for every Bridget’s Punch ordered will be donated to HAWC. I appreciate attending this event every year.
URL:https://salemforallages.org/event/remembering-bridget/
ATTACH;FMTTYPE=image/jpeg:https://salemforallages.org/wp-content/uploads/2022/06/unnamed-3.jpg
END:VEVENT
BEGIN:VEVENT
DTSTART;TZID=America/New_York:20240610T113000
DTEND;TZID=America/New_York:20240610T160000
DTSTAMP:20260424T213725
CREATED:20240608T090031Z
LAST-MODIFIED:20240608T090031Z
UID:18964-1718019000-1718035200@salemforallages.org
SUMMARY:Magical Transformations
DESCRIPTION:Through our “Magical Transformations” children embrace their charms and express their individuality. Children can choose to transform into a “Witch” or “Wizard”!
URL:https://salemforallages.org/event/magical-transformations-10/
ATTACH;FMTTYPE=image/jpeg:https://salemforallages.org/wp-content/uploads/2024/06/Transformations-2.jpg
END:VEVENT
BEGIN:VEVENT
DTSTART;TZID=America/New_York:20240610T113000
DTEND;TZID=America/New_York:20240610T160000
DTSTAMP:20260424T213725
CREATED:20240608T090034Z
LAST-MODIFIED:20240608T090034Z
UID:18966-1718019000-1718035200@salemforallages.org
SUMMARY:Stop In For a Spell: DIY Potion Bar
DESCRIPTION:Fly in to The Good Witch and Stay for a Spell! Mix up your very own potion at our Potion Bar! \nDrop Ins begin at store opening and end 30 minutes before closing and are offered on a first come\, first serve basis. Purchase online or pay in store. \nDrop Ins may be unavailable during a birthday party or store event. Please call ahead\, or check our posted hours on Google. \nUnder age 4 may participate with the help of a supervising adult.
URL:https://salemforallages.org/event/stop-in-for-a-spell-diy-potion-bar-3/
ATTACH;FMTTYPE=image/jpeg:https://salemforallages.org/wp-content/uploads/2024/06/Stop-In-For-a-Spell-SQUARE-2.jpg
END:VEVENT
BEGIN:VEVENT
DTSTART;TZID=America/New_York:20240610T113000
DTEND;TZID=America/New_York:20240610T160000
DTSTAMP:20260424T213725
CREATED:20240608T090038Z
LAST-MODIFIED:20240608T090038Z
UID:18968-1718019000-1718035200@salemforallages.org
SUMMARY:Potion Brewing Store Experience
DESCRIPTION:Make your visit to The Good Witch of Salem’s shop memorable by booking our in-store Potion Brewing Experience. This activity is led by our Witch Apprentices. \nActivities are recommended for children ages 3 and up. \n*One appointment slot for each child is required.*
URL:https://salemforallages.org/event/potion-brewing-store-experience-3/
ATTACH;FMTTYPE=image/jpeg:https://salemforallages.org/wp-content/uploads/2024/06/Potion-Brewing-Store-Experience-2.jpg
END:VEVENT
BEGIN:VEVENT
DTSTART;TZID=America/New_York:20240610T180000
DTEND;TZID=America/New_York:20240610T193000
DTSTAMP:20260424T213725
CREATED:20240605T090010Z
LAST-MODIFIED:20240605T090010Z
UID:18935-1718042400-1718047800@salemforallages.org
SUMMARY:SFF fundraiser at NOTCH Brewing
DESCRIPTION:Contribute to the brains and the brawn of the Salem Film Fest team as we play a few games of SkeeBall for a good cause! Entry is free\, but donations will be accepted on behalf of Salem Film Fest. There will be food\, prizes for the SkeeBall players\, and a 50/50 raffle. \nGet ready to enjoy a well-behaved good time!
URL:https://salemforallages.org/event/sff-fundraiser-at-notch-brewing/
ATTACH;FMTTYPE=image/jpeg:https://salemforallages.org/wp-content/uploads/2024/06/340827692_600172408796147_34225078224010514_n-scaled-1.jpg
END:VEVENT
BEGIN:VEVENT
DTSTART;TZID=America/New_York:20240610T193000
DTEND;TZID=America/New_York:20240610T210000
DTSTAMP:20260424T213725
CREATED:20240603T090010Z
LAST-MODIFIED:20240603T090010Z
UID:18928-1718047800-1718053200@salemforallages.org
SUMMARY:Music Quiz Trivia at Village Tavern
DESCRIPTION:Stop into Village Tavern in Salem\, MA Monday nights for smash burgers\, beer\, and their music trivia quiz series!
URL:https://salemforallages.org/event/music-quiz-trivia-at-village-tavern-4/
ATTACH;FMTTYPE=image/jpeg:https://salemforallages.org/wp-content/uploads/2024/05/Daily-Specials-fotor-20240509235039.jpg
END:VEVENT
BEGIN:VEVENT
DTSTART;TZID=America/New_York:20240611T080000
DTEND;TZID=America/New_York:20240611T170000
DTSTAMP:20260424T213725
CREATED:20240603T090010Z
LAST-MODIFIED:20240603T090010Z
UID:18929-1718092800-1718125200@salemforallages.org
SUMMARY:Ginger Cajun Seafood Pride Nights
DESCRIPTION:Ginger has a Pride Night every second and fourth Wednesdays of the month from 7 to 10. It’s a safe place for LGBT+ people and allies to come\, hang out and have fun. They also have a special drink list for it.
URL:https://salemforallages.org/event/ginger-cajun-seafood-pride-nights-13/
ATTACH;FMTTYPE=image/jpeg:https://salemforallages.org/wp-content/uploads/2023/05/Pride-Flag.jpg
END:VEVENT
BEGIN:VEVENT
DTSTART;TZID=America/New_York:20240611T080000
DTEND;TZID=America/New_York:20240611T170000
DTSTAMP:20260424T213725
CREATED:20240603T090011Z
LAST-MODIFIED:20240603T090011Z
UID:18930-1718092800-1718125200@salemforallages.org
SUMMARY:Trivia Tuesdays with Gulu Gulu Cafe
DESCRIPTION: Unleash Your Inner Genius Every Tuesday at Trivia Night! \n\nThink you’re smart? Prove it under the glow of our Tuesday night trivia spotlight! \n Join us for a brain-teasing adventure into general knowledge every week\, where the pursuit of trivia supremacy is as hot as our fresh-out-of-the-oven pizzas! \n\n Compete for fantastic prizes\, bragging rights\, and the satisfaction of knowing you’re part of the smartest crowd in town.\n\n Challenge your friends\, colleagues\, or even that know-it-all neighbor. The more\, the merrier! \n\n Every Tuesday\, the ultimate trivia showdown awaits. Mark your calendars and get ready for an evening of laughter\, learning\, and delicious rewards.\n\nDon’t miss out on the excitement! Grab a slice\, grab a seat\, and let the battle of the brains begin. Trivia Night – where knowledge meets a good time!
URL:https://salemforallages.org/event/trivia-tuesdays-with-gulu-gulu-cafe-9/
ATTACH;FMTTYPE=image/jpeg:https://salemforallages.org/wp-content/uploads/2024/04/432416873_901456205312795_7465705002384209082_n.jpg
END:VEVENT
BEGIN:VEVENT
DTSTART;TZID=America/New_York:20240611T101500
DTEND;TZID=America/New_York:20240611T133000
DTSTAMP:20260424T213725
CREATED:20240603T090011Z
LAST-MODIFIED:20240603T090011Z
UID:18931-1718100900-1718112600@salemforallages.org
SUMMARY:Plein Air Sketch Class with Sue Wheeler of Arts Abound
DESCRIPTION:Classes are offered from 10:15 am to 12:15 pm on\nFrom stick figure doodlers to first-rate talents\, join us for a seaside\, Plein Air sketch class with Sue Wheeler of Arts Abound in Magnolia. All skill levels are welcome! This two-hour session includes a 30-minute beginner sketch lesson. All you need to bring is a sketchbook\, pencils and an eraser. We encourage you to bring a folding chair and sunscreen as this program is outdoors. Please note: watercolors\, pastels\, oils\, or acrylics are not permitted on the Museum grounds. \n\nAttendees who wish to tour Hammond Castle Museum after this class are entitled to a 20% discount on a self-guided tour. Tour tickets may be purchased in the Museum Shop before 3:00 p.m. on the day of this class\nAbout Sue Wheeler: Sue Wheeler has a lifetime of making art through various mediums from delectable pastries to abstracts in pastels\, watercolor\, and acrylics. She enjoys using her creative flair in quilting and interior design as well. In early 2019\, Sue opened her own gallery and studio\, Arts Abound in Magnolia Village\, MA as an artistic haven for local artists. Through the gallery\, over 30 artists featured their creative works ranging from paintings\, hand-painted silk scarves\, silver jewelry\, and more. Sue also ran many workshops and classes featuring many of the artists. 
URL:https://salemforallages.org/event/plein-air-sketch-class-with-sue-wheeler-of-arts-abound-3/
ATTACH;FMTTYPE=image/jpeg:https://salemforallages.org/wp-content/uploads/2024/04/File-1705_medium.jpg
END:VEVENT
BEGIN:VEVENT
DTSTART;TZID=America/New_York:20240611T110000
DTEND;TZID=America/New_York:20240611T170000
DTSTAMP:20260424T213725
CREATED:20240603T090012Z
LAST-MODIFIED:20240603T090012Z
UID:18932-1718103600-1718125200@salemforallages.org
SUMMARY:Teatime Tuesdays with the Satanic Temple
DESCRIPTION:Join us every Tuesday during gallery hours for complementary tea with admission to the gallery.
URL:https://salemforallages.org/event/teatime-tuesdays-with-the-satanic-temple-55/
ATTACH;FMTTYPE=image/jpeg:https://salemforallages.org/wp-content/uploads/2023/05/satanic-tea-art-gallery.jpg
END:VEVENT
BEGIN:VEVENT
DTSTART;TZID=America/New_York:20240611T113000
DTEND;TZID=America/New_York:20240611T150000
DTSTAMP:20260424T213725
CREATED:20240608T090045Z
LAST-MODIFIED:20240608T090045Z
UID:18972-1718105400-1718118000@salemforallages.org
SUMMARY:Stop In For a Spell: DIY Potion Bar
DESCRIPTION:Fly in to The Good Witch and Stay for a Spell! Mix up your very own potion at our Potion Bar! \nDrop Ins begin at store opening and end 30 minutes before closing and are offered on a first come\, first serve basis. Purchase online or pay in store. \nDrop Ins may be unavailable during a birthday party or store event. Please call ahead\, or check our posted hours on Google. \nUnder age 4 may participate with the help of a supervising adult.
URL:https://salemforallages.org/event/stop-in-for-a-spell-diy-potion-bar-4/
ATTACH;FMTTYPE=image/jpeg:https://salemforallages.org/wp-content/uploads/2024/06/Stop-In-For-a-Spell-SQUARE-3.jpg
END:VEVENT
BEGIN:VEVENT
DTSTART;TZID=America/New_York:20240611T113000
DTEND;TZID=America/New_York:20240611T150000
DTSTAMP:20260424T213725
CREATED:20240608T090048Z
LAST-MODIFIED:20240608T090048Z
UID:18974-1718105400-1718118000@salemforallages.org
SUMMARY:Potion Brewing Store Experience
DESCRIPTION:Make your visit to The Good Witch of Salem’s shop memorable by booking our in-store Potion Brewing Experience. This activity is led by our Witch Apprentices. \nActivities are recommended for children ages 3 and up. \n*One appointment slot for each child is required.*
URL:https://salemforallages.org/event/potion-brewing-store-experience-4/
ATTACH;FMTTYPE=image/jpeg:https://salemforallages.org/wp-content/uploads/2024/06/Potion-Brewing-Store-Experience-3.jpg
END:VEVENT
BEGIN:VEVENT
DTSTART;TZID=America/New_York:20240611T113000
DTEND;TZID=America/New_York:20240611T153000
DTSTAMP:20260424T213725
CREATED:20240608T090042Z
LAST-MODIFIED:20240608T090042Z
UID:18970-1718105400-1718119800@salemforallages.org
SUMMARY:Magical Transformations
DESCRIPTION:Through our “Magical Transformations” children embrace their charms and express their individuality. Children can choose to transform into a “Witch” or “Wizard”!
URL:https://salemforallages.org/event/magical-transformations-11/
ATTACH;FMTTYPE=image/jpeg:https://salemforallages.org/wp-content/uploads/2024/06/Transformations-1-1.jpg
END:VEVENT
BEGIN:VEVENT
DTSTART;TZID=America/New_York:20240611T193000
DTEND;TZID=America/New_York:20240611T210000
DTSTAMP:20260424T213725
CREATED:20240603T090012Z
LAST-MODIFIED:20240603T090012Z
UID:18933-1718134200-1718139600@salemforallages.org
SUMMARY:Taco Tuesday and Opinionation Trivia
DESCRIPTION:Join the Village Tavern Tuesdays for their Taco Tuesday and Trivia deals!
URL:https://salemforallages.org/event/taco-tuesday-and-opinionation-trivia-4/
ATTACH;FMTTYPE=image/jpeg:https://salemforallages.org/wp-content/uploads/2024/05/Daily-Specials-fotor-20240509235039.jpg
END:VEVENT
BEGIN:VEVENT
DTSTART;TZID=America/New_York:20240612T113000
DTEND;TZID=America/New_York:20240612T150000
DTSTAMP:20260424T213725
CREATED:20240608T090055Z
LAST-MODIFIED:20240608T090055Z
UID:18978-1718191800-1718204400@salemforallages.org
SUMMARY:Stop In For a Spell: DIY Potion Bar
DESCRIPTION:Fly in to The Good Witch and Stay for a Spell! Mix up your very own potion at our Potion Bar! \nDrop Ins begin at store opening and end 30 minutes before closing and are offered on a first come\, first serve basis. Purchase online or pay in store. \nDrop Ins may be unavailable during a birthday party or store event. Please call ahead\, or check our posted hours on Google. \nUnder age 4 may participate with the help of a supervising adult.
URL:https://salemforallages.org/event/stop-in-for-a-spell-diy-potion-bar-5/
ATTACH;FMTTYPE=image/jpeg:https://salemforallages.org/wp-content/uploads/2024/06/Stop-In-For-a-Spell-SQUARE-4.jpg
END:VEVENT
BEGIN:VEVENT
DTSTART;TZID=America/New_York:20240612T113000
DTEND;TZID=America/New_York:20240612T150000
DTSTAMP:20260424T213725
CREATED:20240608T090100Z
LAST-MODIFIED:20240608T090100Z
UID:18980-1718191800-1718204400@salemforallages.org
SUMMARY:Potion Brewing Store Experience
DESCRIPTION:Make your visit to The Good Witch of Salem’s shop memorable by booking our in-store Potion Brewing Experience. This activity is led by our Witch Apprentices. \nActivities are recommended for children ages 3 and up. \n*One appointment slot for each child is required.*
URL:https://salemforallages.org/event/potion-brewing-store-experience-5/
ATTACH;FMTTYPE=image/jpeg:https://salemforallages.org/wp-content/uploads/2024/06/Potion-Brewing-Store-Experience-4.jpg
END:VEVENT
BEGIN:VEVENT
DTSTART;TZID=America/New_York:20240612T113000
DTEND;TZID=America/New_York:20240612T153000
DTSTAMP:20260424T213725
CREATED:20240608T090052Z
LAST-MODIFIED:20240608T090052Z
UID:18976-1718191800-1718206200@salemforallages.org
SUMMARY:Magical Transformations
DESCRIPTION:Through our “Magical Transformations” children embrace their charms and express their individuality. Children can choose to transform into a “Witch” or “Wizard”!
URL:https://salemforallages.org/event/magical-transformations-12/
ATTACH;FMTTYPE=image/jpeg:https://salemforallages.org/wp-content/uploads/2024/06/Transformations-1-2.jpg
END:VEVENT
BEGIN:VEVENT
DTSTART;TZID=America/New_York:20240612T180000
DTEND;TZID=America/New_York:20240612T200000
DTSTAMP:20260424T213725
CREATED:20240604T090010Z
LAST-MODIFIED:20240604T090010Z
UID:18934-1718215200-1718222400@salemforallages.org
SUMMARY:Bingo at Gulu-Gulu Cafe
DESCRIPTION:Stop by Gulu-Gulu Cafe for a fun trivia series that will excite and engage any audience! Quirky\, funny\, and free!
URL:https://salemforallages.org/event/bingo-at-gulu-gulu-cafe-46/
ATTACH;FMTTYPE=image/jpeg:https://salemforallages.org/wp-content/uploads/2023/08/BingoBoardNew.jpg
END:VEVENT
BEGIN:VEVENT
DTSTART;TZID=America/New_York:20240612T183000
DTEND;TZID=America/New_York:20240612T203000
DTSTAMP:20260424T213725
CREATED:20240605T090014Z
LAST-MODIFIED:20240605T090014Z
UID:18937-1718217000-1718224200@salemforallages.org
SUMMARY:SKEEBALL NIGHT at Notch Brewing
DESCRIPTION:Join us each Wednesday night for some beer and Skee Ball!
URL:https://salemforallages.org/event/skeeball-night-at-notch-brewing-18/
ATTACH;FMTTYPE=image/jpeg:https://salemforallages.org/wp-content/uploads/2024/02/SKEEBALLFLYER.jpg
END:VEVENT
BEGIN:VEVENT
DTSTART;TZID=America/New_York:20240612T183000
DTEND;TZID=America/New_York:20240612T203000
DTSTAMP:20260424T213725
CREATED:20240605T090014Z
LAST-MODIFIED:20240605T090014Z
UID:18938-1718217000-1718224200@salemforallages.org
SUMMARY:SATAN SIP ‘N PAINT
DESCRIPTION:Paint a Satanic scene while sipping adult beverages! 21+ event. No painting experience necessary! Instruction\, inspiration\, all art supplies\, refreshments\, snacks\, ice and cups provided. Just bring yourself and your favorite beverage! \nHosted by the talented Salem Art Gallery staff. \nTickets are $33 per person. Availability is limited.
URL:https://salemforallages.org/event/satan-sip-n-paint-12/
ATTACH;FMTTYPE=image/png:https://salemforallages.org/wp-content/uploads/2024/03/8f43122b-9ebc-4e6b-bb40-ff4d2d221137_482x676.png
END:VEVENT
BEGIN:VEVENT
DTSTART;TZID=America/New_York:20240612T190000
DTEND;TZID=America/New_York:20240612T210000
DTSTAMP:20260424T213725
CREATED:20240606T090010Z
LAST-MODIFIED:20240606T090010Z
UID:18939-1718218800-1718226000@salemforallages.org
SUMMARY:BOARD GAME SPEED DATING (AGES 25-39)
DESCRIPTION:Finding someone can be painful. But board games are always awesome. So what if you combined board games and searching for a partner? \nPicture this: You sit down for a night of games. A gaming concierge walks you through several games over the course of the night. You play classics you love and discover brand new games you’ve never heard of\, playing each with a different group of fun singles. All while in a great establishment with plenty of delicious options on tap. At the end of the night\, you give your gaming concierge a list of the folks you met that you’d like to date and a list of those you met that you’d like to just hang out with as friends. If any two people put down the same name as each other in either column\, then your gaming concierge will make sure you get each other’s e-mail address and you can coordinate a time to hang out. \nBest case scenario: You find true love\, discover some awesome board games\, and make some new friends. \nBad case scenario: You accomplish only one of those three things\, which is still pretty great. \nWorst case scenario: There will be alcohol. \nBefore you decide to buy tickets\, a few basics we should cover: \n1) This event is for men & women\, ages 25-39. We also have events for other ages\, an event for gay men and an event for queer women. And we’re hoping to add events to serve even more people in the future! Head over to www.quirkevents.com/public-events-boston to see what else we have to offer. (If you scroll all the way to the bottom of the page\, you’ll be able to join our mailing list and get notified about future events. Plus\, joining our mailing list gets you 50% off your first ticket purchase!) \n2) To stay up-to-date on everything we have going on at Quirk Events\, follow us on Instagram at https://www.instagram.com/quirkeventshq/?hl=en! \n3) Refunds are only available to those who cancel with more than 24 hours’ notice\, in order to make sure we have enough time to find a replacement for you and keep the event well-populated. (Exceptions will be made for emergency situations on a case-by-case basis). After that\, we’re blowing the money from your ticket sale on something awesome and nonrefundable. \n4) If we get to 24 hours before the event and still haven’t sold five tickets for each gender\, we will cancel the event (and notify you). When we have run this event in the past\, tickets have consistently sold very well\, so we don’t expect this to happen. But we thought we should cover this in case it came up. \n5) How many games we have and which ones we use will be based in part on how many people attend\, so we can’t tell you for sure what we’ll have right now. But the goal is for all of them to be fun\, light\, easy-to-learn games. Selection will include games from both the something-you-have-played-before category and the something-you-haven’t-played-before category. The games are also chosen because they often tend to spark conversation and leave room for chatting with new people as you play. All games will be group games\, meaning you’ll get a chance to meet a handful of people with each new round.
URL:https://salemforallages.org/event/board-game-speed-dating-ages-25-39/
ATTACH;FMTTYPE=image/jpeg:https://salemforallages.org/wp-content/uploads/2024/06/https-cdn.evbuc_.com-images-743212459-208763205147-1-original.jpg
END:VEVENT
BEGIN:VEVENT
DTSTART;TZID=America/New_York:20240612T193000
DTEND;TZID=America/New_York:20240612T210000
DTSTAMP:20260424T213725
CREATED:20240606T090013Z
LAST-MODIFIED:20240606T090013Z
UID:18941-1718220600-1718226000@salemforallages.org
SUMMARY:Wednesday Wing Nights and Trivia
DESCRIPTION:Join the Village Tavern Wednesday nights form 50 cent wings and Stump Trivia.
URL:https://salemforallages.org/event/wednesday-wing-nights-and-trivia-5/
ATTACH;FMTTYPE=image/jpeg:https://salemforallages.org/wp-content/uploads/2024/05/Daily-Specials-fotor-20240509235039.jpg
END:VEVENT
BEGIN:VEVENT
DTSTART;TZID=America/New_York:20240613T090000
DTEND;TZID=America/New_York:20240613T223000
DTSTAMP:20260424T213725
CREATED:20240606T090013Z
LAST-MODIFIED:20240606T090013Z
UID:18942-1718269200-1718317800@salemforallages.org
SUMMARY:Karaoke in the Lounge at Village Tavern
DESCRIPTION:Join the Village Tavern in Salem on Thursday nights at 9pm for Karaoke.
URL:https://salemforallages.org/event/karaoke-in-the-lounge-at-village-tavern-5/
ATTACH;FMTTYPE=image/jpeg:https://salemforallages.org/wp-content/uploads/2024/05/Daily-Specials-fotor-20240509235039.jpg
END:VEVENT
BEGIN:VEVENT
DTSTART;TZID=America/New_York:20240613T113000
DTEND;TZID=America/New_York:20240613T130000
DTSTAMP:20260424T213725
CREATED:20240528T190955Z
LAST-MODIFIED:20240528T190955Z
UID:18834-1718278200-1718283600@salemforallages.org
SUMMARY:Dementia & Caregiving: Your Questions Answered
DESCRIPTION:Salem Council on Aging Event:\n\n\nDementia & Caregiving: Your Questions Answered\nThursday\, June 13\, 2024\n11:30am-1:00pm\nLevesque Community Life Center\n401 Bridge St\, Salem\, MA 01970 \n\n\n\nDo you care for a loved one with Alzheimer’s Disease or a related dementia? Karen Coppola\, Certified Dementia Practitioner\, will discuss these topics and answer questions.\n\n\nKaren Coppola is a Certified Dementia Practitioner. As an experienced caregiver herself\, she often spots overlooked care strategies and resources. Her vast knowledge\, compassion\, and sense of humor ensure that a loved one’s needs are met while also focusing on the needs of the caregiver.\n\n\n\nPlease call Rosanna at 978-744-0924 to preregister for this event.
URL:https://salemforallages.org/event/dementia-caregiving-your-questions-answered/
LOCATION:Mayor Jean A. Levesque Community Life Center\, 401 Bridge Street\, Salem\, MA\, 01970\, United States
END:VEVENT
BEGIN:VEVENT
DTSTART;TZID=America/New_York:20240613T113000
DTEND;TZID=America/New_York:20240613T160000
DTSTAMP:20260424T213725
CREATED:20240609T090011Z
LAST-MODIFIED:20240609T090011Z
UID:18982-1718278200-1718294400@salemforallages.org
SUMMARY:Magical Transformations
DESCRIPTION:Through our “Magical Transformations” children embrace their charms and express their individuality. Children can choose to transform into a “Witch” or “Wizard”!
URL:https://salemforallages.org/event/magical-transformations-13/
ATTACH;FMTTYPE=image/jpeg:https://salemforallages.org/wp-content/uploads/2024/06/Transformations-3.jpg
END:VEVENT
BEGIN:VEVENT
DTSTART;TZID=America/New_York:20240613T113000
DTEND;TZID=America/New_York:20240613T160000
DTSTAMP:20260424T213725
CREATED:20240609T090015Z
LAST-MODIFIED:20240609T090015Z
UID:18984-1718278200-1718294400@salemforallages.org
SUMMARY:Stop In For a Spell: DIY Potion Bar
DESCRIPTION:Fly in to The Good Witch and Stay for a Spell! Mix up your very own potion at our Potion Bar! \nDrop Ins begin at store opening and end 30 minutes before closing and are offered on a first come\, first serve basis. Purchase online or pay in store. \nDrop Ins may be unavailable during a birthday party or store event. Please call ahead\, or check our posted hours on Google. \nUnder age 4 may participate with the help of a supervising adult.
URL:https://salemforallages.org/event/stop-in-for-a-spell-diy-potion-bar-6/
ATTACH;FMTTYPE=image/jpeg:https://salemforallages.org/wp-content/uploads/2024/06/Stop-In-For-a-Spell-SQUARE-5.jpg
END:VEVENT
BEGIN:VEVENT
DTSTART;TZID=America/New_York:20240613T113000
DTEND;TZID=America/New_York:20240613T160000
DTSTAMP:20260424T213725
CREATED:20240609T090018Z
LAST-MODIFIED:20240609T090018Z
UID:18986-1718278200-1718294400@salemforallages.org
SUMMARY:Potion Brewing Store Experience
DESCRIPTION:Make your visit to The Good Witch of Salem’s shop memorable by booking our in-store Potion Brewing Experience. This activity is led by our Witch Apprentices. \nActivities are recommended for children ages 3 and up. \n*One appointment slot for each child is required.*
URL:https://salemforallages.org/event/potion-brewing-store-experience-6/
ATTACH;FMTTYPE=image/jpeg:https://salemforallages.org/wp-content/uploads/2024/06/Potion-Brewing-Store-Experience-5.jpg
END:VEVENT
END:VCALENDAR