BEGIN:VCALENDAR
VERSION:2.0
PRODID:-//Salem for All Ages - ECPv6.15.18//NONSGML v1.0//EN
CALSCALE:GREGORIAN
METHOD:PUBLISH
X-WR-CALNAME:Salem for All Ages
X-ORIGINAL-URL:https://salemforallages.org
X-WR-CALDESC:Events for Salem for All Ages
REFRESH-INTERVAL;VALUE=DURATION:PT1H
X-Robots-Tag:noindex
X-PUBLISHED-TTL:PT1H
BEGIN:VTIMEZONE
TZID:America/New_York
BEGIN:DAYLIGHT
TZOFFSETFROM:-0500
TZOFFSETTO:-0400
TZNAME:EDT
DTSTART:20240310T070000
END:DAYLIGHT
BEGIN:STANDARD
TZOFFSETFROM:-0400
TZOFFSETTO:-0500
TZNAME:EST
DTSTART:20241103T060000
END:STANDARD
BEGIN:DAYLIGHT
TZOFFSETFROM:-0500
TZOFFSETTO:-0400
TZNAME:EDT
DTSTART:20250309T070000
END:DAYLIGHT
BEGIN:STANDARD
TZOFFSETFROM:-0400
TZOFFSETTO:-0500
TZNAME:EST
DTSTART:20251102T060000
END:STANDARD
BEGIN:DAYLIGHT
TZOFFSETFROM:-0500
TZOFFSETTO:-0400
TZNAME:EDT
DTSTART:20260308T070000
END:DAYLIGHT
BEGIN:STANDARD
TZOFFSETFROM:-0400
TZOFFSETTO:-0500
TZNAME:EST
DTSTART:20261101T060000
END:STANDARD
END:VTIMEZONE
BEGIN:VEVENT
DTSTART;TZID=America/New_York:20250401T120000
DTEND;TZID=America/New_York:20250401T150000
DTSTAMP:20260423T011912
CREATED:20250328T090012Z
LAST-MODIFIED:20250328T090012Z
UID:22967-1743508800-1743519600@salemforallages.org
SUMMARY:Trash Transformed: Art and Sustainability
DESCRIPTION:The “Trash to Art” initiative\, a Collaborative Online International Learning (COIL) project between Salem State University in the United States and Tecnológico de Monterrey in Mexico\, exemplifies the transformative power of global shared learning. Guided by Professors Tereza Swanda and Francisco González Romo de Vivar\, this project engages students from diverse cultural backgrounds in repurposing discarded materials into meaningful artworks\, promoting a profound understanding of environmental sustainability and cross-cultural collaboration.
URL:https://salemforallages.org/event/trash-transformed-art-and-sustainability-2/
ATTACH;FMTTYPE=image/jpeg:https://salemforallages.org/wp-content/uploads/2025/03/TRASH-to-ART-Jacob-and-Gala-poster-postcard-scaled-2.jpeg
END:VEVENT
BEGIN:VEVENT
DTSTART;TZID=America/New_York:20250401T113000
DTEND;TZID=America/New_York:20250401T153000
DTSTAMP:20260423T011912
CREATED:20250326T090011Z
LAST-MODIFIED:20250326T090011Z
UID:22948-1743507000-1743521400@salemforallages.org
SUMMARY:Magical Transformations
DESCRIPTION:Through our “Magical Transformations” children embrace their charms and express their individuality. Children can choose to transform into a “Witch” or “Wizard”!
URL:https://salemforallages.org/event/magical-transformations-288/
ATTACH;FMTTYPE=image/png:https://salemforallages.org/wp-content/uploads/2024/08/Transformations-1.png
END:VEVENT
BEGIN:VEVENT
DTSTART;TZID=America/New_York:20250401T113000
DTEND;TZID=America/New_York:20250401T150000
DTSTAMP:20260423T011912
CREATED:20250326T090016Z
LAST-MODIFIED:20250326T090016Z
UID:22951-1743507000-1743519600@salemforallages.org
SUMMARY:Potion Brewing Store Experience
DESCRIPTION:Make your visit to The Good Witch of Salem’s shop memorable by booking our in-store Potion Brewing Experience. This activity is led by our Witch Apprentices. \nActivities are recommended for children ages 3 and up. \n*One appointment slot for each child is required.*
URL:https://salemforallages.org/event/potion-brewing-store-experience-280/
ATTACH;FMTTYPE=image/jpeg:https://salemforallages.org/wp-content/uploads/2025/03/Potion-Brewing-Store-Experience-26.jpg
END:VEVENT
BEGIN:VEVENT
DTSTART;TZID=America/New_York:20250401T113000
DTEND;TZID=America/New_York:20250401T150000
DTSTAMP:20260423T011912
CREATED:20250326T090012Z
LAST-MODIFIED:20250326T090012Z
UID:22949-1743507000-1743519600@salemforallages.org
SUMMARY:Stop In For a Spell: DIY Potion Bar
DESCRIPTION:Fly in to The Good Witch and Stay for a Spell! Mix up your very own potion at our Potion Bar! \nDrop Ins begin at store opening and end 30 minutes before closing and are offered on a first come\, first serve basis. Purchase online or pay in store. \nDrop Ins may be unavailable during a birthday party or store event. Please call ahead\, or check our posted hours on Google. \nUnder age 4 may participate with the help of a supervising adult.
URL:https://salemforallages.org/event/stop-in-for-a-spell-diy-potion-bar-212/
ATTACH;FMTTYPE=image/jpeg:https://salemforallages.org/wp-content/uploads/2025/03/Stop-In-For-a-Spell-SQUARE-10.jpg
END:VEVENT
BEGIN:VEVENT
DTSTART;VALUE=DATE:20250401
DTEND;VALUE=DATE:20250402
DTSTAMP:20260423T011912
CREATED:20250326T090007Z
LAST-MODIFIED:20250326T090007Z
UID:22946-1743465600-1743551999@salemforallages.org
SUMMARY:Massachusetts Poetry Festival
DESCRIPTION:The Massachusetts Poetry Festival is a biennial celebration of contemporary poetry held in Salem\, showcasing an all-star roster of poets from across the Commonwealth and beyond. The Festival features more than 100 poets and performers from across Massachusetts and beyond. There are headline readings\, workshops\, panels\, a small press fair\, multimedia events\, open mics\, and more.
URL:https://salemforallages.org/event/massachusetts-poetry-festival/
ATTACH;FMTTYPE=image/jpeg:https://salemforallages.org/wp-content/uploads/2025/03/MassPo-2023-Day1-FaePhoenixPhoto-229-800x533-1.jpg
END:VEVENT
BEGIN:VEVENT
DTSTART;TZID=America/New_York:20250331T190000
DTEND;TZID=America/New_York:20250331T210000
DTSTAMP:20260423T011912
CREATED:20250325T090015Z
LAST-MODIFIED:20250325T090015Z
UID:22944-1743447600-1743454800@salemforallages.org
SUMMARY:Bingo with Great Gaucho
DESCRIPTION:Join us at the Taproom every Monday night for FREE BINGO with Greta Gaucho at 7:00 pm. \nDot it if ya got it for four rounds to win a Far From The Tree gift card and a prize from the fabulous prize basket. \nThe Far From the Tree taproom has an open food policy. (Bring your own food)
URL:https://salemforallages.org/event/bingo-with-great-gaucho-4/
ATTACH;FMTTYPE=image/jpeg:https://salemforallages.org/wp-content/uploads/2025/03/Add-a-subheading-3.jpg
END:VEVENT
BEGIN:VEVENT
DTSTART;TZID=America/New_York:20250331T190000
DTEND;TZID=America/New_York:20250331T210000
DTSTAMP:20260423T011912
CREATED:20250325T090012Z
LAST-MODIFIED:20250325T090012Z
UID:22942-1743447600-1743454800@salemforallages.org
SUMMARY:Improv Jam & Jelly
DESCRIPTION:Improv open hang and structured games for all levels.
URL:https://salemforallages.org/event/improv-jam-jelly/
ATTACH;FMTTYPE=image/png:https://salemforallages.org/wp-content/uploads/2025/03/Jam-and-Jelly.png
END:VEVENT
BEGIN:VEVENT
DTSTART;TZID=America/New_York:20250331T120000
DTEND;TZID=America/New_York:20250331T150000
DTSTAMP:20260423T011912
CREATED:20250328T090008Z
LAST-MODIFIED:20250328T090008Z
UID:22965-1743422400-1743433200@salemforallages.org
SUMMARY:Trash Transformed: Art and Sustainability
DESCRIPTION:The “Trash to Art” initiative\, a Collaborative Online International Learning (COIL) project between Salem State University in the United States and Tecnológico de Monterrey in Mexico\, exemplifies the transformative power of global shared learning. Guided by Professors Tereza Swanda and Francisco González Romo de Vivar\, this project engages students from diverse cultural backgrounds in repurposing discarded materials into meaningful artworks\, promoting a profound understanding of environmental sustainability and cross-cultural collaboration.
URL:https://salemforallages.org/event/trash-transformed-art-and-sustainability/
ATTACH;FMTTYPE=image/jpeg:https://salemforallages.org/wp-content/uploads/2025/03/TRASH-to-ART-Jacob-and-Gala-poster-postcard-scaled-1.jpeg
END:VEVENT
BEGIN:VEVENT
DTSTART;TZID=America/New_York:20250331T113000
DTEND;TZID=America/New_York:20250331T160000
DTSTAMP:20260423T011912
CREATED:20250325T090008Z
LAST-MODIFIED:20250325T090008Z
UID:22940-1743420600-1743436800@salemforallages.org
SUMMARY:Potion Brewing Store Experience
DESCRIPTION:Make your visit to The Good Witch of Salem’s shop memorable by booking our in-store Potion Brewing Experience. This activity is led by our Witch Apprentices. \nActivities are recommended for children ages 3 and up. \n*One appointment slot for each child is required.*
URL:https://salemforallages.org/event/potion-brewing-store-experience-279/
ATTACH;FMTTYPE=image/jpeg:https://salemforallages.org/wp-content/uploads/2025/03/Potion-Brewing-Store-Experience-25.jpg
END:VEVENT
BEGIN:VEVENT
DTSTART;TZID=America/New_York:20250331T113000
DTEND;TZID=America/New_York:20250331T160000
DTSTAMP:20260423T011912
CREATED:20250324T090029Z
LAST-MODIFIED:20250324T090029Z
UID:22939-1743420600-1743436800@salemforallages.org
SUMMARY:Magical Transformations
DESCRIPTION:Through our “Magical Transformations” children embrace their charms and express their individuality. Children can choose to transform into a “Witch” or “Wizard”!
URL:https://salemforallages.org/event/magical-transformations-287/
ATTACH;FMTTYPE=image/png:https://salemforallages.org/wp-content/uploads/2024/08/Transformations.png
END:VEVENT
BEGIN:VEVENT
DTSTART;TZID=America/New_York:20250330T193000
DTEND;TZID=America/New_York:20250330T210000
DTSTAMP:20260423T011912
CREATED:20250324T090025Z
LAST-MODIFIED:20250324T090025Z
UID:22937-1743363000-1743368400@salemforallages.org
SUMMARY:Salem Film Fest Closing Night at The Counter (Hotel Salem)
DESCRIPTION:Sunday\, 7:30 – 9 PMRaise a glass to an incredible week of films\, friends\, and fun at our Closing Night celebration! Join us at The Counter rooftop bar\, soak in the views\, and toast to another unforgettable Salem Film Fest!
URL:https://salemforallages.org/event/salem-film-fest-closing-night-at-the-counter-hotel-salem/
ATTACH;FMTTYPE=image/jpeg:https://salemforallages.org/wp-content/uploads/2025/03/Screenshot-2025-02-26-at-12.53.42 PM.jpg
END:VEVENT
BEGIN:VEVENT
DTSTART;TZID=America/New_York:20250330T190000
DTEND;TZID=America/New_York:20250330T210000
DTSTAMP:20260423T011912
CREATED:20250324T090022Z
LAST-MODIFIED:20250324T090022Z
UID:22935-1743361200-1743368400@salemforallages.org
SUMMARY:Big Bad Voodoo Daddy
DESCRIPTION:April\, 2024\, marks the 31 year anniversary of Big Bad Voodoo Daddy’s remarkable arrival onto the music scene. Since its formation in the early nineties in Ventura\, California\, the band has toured virtually nonstop\, performing on average over 150 shows a year\, and has produced a sizable catalog of recorded music\, with sales of over 2 million albums to date. Early on\, during their legendary residency at the Derby nightclub in Los Angeles\, they reminded the world\, in the midst of the grunge era no less\, that it was still cool to swing.
URL:https://salemforallages.org/event/big-bad-voodoo-daddy-2/
ATTACH;FMTTYPE=image/jpeg:https://salemforallages.org/wp-content/uploads/2025/03/BBVD-Promo-Photo-Credit-Andy-Rowley.jpeg
END:VEVENT
BEGIN:VEVENT
DTSTART;TZID=America/New_York:20250330T150000
DTEND;TZID=America/New_York:20250330T163000
DTSTAMP:20260423T011912
CREATED:20250324T090021Z
LAST-MODIFIED:20250324T090021Z
UID:22934-1743346800-1743352200@salemforallages.org
SUMMARY:The Ballad of Tam Lin by Molly Pinto Madigan
DESCRIPTION:The Ballad of Tam Lin is a folk-rock opera based loosely on the ballad of the same name. The story is told in 25 individual songs with each character voiced by a different singer. While each number has its own story arc\, the pieces come together in a story filled with drama\, mystery\, romance\, suspense\, and supernatural elements. This performance features Molly Madigan\, PJ Holaday\, Zach Bridges\, Madeleine Downs\, Briana Paquin\, Elizabeth Anderson\, TJ Gansneberg\, Chris Bodek\, Chaz Smith\, Alec Hutson\, Sam Margolis\, and Jay DiBiasio. \nAdmission is free.
URL:https://salemforallages.org/event/the-ballad-of-tam-lin-by-molly-pinto-madigan-2/
ATTACH;FMTTYPE=image/jpeg:https://salemforallages.org/wp-content/uploads/2025/03/the-ballad-of-tam-lin.jpg
END:VEVENT
BEGIN:VEVENT
DTSTART;TZID=America/New_York:20250330T140000
DTEND;TZID=America/New_York:20250330T160000
DTSTAMP:20260423T011912
CREATED:20250324T090018Z
LAST-MODIFIED:20250324T090018Z
UID:22932-1743343200-1743350400@salemforallages.org
SUMMARY:Ukrainian Women Artists and Their Impact
DESCRIPTION:Join us for an insightful lecture dedicated to celebrating the remarkable contributions of Ukrainian women artists who have influenced both Ukrainian culture and the broader art world. Throughout history\, female artists have played a vital role in shaping artistic expression\, and this session will highlight their diverse talents and achievements. All funds go to Dobro New England to support humanitarian aid to Ukraine.
URL:https://salemforallages.org/event/ukrainian-women-artists-and-their-impact/
ATTACH;FMTTYPE=image/jpeg:https://salemforallages.org/wp-content/uploads/2025/03/Maria-Bashkirtseva-In-the-studio-1881.jpg
END:VEVENT
BEGIN:VEVENT
DTSTART;TZID=America/New_York:20250330T120000
DTEND;TZID=America/New_York:20250330T170000
DTSTAMP:20260423T011912
CREATED:20250327T090020Z
LAST-MODIFIED:20250327T090020Z
UID:22959-1743336000-1743354000@salemforallages.org
SUMMARY:Rocky Neck Art Colonly Present: For Women\, By Women at HCM
DESCRIPTION:Rocky Neck Art Colony and Hammond Castle Museum proudly present Portraits of Women\, by Women\, a special collaboration in celebration of Women’s History Month. \nThis inspiring exhibit showcases recent portraits by distinguished women artists from the Rocky Neck Art Colony\, including Elizabeth Bish\, Janice Brand\, Robin Colodzin\, Susan Ellis\, Elizabeth Gauthier\, Janet Grover\, Joyce Roessler\, and Amy Sudarsky. The exhibition highlights the profound impact of portraiture in capturing the essence\, strength\, and diversity of women’s experiences.
URL:https://salemforallages.org/event/rocky-neck-art-colonly-present-for-women-by-women-at-hcm-4/
ATTACH;FMTTYPE=image/jpeg:https://salemforallages.org/wp-content/uploads/2025/03/Hammond-Castle-Rocky-Neck-Art-Colony-Portraits-of-Women-By-Women_final-3.jpg
END:VEVENT
BEGIN:VEVENT
DTSTART;TZID=America/New_York:20250330T113000
DTEND;TZID=America/New_York:20250330T153000
DTSTAMP:20260423T011912
CREATED:20250324T090009Z
LAST-MODIFIED:20250324T090009Z
UID:22927-1743334200-1743348600@salemforallages.org
SUMMARY:Magical Transformations
DESCRIPTION:Through our “Magical Transformations” children embrace their charms and express their individuality. Children can choose to transform into a “Witch” or “Wizard”!
URL:https://salemforallages.org/event/magical-transformations-286/
ATTACH;FMTTYPE=image/png:https://salemforallages.org/wp-content/uploads/2024/08/Transformations-1.png
END:VEVENT
BEGIN:VEVENT
DTSTART;TZID=America/New_York:20250330T113000
DTEND;TZID=America/New_York:20250330T150000
DTSTAMP:20260423T011912
CREATED:20250324T090014Z
LAST-MODIFIED:20250324T090014Z
UID:22930-1743334200-1743346800@salemforallages.org
SUMMARY:Potion Brewing Store Experience
DESCRIPTION:Make your visit to The Good Witch of Salem’s shop memorable by booking our in-store Potion Brewing Experience. This activity is led by our Witch Apprentices. \nActivities are recommended for children ages 3 and up. \n*One appointment slot for each child is required.*
URL:https://salemforallages.org/event/potion-brewing-store-experience-278/
ATTACH;FMTTYPE=image/jpeg:https://salemforallages.org/wp-content/uploads/2025/03/Potion-Brewing-Store-Experience-24.jpg
END:VEVENT
BEGIN:VEVENT
DTSTART;TZID=America/New_York:20250330T113000
DTEND;TZID=America/New_York:20250330T150000
DTSTAMP:20260423T011912
CREATED:20250324T090010Z
LAST-MODIFIED:20250324T090010Z
UID:22928-1743334200-1743346800@salemforallages.org
SUMMARY:Stop In For a Spell: DIY Potion Bar
DESCRIPTION:Fly in to The Good Witch and Stay for a Spell! Mix up your very own potion at our Potion Bar! \nDrop Ins begin at store opening and end 30 minutes before closing and are offered on a first come\, first serve basis. Purchase online or pay in store. \nDrop Ins may be unavailable during a birthday party or store event. Please call ahead\, or check our posted hours on Google. \nUnder age 4 may participate with the help of a supervising adult.
URL:https://salemforallages.org/event/stop-in-for-a-spell-diy-potion-bar-211/
ATTACH;FMTTYPE=image/jpeg:https://salemforallages.org/wp-content/uploads/2025/03/Stop-In-For-a-Spell-SQUARE-9.jpg
END:VEVENT
BEGIN:VEVENT
DTSTART;TZID=America/New_York:20250330T100000
DTEND;TZID=America/New_York:20250330T160000
DTSTAMP:20260423T011912
CREATED:20250324T090008Z
LAST-MODIFIED:20250324T090008Z
UID:22926-1743328800-1743350400@salemforallages.org
SUMMARY:Leslie’s Retreat: Salem on the Brink of Revolution Exhibit
DESCRIPTION:This National Park Service exhibit will explore why Crown soldiers under Lt. Col. Alexander Leslie came to Salem on February 26\, 1775\, who were the major players in the event\, and how this event has been remembered and celebrated in Salem in the last 250 years. \nThis free exhibit will be on display from February 15th -April 27th at the Salem Armory Visitor Center\, 2 New Liberty Street\, Salem. \nThe Salem Armory Visitor Center is open Wednesday – Sunday\, 10 am – 4 pm.
URL:https://salemforallages.org/event/leslies-retreat-salem-on-the-brink-of-revolution-exhibit-32/
ATTACH;FMTTYPE=image/jpeg:https://salemforallages.org/wp-content/uploads/2025/02/1775_1782_Salem-Old-North-Bridge-Leslie-Retreat-800x600-1.jpg
END:VEVENT
BEGIN:VEVENT
DTSTART;TZID=America/New_York:20250329T210000
DTEND;TZID=America/New_York:20250330T003000
DTSTAMP:20260423T011912
CREATED:20250323T090053Z
LAST-MODIFIED:20250323T090053Z
UID:22924-1743282000-1743294600@salemforallages.org
SUMMARY:Salem Film Fest Soirée at Colonial Hall
DESCRIPTION:Saturday\, 9 PM – 12:30 AMGet ready for the biggest bash of the Fest! The SFF Soirée at Colonial Hall is where filmmakers\, fest-goers\, and film lovers come together for a night of entertainment\, celebration\, and unforgettable moments. Stay tuned for special entertainment announcements!
URL:https://salemforallages.org/event/salem-film-fest-soiree-at-colonial-hall/
ATTACH;FMTTYPE=image/jpeg:https://salemforallages.org/wp-content/uploads/2025/03/ColonialHall-SFF23-JoeyPhoenix-9.jpg
END:VEVENT
BEGIN:VEVENT
DTSTART;TZID=America/New_York:20250329T200000
DTEND;TZID=America/New_York:20250329T220000
DTSTAMP:20260423T011912
CREATED:20250323T090049Z
LAST-MODIFIED:20250323T090049Z
UID:22922-1743278400-1743285600@salemforallages.org
SUMMARY:Al Di Meola
DESCRIPTION:With Full Electric Band \nCelebrating the 50th Anniversary of Al Di Meola’s First Solo Album & More
URL:https://salemforallages.org/event/al-di-meola/
ATTACH;FMTTYPE=image/jpeg:https://salemforallages.org/wp-content/uploads/2025/03/2024-04-12-Al-Di-Meola-NYC-Ehud-Lazin-62-scaled-1.jpg
END:VEVENT
BEGIN:VEVENT
DTSTART;TZID=America/New_York:20250329T193000
DTEND;TZID=America/New_York:20250329T210000
DTSTAMP:20260423T011912
CREATED:20250323T090045Z
LAST-MODIFIED:20250323T090045Z
UID:22920-1743276600-1743282000@salemforallages.org
SUMMARY:The Ballad of Tam Lin by Molly Pinto Madigan
DESCRIPTION:The Ballad of Tam Lin is a folk-rock opera based loosely on the ballad of the same name. The story is told in 25 individual songs with each character voiced by a different singer. While each number has its own story arc\, the pieces come together in a story filled with drama\, mystery\, romance\, suspense\, and supernatural elements. This performance features Molly Madigan\, PJ Holaday\, Zach Bridges\, Madeleine Downs\, Briana Paquin\, Elizabeth Anderson\, TJ Gansneberg\, Chris Bodek\, Chaz Smith\, Alec Hutson\, Sam Margolis\, and Jay DiBiasio. \nAdmission is free.
URL:https://salemforallages.org/event/the-ballad-of-tam-lin-by-molly-pinto-madigan/
ATTACH;FMTTYPE=image/jpeg:https://salemforallages.org/wp-content/uploads/2025/03/the-ballad-of-tam-lin.jpg
END:VEVENT
BEGIN:VEVENT
DTSTART;TZID=America/New_York:20250329T180000
DTEND;TZID=America/New_York:20250329T200000
DTSTAMP:20260423T011912
CREATED:20250323T090045Z
LAST-MODIFIED:20250323T090045Z
UID:22919-1743271200-1743278400@salemforallages.org
SUMMARY:Andrew Rudick
DESCRIPTION:Andrew Rudick is a nationally touring stand up comedian\, writer and actor. One of the fastest rising comedians in the Midwest\, Rudick has been featured on “The Bob and Tom” national radio show and his comedy can be heard regularly on SiriusXM. His debut comedy album opened at the top of the Apple Music charts. Combining a midwestern charm and high-energy absurdism\, Rudick’s stand-up is a frequent hit both on stage and across social media. \n 
URL:https://salemforallages.org/event/andrew-rudick-2/
ATTACH;FMTTYPE=image/png:https://salemforallages.org/wp-content/uploads/2025/03/Andrew-Rudick.png
END:VEVENT
BEGIN:VEVENT
DTSTART;TZID=America/New_York:20250329T160000
DTEND;TZID=America/New_York:20250329T180000
DTSTAMP:20260423T011912
CREATED:20250323T090041Z
LAST-MODIFIED:20250323T090041Z
UID:22917-1743264000-1743271200@salemforallages.org
SUMMARY:Wine Tasting with Salem Film Fest Filmmakers
DESCRIPTION:Saturday\, 4-6 PM at Salem Wine ImportsUnwind with a glass (or two!) at our exclusive Wine Tasting with Filmmakers. Sip on hand-selected wines\, chat with visiting filmmakers\, and enjoy a relaxed\, intimate setting before diving into more festival fun!
URL:https://salemforallages.org/event/wine-tasting-with-salem-film-fest-filmmakers/
ATTACH;FMTTYPE=image/jpeg:https://salemforallages.org/wp-content/uploads/2025/03/SFF-2024-Saturday-FWT-Saul-Argenbright-1-scaled-1.jpg
END:VEVENT
BEGIN:VEVENT
DTSTART;TZID=America/New_York:20250329T120000
DTEND;TZID=America/New_York:20250329T170000
DTSTAMP:20260423T011912
CREATED:20250327T090015Z
LAST-MODIFIED:20250327T090015Z
UID:22957-1743249600-1743267600@salemforallages.org
SUMMARY:Rocky Neck Art Colonly Present: For Women\, By Women at HCM
DESCRIPTION:Rocky Neck Art Colony and Hammond Castle Museum proudly present Portraits of Women\, by Women\, a special collaboration in celebration of Women’s History Month. \nThis inspiring exhibit showcases recent portraits by distinguished women artists from the Rocky Neck Art Colony\, including Elizabeth Bish\, Janice Brand\, Robin Colodzin\, Susan Ellis\, Elizabeth Gauthier\, Janet Grover\, Joyce Roessler\, and Amy Sudarsky. The exhibition highlights the profound impact of portraiture in capturing the essence\, strength\, and diversity of women’s experiences.
URL:https://salemforallages.org/event/rocky-neck-art-colonly-present-for-women-by-women-at-hcm-3/
ATTACH;FMTTYPE=image/jpeg:https://salemforallages.org/wp-content/uploads/2025/03/Hammond-Castle-Rocky-Neck-Art-Colony-Portraits-of-Women-By-Women_final-2.jpg
END:VEVENT
BEGIN:VEVENT
DTSTART;TZID=America/New_York:20250329T120000
DTEND;TZID=America/New_York:20250329T133000
DTSTAMP:20260423T011912
CREATED:20250323T090037Z
LAST-MODIFIED:20250323T090037Z
UID:22915-1743249600-1743255000@salemforallages.org
SUMMARY:Craft Witch
DESCRIPTION:Craft Witch is a DIY crafting session with something for everyone! Choose from a wide array of options to create your very own one-of-a-kind craft. Whichever craft you decide to create\, you’ll be provided with all the materials\, tools\, and knowledge needed to let your creativity flourish. Unlike our broom making\, bookbinding\, and spelljar making workshops in which participants are being guided through the crafting process step-by step by an instructor\, the DIY nature of Craft Witch means that you can use the studio time however you wish. Check out the crafting options on our website!
URL:https://salemforallages.org/event/craft-witch-24/
ATTACH;FMTTYPE=image/jpeg:https://salemforallages.org/wp-content/uploads/2025/03/Image-from-iOS-scaled-16.jpg
END:VEVENT
BEGIN:VEVENT
DTSTART;TZID=America/New_York:20250329T113000
DTEND;TZID=America/New_York:20250329T160000
DTSTAMP:20260423T011912
CREATED:20250323T090029Z
LAST-MODIFIED:20250323T090029Z
UID:22911-1743247800-1743264000@salemforallages.org
SUMMARY:Potion Brewing Store Experience
DESCRIPTION:Make your visit to The Good Witch of Salem’s shop memorable by booking our in-store Potion Brewing Experience. This activity is led by our Witch Apprentices. \nActivities are recommended for children ages 3 and up. \n*One appointment slot for each child is required.*
URL:https://salemforallages.org/event/potion-brewing-store-experience-277/
ATTACH;FMTTYPE=image/jpeg:https://salemforallages.org/wp-content/uploads/2025/03/Potion-Brewing-Store-Experience-23.jpg
END:VEVENT
BEGIN:VEVENT
DTSTART;TZID=America/New_York:20250329T113000
DTEND;TZID=America/New_York:20250329T160000
DTSTAMP:20260423T011912
CREATED:20250323T090028Z
LAST-MODIFIED:20250323T090028Z
UID:22910-1743247800-1743264000@salemforallages.org
SUMMARY:Magical Transformations
DESCRIPTION:Through our “Magical Transformations” children embrace their charms and express their individuality. Children can choose to transform into a “Witch” or “Wizard”!
URL:https://salemforallages.org/event/magical-transformations-285/
ATTACH;FMTTYPE=image/png:https://salemforallages.org/wp-content/uploads/2024/08/Transformations.png
END:VEVENT
BEGIN:VEVENT
DTSTART;TZID=America/New_York:20250329T113000
DTEND;TZID=America/New_York:20250329T140000
DTSTAMP:20260423T011912
CREATED:20250323T090033Z
LAST-MODIFIED:20250323T090033Z
UID:22913-1743247800-1743256800@salemforallages.org
SUMMARY:Rainbow Potions
DESCRIPTION:Fly into The Good Witch and Stay for a Spell! Step into the DIY Good Witch of Salem’s Potion Bar\, where you can mix your very own magical potion creations! Choose your ingredients\, sprinkle in magical moondust\, add in your golden heart intentions\, and seal with a special charm to take home the enchantment!
URL:https://salemforallages.org/event/rainbow-potions-6/
ATTACH;FMTTYPE=image/jpeg:https://salemforallages.org/wp-content/uploads/2025/03/Rainbow-BeamsFB-scaled-5.jpg
END:VEVENT
BEGIN:VEVENT
DTSTART;TZID=America/New_York:20250329T100000
DTEND;TZID=America/New_York:20250329T160000
DTSTAMP:20260423T011912
CREATED:20250323T090023Z
LAST-MODIFIED:20250323T090023Z
UID:22907-1743242400-1743264000@salemforallages.org
SUMMARY:Leslie’s Retreat: Salem on the Brink of Revolution Exhibit
DESCRIPTION:This National Park Service exhibit will explore why Crown soldiers under Lt. Col. Alexander Leslie came to Salem on February 26\, 1775\, who were the major players in the event\, and how this event has been remembered and celebrated in Salem in the last 250 years. \nThis free exhibit will be on display from February 15th -April 27th at the Salem Armory Visitor Center\, 2 New Liberty Street\, Salem. \nThe Salem Armory Visitor Center is open Wednesday – Sunday\, 10 am – 4 pm.
URL:https://salemforallages.org/event/leslies-retreat-salem-on-the-brink-of-revolution-exhibit-31/
ATTACH;FMTTYPE=image/jpeg:https://salemforallages.org/wp-content/uploads/2025/02/1775_1782_Salem-Old-North-Bridge-Leslie-Retreat-800x600-1.jpg
END:VEVENT
END:VCALENDAR