BEGIN:VCALENDAR
VERSION:2.0
PRODID:-//Salem for All Ages - ECPv6.15.18//NONSGML v1.0//EN
CALSCALE:GREGORIAN
METHOD:PUBLISH
X-ORIGINAL-URL:https://salemforallages.org
X-WR-CALDESC:Events for Salem for All Ages
REFRESH-INTERVAL;VALUE=DURATION:PT1H
X-Robots-Tag:noindex
X-PUBLISHED-TTL:PT1H
BEGIN:VTIMEZONE
TZID:America/New_York
BEGIN:DAYLIGHT
TZOFFSETFROM:-0500
TZOFFSETTO:-0400
TZNAME:EDT
DTSTART:20230312T070000
END:DAYLIGHT
BEGIN:STANDARD
TZOFFSETFROM:-0400
TZOFFSETTO:-0500
TZNAME:EST
DTSTART:20231105T060000
END:STANDARD
BEGIN:DAYLIGHT
TZOFFSETFROM:-0500
TZOFFSETTO:-0400
TZNAME:EDT
DTSTART:20240310T070000
END:DAYLIGHT
BEGIN:STANDARD
TZOFFSETFROM:-0400
TZOFFSETTO:-0500
TZNAME:EST
DTSTART:20241103T060000
END:STANDARD
BEGIN:DAYLIGHT
TZOFFSETFROM:-0500
TZOFFSETTO:-0400
TZNAME:EDT
DTSTART:20250309T070000
END:DAYLIGHT
BEGIN:STANDARD
TZOFFSETFROM:-0400
TZOFFSETTO:-0500
TZNAME:EST
DTSTART:20251102T060000
END:STANDARD
END:VTIMEZONE
BEGIN:VEVENT
DTSTART;TZID=America/New_York:20240520T184500
DTEND;TZID=America/New_York:20240520T203000
DTSTAMP:20260424T115523
CREATED:20240512T090020Z
LAST-MODIFIED:20240512T090020Z
UID:18708-1716230700-1716237000@salemforallages.org
SUMMARY:Witches and Wards: Magic and Counter Magic in 17th Century England and New England
DESCRIPTION:Presented by: Krystina Yeager\, Education Manager at Historic Beverly and Historian’s Guide to the Salem Witch Trials  \nBeliefs and fears surrounding witches and the Devil were rampant in the sixteenth and seventeenth centuries. Laws against witchcraft were in place as early as 1542 in England. The resulting witch trials were published in witchcraft pamphlets written for the public to consume. While the church advised the people to trust in the power of God\, many people took defense against witches into their own hands. Specific items concealed in walls or specific markings carved into fireplaces were believed to keep the Devil and his agents away. When the British came to colonize America\, these practices came with them and can be found in many local historic homes even today. 
URL:https://salemforallages.org/event/witches-and-wards-magic-and-counter-magic-in-17th-century-england-and-new-england/
ATTACH;FMTTYPE=image/jpeg:https://salemforallages.org/wp-content/uploads/2024/04/Carin-Macn-16-x-9-fotor-2024031494244-1536x864-1.jpg
END:VEVENT
BEGIN:VEVENT
DTSTART;TZID=America/New_York:20240520T190000
DTEND;TZID=America/New_York:20240520T203000
DTSTAMP:20260424T115523
CREATED:20240512T090020Z
LAST-MODIFIED:20240512T090020Z
UID:18709-1716231600-1716237000@salemforallages.org
SUMMARY:Image\, Invention\, and Imagination: A Series on Art & Community Through the Ages
DESCRIPTION:On July 7\, 1956\, the librettist John Treville Latouche’s seminal American Opera The Ballad of Baby Doe premiered in Central City\, Colorado. “It’s about love and It’s about money\,” Latouche had joked\, in predicting the public’s response to the Opera\, “And there’s no combination an American audience likes more!” Today\, The Ballad of Baby Doe is often cited as one of the most significant Operas in the American canon\, but Latouche would never know just how right he had been. One month later\, John Latouche was dead. He was 41. \nOver the course of his short years\, Latouche lived a remarkably dynamic life; like a brilliant star\, he pulled some of the most important artistic figures of 20th-century American culture into his brief orbit. The story of the community that Latouche anchored features well-known characters such as composer Leonard Bernstein and artist Marcel Duchamp and local figures like Margarett McKean and Hammond Castle Museum’s own John Hays Hammond Jr. \nIn fact\, through Latouche’s legacy\, a curious assembly of artists\, poets\, and occultists\, many of them Queer\, came to assemble at Hammond Castle Museum in its founder’s final years. This is a story about the life of John Latouche\, but it is also a story about love. About money. About art. About magick. About false accusations of murder\, and more. This lecture\, the final in Hammond Castle Museum’s May Series on Art & Community Through the Ages\, will also serve as an introduction to Hammond Castle Museum’s June Pride Month programming.
URL:https://salemforallages.org/event/image-invention-and-imagination-a-series-on-art-community-through-the-ages-6/
ATTACH;FMTTYPE=image/jpeg:https://salemforallages.org/wp-content/uploads/2024/04/File-1687_medium.jpg
END:VEVENT
BEGIN:VEVENT
DTSTART;TZID=America/New_York:20240520T193000
DTEND;TZID=America/New_York:20240520T210000
DTSTAMP:20260424T115523
CREATED:20240515T090014Z
LAST-MODIFIED:20240515T090014Z
UID:18743-1716233400-1716238800@salemforallages.org
SUMMARY:Music Quiz Trivia at Village Tavern
DESCRIPTION:Stop into Village Tavern in Salem\, MA Monday nights for smash burgers\, beer\, and their music trivia quiz series!
URL:https://salemforallages.org/event/music-quiz-trivia-at-village-tavern/
ATTACH;FMTTYPE=image/jpeg:https://salemforallages.org/wp-content/uploads/2024/05/Daily-Specials-fotor-20240509235039.jpg
END:VEVENT
BEGIN:VEVENT
DTSTART;TZID=America/New_York:20240521T080000
DTEND;TZID=America/New_York:20240521T170000
DTSTAMP:20260424T115523
CREATED:20240512T090021Z
LAST-MODIFIED:20240512T090021Z
UID:18710-1716278400-1716310800@salemforallages.org
SUMMARY:Trivia Tuesdays with Gulu Gulu Cafe
DESCRIPTION: Unleash Your Inner Genius Every Tuesday at Trivia Night! \n\nThink you’re smart? Prove it under the glow of our Tuesday night trivia spotlight! \n Join us for a brain-teasing adventure into general knowledge every week\, where the pursuit of trivia supremacy is as hot as our fresh-out-of-the-oven pizzas! \n\n Compete for fantastic prizes\, bragging rights\, and the satisfaction of knowing you’re part of the smartest crowd in town.\n\n Challenge your friends\, colleagues\, or even that know-it-all neighbor. The more\, the merrier! \n\n Every Tuesday\, the ultimate trivia showdown awaits. Mark your calendars and get ready for an evening of laughter\, learning\, and delicious rewards.\n\nDon’t miss out on the excitement! Grab a slice\, grab a seat\, and let the battle of the brains begin. Trivia Night – where knowledge meets a good time!
URL:https://salemforallages.org/event/trivia-tuesdays-with-gulu-gulu-cafe-6/
ATTACH;FMTTYPE=image/jpeg:https://salemforallages.org/wp-content/uploads/2024/04/432416873_901456205312795_7465705002384209082_n.jpg
END:VEVENT
BEGIN:VEVENT
DTSTART;TZID=America/New_York:20240521T110000
DTEND;TZID=America/New_York:20240521T170000
DTSTAMP:20260424T115523
CREATED:20240512T090021Z
LAST-MODIFIED:20240512T090021Z
UID:18711-1716289200-1716310800@salemforallages.org
SUMMARY:Teatime Tuesdays with the Satanic Temple
DESCRIPTION:Join us every Tuesday during gallery hours for complementary tea with admission to the gallery.
URL:https://salemforallages.org/event/teatime-tuesdays-with-the-satanic-temple-52/
ATTACH;FMTTYPE=image/jpeg:https://salemforallages.org/wp-content/uploads/2023/05/satanic-tea-art-gallery.jpg
END:VEVENT
BEGIN:VEVENT
DTSTART;TZID=America/New_York:20240521T180000
DTEND;TZID=America/New_York:20240521T190000
DTSTAMP:20260424T115523
CREATED:20240512T090021Z
LAST-MODIFIED:20240512T090021Z
UID:18712-1716314400-1716318000@salemforallages.org
SUMMARY:Full Moon Yoga
DESCRIPTION:Wild Sea Wellness will be offering monthly yoga classes at The House of the Seven Gables  throughout 2024. Be sure to check their website and calendar for details\, dates\, and links to  register.  \nThe next partnership is scheduled for May 21 at 6:00 p.m. on our seaside lawn (rain location is  our spacious Holyoke Room in the Visitor Center.) 
URL:https://salemforallages.org/event/full-moon-yoga-9/
ATTACH;FMTTYPE=image/jpeg:https://salemforallages.org/wp-content/uploads/2024/05/wild-sea-yoga.jpg
END:VEVENT
BEGIN:VEVENT
DTSTART;TZID=America/New_York:20240521T193000
DTEND;TZID=America/New_York:20240521T210000
DTSTAMP:20260424T115523
CREATED:20240515T090014Z
LAST-MODIFIED:20240515T090014Z
UID:18744-1716319800-1716325200@salemforallages.org
SUMMARY:Taco Tuesday and Opinionation Trivia
DESCRIPTION:Join the Village Tavern Tuesdays for their Taco Tuesday and Trivia deals!
URL:https://salemforallages.org/event/taco-tuesday-and-opinionation-trivia/
ATTACH;FMTTYPE=image/jpeg:https://salemforallages.org/wp-content/uploads/2024/05/Daily-Specials-fotor-20240509235039.jpg
END:VEVENT
BEGIN:VEVENT
DTSTART;TZID=America/New_York:20240522T180000
DTEND;TZID=America/New_York:20240522T200000
DTSTAMP:20260424T115523
CREATED:20240512T090024Z
LAST-MODIFIED:20240512T090024Z
UID:18714-1716400800-1716408000@salemforallages.org
SUMMARY:Bingo at Gulu-Gulu Cafe
DESCRIPTION:Stop by Gulu-Gulu Cafe for a fun trivia series that will excite and engage any audience! Quirky\, funny\, and free!
URL:https://salemforallages.org/event/bingo-at-gulu-gulu-cafe-43/
ATTACH;FMTTYPE=image/jpeg:https://salemforallages.org/wp-content/uploads/2023/08/BingoBoardNew.jpg
END:VEVENT
BEGIN:VEVENT
DTSTART;TZID=America/New_York:20240522T183000
DTEND;TZID=America/New_York:20240522T203000
DTSTAMP:20260424T115523
CREATED:20240512T090025Z
LAST-MODIFIED:20240512T090025Z
UID:18715-1716402600-1716409800@salemforallages.org
SUMMARY:SKEEBALL NIGHT at Notch Brewing
DESCRIPTION:Join us each Wednesday night for some beer and Skee Ball!
URL:https://salemforallages.org/event/skeeball-night-at-notch-brewing-15/
ATTACH;FMTTYPE=image/jpeg:https://salemforallages.org/wp-content/uploads/2024/02/SKEEBALLFLYER.jpg
END:VEVENT
BEGIN:VEVENT
DTSTART;TZID=America/New_York:20240522T183000
DTEND;TZID=America/New_York:20240522T203000
DTSTAMP:20260424T115523
CREATED:20240513T090011Z
LAST-MODIFIED:20240513T090011Z
UID:18716-1716402600-1716409800@salemforallages.org
SUMMARY:SATAN SIP ‘N PAINT
DESCRIPTION:Paint a Satanic scene while sipping adult beverages! 21+ event. No painting experience necessary! Instruction\, inspiration\, all art supplies\, refreshments\, snacks\, ice and cups provided. Just bring yourself and your favorite beverage! \nHosted by the talented Salem Art Gallery staff. \nTickets are $33 per person. Availability is limited.
URL:https://salemforallages.org/event/satan-sip-n-paint-9/
ATTACH;FMTTYPE=image/png:https://salemforallages.org/wp-content/uploads/2024/03/8f43122b-9ebc-4e6b-bb40-ff4d2d221137_482x676.png
END:VEVENT
BEGIN:VEVENT
DTSTART;TZID=America/New_York:20240522T193000
DTEND;TZID=America/New_York:20240522T210000
DTSTAMP:20260424T115523
CREATED:20240515T090015Z
LAST-MODIFIED:20240515T090015Z
UID:18745-1716406200-1716411600@salemforallages.org
SUMMARY:Wednesday Wing Nights and Trivia
DESCRIPTION:Join the Village Tavern Wednesday nights form 50 cent wings and Stump Trivia.
URL:https://salemforallages.org/event/wednesday-wing-nights-and-trivia-2/
ATTACH;FMTTYPE=image/jpeg:https://salemforallages.org/wp-content/uploads/2024/05/Daily-Specials-fotor-20240509235039.jpg
END:VEVENT
BEGIN:VEVENT
DTSTART;TZID=America/New_York:20240523T083000
DTEND;TZID=America/New_York:20240523T100000
DTSTAMP:20260424T115523
CREATED:20240522T090009Z
LAST-MODIFIED:20240522T090009Z
UID:18785-1716453000-1716458400@salemforallages.org
SUMMARY:The 4th annual O’Donnell sponsored breakfast at the Danversport.
DESCRIPTION:Please join us as we honor your selfless service to our great Country. This free breakfast is open to all Veterans and their guests. It is a time of reflection and fellowship for you\, our distinguished guests.
URL:https://salemforallages.org/event/the-4th-annual-odonnell-sponsored-breakfast-at-the-danversport/
END:VEVENT
BEGIN:VEVENT
DTSTART;TZID=America/New_York:20240523T090000
DTEND;TZID=America/New_York:20240523T223000
DTSTAMP:20260424T115523
CREATED:20240515T090015Z
LAST-MODIFIED:20240515T090015Z
UID:18746-1716454800-1716503400@salemforallages.org
SUMMARY:Karaoke in the Lounge at Village Tavern
DESCRIPTION:Join the Village Tavern in Salem on Thursday nights at 9pm for Karaoke.
URL:https://salemforallages.org/event/karaoke-in-the-lounge-at-village-tavern-2/
ATTACH;FMTTYPE=image/jpeg:https://salemforallages.org/wp-content/uploads/2024/05/Daily-Specials-fotor-20240509235039.jpg
END:VEVENT
BEGIN:VEVENT
DTSTART;TZID=America/New_York:20240523T110000
DTEND;TZID=America/New_York:20240523T120000
DTSTAMP:20260424T115523
CREATED:20240522T090011Z
LAST-MODIFIED:20240522T090011Z
UID:18786-1716462000-1716465600@salemforallages.org
SUMMARY:The 2nd Cavalry 188th Birthday celebration and AYUBE memorial at the Salem Common
DESCRIPTION:Please join Dragoons from the oldest continuously serving U.S. Army Regiment as they gather electronically from around the globe to commemorate their 188th Birthday! As part of the celebration\, they will be honoring several Soldiers that have made the ultimate sacrifice. One of which is Salem’s own.
URL:https://salemforallages.org/event/the-2nd-cavalry-188th-birthday-celebration-and-ayube-memorial-at-the-salem-common/
END:VEVENT
BEGIN:VEVENT
DTSTART;TZID=America/New_York:20240523T110000
DTEND;TZID=America/New_York:20240523T121500
DTSTAMP:20260424T115523
CREATED:20240513T090011Z
LAST-MODIFIED:20240513T090011Z
UID:18717-1716462000-1716466500@salemforallages.org
SUMMARY:New England Ghost Stories
DESCRIPTION:A presentation of videos\, film\, real local ghostly tales and the sharing of audience ghost spirit activity. The program will be held at the Conference presentation room\, SATV\, 285 Derby St Salem at 11am-12:15pm May 23.
URL:https://salemforallages.org/event/new-england-ghost-stories/
END:VEVENT
BEGIN:VEVENT
DTSTART;TZID=America/New_York:20240523T170000
DTEND;TZID=America/New_York:20240523T180000
DTSTAMP:20260424T115523
CREATED:20240514T090009Z
LAST-MODIFIED:20240514T090009Z
UID:18732-1716483600-1716487200@salemforallages.org
SUMMARY:Asian American Pacific Islander Desi American Heritage Month Flag Raising Ceremony
DESCRIPTION:Thursday\, May 23rd at 5:00 pm – Asian American Pacific Islander Desi American Heritage Month Flag Raising Ceremony at Riley Plaza\, 1 Margin Street.
URL:https://salemforallages.org/event/asian-american-pacific-islander-desi-american-heritage-month-flag-raising-ceremony/
ATTACH;FMTTYPE=image/jpeg:https://salemforallages.org/wp-content/uploads/2021/09/unnamed-4.jpg
END:VEVENT
BEGIN:VEVENT
DTSTART;TZID=America/New_York:20240523T180000
DTEND;TZID=America/New_York:20240523T200000
DTSTAMP:20260424T115523
CREATED:20240513T090011Z
LAST-MODIFIED:20240513T090011Z
UID:18718-1716487200-1716494400@salemforallages.org
SUMMARY:Thursday Night Regiment Run Club
DESCRIPTION:Calling all runners! Are you ready to lace up your shoes\, hit the pavement\, and join a fantastic community of like-minded individuals? Look no further than the Thursday Night Regiment\, East Regiment Beer Company’s very own run club\, designed to bring together runners of all levels for an incredible weekly experience. Every Thursday at 6pm.
URL:https://salemforallages.org/event/thursday-night-regiment-run-club-20/
ATTACH;FMTTYPE=image/jpeg:https://salemforallages.org/wp-content/uploads/2024/01/417411302_18330583423099216_2490907441340422180_n.jpg
END:VEVENT
BEGIN:VEVENT
DTSTART;TZID=America/New_York:20240523T183000
DTEND;TZID=America/New_York:20240523T220000
DTSTAMP:20260424T115523
CREATED:20240513T090012Z
LAST-MODIFIED:20240513T090012Z
UID:18719-1716489000-1716501600@salemforallages.org
SUMMARY:Open-Mic Night
DESCRIPTION:Sing\, dance\, or simply witness local musical talent\, or simply witness the chaos of Gulu-Gulu’s open mic. \n  \nThe best open mic in the World\, on the North Shore\, in Salem! Come join the fun every Thursday night! Anything and everything are welcome. Sing\, Dance\, Hum\, Orate\, or simply witness the beautiful chaos that is the Gulu Gulu Open Mic Shindig. Sign-up at 7:30pm.
URL:https://salemforallages.org/event/open-mic-night-43/
ATTACH;FMTTYPE=image/jpeg:https://salemforallages.org/wp-content/uploads/2023/08/image-asset.jpg
END:VEVENT
BEGIN:VEVENT
DTSTART;TZID=America/New_York:20240523T190000
DTEND;TZID=America/New_York:20240523T210000
DTSTAMP:20260424T115523
CREATED:20240513T090012Z
LAST-MODIFIED:20240513T090012Z
UID:18720-1716490800-1716498000@salemforallages.org
SUMMARY:Live Music at Salem VFW
DESCRIPTION:Join us for the best events in town! Whether you’re looking for live music\, sports viewing parties\, or local veteran events\, we’ve got you covered. Check out our upcoming events below and mark your calendars.
URL:https://salemforallages.org/event/live-music-at-salem-vfw-10/
ATTACH;FMTTYPE=image/png:https://salemforallages.org/wp-content/uploads/2024/03/VFW-live-music.png
END:VEVENT
BEGIN:VEVENT
DTSTART;TZID=America/New_York:20240524T070000
DTEND;TZID=America/New_York:20240524T160000
DTSTAMP:20260424T115523
CREATED:20240514T090010Z
LAST-MODIFIED:20240514T090010Z
UID:18733-1716534000-1716566400@salemforallages.org
SUMMARY:Salem Ferry Opening Day
DESCRIPTION:Salem Ferry Service\, Salem to Boston\, runs May 24 – October 31. Please visit the link below for information: Click the website link for the full schedule list.
URL:https://salemforallages.org/event/salem-ferry-opening-day/
ATTACH;FMTTYPE=image/jpeg:https://salemforallages.org/wp-content/uploads/2024/05/Salem-Ferry-Basic_2020.jpg
END:VEVENT
BEGIN:VEVENT
DTSTART;TZID=America/New_York:20240524T120000
DTEND;TZID=America/New_York:20240524T140000
DTSTAMP:20260424T115523
CREATED:20240513T090013Z
LAST-MODIFIED:20240513T090013Z
UID:18721-1716552000-1716559200@salemforallages.org
SUMMARY:El Punto: Restaurant + Mural Tour
DESCRIPTION:Explore the flavors and murals of historic El Punto neighborhood in Salem\, Massachusetts on a guided walking tour and tasting with North Shore CDC and Mural Ambassadors for the Punto Urban Art Museum. Learn about the culture and history of El Punto while supporting a diverse array of small businesses and celebrating local artwork that honors the community. \nTaste the local flavors of Spitfire Tacos\, Ray’s Adeas\, La Delicia\, Lil’ Devil’s and Root NS! \nFor more information\, contact Nina Lissarrague\, Small Business Coordinator\, at nina@northshorecdc.org.
URL:https://salemforallages.org/event/el-punto-restaurant-mural-tour/
ATTACH;FMTTYPE=image/jpeg:https://salemforallages.org/wp-content/uploads/2024/05/https___cdn.evbuc_.com_images_742351049_354798113537_1_original.jpg
END:VEVENT
BEGIN:VEVENT
DTSTART;TZID=America/New_York:20240524T180000
DTEND;TZID=America/New_York:20240524T193000
DTSTAMP:20260424T115523
CREATED:20240513T090017Z
LAST-MODIFIED:20240513T090017Z
UID:18723-1716573600-1716579000@salemforallages.org
SUMMARY:EUDEMONIA
DESCRIPTION:The Salem Art Gallery Presents Eudemonia\, a series of movement based meditations focused on the mechanics and maintenance of the physical body. Mats and light refreshments will be provided.
URL:https://salemforallages.org/event/eudemonia-10/
END:VEVENT
BEGIN:VEVENT
DTSTART;TZID=America/New_York:20240524T190000
DTEND;TZID=America/New_York:20240524T220000
DTSTAMP:20260424T115523
CREATED:20240513T090017Z
LAST-MODIFIED:20240513T090017Z
UID:18724-1716577200-1716588000@salemforallages.org
SUMMARY:Endless Nights Vampire Salon
DESCRIPTION:You are cordially invited to the Endless Night Vampire Salon: Hammond Castle! Join us for an evening of drinks\, dancing\, and Magick… in your finest Vampire attire! \nThe last time we partied at the Castle was in 2022. Since then\, we have received countless requests for us to return… Well… \nIt’s time to party like royalty again. \nDRESS CODE : ALL black attire\, formal\, Victorian\, Edwardian\, sleek\, sexy\, over-the-top outfits! As always for Salon Noirs\, NO color is allowed… and RED is ALWAYS reserved for the Hosts. No Red Items will be allowed\, and no colored accessories of any kind. Gold or silver jewelry is allowed\, but MODERATION IS KEY! For more information on traditional all-black Salon dress code\, click here. \nGates Open at 7pm for ALL Guests
URL:https://salemforallages.org/event/endless-nights-vampire-salon/
ATTACH;FMTTYPE=image/jpeg:https://salemforallages.org/wp-content/uploads/2024/05/https___cdn.evbuc_.com_images_513154689_291773417407_1_original.jpg
END:VEVENT
BEGIN:VEVENT
DTSTART;TZID=America/New_York:20240525T100000
DTEND;TZID=America/New_York:20240525T110000
DTSTAMP:20260424T115523
CREATED:20240513T090020Z
LAST-MODIFIED:20240513T090020Z
UID:18726-1716631200-1716634800@salemforallages.org
SUMMARY:Adopt a Shark
DESCRIPTION:Children will stuff their own shark plush\, create accessories\, and learn about crystal magic! \nThis workshop is limited to 8 children\, pre-registration is required. \nAll ages are welcome! Children age three (3) and up may be dropped off with a signed Consent Form. Any child under the age of three must have an adult alongside participating. We thank you for encouraging your child to take part in magical play!
URL:https://salemforallages.org/event/adopt-a-shark/
ATTACH;FMTTYPE=image/jpeg:https://salemforallages.org/wp-content/uploads/2024/05/Adopt-a-Shark.jpg
END:VEVENT
BEGIN:VEVENT
DTSTART;TZID=America/New_York:20240525T100000
DTEND;TZID=America/New_York:20240525T160000
DTSTAMP:20260424T115523
CREATED:20240514T090014Z
LAST-MODIFIED:20240514T090014Z
UID:18735-1716631200-1716652800@salemforallages.org
SUMMARY:20th Anniversary of the Yin Yu Tang
DESCRIPTION:Please join the PEM for their capstone event marking the 20th anniversary of the cultural exchange project that brought Yin Yu Tang: A Chinese Home to PEM. It is spectacular to tour\, and several exciting events are planned including the performance listed below. Salem residents get free admission at the PEM. \nTours of Yin Yu Tang: A Chinese Home\n10 am–4 pm\nSame-day tickets required; limited availability. Tickets available at the Information desk. \nExplore the history of Yin Yu Tang and the Huang family with an enhanced guided tour. Accessibility-friendly tours available beginning at 2:15 pm. (Earlier tours are not wheelchair accessible and require a step up to enter.) \nSpecial Café Menu: Chinese Regional Cuisine\n10 am–4 pm | Atrium Café \nEnjoy selections at our Atrium Café inspired by Huizhou cuisine from Yin Yu Tang’s home region. \nTales from Yin Yu Tang Ancestors\n11 am | Morse Auditorium\nSame-day tickets required; limited availability. Tickets available at the Information desk. \nNancy Berliner\, the Wu Tung Senior Curator of Chinese Art and Culture at the Museum of Fine Arts\, Boston\, discusses the cultural exchange project that first brought Yin Yu Tang to PEM in 2003. \nConcert and Conversation: Wu Man\n1:30 pm | Morse Auditorium\nAdvanced ticket purchase is recommended for this event. Same-day tickets may be available. \nWe are excited to welcome world-renowned pipa player Wu Man back to PEM. She previously performed at the museum as part of Yo-Yo Ma’s Silkroad Ensemble’s residency at the museum in 2004. \nTraditional Chinese Paper Cutting with Elena Li\n1 pm and 2 pm | Create Space Studios\nSame-day tickets required; capacity is limited. Tickets available at the Information desk. \nJoin us for a hands-on lesson led by local multimedia artist and paper cutting instructor Elena (Zhonghe) Li.
URL:https://salemforallages.org/event/20th-anniversary-of-the-yin-yu-tang/
ATTACH;FMTTYPE=image/jpeg:https://salemforallages.org/wp-content/uploads/2024/05/Ev_YYTWuMan_1600_Split_hero.jpg
END:VEVENT
BEGIN:VEVENT
DTSTART;TZID=America/New_York:20240525T100000
DTEND;TZID=America/New_York:20240622T170000
DTSTAMP:20260424T115523
CREATED:20240525T090011Z
LAST-MODIFIED:20240525T090011Z
UID:18803-1716631200-1719075600@salemforallages.org
SUMMARY:Erin Survilas Exhibit
DESCRIPTION:A solo exhibition featuring the work of Erin Survilas. This artist has been developing her unique point of view from a young age and has become a recognized talent across the North Shore. This exhibit offers a collection of paintings created during her recent four-month excursion to Ireland. 
URL:https://salemforallages.org/event/erin-survilas-exhibit/
ATTACH;FMTTYPE=image/png:https://salemforallages.org/wp-content/uploads/2024/05/unnamed.png
END:VEVENT
BEGIN:VEVENT
DTSTART;TZID=America/New_York:20240525T130000
DTEND;TZID=America/New_York:20240525T160000
DTSTAMP:20260424T115523
CREATED:20240513T090022Z
LAST-MODIFIED:20240513T090022Z
UID:18728-1716642000-1716652800@salemforallages.org
SUMMARY:Beer + Sweets Tasting with Nine Winters
DESCRIPTION:Come celebrate AAPI heritage month and enjoy a special tasting menu of beer and sweets. Each ticket comes with 3 tasting pours matched with 3 homemade baked goods from our friends at Nine Winters Korean-American bakery. Tickets are available here!
URL:https://salemforallages.org/event/beer-sweets-tasting-with-nine-winters/
ATTACH;FMTTYPE=image/png:https://salemforallages.org/wp-content/uploads/2024/05/Artboard1copy6.png
END:VEVENT
BEGIN:VEVENT
DTSTART;TZID=America/New_York:20240525T150000
DTEND;TZID=America/New_York:20240525T180000
DTSTAMP:20260424T115523
CREATED:20240516T090009Z
LAST-MODIFIED:20240516T090009Z
UID:18747-1716649200-1716660000@salemforallages.org
SUMMARY:Live Entertainment & Happy Hour
DESCRIPTION:Join the Village Tavern Saturdays for live entertainment and happy each Saturday of the week.
URL:https://salemforallages.org/event/live-entertainment-happy-hour-2/
ATTACH;FMTTYPE=image/jpeg:https://salemforallages.org/wp-content/uploads/2024/05/Daily-Specials-fotor-20240509235039.jpg
END:VEVENT
BEGIN:VEVENT
DTSTART;TZID=America/New_York:20240525T160000
DTEND;TZID=America/New_York:20240525T180000
DTSTAMP:20260424T115523
CREATED:20240514T090017Z
LAST-MODIFIED:20240514T090017Z
UID:18737-1716652800-1716660000@salemforallages.org
SUMMARY:The Making of a Witch – A Play in One Act
DESCRIPTION:Come learn the truth about Philip English… our founder\, who was accused of witch craft in 1692 and narrowly escaped with his life.
URL:https://salemforallages.org/event/the-making-of-a-witch-a-play-in-one-act/
ATTACH;FMTTYPE=image/jpeg:https://salemforallages.org/wp-content/uploads/2024/05/15211607_1587x2245_500.jpg
END:VEVENT
BEGIN:VEVENT
DTSTART;TZID=America/New_York:20240525T170000
DTEND;TZID=America/New_York:20240525T210000
DTSTAMP:20260424T115523
CREATED:20240513T090026Z
LAST-MODIFIED:20240513T090026Z
UID:18730-1716656400-1716670800@salemforallages.org
SUMMARY:Midnight Moon Market
DESCRIPTION:Join us for a spooky Spring evening shopping event featuring the area’s best darkly creative vendors! The event takes place at Old Town Hall in Salem\, MA (a filming location of the cult classic Hocus Pocus!).
URL:https://salemforallages.org/event/midnight-moon-market-2/
ATTACH;FMTTYPE=image/jpeg:https://salemforallages.org/wp-content/uploads/2024/05/425937086_322386570802576_1919996267924185129_n.jpg
END:VEVENT
END:VCALENDAR