BEGIN:VCALENDAR
VERSION:2.0
PRODID:-//Salem for All Ages - ECPv6.15.18//NONSGML v1.0//EN
CALSCALE:GREGORIAN
METHOD:PUBLISH
X-WR-CALNAME:Salem for All Ages
X-ORIGINAL-URL:https://salemforallages.org
X-WR-CALDESC:Events for Salem for All Ages
REFRESH-INTERVAL;VALUE=DURATION:PT1H
X-Robots-Tag:noindex
X-PUBLISHED-TTL:PT1H
BEGIN:VTIMEZONE
TZID:America/New_York
BEGIN:DAYLIGHT
TZOFFSETFROM:-0500
TZOFFSETTO:-0400
TZNAME:EDT
DTSTART:20230312T070000
END:DAYLIGHT
BEGIN:STANDARD
TZOFFSETFROM:-0400
TZOFFSETTO:-0500
TZNAME:EST
DTSTART:20231105T060000
END:STANDARD
BEGIN:DAYLIGHT
TZOFFSETFROM:-0500
TZOFFSETTO:-0400
TZNAME:EDT
DTSTART:20240310T070000
END:DAYLIGHT
BEGIN:STANDARD
TZOFFSETFROM:-0400
TZOFFSETTO:-0500
TZNAME:EST
DTSTART:20241103T060000
END:STANDARD
BEGIN:DAYLIGHT
TZOFFSETFROM:-0500
TZOFFSETTO:-0400
TZNAME:EDT
DTSTART:20250309T070000
END:DAYLIGHT
BEGIN:STANDARD
TZOFFSETFROM:-0400
TZOFFSETTO:-0500
TZNAME:EST
DTSTART:20251102T060000
END:STANDARD
END:VTIMEZONE
BEGIN:VEVENT
DTSTART;TZID=America/New_York:20241231T210000
DTEND;TZID=America/New_York:20241231T230000
DTSTAMP:20260424T223233
CREATED:20241228T100022Z
LAST-MODIFIED:20241228T100022Z
UID:22006-1735678800-1735686000@salemforallages.org
SUMMARY:New Year’s Eve Best of Boston Comedy
DESCRIPTION:Join us at Off Cabot for comedy’s biggest night of the year! Ring in the New Year with some of Boston’s best comedians including Corey Rodrigues\, Emily Ruskowski\, Andrew Della Volpe\, Tim Champa\, and Monica Carrol!
URL:https://salemforallages.org/event/new-years-eve-best-of-boston-comedy-2/
ATTACH;FMTTYPE=image/jpeg:https://salemforallages.org/wp-content/uploads/2024/12/oc-nye.jpg
END:VEVENT
BEGIN:VEVENT
DTSTART;TZID=America/New_York:20241231T193000
DTEND;TZID=America/New_York:20241231T230000
DTSTAMP:20260424T223233
CREATED:20241228T100018Z
LAST-MODIFIED:20241228T100018Z
UID:22003-1735673400-1735686000@salemforallages.org
SUMMARY:Barrence Whitfield’s Rockin’ New Year’s Eve
DESCRIPTION:Expect an evening full of laughs and a full on rock n roll extravaganza with an All-Star band featuring some of the North Shore’s finest. \n\nA New Year’s Eve celebration not to miss! \nBarrence Whitfield has always embodied the heart and soul of Rock ‘n Roll. And wherever this full-throttle soul screamer goes\, one can expect a rotating cast of the areas best and a wild night. A full band with featured guests JON BUTCHER\, SAL BAGLIO (Stompers)\, and HENLEY DOUGLAS (Heavy Metal Horns) will have The Cabot movin’ and groovin’ to Soul drenched\, Rhythm & Blues styled\, Funky ROCK ‘N ROLL. Dave Mattacks and Wolf Ginandes will round out our musical line-up.
URL:https://salemforallages.org/event/barrence-whitfields-rockin-new-years-eve-2/
ATTACH;FMTTYPE=image/jpeg:https://salemforallages.org/wp-content/uploads/2024/12/barrence.png.jpg
END:VEVENT
BEGIN:VEVENT
DTSTART;TZID=America/New_York:20241231T183000
DTEND;TZID=America/New_York:20241231T203000
DTSTAMP:20260424T223233
CREATED:20241228T100014Z
LAST-MODIFIED:20241228T100014Z
UID:22001-1735669800-1735677000@salemforallages.org
SUMMARY:New Year’s Eve Best of Boston Comedy
DESCRIPTION:Join us at Off Cabot for comedy’s biggest night of the year! Ring in the New Year with some of Boston’s best comedians including Corey Rodrigues\, Emily Ruskowski\, Andrew Della Volpe\, Tim Champa\, and Monica Carrol!
URL:https://salemforallages.org/event/new-years-eve-best-of-boston-comedy/
ATTACH;FMTTYPE=image/jpeg:https://salemforallages.org/wp-content/uploads/2024/12/oc-nye.jpg
END:VEVENT
BEGIN:VEVENT
DTSTART;TZID=America/New_York:20241231T163000
DTEND;TZID=America/New_York:20241231T180000
DTSTAMP:20260424T223233
CREATED:20241228T100013Z
LAST-MODIFIED:20241228T100013Z
UID:21999-1735662600-1735668000@salemforallages.org
SUMMARY:New Year’s Eve Salem: LAUNCH!
DESCRIPTION:Come ring in the New Year in downtown Salem!  Salem Main Streets returns to Artists’ Row to throw a community New Year’s Eve party\, with live music and family-friendly activities.  There will be an early countdown promptly at 6 pm.
URL:https://salemforallages.org/event/new-years-eve-salem-launch-4/
ATTACH;FMTTYPE=image/jpeg:https://salemforallages.org/wp-content/uploads/2024/12/63811b70f6a31fa3d689338f7f02ef1e40577774b41a0e3e7626895cbfde9ff9-rimg-w1200-h675-dc183347-gmir.jpg
END:VEVENT
BEGIN:VEVENT
DTSTART;TZID=America/New_York:20241231T113000
DTEND;TZID=America/New_York:20241231T153000
DTSTAMP:20260424T223233
CREATED:20241228T100008Z
LAST-MODIFIED:20241228T100008Z
UID:21996-1735644600-1735659000@salemforallages.org
SUMMARY:Magical Transformations
DESCRIPTION:Through our “Magical Transformations” children embrace their charms and express their individuality. Children can choose to transform into a “Witch” or “Wizard”!
URL:https://salemforallages.org/event/magical-transformations-209/
ATTACH;FMTTYPE=image/png:https://salemforallages.org/wp-content/uploads/2024/08/Transformations-1.png
END:VEVENT
BEGIN:VEVENT
DTSTART;TZID=America/New_York:20241231T113000
DTEND;TZID=America/New_York:20241231T150000
DTSTAMP:20260424T223233
CREATED:20241228T100009Z
LAST-MODIFIED:20241228T100009Z
UID:21997-1735644600-1735657200@salemforallages.org
SUMMARY:Potion Brewing Store Experience
DESCRIPTION:Make your visit to The Good Witch of Salem’s shop memorable by booking our in-store Potion Brewing Experience. This activity is led by our Witch Apprentices. \nActivities are recommended for children ages 3 and up. \n*One appointment slot for each child is required.*
URL:https://salemforallages.org/event/potion-brewing-store-experience-201/
ATTACH;FMTTYPE=image/jpeg:https://salemforallages.org/wp-content/uploads/2024/12/Potion-Brewing-Store-Experience-25.jpg
END:VEVENT
BEGIN:VEVENT
DTSTART;TZID=America/New_York:20241231T110000
DTEND;TZID=America/New_York:20241231T233000
DTSTAMP:20260424T223233
CREATED:20241227T100015Z
LAST-MODIFIED:20241227T100015Z
UID:21993-1735642800-1735687800@salemforallages.org
SUMMARY:Frozen Fire Festival
DESCRIPTION:Frozen Fire Festival continues to be a centerpiece for dynamic winter entertainment\, artisan shopping\, hospitality and craft libations. Immerse yourself in mesmerizing fire and ice installations while taking in captivating fire and cirque performances. This vibrant destination offers an unforgettable experience for the senses.
URL:https://salemforallages.org/event/frozen-fire-festival-21/
ATTACH;FMTTYPE=image/jpeg:https://salemforallages.org/wp-content/uploads/2024/12/Orissa4-scaled-6.jpg
END:VEVENT
BEGIN:VEVENT
DTSTART;TZID=America/New_York:20241231T110000
DTEND;TZID=America/New_York:20241231T150000
DTSTAMP:20260424T223233
CREATED:20241227T100019Z
LAST-MODIFIED:20241227T100019Z
UID:21995-1735642800-1735657200@salemforallages.org
SUMMARY:Stop In For a Spell: DIY Potion Bar
DESCRIPTION:Workshop Time and Details: Book your appointment online to visit our potion bar! Advanced reservations required by booking online. Please note that our space is cozy and sweet! We allow one adult per a reservation to attend the potion bar experience. You may be asked to wait in our Potion Bar line that will begin outside our store.  We look forward to making magic with you!
URL:https://salemforallages.org/event/stop-in-for-a-spell-diy-potion-bar-185/
ATTACH;FMTTYPE=image/jpeg:https://salemforallages.org/wp-content/uploads/2024/10/PotionBar-DWuFGy.tmp_.jpg
END:VEVENT
BEGIN:VEVENT
DTSTART;TZID=America/New_York:20241231T110000
DTEND;TZID=America/New_York:20241231T150000
DTSTAMP:20260424T223233
CREATED:20241227T100015Z
LAST-MODIFIED:20241227T100015Z
UID:21992-1735642800-1735657200@salemforallages.org
SUMMARY:Stop In For a Spell: DIY Holiday Hat Decorating
DESCRIPTION:Fly in to The Good Witch and Stay for a Spell! Decorate a witch hat with stickers\, gems\, tulle\, ribbon and flowers.\n\n\n\nDrop Ins begin at store opening and end 30 minutes before closing and are offered on a first come\, first serve basis. \nPurchase online or pay in store.
URL:https://salemforallages.org/event/stop-in-for-a-spell-diy-holiday-hat-decorating-28/
ATTACH;FMTTYPE=image/jpeg:https://salemforallages.org/wp-content/uploads/2024/11/Holiday_Broom_Decorating_1.jpg
END:VEVENT
BEGIN:VEVENT
DTSTART;TZID=America/New_York:20241231T100000
DTEND;TZID=America/New_York:20241231T160000
DTSTAMP:20260424T223233
CREATED:20241227T100015Z
LAST-MODIFIED:20241227T100015Z
UID:21991-1735639200-1735660800@salemforallages.org
SUMMARY:Deck the Halls Holiday Celebration
DESCRIPTION:Step into a world of holiday splendor at Hammond Castle Museum’s sixth annual Deck The Halls holiday celebration! Join us for an enchanting visit\, where White Birch and Christmas trees\, lush garlands\, festive wreaths\, and candlelight fill the halls with warmth and seasonal magic. Immerse yourself in a bygone era of opulent tranquility and holiday grandeur that promises to be unlike any other experience on the North Shore.
URL:https://salemforallages.org/event/deck-the-halls-holiday-celebration-20/
ATTACH;FMTTYPE=image/jpeg:https://salemforallages.org/wp-content/uploads/2024/12/File-2221_medium.jpg
END:VEVENT
BEGIN:VEVENT
DTSTART;TZID=America/New_York:20241231T100000
DTEND;TZID=America/New_York:20241231T150000
DTSTAMP:20260424T223233
CREATED:20241227T100011Z
LAST-MODIFIED:20241227T100011Z
UID:21988-1735639200-1735657200@salemforallages.org
SUMMARY:Stop In For a Spell: DIY Holiday Broom Decorating
DESCRIPTION:Fly in to The Good Witch and Stay for a Spell! Decorate a magical broom with craft tape\, stickers\, ribbon\, tulle and a charm. \nUnder age 4 may participate with the help of a supervising adult. \nDue to space constraints\, please refrain from bringing in strollers and wagons. Ticket purchase only admits one (1) participating child. \nPlease note: Event ticket purchases are non-refundable at this time.
URL:https://salemforallages.org/event/stop-in-for-a-spell-diy-holiday-broom-decorating-21/
END:VEVENT
BEGIN:VEVENT
DTSTART;TZID=America/New_York:20241231T100000
DTEND;TZID=America/New_York:20241231T110000
DTSTAMP:20260424T223233
CREATED:20241227T100011Z
LAST-MODIFIED:20241227T100011Z
UID:21989-1735639200-1735642800@salemforallages.org
SUMMARY:New Years Spa Day
DESCRIPTION:Children set intentions\, mix a potion and get ready for the New Year with sparkly nails and hair! \nThis workshop is limited to 8 children\, pre-registration is required.
URL:https://salemforallages.org/event/new-years-spa-day/
ATTACH;FMTTYPE=image/jpeg:https://salemforallages.org/wp-content/uploads/2024/12/NewYear_sSpaDay.jpg
END:VEVENT
BEGIN:VEVENT
DTSTART;TZID=America/New_York:20241230T113000
DTEND;TZID=America/New_York:20241230T160000
DTSTAMP:20260424T223233
CREATED:20241227T100008Z
LAST-MODIFIED:20241227T100008Z
UID:21986-1735558200-1735574400@salemforallages.org
SUMMARY:Potion Brewing Store Experience
DESCRIPTION:Make your visit to The Good Witch of Salem’s shop memorable by booking our in-store Potion Brewing Experience. This activity is led by our Witch Apprentices. \nActivities are recommended for children ages 3 and up. \n*One appointment slot for each child is required.*
URL:https://salemforallages.org/event/potion-brewing-store-experience-200/
ATTACH;FMTTYPE=image/jpeg:https://salemforallages.org/wp-content/uploads/2024/12/Potion-Brewing-Store-Experience-24.jpg
END:VEVENT
BEGIN:VEVENT
DTSTART;TZID=America/New_York:20241230T113000
DTEND;TZID=America/New_York:20241230T160000
DTSTAMP:20260424T223233
CREATED:20241227T100007Z
LAST-MODIFIED:20241227T100007Z
UID:21985-1735558200-1735574400@salemforallages.org
SUMMARY:Magical Transformations
DESCRIPTION:Through our “Magical Transformations” children embrace their charms and express their individuality. Children can choose to transform into a “Witch” or “Wizard”!
URL:https://salemforallages.org/event/magical-transformations-208/
ATTACH;FMTTYPE=image/png:https://salemforallages.org/wp-content/uploads/2024/08/Transformations.png
END:VEVENT
BEGIN:VEVENT
DTSTART;TZID=America/New_York:20241230T110000
DTEND;TZID=America/New_York:20241230T233000
DTSTAMP:20260424T223233
CREATED:20241226T100007Z
LAST-MODIFIED:20241226T100007Z
UID:21982-1735556400-1735601400@salemforallages.org
SUMMARY:Frozen Fire Festival
DESCRIPTION:Frozen Fire Festival continues to be a centerpiece for dynamic winter entertainment\, artisan shopping\, hospitality and craft libations. Immerse yourself in mesmerizing fire and ice installations while taking in captivating fire and cirque performances. This vibrant destination offers an unforgettable experience for the senses.
URL:https://salemforallages.org/event/frozen-fire-festival-20/
ATTACH;FMTTYPE=image/jpeg:https://salemforallages.org/wp-content/uploads/2024/12/Orissa4-scaled-5.jpg
END:VEVENT
BEGIN:VEVENT
DTSTART;TZID=America/New_York:20241230T110000
DTEND;TZID=America/New_York:20241230T150000
DTSTAMP:20260424T223233
CREATED:20241226T100011Z
LAST-MODIFIED:20241226T100011Z
UID:21984-1735556400-1735570800@salemforallages.org
SUMMARY:Stop In For a Spell: DIY Potion Bar
DESCRIPTION:Workshop Time and Details: Book your appointment online to visit our potion bar! Advanced reservations required by booking online. Please note that our space is cozy and sweet! We allow one adult per a reservation to attend the potion bar experience. You may be asked to wait in our Potion Bar line that will begin outside our store.  We look forward to making magic with you!
URL:https://salemforallages.org/event/stop-in-for-a-spell-diy-potion-bar-184/
ATTACH;FMTTYPE=image/jpeg:https://salemforallages.org/wp-content/uploads/2024/10/PotionBar-DWuFGy.tmp_.jpg
END:VEVENT
BEGIN:VEVENT
DTSTART;TZID=America/New_York:20241230T110000
DTEND;TZID=America/New_York:20241230T150000
DTSTAMP:20260424T223233
CREATED:20241226T100006Z
LAST-MODIFIED:20241226T100006Z
UID:21981-1735556400-1735570800@salemforallages.org
SUMMARY:Stop In For a Spell: DIY Holiday Hat Decorating
DESCRIPTION:Fly in to The Good Witch and Stay for a Spell! Decorate a witch hat with stickers\, gems\, tulle\, ribbon and flowers.\n\n\n\nDrop Ins begin at store opening and end 30 minutes before closing and are offered on a first come\, first serve basis. \nPurchase online or pay in store.
URL:https://salemforallages.org/event/stop-in-for-a-spell-diy-holiday-hat-decorating-27/
ATTACH;FMTTYPE=image/jpeg:https://salemforallages.org/wp-content/uploads/2024/11/Holiday_Broom_Decorating_1.jpg
END:VEVENT
BEGIN:VEVENT
DTSTART;TZID=America/New_York:20241230T100000
DTEND;TZID=America/New_York:20241230T170000
DTSTAMP:20260424T223233
CREATED:20241224T100026Z
LAST-MODIFIED:20241224T100026Z
UID:21977-1735552800-1735578000@salemforallages.org
SUMMARY:Narwhal: Revealing an Arctic Legend at The PEM
DESCRIPTION:SALEM\, MA –  This fall\, the Peabody Essex Museum (PEM) invites visitors to dive deep into the world of narwhals. These unique ocean dwellers\, sometimes called the “unicorns of the sea\,” spend their lives in the Arctic waters of Canada\, Greenland\, Norway and Russia. Learn about their changing Arctic ecosystem through firsthand accounts of scientists and Inuit community members. Hear soundscapes of the Arctic\, including the evocative vocalizations of the narwhal\, and touch an 8-foot-long cast of a real narwhal tusk. \nOn view in The Dotty Brown Art & Nature Center\, this family-friendly\, interactive exhibition is part of PEM’s interdisciplinary Climate + Environment Initiative. Narwhal: Revealing an Arctic Legend includes contemporary Inuit sculptures and prints and a historic book from PEM’s Phillips Library collection. The exhibition is organized by the Smithsonian Institution Traveling Exhibition Service in collaboration with the Smithsonian’s National Museum of Natural History and is on view at PEM September 28\, 2024 through June 15\, 2025.
URL:https://salemforallages.org/event/narwhal-revealing-an-arctic-legend-at-the-pem-66/
ATTACH;FMTTYPE=image/png:https://salemforallages.org/wp-content/uploads/2024/09/Screen-Shot-2024-08-29-at-11.30.40-AM.png
END:VEVENT
BEGIN:VEVENT
DTSTART;TZID=America/New_York:20241230T100000
DTEND;TZID=America/New_York:20241230T160000
DTSTAMP:20260424T223233
CREATED:20241225T100008Z
LAST-MODIFIED:20241225T100008Z
UID:21980-1735552800-1735574400@salemforallages.org
SUMMARY:Deck the Halls Holiday Celebration
DESCRIPTION:Step into a world of holiday splendor at Hammond Castle Museum’s sixth annual Deck The Halls holiday celebration! Join us for an enchanting visit\, where White Birch and Christmas trees\, lush garlands\, festive wreaths\, and candlelight fill the halls with warmth and seasonal magic. Immerse yourself in a bygone era of opulent tranquility and holiday grandeur that promises to be unlike any other experience on the North Shore.
URL:https://salemforallages.org/event/deck-the-halls-holiday-celebration-19/
ATTACH;FMTTYPE=image/jpeg:https://salemforallages.org/wp-content/uploads/2024/12/File-2221_medium.jpg
END:VEVENT
BEGIN:VEVENT
DTSTART;TZID=America/New_York:20241230T100000
DTEND;TZID=America/New_York:20241230T150000
DTSTAMP:20260424T223233
CREATED:20241225T100008Z
LAST-MODIFIED:20241225T100008Z
UID:21978-1735552800-1735570800@salemforallages.org
SUMMARY:Stop In For a Spell: DIY Holiday Broom Decorating
DESCRIPTION:Fly in to The Good Witch and Stay for a Spell! Decorate a magical broom with craft tape\, stickers\, ribbon\, tulle and a charm. \nUnder age 4 may participate with the help of a supervising adult. \nDue to space constraints\, please refrain from bringing in strollers and wagons. Ticket purchase only admits one (1) participating child. \nPlease note: Event ticket purchases are non-refundable at this time.
URL:https://salemforallages.org/event/stop-in-for-a-spell-diy-holiday-broom-decorating-20/
END:VEVENT
BEGIN:VEVENT
DTSTART;TZID=America/New_York:20241230T100000
DTEND;TZID=America/New_York:20241230T110000
DTSTAMP:20260424T223233
CREATED:20241225T100008Z
LAST-MODIFIED:20241225T100008Z
UID:21979-1735552800-1735556400@salemforallages.org
SUMMARY:Winter Witch Spa Day
DESCRIPTION:Let’s have a Spa Day! Join us for a little pampering and relaxation with our Witch Apprentices. Children will create their own “winter witch” magic with snowflake wishes\, potion making\, and shimmery nails and hair.
URL:https://salemforallages.org/event/winter-witch-spa-day-5/
ATTACH;FMTTYPE=image/jpeg:https://salemforallages.org/wp-content/uploads/2024/12/Winter_Witch_Spa_Day_dcfc478e-b42c-43fb-a31f-51830e58cfe9.jpg
END:VEVENT
BEGIN:VEVENT
DTSTART;TZID=America/New_York:20241229T190000
DTEND;TZID=America/New_York:20241229T210000
DTSTAMP:20260424T223233
CREATED:20241224T100019Z
LAST-MODIFIED:20241224T100019Z
UID:21975-1735498800-1735506000@salemforallages.org
SUMMARY:Zach Nugent’s Grateful Ball
DESCRIPTION:Dead Set is more than just a cover band; they are an extraordinary ensemble that brings the Grateful Deads timeless music to life with remarkable precision and passion. \nLed by the incomparable Zach Nugent\, Dead Sets uncanny ability to channel the spirit of Jerry Garcia is nothing short of astounding. Nugents virtuosic guitar work captures Garcias essence\, enchanting audiences with spellbinding solos and breathtaking improvisations. The bands tight-knit chemistry and unwavering dedication ensure that every note resonates with the same magic that made the Grateful Dead legendary. \nExperience a musical journey like no other as Dead Set transports you through the ethereal realms of the Deads extensive catalog. From the cosmic explorations of Dark Star to the uplifting anthems of Sugar Magnolia\, every song is delivered with unwavering authenticity and a contagious enthusiasm that will leave you dancing and singing along all night long. Dont miss your chance to be part of this extraordinary celebration of Jerry Garcias enduring legacy. Get your tickets now and immerse yourself in a one-of-a-kind experience that will ignite your soul and create memories to last a lifetime.
URL:https://salemforallages.org/event/zach-nugents-grateful-ball/
ATTACH;FMTTYPE=image/jpeg:https://salemforallages.org/wp-content/uploads/2024/12/12-scaled-1.jpeg
END:VEVENT
BEGIN:VEVENT
DTSTART;TZID=America/New_York:20241229T120000
DTEND;TZID=America/New_York:20241229T130000
DTSTAMP:20260424T223233
CREATED:20241224T100016Z
LAST-MODIFIED:20241224T100016Z
UID:21973-1735473600-1735477200@salemforallages.org
SUMMARY:Arctic Slime
DESCRIPTION:Workshop Time: 12:00PM – 1:00PM\nLocation: The Good Witch of Salem @ 2 North Street\, Salem MA 01970\nHosted By: Apprentice Witches \nChildren will create their own arctic themed slime creation. Students will get to take home their slime. Our magical employees will guide children in creating their own slime creations.
URL:https://salemforallages.org/event/arctic-slime/
ATTACH;FMTTYPE=image/png:https://salemforallages.org/wp-content/uploads/2024/12/Arctic-Slime-FB.png
END:VEVENT
BEGIN:VEVENT
DTSTART;TZID=America/New_York:20241229T113000
DTEND;TZID=America/New_York:20241229T153000
DTSTAMP:20260424T223233
CREATED:20241224T100008Z
LAST-MODIFIED:20241224T100008Z
UID:21967-1735471800-1735486200@salemforallages.org
SUMMARY:Magical Transformations
DESCRIPTION:Through our “Magical Transformations” children embrace their charms and express their individuality. Children can choose to transform into a “Witch” or “Wizard”!
URL:https://salemforallages.org/event/magical-transformations-207/
ATTACH;FMTTYPE=image/png:https://salemforallages.org/wp-content/uploads/2024/08/Transformations-1.png
END:VEVENT
BEGIN:VEVENT
DTSTART;TZID=America/New_York:20241229T113000
DTEND;TZID=America/New_York:20241229T150000
DTSTAMP:20260424T223233
CREATED:20241224T100012Z
LAST-MODIFIED:20241224T100012Z
UID:21970-1735471800-1735484400@salemforallages.org
SUMMARY:Potion Brewing Store Experience
DESCRIPTION:Make your visit to The Good Witch of Salem’s shop memorable by booking our in-store Potion Brewing Experience. This activity is led by our Witch Apprentices. \nActivities are recommended for children ages 3 and up. \n*One appointment slot for each child is required.*
URL:https://salemforallages.org/event/potion-brewing-store-experience-199/
ATTACH;FMTTYPE=image/jpeg:https://salemforallages.org/wp-content/uploads/2024/12/Potion-Brewing-Store-Experience-23.jpg
END:VEVENT
BEGIN:VEVENT
DTSTART;TZID=America/New_York:20241229T113000
DTEND;TZID=America/New_York:20241229T150000
DTSTAMP:20260424T223233
CREATED:20241224T100008Z
LAST-MODIFIED:20241224T100008Z
UID:21968-1735471800-1735484400@salemforallages.org
SUMMARY:Stop In For a Spell: DIY Potion Bar
DESCRIPTION:Fly in to The Good Witch and Stay for a Spell! Mix up your very own potion at our Potion Bar! \nDrop Ins begin at store opening and end 30 minutes before closing and are offered on a first come\, first serve basis. Purchase online or pay in store. \nDrop Ins may be unavailable during a birthday party or store event. Please call ahead\, or check our posted hours on Google. \nUnder age 4 may participate with the help of a supervising adult.
URL:https://salemforallages.org/event/stop-in-for-a-spell-diy-potion-bar-183/
ATTACH;FMTTYPE=image/jpeg:https://salemforallages.org/wp-content/uploads/2024/12/Stop-In-For-a-Spell-SQUARE-8.jpg
END:VEVENT
BEGIN:VEVENT
DTSTART;TZID=America/New_York:20241229T113000
DTEND;TZID=America/New_York:20241229T130000
DTSTAMP:20260424T223233
CREATED:20241224T100016Z
LAST-MODIFIED:20241224T100016Z
UID:21972-1735471800-1735477200@salemforallages.org
SUMMARY:Ghosts of Christmas Past: a Haunted Holiday Stroll
DESCRIPTION:Uncover Salem’s fascinating and ghostly holiday history\, from strict Puritan bans on Christmas making it illegal even to celebrate\, to Victorian Holiday ghost stories originally told around the fireside. With warm Yuletide cheer\, we examine ancient customs of Yule and other Pagan winter solstice traditions of Krampus\, Frau Perchten “the Christmas Witch”\, and Mary Lwyd!\n\nSpend your holiday season with us for a storytelling experience you’ll never forget. Visit spots including Old Town Hall\, the Witch House\, Ropes Mansion\, Hamilton Hall\, and more—each being a portal to spirits and stories from Salem’s past\, lingering even in the holiday season.\n\nEach guest on our tour will receive complimentary hot cider and hand warmers!
URL:https://salemforallages.org/event/ghosts-of-christmas-past-a-haunted-holiday-stroll-12/
ATTACH;FMTTYPE=image/jpeg:https://salemforallages.org/wp-content/uploads/2024/12/IMG_9906.jpg
END:VEVENT
BEGIN:VEVENT
DTSTART;TZID=America/New_York:20241229T110000
DTEND;TZID=America/New_York:20241229T233000
DTSTAMP:20260424T223233
CREATED:20241223T100027Z
LAST-MODIFIED:20241223T100027Z
UID:21965-1735470000-1735515000@salemforallages.org
SUMMARY:Frozen Fire Festival
DESCRIPTION:Frozen Fire Festival continues to be a centerpiece for dynamic winter entertainment\, artisan shopping\, hospitality and craft libations. Immerse yourself in mesmerizing fire and ice installations while taking in captivating fire and cirque performances. This vibrant destination offers an unforgettable experience for the senses.
URL:https://salemforallages.org/event/frozen-fire-festival-19/
ATTACH;FMTTYPE=image/jpeg:https://salemforallages.org/wp-content/uploads/2024/12/Orissa4-scaled-4.jpg
END:VEVENT
BEGIN:VEVENT
DTSTART;TZID=America/New_York:20241229T110000
DTEND;TZID=America/New_York:20241229T150000
DTSTAMP:20260424T223233
CREATED:20241223T100027Z
LAST-MODIFIED:20241223T100027Z
UID:21964-1735470000-1735484400@salemforallages.org
SUMMARY:Stop In For a Spell: DIY Holiday Hat Decorating
DESCRIPTION:Fly in to The Good Witch and Stay for a Spell! Decorate a witch hat with stickers\, gems\, tulle\, ribbon and flowers.\n\n\n\nDrop Ins begin at store opening and end 30 minutes before closing and are offered on a first come\, first serve basis. \nPurchase online or pay in store.
URL:https://salemforallages.org/event/stop-in-for-a-spell-diy-holiday-hat-decorating-26/
ATTACH;FMTTYPE=image/jpeg:https://salemforallages.org/wp-content/uploads/2024/11/Holiday_Broom_Decorating_1.jpg
END:VEVENT
BEGIN:VEVENT
DTSTART;TZID=America/New_York:20241229T100000
DTEND;TZID=America/New_York:20241229T170000
DTSTAMP:20260424T223233
CREATED:20241223T100020Z
LAST-MODIFIED:20241223T100020Z
UID:21960-1735466400-1735491600@salemforallages.org
SUMMARY:Narwhal: Revealing an Arctic Legend at The PEM
DESCRIPTION:SALEM\, MA –  This fall\, the Peabody Essex Museum (PEM) invites visitors to dive deep into the world of narwhals. These unique ocean dwellers\, sometimes called the “unicorns of the sea\,” spend their lives in the Arctic waters of Canada\, Greenland\, Norway and Russia. Learn about their changing Arctic ecosystem through firsthand accounts of scientists and Inuit community members. Hear soundscapes of the Arctic\, including the evocative vocalizations of the narwhal\, and touch an 8-foot-long cast of a real narwhal tusk. \nOn view in The Dotty Brown Art & Nature Center\, this family-friendly\, interactive exhibition is part of PEM’s interdisciplinary Climate + Environment Initiative. Narwhal: Revealing an Arctic Legend includes contemporary Inuit sculptures and prints and a historic book from PEM’s Phillips Library collection. The exhibition is organized by the Smithsonian Institution Traveling Exhibition Service in collaboration with the Smithsonian’s National Museum of Natural History and is on view at PEM September 28\, 2024 through June 15\, 2025.
URL:https://salemforallages.org/event/narwhal-revealing-an-arctic-legend-at-the-pem-65/
ATTACH;FMTTYPE=image/png:https://salemforallages.org/wp-content/uploads/2024/09/Screen-Shot-2024-08-29-at-11.30.40-AM.png
END:VEVENT
END:VCALENDAR