BEGIN:VCALENDAR
VERSION:2.0
PRODID:-//Salem for All Ages - ECPv6.15.18//NONSGML v1.0//EN
CALSCALE:GREGORIAN
METHOD:PUBLISH
X-WR-CALNAME:Salem for All Ages
X-ORIGINAL-URL:https://salemforallages.org
X-WR-CALDESC:Events for Salem for All Ages
REFRESH-INTERVAL;VALUE=DURATION:PT1H
X-Robots-Tag:noindex
X-PUBLISHED-TTL:PT1H
BEGIN:VTIMEZONE
TZID:America/New_York
BEGIN:DAYLIGHT
TZOFFSETFROM:-0500
TZOFFSETTO:-0400
TZNAME:EDT
DTSTART:20220313T070000
END:DAYLIGHT
BEGIN:STANDARD
TZOFFSETFROM:-0400
TZOFFSETTO:-0500
TZNAME:EST
DTSTART:20221106T060000
END:STANDARD
BEGIN:DAYLIGHT
TZOFFSETFROM:-0500
TZOFFSETTO:-0400
TZNAME:EDT
DTSTART:20230312T070000
END:DAYLIGHT
BEGIN:STANDARD
TZOFFSETFROM:-0400
TZOFFSETTO:-0500
TZNAME:EST
DTSTART:20231105T060000
END:STANDARD
BEGIN:DAYLIGHT
TZOFFSETFROM:-0500
TZOFFSETTO:-0400
TZNAME:EDT
DTSTART:20240310T070000
END:DAYLIGHT
BEGIN:STANDARD
TZOFFSETFROM:-0400
TZOFFSETTO:-0500
TZNAME:EST
DTSTART:20241103T060000
END:STANDARD
END:VTIMEZONE
BEGIN:VEVENT
DTSTART;TZID=America/New_York:20231004T203000
DTEND;TZID=America/New_York:20231004T220000
DTSTAMP:20260424T111329
CREATED:20230928T090009Z
LAST-MODIFIED:20230928T090009Z
UID:16639-1696451400-1696456800@salemforallages.org
SUMMARY:After Hours Ghost Hunt
DESCRIPTION:Join Kimberly Bizjak of Paranormal Salem for Ghost Hunting! Use EMF detectors\, infrared thermometers\, audio recorders\, and more to collect evidence inside The Lost Museum! Combo tickets with Gallows Hill Main Show.
URL:https://salemforallages.org/event/after-hours-ghost-hunt-4/
ATTACH;FMTTYPE=image/jpeg:https://salemforallages.org/wp-content/uploads/2023/09/After-Hours-Ghost-Hunt-Basic.jpg
END:VEVENT
BEGIN:VEVENT
DTSTART;TZID=America/New_York:20231004T190000
DTEND;TZID=America/New_York:20231004T200000
DTSTAMP:20260424T111329
CREATED:20230928T090009Z
LAST-MODIFIED:20230928T090009Z
UID:16638-1696446000-1696449600@salemforallages.org
SUMMARY:Haunted Fables at The Gables
DESCRIPTION:Join Salem’s master storyteller\, Nathaniel Hawthorne\, for a frightful evening of thrills and chills in the gloomy shadow of the Gables! The famous author performs his most frightening tales\, as well as the terrifying works of fellow writer\, Edgar Allan Poe. Stories include The House of the Seven Gables\, The Cask of Amontillado\, Annabel Lee\, Young Goodman Brown\, The Raven\, and more. Experience the greatest Gothic horror stories ever written\, brought to life by one of the authors himself! Appropriate for families with brave children 10 and up. Tickets are non-refundable. Please see 7Gables.org/events for tickets and more information.
URL:https://salemforallages.org/event/haunted-fables-at-the-gables-4/
ATTACH;FMTTYPE=image/jpeg:https://salemforallages.org/wp-content/uploads/2021/11/unnamed.jpg
END:VEVENT
BEGIN:VEVENT
DTSTART;TZID=America/New_York:20231004T181500
DTEND;TZID=America/New_York:20231004T201500
DTSTAMP:20260424T111329
CREATED:20230927T090010Z
LAST-MODIFIED:20230927T090010Z
UID:16637-1696443300-1696450500@salemforallages.org
SUMMARY:Guilty! A Salem Witch Trial
DESCRIPTION:It’s 1692 in Salem\, and the audience is on trial for witchcraft! Hear testimony against you and plead your case. Will you be found guilty? Combo tickets with Gallows Hill Main Show. Show times 6:15 and 7:15. 
URL:https://salemforallages.org/event/guilty-a-salem-witch-trial-23/
ATTACH;FMTTYPE=image/jpeg:https://salemforallages.org/wp-content/uploads/2023/09/Guilty-Basic-6-2.jpg
END:VEVENT
BEGIN:VEVENT
DTSTART;TZID=America/New_York:20231004T180000
DTEND;TZID=America/New_York:20231004T200000
DTSTAMP:20260424T111329
CREATED:20230927T090009Z
LAST-MODIFIED:20230927T090009Z
UID:16636-1696442400-1696449600@salemforallages.org
SUMMARY:Bingo at Gulu-Gulu Cafe
DESCRIPTION:Stop by Gulu-Gulu Cafe for a fun trivia series that will excite and engage any audience! Quirky\, funny\, and free!
URL:https://salemforallages.org/event/bingo-at-gulu-gulu-cafe-10/
ATTACH;FMTTYPE=image/jpeg:https://salemforallages.org/wp-content/uploads/2023/08/BingoBoardNew.jpg
END:VEVENT
BEGIN:VEVENT
DTSTART;TZID=America/New_York:20231004T100000
DTEND;TZID=America/New_York:20231004T170000
DTSTAMP:20260424T111329
CREATED:20230927T090009Z
LAST-MODIFIED:20230927T090009Z
UID:16635-1696413600-1696438800@salemforallages.org
SUMMARY:The Good Witch of Salem
DESCRIPTION:Attend one of our large events\, including Magical Tea Time 10/9\, Potion Party 10/22\, Costume Ball 10/22\, and Costume Parade. Book an in-store experience with plenty of family-friendly activities.
URL:https://salemforallages.org/event/the-good-witch-of-salem-4/
ATTACH;FMTTYPE=image/jpeg:https://salemforallages.org/wp-content/uploads/2023/09/Good-Witch-Basic-2.jpg
END:VEVENT
BEGIN:VEVENT
DTSTART;TZID=America/New_York:20231004T100000
DTEND;TZID=America/New_York:20231004T110000
DTSTAMP:20260424T111329
CREATED:20230925T090012Z
LAST-MODIFIED:20230925T090012Z
UID:16631-1696413600-1696417200@salemforallages.org
SUMMARY:Bubbles & Books Storytime at Hammond Castle Museum
DESCRIPTION:$10 adults\, Kids 12 and under are $5. \nJoin us every Wednesday morning in July & August for Bubbles and Books on our seaside lawn. Fairytales do come true at castles by the sea!\n\nDoors open at 10 am. Stories start at 10:15 am. Feel free to bring a blanket for your little one to cuddle with while we enjoy Storytime on the ocean-facing lawn. Don’t forget the sunscreen! We’ll have thousands of bubbles\, coloring\, snacks and music too! We encourage little ones to dress up in their favorite crown\, gown or anything else that makes them happy!\n\nThis ticket grants you access to the Bubbles & Books program which will be held on the ocean-facing lawn. If you wish to tour the museum at the conclusion of this program\, ticket holders may purchase Self-Guided Tour tickets in the Museum Shop at a 20% discount. All proceeds from this program will support the restoration and preservation of the museum.
URL:https://salemforallages.org/event/bubbles-books-storytime-at-hammond-castle-museum-14/
ATTACH;FMTTYPE=image/jpeg:https://salemforallages.org/wp-content/uploads/2023/06/291998637_409979197858042_4431356585991612295_n-1.jpg
END:VEVENT
BEGIN:VEVENT
DTSTART;TZID=America/New_York:20231003T203000
DTEND;TZID=America/New_York:20231003T220000
DTSTAMP:20260424T111329
CREATED:20230925T090011Z
LAST-MODIFIED:20230925T090011Z
UID:16630-1696365000-1696370400@salemforallages.org
SUMMARY:After Hours Ghost Hunt
DESCRIPTION:Join Kimberly Bizjak of Paranormal Salem for Ghost Hunting! Use EMF detectors\, infrared thermometers\, audio recorders\, and more to collect evidence inside The Lost Museum! Combo tickets with Gallows Hill Main Show.
URL:https://salemforallages.org/event/after-hours-ghost-hunt-3/
ATTACH;FMTTYPE=image/jpeg:https://salemforallages.org/wp-content/uploads/2023/09/After-Hours-Ghost-Hunt-Basic.jpg
END:VEVENT
BEGIN:VEVENT
DTSTART;TZID=America/New_York:20231003T183000
DTEND;TZID=America/New_York:20231003T203000
DTSTAMP:20260424T111329
CREATED:20230925T090011Z
LAST-MODIFIED:20230925T090011Z
UID:16629-1696357800-1696365000@salemforallages.org
SUMMARY:To Every Beast of the Field: Animal Magic in English Cunning-Craft with Dr Alexander Cummins
DESCRIPTION:Animals in pre-modern European understandings signified potent natural magics. Long traditions of reading passions across species barriers – from the choleric nature of the wolf to the melancholy of the cat –made proverbs and parables out of the actions and interactions of the various beasts of the field. The animals had lessons to teach us. \nThese lessons were heeded in various ways by the traditional folk magics of the various wise-women\, village wizards\, service magicians\, and local spspirit workers.
URL:https://salemforallages.org/event/to-every-beast-of-the-field-animal-magic-in-english-cunning-craft-with-dr-alexander-cummins/
END:VEVENT
BEGIN:VEVENT
DTSTART;TZID=America/New_York:20231003T181500
DTEND;TZID=America/New_York:20231003T201500
DTSTAMP:20260424T111329
CREATED:20230925T090011Z
LAST-MODIFIED:20230925T090011Z
UID:16628-1696356900-1696364100@salemforallages.org
SUMMARY:Guilty! A Salem Witch Trial
DESCRIPTION:It’s 1692 in Salem\, and the audience is on trial for witchcraft! Hear testimony against you and plead your case. Will you be found guilty? Combo tickets with Gallows Hill Main Show. Show times 6:15 and 7:15. 
URL:https://salemforallages.org/event/guilty-a-salem-witch-trial-22/
ATTACH;FMTTYPE=image/jpeg:https://salemforallages.org/wp-content/uploads/2023/09/Guilty-Basic-6-2.jpg
END:VEVENT
BEGIN:VEVENT
DTSTART;TZID=America/New_York:20231003T110000
DTEND;TZID=America/New_York:20231003T170000
DTSTAMP:20260424T111329
CREATED:20230925T090011Z
LAST-MODIFIED:20230925T090011Z
UID:16627-1696330800-1696352400@salemforallages.org
SUMMARY:Teatime Tuesdays with the Satanic Temple
DESCRIPTION:Join us every Tuesday during gallery hours for complementary tea with admission to the gallery.
URL:https://salemforallages.org/event/teatime-tuesdays-with-the-satanic-temple-19/
ATTACH;FMTTYPE=image/jpeg:https://salemforallages.org/wp-content/uploads/2023/05/satanic-tea-art-gallery.jpg
END:VEVENT
BEGIN:VEVENT
DTSTART;TZID=America/New_York:20231003T100000
DTEND;TZID=America/New_York:20231003T170000
DTSTAMP:20260424T111329
CREATED:20230925T090010Z
LAST-MODIFIED:20230925T090010Z
UID:16626-1696327200-1696352400@salemforallages.org
SUMMARY:The Good Witch of Salem
DESCRIPTION:Attend one of our large events\, including Magical Tea Time 10/9\, Potion Party 10/22\, Costume Ball 10/22\, and Costume Parade. Book an in-store experience with plenty of family-friendly activities.
URL:https://salemforallages.org/event/the-good-witch-of-salem-3/
ATTACH;FMTTYPE=image/jpeg:https://salemforallages.org/wp-content/uploads/2023/09/Good-Witch-Basic-2.jpg
END:VEVENT
BEGIN:VEVENT
DTSTART;TZID=America/New_York:20231002T203000
DTEND;TZID=America/New_York:20231002T220000
DTSTAMP:20260424T111329
CREATED:20230925T090010Z
LAST-MODIFIED:20230925T090010Z
UID:16625-1696278600-1696284000@salemforallages.org
SUMMARY:After Hours Ghost Hunt
DESCRIPTION:Join Kimberly Bizjak of Paranormal Salem for Ghost Hunting! Use EMF detectors\, infrared thermometers\, audio recorders\, and more to collect evidence inside The Lost Museum! Combo tickets with Gallows Hill Main Show.
URL:https://salemforallages.org/event/after-hours-ghost-hunt-2/
ATTACH;FMTTYPE=image/jpeg:https://salemforallages.org/wp-content/uploads/2023/09/After-Hours-Ghost-Hunt-Basic.jpg
END:VEVENT
BEGIN:VEVENT
DTSTART;TZID=America/New_York:20231002T181500
DTEND;TZID=America/New_York:20231002T201500
DTSTAMP:20260424T111329
CREATED:20230925T090009Z
LAST-MODIFIED:20230925T090009Z
UID:16624-1696270500-1696277700@salemforallages.org
SUMMARY:Guilty! A Salem Witch Trial
DESCRIPTION:It’s 1692 in Salem\, and the audience is on trial for witchcraft! Hear testimony against you and plead your case. Will you be found guilty? Combo tickets with Gallows Hill Main Show. Show times 6:15 and 7:15. 
URL:https://salemforallages.org/event/guilty-a-salem-witch-trial-21/
ATTACH;FMTTYPE=image/jpeg:https://salemforallages.org/wp-content/uploads/2023/09/Guilty-Basic-6-2.jpg
END:VEVENT
BEGIN:VEVENT
DTSTART;TZID=America/New_York:20231002T100000
DTEND;TZID=America/New_York:20231002T170000
DTSTAMP:20260424T111329
CREATED:20230925T090009Z
LAST-MODIFIED:20230925T090009Z
UID:16623-1696240800-1696266000@salemforallages.org
SUMMARY:The Good Witch of Salem
DESCRIPTION:Attend one of our large events\, including Magical Tea Time 10/9\, Potion Party 10/22\, Costume Ball 10/22\, and Costume Parade. Book an in-store experience with plenty of family-friendly activities.
URL:https://salemforallages.org/event/the-good-witch-of-salem-2/
ATTACH;FMTTYPE=image/jpeg:https://salemforallages.org/wp-content/uploads/2023/09/Good-Witch-Basic-2.jpg
END:VEVENT
BEGIN:VEVENT
DTSTART;TZID=America/New_York:20231002T100000
DTEND;TZID=America/New_York:20231002T140000
DTSTAMP:20260424T111329
CREATED:20230924T090024Z
LAST-MODIFIED:20230924T090024Z
UID:16622-1696240800-1696255200@salemforallages.org
SUMMARY:Book a “Good Witch Transformation”
DESCRIPTION:Thank you for your interest in a “Good Witch” Transformation! \nThrough our transformations children unleash their own spellbinding charms and embrace their individuality. Children are invited to browse our collection of witch hats and dresses. Adorned with shimmering stars\, flowing capes\, and ribbons of enchantment\, these outfits are sure to celebrate their unique spirits. \nOur talented apprentices delicately apply a touch of stardust and add sprinkles of color that match your child’s vibrant personality. As they gaze upon their reflection\, their eyes light up with a newfound confidence and a sense of whimsical delight. They have become the magical beings they’ve always dreamt of\, casting spells and brewing potions in their imaginary world. Their laughter fills the air as they twirl and spin\, radiating with joy and wonder.
URL:https://salemforallages.org/event/book-a-good-witch-transformation-8/
END:VEVENT
BEGIN:VEVENT
DTSTART;TZID=America/New_York:20231001T210000
DTEND;TZID=America/New_York:20231001T230000
DTSTAMP:20260424T111329
CREATED:20230924T090024Z
LAST-MODIFIED:20230924T090024Z
UID:16621-1696194000-1696201200@salemforallages.org
SUMMARY:Salem Witch Power Empowerment: Guided Self-Initiation into the Feral Secular Power of the Witch Archetype
DESCRIPTION:Salem MA is the capital city of the modern witch archetype. Power accumulated through the continuous drishti(focused attention) of popular culture creates a vortex of psychic energy that can be tapped into for magical workings. Through meditation\, discussion\, and ritual actions we will immerse ourselves in the power of the witch and create a lasting connection to the nearly limitless energy of her mandala.
URL:https://salemforallages.org/event/salem-witch-power-empowerment-guided-self-initiation-into-the-feral-secular-power-of-the-witch-archetype/
END:VEVENT
BEGIN:VEVENT
DTSTART;TZID=America/New_York:20231001T203000
DTEND;TZID=America/New_York:20231001T220000
DTSTAMP:20260424T111329
CREATED:20230924T090020Z
LAST-MODIFIED:20230924T090020Z
UID:16619-1696192200-1696197600@salemforallages.org
SUMMARY:After Hours Ghost Hunt
DESCRIPTION:Join Kimberly Bizjak of Paranormal Salem for Ghost Hunting! Use EMF detectors\, infrared thermometers\, audio recorders\, and more to collect evidence inside The Lost Museum! Combo tickets with Gallows Hill Main Show.
URL:https://salemforallages.org/event/after-hours-ghost-hunt/
ATTACH;FMTTYPE=image/jpeg:https://salemforallages.org/wp-content/uploads/2023/09/After-Hours-Ghost-Hunt-Basic.jpg
END:VEVENT
BEGIN:VEVENT
DTSTART;TZID=America/New_York:20231001T181500
DTEND;TZID=America/New_York:20231001T201500
DTSTAMP:20260424T111329
CREATED:20230924T090018Z
LAST-MODIFIED:20230924T090018Z
UID:16617-1696184100-1696191300@salemforallages.org
SUMMARY:Guilty! A Salem Witch Trial
DESCRIPTION:It’s 1692 in Salem\, and the audience is on trial for witchcraft! Hear testimony against you and plead your case. Will you be found guilty? Combo tickets with Gallows Hill Main Show. Show times 6:15 and 7:15. 
URL:https://salemforallages.org/event/guilty-a-salem-witch-trial-20/
ATTACH;FMTTYPE=image/jpeg:https://salemforallages.org/wp-content/uploads/2023/09/Guilty-Basic-6-2.jpg
END:VEVENT
BEGIN:VEVENT
DTSTART;TZID=America/New_York:20231001T160000
DTEND;TZID=America/New_York:20231001T190000
DTSTAMP:20260424T111329
CREATED:20230924T090017Z
LAST-MODIFIED:20230924T090017Z
UID:16616-1696176000-1696186800@salemforallages.org
SUMMARY:DIAMOND’S DINE-IN DRAG BRUNCH!
DESCRIPTION:Come on down for Diamond’s Dine-In Drag Brunch! This is a weekly event with local Drag Queen Miz Diamond Wigfall! Someone will be her guest. Be ready for numbers\, games\, drag\, and mimosas all afternoon.
URL:https://salemforallages.org/event/diamonds-dine-in-drag-brunch-9/
ATTACH;FMTTYPE=image/jpeg:https://salemforallages.org/wp-content/uploads/2023/08/Diamond_DineIn_Final-11x171-1.jpg
END:VEVENT
BEGIN:VEVENT
DTSTART;TZID=America/New_York:20231001T150000
DTEND;TZID=America/New_York:20231001T210000
DTSTAMP:20260424T111329
CREATED:20230924T090017Z
LAST-MODIFIED:20230924T090017Z
UID:16615-1696172400-1696194000@salemforallages.org
SUMMARY:Hollowed Harvest
DESCRIPTION:Experience Salem’s ONLY Jack-O’-Lantern festival at the Hollowed Harvest: Wicked Labyrinth! Salem’s beloved fall tradition brings hundreds of intricately carved Jack-O’-Lanterns to life in an all-ages walkthrough event.
URL:https://salemforallages.org/event/hollowed-harvest-6/
ATTACH;FMTTYPE=image/png:https://salemforallages.org/wp-content/uploads/2023/09/hollowed-harvest-hh.png
END:VEVENT
BEGIN:VEVENT
DTSTART;TZID=America/New_York:20231001T150000
DTEND;TZID=America/New_York:20231001T170000
DTSTAMP:20260424T111329
CREATED:20230924T090017Z
LAST-MODIFIED:20230924T090017Z
UID:16614-1696172400-1696179600@salemforallages.org
SUMMARY:Wonderful Self-Care Cafe
DESCRIPTION:Join us to relax\, have a cup of coffee or tea + conversations
URL:https://salemforallages.org/event/wonderful-self-care-cafe-21/
ATTACH;FMTTYPE=image/jpeg:https://salemforallages.org/wp-content/uploads/2023/05/01.jpg
END:VEVENT
BEGIN:VEVENT
DTSTART;TZID=America/New_York:20231001T143000
DTEND;TZID=America/New_York:20231001T160000
DTSTAMP:20260424T111329
CREATED:20230924T090014Z
LAST-MODIFIED:20230924T090014Z
UID:16612-1696170600-1696176000@salemforallages.org
SUMMARY:October Crystal Magic Workshop with a Salem Witch in Salem\, Massachusetts
DESCRIPTION:If you’ve acquired a collection of stones (or you’re well on your way to one\, or you’d like to be)\, but you’re not entirely sure how to get the most benefit from them\, this workshop will help you understand all the ways to work with crystals and stones for protection\, healing\, love\, success\, stress relief\, and other common concerns. Sandra Mariah Wright\, co-author of Awakening the Crystals\, will show you methods for choosing\, cleansing\, “waking up\,” and working with a wide array of earth’s treasures. If you’d like to bring crystals with you\, go for it. If you don’t have any yet\, there will be an opportunity to shop the Gallows Hill Witchery collection before or after the class. This is an intimate\, accessible setting. Seating is EXTREMELY limited.
URL:https://salemforallages.org/event/october-crystal-magic-workshop-with-a-salem-witch-in-salem-massachusetts/
ATTACH;FMTTYPE=image/jpeg:https://salemforallages.org/wp-content/uploads/2023/09/https___cdn.evbuc_.com_images_594506249_315979052018_1_original.jpg
END:VEVENT
BEGIN:VEVENT
DTSTART;TZID=America/New_York:20231001T130000
DTEND;TZID=America/New_York:20231001T140000
DTSTAMP:20260424T111329
CREATED:20230924T090009Z
LAST-MODIFIED:20230924T090009Z
UID:16610-1696165200-1696168800@salemforallages.org
SUMMARY:Sundays on Salem Common with the Good Witch
DESCRIPTION:Ahoy\, mateys and mermaids! \nFrom 1pm to 2pm come dressed as a pirate or mermaid and meet “The Good Witch of Salem”. We will have a free sand art craft & scavenger hunt. “The Good Witch of Salem” will be on-site for book signings and photos. \nOur pop-up tent will be open for shopping from 11am to 3pm.
URL:https://salemforallages.org/event/sundays-on-salem-common-with-the-good-witch/
ATTACH;FMTTYPE=image/jpeg:https://salemforallages.org/wp-content/uploads/2023/09/Sundays-in-October-2023-SQUARE.jpg
END:VEVENT
BEGIN:VEVENT
DTSTART;TZID=America/New_York:20231001T110000
DTEND;TZID=America/New_York:20231001T170000
DTSTAMP:20260424T111329
CREATED:20230923T090018Z
LAST-MODIFIED:20230923T090018Z
UID:16608-1696158000-1696179600@salemforallages.org
SUMMARY:Madeline Hatters Mad Tea Party
DESCRIPTION:Don your most imaginative and whimsical costumes and join us for an exciting Alice in Wonderland inspired costume contest. Explore the colorful and enchanting world of our garden grounds as you compete for the grand prize.  \nThe contest will feature a list of thrilling activities that will put your creativity and showmanship to the test. First up: the lip sync battle. Choose your favorite song from the Alice in Wonderland soundtrack and deliver a sizzling performance that will leave the audience begging for more.  \nNext\, it’s time to strut your stuff on the runway. Walk and pose with confidence and poise as Madeline Hatter scores you on your style and presentation. Don’t forget to show off your costume from every angle – front\, back\, and sides.  \nThe final round will be a surprise challenge that will test your wit and quick-thinking skills. This could be anything from a trivia quiz to a mini-obstacle course – so be ready for anything!  \nIn between activities\, enjoy Wonderland-themed refreshments and games\, such as croquet and tea party activities.  \nPrizes will be awarded for the top three participants\, including gift cards to the Salem Art Gallery gift shop. As well as a signed portrait of Madeline Hatter herself . Don’t miss out on this fun-filled and unforgettable event!
URL:https://salemforallages.org/event/madeline-hatters-mad-tea-party/
ATTACH;FMTTYPE=image/jpeg:https://salemforallages.org/wp-content/uploads/2023/05/satanic-temple-new-image.jpg
END:VEVENT
BEGIN:VEVENT
DTSTART;TZID=America/New_York:20231001T110000
DTEND;TZID=America/New_York:20231001T150000
DTSTAMP:20260424T111329
CREATED:20230923T090018Z
LAST-MODIFIED:20230923T090018Z
UID:16609-1696158000-1696172400@salemforallages.org
SUMMARY:Hands-on History!
DESCRIPTION:Join us for Hands-on History at The Gables! Each weekend in July and August we invite young (and young at heart!) guests to explore different elements of colonial life through hands-on activities. These drop-in programs will run 11 A.M. to 3 P.M. Saturdays and Sundays and are free with the purchase of admission. This summer\, we will be exploring traditional children’s games and the art of calligraphy. \nWe hope to see you soon for some hands-on fun!
URL:https://salemforallages.org/event/hands-on-history-44/
END:VEVENT
BEGIN:VEVENT
DTSTART;TZID=America/New_York:20231001T100000
DTEND;TZID=America/New_York:20231001T180000
DTSTAMP:20260424T111329
CREATED:20230923T090018Z
LAST-MODIFIED:20230923T090018Z
UID:16607-1696154400-1696183200@salemforallages.org
SUMMARY:Haunted Happenings Marketplace
DESCRIPTION:The main event returns to Salem Common! Your favorite vendors\, performances\, mural pop-up photo stations\, street performers\, and much more. \nDerby Square: Saturdays 10 AM-8PM and Sundays 10 AM-6 PM \nSeptember 30\, October 1\, 7\, 8\, 9\, 14\, 15\, 21\, 22\, 28\, 29 \n  \nForten Park: Saturdays 10 AM-8PM and Sundays 10 AM-6 PM \nSeptember 30\, October 1\, 7\, 8\, 9\, 14\, 15\, 21\, 22\, 28\, 29
URL:https://salemforallages.org/event/haunted-happenings-marketplace-22/
ATTACH;FMTTYPE=image/jpeg:https://salemforallages.org/wp-content/uploads/2021/08/Haunted-Happenings-Marketplace.jpg
END:VEVENT
BEGIN:VEVENT
DTSTART;TZID=America/New_York:20231001T100000
DTEND;TZID=America/New_York:20231001T170000
DTSTAMP:20260424T111329
CREATED:20230923T090015Z
LAST-MODIFIED:20230923T090015Z
UID:16605-1696154400-1696179600@salemforallages.org
SUMMARY:The Good Witch of Salem
DESCRIPTION:Attend one of our large events\, including Magical Tea Time 10/9\, Potion Party 10/22\, Costume Ball 10/22\, and Costume Parade. Book an in-store experience with plenty of family-friendly activities.
URL:https://salemforallages.org/event/the-good-witch-of-salem/
ATTACH;FMTTYPE=image/jpeg:https://salemforallages.org/wp-content/uploads/2023/09/Good-Witch-Basic-2.jpg
END:VEVENT
BEGIN:VEVENT
DTSTART;TZID=America/New_York:20231001T100000
DTEND;TZID=America/New_York:20231001T140000
DTSTAMP:20260424T111329
CREATED:20230923T090015Z
LAST-MODIFIED:20230923T090015Z
UID:16604-1696154400-1696168800@salemforallages.org
SUMMARY:Book a “Good Witch Transformation”
DESCRIPTION:Thank you for your interest in a “Good Witch” Transformation! \nThrough our transformations children unleash their own spellbinding charms and embrace their individuality. Children are invited to browse our collection of witch hats and dresses. Adorned with shimmering stars\, flowing capes\, and ribbons of enchantment\, these outfits are sure to celebrate their unique spirits. \nOur talented apprentices delicately apply a touch of stardust and add sprinkles of color that match your child’s vibrant personality. As they gaze upon their reflection\, their eyes light up with a newfound confidence and a sense of whimsical delight. They have become the magical beings they’ve always dreamt of\, casting spells and brewing potions in their imaginary world. Their laughter fills the air as they twirl and spin\, radiating with joy and wonder.
URL:https://salemforallages.org/event/book-a-good-witch-transformation-7/
END:VEVENT
BEGIN:VEVENT
DTSTART;TZID=America/New_York:20230930T180000
DTEND;TZID=America/New_York:20230930T200000
DTSTAMP:20260424T111329
CREATED:20230923T090011Z
LAST-MODIFIED:20230923T090011Z
UID:16602-1696096800-1696104000@salemforallages.org
SUMMARY:Lore by Candlelight
DESCRIPTION:Experience New England’s fantastical past by spending an evening in one of the oldest homes in Salem. You will be immersed in original rooms dimly lit by candles while experiencing New England’s history\, legends\, and lore that have been passed down for generations. Join us to explore the reality of our terrifying past. BYOB alcohol.
URL:https://salemforallages.org/event/lore-by-candlelight-12/
ATTACH;FMTTYPE=image/jpeg:https://salemforallages.org/wp-content/uploads/2023/09/Local-Lore-by-Candlelight-2-scaled-10.jpg
END:VEVENT
BEGIN:VEVENT
DTSTART;TZID=America/New_York:20230930T150000
DTEND;TZID=America/New_York:20230930T210000
DTSTAMP:20260424T111329
CREATED:20230923T090010Z
LAST-MODIFIED:20230923T090010Z
UID:16601-1696086000-1696107600@salemforallages.org
SUMMARY:Hollowed Harvest
DESCRIPTION:Experience Salem’s ONLY Jack-O’-Lantern festival at the Hollowed Harvest: Wicked Labyrinth! Salem’s beloved fall tradition brings hundreds of intricately carved Jack-O’-Lanterns to life in an all-ages walkthrough event.
URL:https://salemforallages.org/event/hollowed-harvest-5/
ATTACH;FMTTYPE=image/png:https://salemforallages.org/wp-content/uploads/2023/09/hollowed-harvest-hh.png
END:VEVENT
END:VCALENDAR