BEGIN:VCALENDAR
VERSION:2.0
PRODID:-//Salem for All Ages - ECPv6.15.18//NONSGML v1.0//EN
CALSCALE:GREGORIAN
METHOD:PUBLISH
X-ORIGINAL-URL:https://salemforallages.org
X-WR-CALDESC:Events for Salem for All Ages
REFRESH-INTERVAL;VALUE=DURATION:PT1H
X-Robots-Tag:noindex
X-PUBLISHED-TTL:PT1H
BEGIN:VTIMEZONE
TZID:America/New_York
BEGIN:DAYLIGHT
TZOFFSETFROM:-0500
TZOFFSETTO:-0400
TZNAME:EDT
DTSTART:20240310T070000
END:DAYLIGHT
BEGIN:STANDARD
TZOFFSETFROM:-0400
TZOFFSETTO:-0500
TZNAME:EST
DTSTART:20241103T060000
END:STANDARD
BEGIN:DAYLIGHT
TZOFFSETFROM:-0500
TZOFFSETTO:-0400
TZNAME:EDT
DTSTART:20250309T070000
END:DAYLIGHT
BEGIN:STANDARD
TZOFFSETFROM:-0400
TZOFFSETTO:-0500
TZNAME:EST
DTSTART:20251102T060000
END:STANDARD
BEGIN:DAYLIGHT
TZOFFSETFROM:-0500
TZOFFSETTO:-0400
TZNAME:EDT
DTSTART:20260308T070000
END:DAYLIGHT
BEGIN:STANDARD
TZOFFSETFROM:-0400
TZOFFSETTO:-0500
TZNAME:EST
DTSTART:20261101T060000
END:STANDARD
END:VTIMEZONE
BEGIN:VEVENT
DTSTART;TZID=America/New_York:20250709T120000
DTEND;TZID=America/New_York:20250709T133000
DTSTAMP:20260424T175656
CREATED:20250705T090547Z
LAST-MODIFIED:20250705T090547Z
UID:24502-1752062400-1752067800@salemforallages.org
SUMMARY:Craft Witch
DESCRIPTION:Craft Witch is a DIY crafting session with something for everyone! Choose from a wide array of options to create your very own one-of-a-kind craft. Whichever craft you decide to create\, you’ll be provided with all the materials\, tools\, and knowledge needed to let your creativity flourish. Unlike our broom making\, bookbinding\, and spelljar making workshops in which participants are being guided through the crafting process step-by step by an instructor\, the DIY nature of Craft Witch means that you can use the studio time however you wish. Check out the crafting options on our website!
URL:https://salemforallages.org/event/craft-witch-82/
ATTACH;FMTTYPE=image/jpeg:https://salemforallages.org/wp-content/uploads/2025/07/Image-from-iOS-scaled-2.jpg
END:VEVENT
BEGIN:VEVENT
DTSTART;TZID=America/New_York:20250709T180000
DTEND;TZID=America/New_York:20250709T200000
DTSTAMP:20260424T175656
CREATED:20250709T090016Z
LAST-MODIFIED:20250709T090016Z
UID:24506-1752084000-1752091200@salemforallages.org
SUMMARY:Free Bingo Night with Will Pottorff
DESCRIPTION:Come enjoy our weekly free Bingo hosted by the BINGO KING himself Will Pottorff!
URL:https://salemforallages.org/event/free-bingo-night-with-will-pottorff-6/
ATTACH;FMTTYPE=image/jpeg:https://salemforallages.org/wp-content/uploads/2025/06/c05c7178-2c36-4e12-bd6d-606da89f8c00.jpg
END:VEVENT
BEGIN:VEVENT
DTSTART;TZID=America/New_York:20250709T183000
DTEND;TZID=America/New_York:20250709T193000
DTSTAMP:20260424T175656
CREATED:20250709T091222Z
LAST-MODIFIED:20250709T091222Z
UID:24507-1752085800-1752089400@salemforallages.org
SUMMARY:Full Moon Yoga
DESCRIPTION:Date: July 9 @ 6:30 pm – 7:30 pm \nCost: $20 \nWild Sea Wellness will be offering monthly yoga classes at The House of the Seven Gables throughout 2025. Be sure to check their website and calendar for details\, dates\, and links to register.
URL:https://salemforallages.org/event/full-moon-yoga-15/
ATTACH;FMTTYPE=image/png:https://salemforallages.org/wp-content/uploads/2025/07/Screenshot-2025-06-05-151533.png
END:VEVENT
BEGIN:VEVENT
DTSTART;TZID=America/New_York:20250709T190000
DTEND;TZID=America/New_York:20250709T203000
DTSTAMP:20260424T175656
CREATED:20250709T091233Z
LAST-MODIFIED:20250709T091233Z
UID:24509-1752087600-1752093000@salemforallages.org
SUMMARY:Nintendo Switch Trivia Tournament
DESCRIPTION:Nintendo Switch Tournament at Essex Pizza!\nRack up 3 wins total and score a brand new Nintendo Switch 🏆🍕\nJoin the battle every Wednesday at 7PM! Pizza\, prizes\, and pixel-powered bragging rights!
URL:https://salemforallages.org/event/nintendo-switch-trivia-tournament-3/
ATTACH;FMTTYPE=image/jpeg:https://salemforallages.org/wp-content/uploads/2025/06/4BC450C9-0190-420A-919C-9F23778CFBD1.jpg
END:VEVENT
BEGIN:VEVENT
DTSTART;TZID=America/New_York:20250710T090000
DTEND;TZID=America/New_York:20250710T120000
DTSTAMP:20260424T175656
CREATED:20250709T091234Z
LAST-MODIFIED:20250709T091234Z
UID:24510-1752138000-1752148800@salemforallages.org
SUMMARY:Kids’ Summer Program at NSGS (10 years old & up)!
DESCRIPTION:Join us for a week of artistic enrichment and engagement at North Shore Glass School! For kids age 10+\, students will be welcomed at our glass studio at 16 Proctor Street for a week of glassblowing\, flameworking\, fused glass\, stained glass and sandblasting. Projects will include but are not limited to glassblowing paperweights and cups\, fused glass bowls and suncatchers\, flameworking pendants and small figurines\, stained glass window pieces and boxes and sandblasted cups and vases.
URL:https://salemforallages.org/event/kids-summer-program-at-nsgs-10-years-old-up-23/
ATTACH;FMTTYPE=image/jpeg:https://salemforallages.org/wp-content/uploads/2025/07/IMG_5288-scaled-4.jpg
END:VEVENT
BEGIN:VEVENT
DTSTART;TZID=America/New_York:20250710T090000
DTEND;TZID=America/New_York:20250710T120000
DTSTAMP:20260424T175656
CREATED:20250709T091252Z
LAST-MODIFIED:20250709T091252Z
UID:24512-1752138000-1752148800@salemforallages.org
SUMMARY:Junior Kids’ Glass Summer Program at Artist Row!
DESCRIPTION:For kids ages 7 to 10\, we welcome you at our new Artist Row studio in downtown Salem! Join us for a week of glass art exploration. In this program\, students will learn about the fine art of glass and work on thoughtfully constructed and age-appropriate projects in fused glass\, stained glass\, sandblasting\, sea glass sculpting\, and glass painting.
URL:https://salemforallages.org/event/junior-kids-glass-summer-program-at-artist-row-19/
ATTACH;FMTTYPE=image/jpeg:https://salemforallages.org/wp-content/uploads/2025/07/IMG_3862-scaled-4.jpg
END:VEVENT
BEGIN:VEVENT
DTSTART;TZID=America/New_York:20250710T090000
DTEND;TZID=America/New_York:20250710T120000
DTSTAMP:20260424T175656
CREATED:20250709T091256Z
LAST-MODIFIED:20250709T091256Z
UID:24514-1752138000-1752148800@salemforallages.org
SUMMARY:Summer Youth: Fabric Printmaking
DESCRIPTION:Students will learn and use relief print\, stencil\, and pattern techniques for printing on fabric. In this class they will create two projects\, project choices include: T-shirt; drawstring bag; stuffed doll; tea towel. In addition to creating and printing their designs\, students will have the opportunity to embellish their projects with embroidery and hand painting. \nAges 8+ (Classes will be tailored to participants) \nClass runs July 7 – July 11.
URL:https://salemforallages.org/event/summer-youth-fabric-printmaking-4/
ATTACH;FMTTYPE=image/jpeg:https://salemforallages.org/wp-content/uploads/2025/07/IMG_9348.jpeg
END:VEVENT
BEGIN:VEVENT
DTSTART;TZID=America/New_York:20250710T113000
DTEND;TZID=America/New_York:20250710T140000
DTSTAMP:20260424T175656
CREATED:20250709T091306Z
LAST-MODIFIED:20250709T091306Z
UID:24519-1752147000-1752156000@salemforallages.org
SUMMARY:Summer Broom Decorating
DESCRIPTION:Fly into The Good Witch and Stay for a Spell! Unleash your creativity at the Good Witch of Salem’s Broom Decorating Station\, where you can transform a broom into a magical masterpiece! Use enchanting tape\, colorful ribbons\, sparkling stickers\, and shimmering gems to create a broom that’s uniquely yours. \n Activity Length: 15-25  minutes\n Location: The Good Witch of Salem @ 2 North Street\, Salem MA 01970\n Hosted By: This is a self-guided DIY activity
URL:https://salemforallages.org/event/summer-broom-decorating-3/
ATTACH;FMTTYPE=image/png:https://salemforallages.org/wp-content/uploads/2025/07/July-and-August-Events-2025-SQUARE.zip-FINAL-Summer-Broom-Decorating.png
END:VEVENT
BEGIN:VEVENT
DTSTART;TZID=America/New_York:20250710T113000
DTEND;TZID=America/New_York:20250710T160000
DTSTAMP:20260424T175656
CREATED:20250709T091257Z
LAST-MODIFIED:20250709T091257Z
UID:24515-1752147000-1752163200@salemforallages.org
SUMMARY:Magical Transformations
DESCRIPTION:Through our “Magical Transformations” children embrace their charms and express their individuality. Children can choose to transform into a “Witch” or “Wizard”!
URL:https://salemforallages.org/event/magical-transformations-390/
ATTACH;FMTTYPE=image/jpeg:https://salemforallages.org/wp-content/uploads/2025/07/Magicaltransformations-5.jpg
END:VEVENT
BEGIN:VEVENT
DTSTART;TZID=America/New_York:20250710T113000
DTEND;TZID=America/New_York:20250710T160000
DTSTAMP:20260424T175656
CREATED:20250709T091302Z
LAST-MODIFIED:20250709T091302Z
UID:24517-1752147000-1752163200@salemforallages.org
SUMMARY:Potion Brewing Store Experience
DESCRIPTION:Make your visit to The Good Witch of Salem’s shop memorable by booking our in-store Potion Brewing Experience. This activity is led by our Witch Apprentices. \nActivities are recommended for children ages 3 and up. \n*One appointment slot for each child is required.*
URL:https://salemforallages.org/event/potion-brewing-store-experience-383/
ATTACH;FMTTYPE=image/jpeg:https://salemforallages.org/wp-content/uploads/2025/07/Final-Potion-Master-1-1-2.jpg
END:VEVENT
BEGIN:VEVENT
DTSTART;TZID=America/New_York:20250710T120000
DTEND;TZID=America/New_York:20250710T133000
DTSTAMP:20260424T175656
CREATED:20250709T091307Z
LAST-MODIFIED:20250709T091307Z
UID:24520-1752148800-1752154200@salemforallages.org
SUMMARY:Craft Witch
DESCRIPTION:Craft Witch is a DIY crafting session with something for everyone! Choose from a wide array of options to create your very own one-of-a-kind craft. Whichever craft you decide to create\, you’ll be provided with all the materials\, tools\, and knowledge needed to let your creativity flourish. Unlike our broom making\, bookbinding\, and spelljar making workshops in which participants are being guided through the crafting process step-by step by an instructor\, the DIY nature of Craft Witch means that you can use the studio time however you wish. Check out the crafting options on our website!
URL:https://salemforallages.org/event/craft-witch-83/
ATTACH;FMTTYPE=image/jpeg:https://salemforallages.org/wp-content/uploads/2025/07/Image-from-iOS-scaled-3.jpg
END:VEVENT
BEGIN:VEVENT
DTSTART;TZID=America/New_York:20250710T140000
DTEND;TZID=America/New_York:20250710T160000
DTSTAMP:20260424T175656
CREATED:20250709T091312Z
LAST-MODIFIED:20250709T091312Z
UID:24522-1752156000-1752163200@salemforallages.org
SUMMARY:Salem Discovery Paddle Tours
DESCRIPTION:Embark on a serene paddleboard or kayak journey along the enchanting coastlines of Salem and Beverly Harbors\, where each stroke of your paddle unveils narratives ranging from historic naval battles to the infamous witch trials\, echoing the vibrant past of what was once the world’s busiest trading port.
URL:https://salemforallages.org/event/salem-discovery-paddle-tours-13/
ATTACH;FMTTYPE=image/jpeg:https://salemforallages.org/wp-content/uploads/2025/07/IMG_0793-1-scaled-1.jpeg
END:VEVENT
BEGIN:VEVENT
DTSTART;TZID=America/New_York:20250710T150000
DTEND;TZID=America/New_York:20250710T190000
DTSTAMP:20260424T175656
CREATED:20250709T091315Z
LAST-MODIFIED:20250709T091315Z
UID:24524-1752159600-1752174000@salemforallages.org
SUMMARY:Salem Farmer’s Market
DESCRIPTION:Thursdays\, June 12th through October 9th\nThe Salem Farmers’ Market is a tradition that dates back to 1634. The Salem Farmers Market features local farms every Thursday from 3 p.m. to 7\np.m.
URL:https://salemforallages.org/event/salem-farmers-market-121/
ATTACH;FMTTYPE=image/jpeg:https://salemforallages.org/wp-content/uploads/2020/08/farmers-market.jpg
END:VEVENT
BEGIN:VEVENT
DTSTART;TZID=America/New_York:20250710T193000
DTEND;TZID=America/New_York:20250710T213000
DTSTAMP:20260424T175656
CREATED:20250709T091317Z
LAST-MODIFIED:20250709T091317Z
UID:24525-1752175800-1752183000@salemforallages.org
SUMMARY:Mahi Summer Music Series
DESCRIPTION:Nothing beats music on the ocean. Live music every thursday on the Hannah Glover. Dance with friends and strangers under the stars with the best local bands on the North Shore\, a boat drink in hand\, and munching on a backyard favorite. 21+ cruise.
URL:https://salemforallages.org/event/mahi-summer-music-series-5/
ATTACH;FMTTYPE=image/jpeg:https://salemforallages.org/wp-content/uploads/2025/07/MUSIC-SERIES-POST-CARD-scaled-1.jpeg
END:VEVENT
BEGIN:VEVENT
DTSTART;TZID=America/New_York:20250710T193000
DTEND;TZID=America/New_York:20250710T233000
DTSTAMP:20260424T175656
CREATED:20250709T091321Z
LAST-MODIFIED:20250709T091321Z
UID:24527-1752175800-1752190200@salemforallages.org
SUMMARY:Open Mic
DESCRIPTION:Come join us for our weekly free Open Mic shindig every Thursday. Sign ups start at 7:30pm and the event starts at 8pm. Hope to see you here!
URL:https://salemforallages.org/event/open-mic-5/
ATTACH;FMTTYPE=image/jpeg:https://salemforallages.org/wp-content/uploads/2025/06/OpenMic-Twitter.jpg
END:VEVENT
BEGIN:VEVENT
DTSTART;TZID=America/New_York:20250710T200000
DTEND;TZID=America/New_York:20250710T210000
DTSTAMP:20260424T175656
CREATED:20250709T091323Z
LAST-MODIFIED:20250709T091323Z
UID:24528-1752177600-1752181200@salemforallages.org
SUMMARY:July’s Full Moon Celebration
DESCRIPTION:Full moon celebration – Awaken the wild within under the enchanted buck moon. \n\n\n\n\n\n\n\n\n\nThe Full Buck Moon Celebration is a mystical evening of connection\, renewal\, and empowerment\, honoring the lunar energy of growth and transformation. Participants will gather in sacred circle beneath the glowing full moon to reflect on personal evolution\, release what no longer serves\, and set intentions aligned with strength and regeneration—mirroring the symbolic rise of the stag’s antlers. Through grounding\, guided meditation\, lunar intention-setting\, and divination\, we will create a powerful space for inner clarity and collective magic. \nNo ritual experience is needed\, all are welcome!
URL:https://salemforallages.org/event/julys-full-moon-celebration/
ATTACH;FMTTYPE=image/jpeg:https://salemforallages.org/wp-content/uploads/2025/07/IMG_6474.jpg
END:VEVENT
BEGIN:VEVENT
DTSTART;TZID=America/New_York:20250711T090000
DTEND;TZID=America/New_York:20250711T103000
DTSTAMP:20260424T175656
CREATED:20250709T091337Z
LAST-MODIFIED:20250709T091337Z
UID:24534-1752224400-1752229800@salemforallages.org
SUMMARY:Family Paddle
DESCRIPTION:Create lasting memories with a family adventure on the water! Our Salem Family Paddles are designed for families of all ages\, combining easy paddling\, fun games\, and light instruction in a safe\, supportive setting. Explore Salem’s scenic harbor together while learning new skills and spotting seabirds\, boats\, and coastal landmarks. With experienced guides leading the way\, it’s the perfect way for families to connect with the natural and historical beauty of Salem.
URL:https://salemforallages.org/event/family-paddle-7/
ATTACH;FMTTYPE=image/jpeg:https://salemforallages.org/wp-content/uploads/2025/05/CoasttoCoast2022-224.jpg
END:VEVENT
BEGIN:VEVENT
DTSTART;TZID=America/New_York:20250711T090000
DTEND;TZID=America/New_York:20250711T120000
DTSTAMP:20260424T175656
CREATED:20250709T091326Z
LAST-MODIFIED:20250709T091326Z
UID:24530-1752224400-1752235200@salemforallages.org
SUMMARY:Kids’ Summer Program at NSGS (10 years old & up)!
DESCRIPTION:Join us for a week of artistic enrichment and engagement at North Shore Glass School! For kids age 10+\, students will be welcomed at our glass studio at 16 Proctor Street for a week of glassblowing\, flameworking\, fused glass\, stained glass and sandblasting. Projects will include but are not limited to glassblowing paperweights and cups\, fused glass bowls and suncatchers\, flameworking pendants and small figurines\, stained glass window pieces and boxes and sandblasted cups and vases.
URL:https://salemforallages.org/event/kids-summer-program-at-nsgs-10-years-old-up-24/
ATTACH;FMTTYPE=image/jpeg:https://salemforallages.org/wp-content/uploads/2025/07/IMG_5288-scaled-5.jpg
END:VEVENT
BEGIN:VEVENT
DTSTART;TZID=America/New_York:20250711T090000
DTEND;TZID=America/New_York:20250711T120000
DTSTAMP:20260424T175656
CREATED:20250709T091333Z
LAST-MODIFIED:20250709T091333Z
UID:24532-1752224400-1752235200@salemforallages.org
SUMMARY:Junior Kids’ Glass Summer Program at Artist Row!
DESCRIPTION:For kids ages 7 to 10\, we welcome you at our new Artist Row studio in downtown Salem! Join us for a week of glass art exploration. In this program\, students will learn about the fine art of glass and work on thoughtfully constructed and age-appropriate projects in fused glass\, stained glass\, sandblasting\, sea glass sculpting\, and glass painting.
URL:https://salemforallages.org/event/junior-kids-glass-summer-program-at-artist-row-20/
ATTACH;FMTTYPE=image/jpeg:https://salemforallages.org/wp-content/uploads/2025/07/IMG_3862-scaled-5.jpg
END:VEVENT
BEGIN:VEVENT
DTSTART;TZID=America/New_York:20250711T090000
DTEND;TZID=America/New_York:20250711T120000
DTSTAMP:20260424T175656
CREATED:20250709T091338Z
LAST-MODIFIED:20250709T091338Z
UID:24535-1752224400-1752235200@salemforallages.org
SUMMARY:Summer Youth: Fabric Printmaking
DESCRIPTION:Students will learn and use relief print\, stencil\, and pattern techniques for printing on fabric. In this class they will create two projects\, project choices include: T-shirt; drawstring bag; stuffed doll; tea towel. In addition to creating and printing their designs\, students will have the opportunity to embellish their projects with embroidery and hand painting. \nAges 8+ (Classes will be tailored to participants) \nClass runs July 7 – July 11.
URL:https://salemforallages.org/event/summer-youth-fabric-printmaking-5/
ATTACH;FMTTYPE=image/jpeg:https://salemforallages.org/wp-content/uploads/2025/07/IMG_9348.jpeg
END:VEVENT
BEGIN:VEVENT
DTSTART;TZID=America/New_York:20250711T100000
DTEND;TZID=America/New_York:20250711T110000
DTSTAMP:20260424T175656
CREATED:20250709T091339Z
LAST-MODIFIED:20250709T091339Z
UID:24536-1752228000-1752231600@salemforallages.org
SUMMARY:Adopt a Shark
DESCRIPTION:Workshop Time: 10:00AM – 11:00AM\nLocation: The Good Witch of Salem @ 2 North Street\, Salem MA 01970\nHosted By: Witch Apprentices \nLet’s celebrate Shark Week in Salem\, MA! Children will stuff their own shark plush\, create accessories\, set intentions\, and learn about crystal magic! \nThis workshop is limited to 8 children\, pre-registration is required. \nAll ages are welcome! Children age three (3) and up may be dropped off with a signed Consent Form. Any child under the age of three must have an adult alongside participating. We thank you for encouraging your child to take part in magical play!
URL:https://salemforallages.org/event/adopt-a-shark-5/
ATTACH;FMTTYPE=image/jpeg:https://salemforallages.org/wp-content/uploads/2025/07/July-and-August-Events-2025-SQUARE.zip-FINAL-Adopt-Shark-2.jpg
END:VEVENT
BEGIN:VEVENT
DTSTART;TZID=America/New_York:20250711T110000
DTEND;TZID=America/New_York:20250711T170000
DTSTAMP:20260424T175656
CREATED:20250709T091344Z
LAST-MODIFIED:20250709T091344Z
UID:24538-1752231600-1752253200@salemforallages.org
SUMMARY:Personal Rainbow Aura Photos
DESCRIPTION:What would the world become if everyone saw themselves as an energetic being? Each Personal Rainbow appointment comes with an instant-film aura photo and personalized reading of the colors and patterns. Bring a buddy at no extra charge to see your vibe as a dynamic duo! Book ahead as walk-ins fill up quickly\, appointments available Thursday-Monday.
URL:https://salemforallages.org/event/personal-rainbow-aura-photos-32/
ATTACH;FMTTYPE=image/jpeg:https://salemforallages.org/wp-content/uploads/2025/07/aura-photos-hauswitch-salem.jpg
END:VEVENT
BEGIN:VEVENT
DTSTART;TZID=America/New_York:20250711T113000
DTEND;TZID=America/New_York:20250711T160000
DTSTAMP:20260424T175656
CREATED:20250709T091348Z
LAST-MODIFIED:20250709T091348Z
UID:24540-1752233400-1752249600@salemforallages.org
SUMMARY:Magical Transformations
DESCRIPTION:Through our “Magical Transformations” children embrace their charms and express their individuality. Children can choose to transform into a “Witch” or “Wizard”!
URL:https://salemforallages.org/event/magical-transformations-391/
ATTACH;FMTTYPE=image/jpeg:https://salemforallages.org/wp-content/uploads/2025/07/Magicaltransformations-6.jpg
END:VEVENT
BEGIN:VEVENT
DTSTART;TZID=America/New_York:20250711T113000
DTEND;TZID=America/New_York:20250711T160000
DTSTAMP:20260424T175656
CREATED:20250709T091352Z
LAST-MODIFIED:20250709T091352Z
UID:24542-1752233400-1752249600@salemforallages.org
SUMMARY:Potion Brewing Store Experience
DESCRIPTION:Make your visit to The Good Witch of Salem’s shop memorable by booking our in-store Potion Brewing Experience. This activity is led by our Witch Apprentices. \nActivities are recommended for children ages 3 and up. \n*One appointment slot for each child is required.*
URL:https://salemforallages.org/event/potion-brewing-store-experience-384/
ATTACH;FMTTYPE=image/jpeg:https://salemforallages.org/wp-content/uploads/2025/07/Final-Potion-Master-1-1-3.jpg
END:VEVENT
BEGIN:VEVENT
DTSTART;TZID=America/New_York:20250711T120000
DTEND;TZID=America/New_York:20250711T133000
DTSTAMP:20260424T175656
CREATED:20250709T091357Z
LAST-MODIFIED:20250709T091357Z
UID:24544-1752235200-1752240600@salemforallages.org
SUMMARY:Craft Witch
DESCRIPTION:Craft Witch is a DIY crafting session with something for everyone! Choose from a wide array of options to create your very own one-of-a-kind craft. Whichever craft you decide to create\, you’ll be provided with all the materials\, tools\, and knowledge needed to let your creativity flourish. Unlike our broom making\, bookbinding\, and spelljar making workshops in which participants are being guided through the crafting process step-by step by an instructor\, the DIY nature of Craft Witch means that you can use the studio time however you wish. Check out the crafting options on our website!
URL:https://salemforallages.org/event/craft-witch-84/
ATTACH;FMTTYPE=image/jpeg:https://salemforallages.org/wp-content/uploads/2025/07/Image-from-iOS-scaled-4.jpg
END:VEVENT
BEGIN:VEVENT
DTSTART;TZID=America/New_York:20250711T150000
DTEND;TZID=America/New_York:20250711T170000
DTSTAMP:20260424T175656
CREATED:20250709T091400Z
LAST-MODIFIED:20250709T091400Z
UID:24546-1752246000-1752253200@salemforallages.org
SUMMARY:Tea & Cake Tasting
DESCRIPTION:Free Tea & Cake Tasting at Jolie Tea Company. Every Friday afternoon\, 3:00-5:00pm.\nCome enjoy and taste some of our favorite tea blends and cake flavors!
URL:https://salemforallages.org/event/tea-cake-tasting/
ATTACH;FMTTYPE=image/jpeg:https://salemforallages.org/wp-content/uploads/2025/07/CoconutCake_01-scaled-1.jpg
END:VEVENT
BEGIN:VEVENT
DTSTART;TZID=America/New_York:20250711T170000
DTEND;TZID=America/New_York:20250711T190000
DTSTAMP:20260424T175656
CREATED:20250709T091403Z
LAST-MODIFIED:20250709T091403Z
UID:24548-1752253200-1752260400@salemforallages.org
SUMMARY:Acorn Ink (The Magic of Oaks)
DESCRIPTION:Oaks have been revered as symbols of abundance\, strength\, and longevity throughout history\, but did you know that you can use their tannins to make ink? Join The Mushroom Witch and learn how to craft your own ink using acorns. Each participant will take home a bottle of sepia-brown or black ink\, which you can use for painting\, for writing spells or poetry at the end of class and beyond. This class is part of the “Painting with Plants” workshop series. Come learn an ancient tradition and connect with nature in unexpected ways!
URL:https://salemforallages.org/event/acorn-ink-the-magic-of-oaks/
ATTACH;FMTTYPE=image/jpeg:https://salemforallages.org/wp-content/uploads/2025/07/acornink-1-scaled-1.jpg
END:VEVENT
BEGIN:VEVENT
DTSTART;TZID=America/New_York:20250711T180000
DTEND;TZID=America/New_York:20250711T210000
DTSTAMP:20260424T175656
CREATED:20250709T091406Z
LAST-MODIFIED:20250709T091406Z
UID:24550-1752256800-1752267600@salemforallages.org
SUMMARY:Baile En La Calle
DESCRIPTION:🗓 Friday\, July 11th\, 2025\n🕕 6:00 PM – 9:00 PM\n📍 Harborwalk Garden\, 289 Derby Street\, Salem\, MA\n🌐 www.harborwalkgarden.com\n✨ Whether you’re a dance pro or just looking to try something new\, come move with us in Salem’s newest waterfront outdoor public gathering space!\n🪘 6PM – Salsa & Bachata Dance Class\n🎶 7PM – Social Dancing\nBring your friends\, your energy\, and your love for Latin rhythms. No experience or partner needed – just come ready to dance in the park!\n🧡 FREE & All Ages Welcome\n☀️ Outdoors • Waterfront Views • High Energy • Great People\nTag your crew\, share the love\, and let’s t
URL:https://salemforallages.org/event/baile-en-la-calle/
ATTACH;FMTTYPE=image/jpeg:https://salemforallages.org/wp-content/uploads/2025/07/Baile-En-La-Calle-7.11.25-1.jpg
END:VEVENT
BEGIN:VEVENT
DTSTART;TZID=America/New_York:20250711T184500
DTEND;TZID=America/New_York:20250711T201500
DTSTAMP:20260424T175656
CREATED:20250709T091410Z
LAST-MODIFIED:20250709T091410Z
UID:24552-1752259500-1752264900@salemforallages.org
SUMMARY:Sunset Paddle
DESCRIPTION:End your day with one of Salem’s most breathtaking experiences! Our Sunset Tours offer a peaceful paddle along the coastline as the sky erupts in color and the harbor settles into twilight. Guided by knowledgeable staff\, you’ll glide past historic waterfronts\, admire iconic landmarks from the water\, and soak in the stunning coastal views. Whether you’re celebrating a special occasion or simply savoring the moment\, it’s an unforgettable way to experience Salem’s charm.
URL:https://salemforallages.org/event/sunset-paddle-10/
ATTACH;FMTTYPE=image/png:https://salemforallages.org/wp-content/uploads/2025/07/Screenshot-2025-05-08-at-8.00.59 AM.png
END:VEVENT
BEGIN:VEVENT
DTSTART;TZID=America/New_York:20250711T190000
DTEND;TZID=America/New_York:20250711T200000
DTSTAMP:20260424T175656
CREATED:20250709T091421Z
LAST-MODIFIED:20250709T091421Z
UID:24554-1752260400-1752264000@salemforallages.org
SUMMARY:Salem Trolley – Tales & Tombstones Tour
DESCRIPTION:Dusk transforms the city of Salem. As the city of renown seafarers and distinguished architecture fades into the shadows\, a new Salem of the occult and paranormal emerges. \nVisit scenes of grisly murders and ghastly executions\, hear tales of ghosts\, both mischievous and malevolent\, of Salem’s haunted hotels and restaurants\, of long forgotten underground passageways\, ancient curses\, and legends of ghost ships and haunted islands. \nYou will experience all of this and more as you ride the Salem Trolley’s Tales & Tombstones Tour and explore Salem of the Shadows.
URL:https://salemforallages.org/event/salem-trolley-tales-tombstones-tour/
ATTACH;FMTTYPE=image/jpeg:https://salemforallages.org/wp-content/uploads/2025/07/Tales-Tombstones-scaled-1.jpg
END:VEVENT
END:VCALENDAR