BEGIN:VCALENDAR
VERSION:2.0
PRODID:-//Salem for All Ages - ECPv6.15.18//NONSGML v1.0//EN
CALSCALE:GREGORIAN
METHOD:PUBLISH
X-WR-CALNAME:Salem for All Ages
X-ORIGINAL-URL:https://salemforallages.org
X-WR-CALDESC:Events for Salem for All Ages
REFRESH-INTERVAL;VALUE=DURATION:PT1H
X-Robots-Tag:noindex
X-PUBLISHED-TTL:PT1H
BEGIN:VTIMEZONE
TZID:America/New_York
BEGIN:DAYLIGHT
TZOFFSETFROM:-0500
TZOFFSETTO:-0400
TZNAME:EDT
DTSTART:20230312T070000
END:DAYLIGHT
BEGIN:STANDARD
TZOFFSETFROM:-0400
TZOFFSETTO:-0500
TZNAME:EST
DTSTART:20231105T060000
END:STANDARD
BEGIN:DAYLIGHT
TZOFFSETFROM:-0500
TZOFFSETTO:-0400
TZNAME:EDT
DTSTART:20240310T070000
END:DAYLIGHT
BEGIN:STANDARD
TZOFFSETFROM:-0400
TZOFFSETTO:-0500
TZNAME:EST
DTSTART:20241103T060000
END:STANDARD
BEGIN:DAYLIGHT
TZOFFSETFROM:-0500
TZOFFSETTO:-0400
TZNAME:EDT
DTSTART:20250309T070000
END:DAYLIGHT
BEGIN:STANDARD
TZOFFSETFROM:-0400
TZOFFSETTO:-0500
TZNAME:EST
DTSTART:20251102T060000
END:STANDARD
BEGIN:DAYLIGHT
TZOFFSETFROM:-0500
TZOFFSETTO:-0400
TZNAME:EDT
DTSTART:20260308T070000
END:DAYLIGHT
BEGIN:STANDARD
TZOFFSETFROM:-0400
TZOFFSETTO:-0500
TZNAME:EST
DTSTART:20261101T060000
END:STANDARD
END:VTIMEZONE
BEGIN:VEVENT
DTSTART;TZID=America/New_York:20250106T100000
DTEND;TZID=America/New_York:20250106T160000
DTSTAMP:20260424T205048
CREATED:20241231T100011Z
LAST-MODIFIED:20241231T100011Z
UID:22047-1736157600-1736179200@salemforallages.org
SUMMARY:Deck the Halls Holiday Celebration
DESCRIPTION:Step into a world of holiday splendor at Hammond Castle Museum’s sixth annual Deck The Halls holiday celebration! Join us for an enchanting visit\, where White Birch and Christmas trees\, lush garlands\, festive wreaths\, and candlelight fill the halls with warmth and seasonal magic. Immerse yourself in a bygone era of opulent tranquility and holiday grandeur that promises to be unlike any other experience on the North Shore.
URL:https://salemforallages.org/event/deck-the-halls-holiday-celebration-26/
ATTACH;FMTTYPE=image/jpeg:https://salemforallages.org/wp-content/uploads/2024/12/File-2221_medium.jpg
END:VEVENT
BEGIN:VEVENT
DTSTART;TZID=America/New_York:20250105T113000
DTEND;TZID=America/New_York:20250105T153000
DTSTAMP:20260424T205048
CREATED:20241230T100018Z
LAST-MODIFIED:20241230T100018Z
UID:22039-1736076600-1736091000@salemforallages.org
SUMMARY:Magical Transformations
DESCRIPTION:Through our “Magical Transformations” children embrace their charms and express their individuality. Children can choose to transform into a “Witch” or “Wizard”!
URL:https://salemforallages.org/event/magical-transformations-214/
ATTACH;FMTTYPE=image/png:https://salemforallages.org/wp-content/uploads/2024/08/Transformations-1.png
END:VEVENT
BEGIN:VEVENT
DTSTART;TZID=America/New_York:20250105T113000
DTEND;TZID=America/New_York:20250105T150000
DTSTAMP:20260424T205048
CREATED:20241230T100022Z
LAST-MODIFIED:20241230T100022Z
UID:22042-1736076600-1736089200@salemforallages.org
SUMMARY:Potion Brewing Store Experience
DESCRIPTION:Make your visit to The Good Witch of Salem’s shop memorable by booking our in-store Potion Brewing Experience. This activity is led by our Witch Apprentices. \nActivities are recommended for children ages 3 and up. \n*One appointment slot for each child is required.*
URL:https://salemforallages.org/event/potion-brewing-store-experience-206/
ATTACH;FMTTYPE=image/jpeg:https://salemforallages.org/wp-content/uploads/2024/12/Potion-Brewing-Store-Experience-30.jpg
END:VEVENT
BEGIN:VEVENT
DTSTART;TZID=America/New_York:20250105T113000
DTEND;TZID=America/New_York:20250105T150000
DTSTAMP:20260424T205048
CREATED:20241230T100018Z
LAST-MODIFIED:20241230T100018Z
UID:22040-1736076600-1736089200@salemforallages.org
SUMMARY:Stop In For a Spell: DIY Potion Bar
DESCRIPTION:Fly in to The Good Witch and Stay for a Spell! Mix up your very own potion at our Potion Bar! \nDrop Ins begin at store opening and end 30 minutes before closing and are offered on a first come\, first serve basis. Purchase online or pay in store. \nDrop Ins may be unavailable during a birthday party or store event. Please call ahead\, or check our posted hours on Google. \nUnder age 4 may participate with the help of a supervising adult.
URL:https://salemforallages.org/event/stop-in-for-a-spell-diy-potion-bar-187/
ATTACH;FMTTYPE=image/jpeg:https://salemforallages.org/wp-content/uploads/2024/12/Stop-In-For-a-Spell-SQUARE-10.jpg
END:VEVENT
BEGIN:VEVENT
DTSTART;TZID=America/New_York:20250105T100000
DTEND;TZID=America/New_York:20250105T170000
DTSTAMP:20260424T205048
CREATED:20241230T100016Z
LAST-MODIFIED:20241230T100016Z
UID:22037-1736071200-1736096400@salemforallages.org
SUMMARY:Narwhal: Revealing an Arctic Legend at The PEM
DESCRIPTION:SALEM\, MA –  This fall\, the Peabody Essex Museum (PEM) invites visitors to dive deep into the world of narwhals. These unique ocean dwellers\, sometimes called the “unicorns of the sea\,” spend their lives in the Arctic waters of Canada\, Greenland\, Norway and Russia. Learn about their changing Arctic ecosystem through firsthand accounts of scientists and Inuit community members. Hear soundscapes of the Arctic\, including the evocative vocalizations of the narwhal\, and touch an 8-foot-long cast of a real narwhal tusk. \nOn view in The Dotty Brown Art & Nature Center\, this family-friendly\, interactive exhibition is part of PEM’s interdisciplinary Climate + Environment Initiative. Narwhal: Revealing an Arctic Legend includes contemporary Inuit sculptures and prints and a historic book from PEM’s Phillips Library collection. The exhibition is organized by the Smithsonian Institution Traveling Exhibition Service in collaboration with the Smithsonian’s National Museum of Natural History and is on view at PEM September 28\, 2024 through June 15\, 2025.
URL:https://salemforallages.org/event/narwhal-revealing-an-arctic-legend-at-the-pem-70/
ATTACH;FMTTYPE=image/png:https://salemforallages.org/wp-content/uploads/2024/09/Screen-Shot-2024-08-29-at-11.30.40-AM.png
END:VEVENT
BEGIN:VEVENT
DTSTART;TZID=America/New_York:20250105T100000
DTEND;TZID=America/New_York:20250105T160000
DTSTAMP:20260424T205048
CREATED:20241230T100017Z
LAST-MODIFIED:20241230T100017Z
UID:22038-1736071200-1736092800@salemforallages.org
SUMMARY:Deck the Halls Holiday Celebration
DESCRIPTION:Step into a world of holiday splendor at Hammond Castle Museum’s sixth annual Deck The Halls holiday celebration! Join us for an enchanting visit\, where White Birch and Christmas trees\, lush garlands\, festive wreaths\, and candlelight fill the halls with warmth and seasonal magic. Immerse yourself in a bygone era of opulent tranquility and holiday grandeur that promises to be unlike any other experience on the North Shore.
URL:https://salemforallages.org/event/deck-the-halls-holiday-celebration-25/
ATTACH;FMTTYPE=image/jpeg:https://salemforallages.org/wp-content/uploads/2024/12/File-2221_medium.jpg
END:VEVENT
BEGIN:VEVENT
DTSTART;TZID=America/New_York:20250104T203000
DTEND;TZID=America/New_York:20250104T220000
DTSTAMP:20260424T205048
CREATED:20241230T100016Z
LAST-MODIFIED:20241230T100016Z
UID:22036-1736022600-1736028000@salemforallages.org
SUMMARY:Christine Hurley
DESCRIPTION:Christine Hurley loves what she does\, making people laugh! Christine is Matt Siegel’s (Kiss108’s “Matty in the Morning Show’s”) favorite comedian! She has performed several times at the Boston Garden for Denis Leary’s “Comics Come Home” show that supports the Cam Neely Cancer Foundation!
URL:https://salemforallages.org/event/christine-hurley-2/
ATTACH;FMTTYPE=image/png:https://salemforallages.org/wp-content/uploads/2024/12/Christine-Hurley.png
END:VEVENT
BEGIN:VEVENT
DTSTART;TZID=America/New_York:20250104T200000
DTEND;TZID=America/New_York:20250104T220000
DTSTAMP:20260424T205048
CREATED:20241231T100007Z
LAST-MODIFIED:20241231T100007Z
UID:22044-1736020800-1736028000@salemforallages.org
SUMMARY:Direct From Sweden: The Music of ABBA
DESCRIPTION:Dance\, sing along and enjoy the hits such as Dancing Queen\, Chiquitita\, Waterloo\, Mamma Mia\, The Winner Takes it All\, Fernando\, SOS\, Take a Chance\, Money Money Money\, Knowing Me Knowing You\, Super Trouper\, Gimme Gimme Gimme\, Voulez-Vous and many more.
URL:https://salemforallages.org/event/direct-from-sweden-the-music-of-abba/
ATTACH;FMTTYPE=image/png:https://salemforallages.org/wp-content/uploads/2024/12/Visit-MA-Calendar-Squares.png
END:VEVENT
BEGIN:VEVENT
DTSTART;TZID=America/New_York:20250104T180000
DTEND;TZID=America/New_York:20250104T193000
DTSTAMP:20260424T205048
CREATED:20241230T100013Z
LAST-MODIFIED:20241230T100013Z
UID:22034-1736013600-1736019000@salemforallages.org
SUMMARY:Christine Hurley
DESCRIPTION:Christine Hurley loves what she does\, making people laugh! Christine is Matt Siegel’s (Kiss108’s “Matty in the Morning Show’s”) favorite comedian! She has performed several times at the Boston Garden for Denis Leary’s “Comics Come Home” show that supports the Cam Neely Cancer Foundation!
URL:https://salemforallages.org/event/christine-hurley/
ATTACH;FMTTYPE=image/png:https://salemforallages.org/wp-content/uploads/2024/12/Christine-Hurley.png
END:VEVENT
BEGIN:VEVENT
DTSTART;TZID=America/New_York:20250104T113000
DTEND;TZID=America/New_York:20250104T160000
DTSTAMP:20260424T205048
CREATED:20241230T100009Z
LAST-MODIFIED:20241230T100009Z
UID:22032-1735990200-1736006400@salemforallages.org
SUMMARY:Potion Brewing Store Experience
DESCRIPTION:Make your visit to The Good Witch of Salem’s shop memorable by booking our in-store Potion Brewing Experience. This activity is led by our Witch Apprentices. \nActivities are recommended for children ages 3 and up. \n*One appointment slot for each child is required.*
URL:https://salemforallages.org/event/potion-brewing-store-experience-205/
ATTACH;FMTTYPE=image/jpeg:https://salemforallages.org/wp-content/uploads/2024/12/Potion-Brewing-Store-Experience-29.jpg
END:VEVENT
BEGIN:VEVENT
DTSTART;TZID=America/New_York:20250104T113000
DTEND;TZID=America/New_York:20250104T160000
DTSTAMP:20260424T205048
CREATED:20241230T100008Z
LAST-MODIFIED:20241230T100008Z
UID:22031-1735990200-1736006400@salemforallages.org
SUMMARY:Magical Transformations
DESCRIPTION:Through our “Magical Transformations” children embrace their charms and express their individuality. Children can choose to transform into a “Witch” or “Wizard”!
URL:https://salemforallages.org/event/magical-transformations-213/
ATTACH;FMTTYPE=image/png:https://salemforallages.org/wp-content/uploads/2024/08/Transformations.png
END:VEVENT
BEGIN:VEVENT
DTSTART;TZID=America/New_York:20250104T100000
DTEND;TZID=America/New_York:20250104T170000
DTSTAMP:20260424T205048
CREATED:20241230T100007Z
LAST-MODIFIED:20241230T100007Z
UID:22029-1735984800-1736010000@salemforallages.org
SUMMARY:Narwhal: Revealing an Arctic Legend at The PEM
DESCRIPTION:SALEM\, MA –  This fall\, the Peabody Essex Museum (PEM) invites visitors to dive deep into the world of narwhals. These unique ocean dwellers\, sometimes called the “unicorns of the sea\,” spend their lives in the Arctic waters of Canada\, Greenland\, Norway and Russia. Learn about their changing Arctic ecosystem through firsthand accounts of scientists and Inuit community members. Hear soundscapes of the Arctic\, including the evocative vocalizations of the narwhal\, and touch an 8-foot-long cast of a real narwhal tusk. \nOn view in The Dotty Brown Art & Nature Center\, this family-friendly\, interactive exhibition is part of PEM’s interdisciplinary Climate + Environment Initiative. Narwhal: Revealing an Arctic Legend includes contemporary Inuit sculptures and prints and a historic book from PEM’s Phillips Library collection. The exhibition is organized by the Smithsonian Institution Traveling Exhibition Service in collaboration with the Smithsonian’s National Museum of Natural History and is on view at PEM September 28\, 2024 through June 15\, 2025.
URL:https://salemforallages.org/event/narwhal-revealing-an-arctic-legend-at-the-pem-69/
ATTACH;FMTTYPE=image/png:https://salemforallages.org/wp-content/uploads/2024/09/Screen-Shot-2024-08-29-at-11.30.40-AM.png
END:VEVENT
BEGIN:VEVENT
DTSTART;TZID=America/New_York:20250104T100000
DTEND;TZID=America/New_York:20250104T160000
DTSTAMP:20260424T205048
CREATED:20241230T100008Z
LAST-MODIFIED:20241230T100008Z
UID:22030-1735984800-1736006400@salemforallages.org
SUMMARY:Deck the Halls Holiday Celebration
DESCRIPTION:Step into a world of holiday splendor at Hammond Castle Museum’s sixth annual Deck The Halls holiday celebration! Join us for an enchanting visit\, where White Birch and Christmas trees\, lush garlands\, festive wreaths\, and candlelight fill the halls with warmth and seasonal magic. Immerse yourself in a bygone era of opulent tranquility and holiday grandeur that promises to be unlike any other experience on the North Shore.
URL:https://salemforallages.org/event/deck-the-halls-holiday-celebration-24/
ATTACH;FMTTYPE=image/jpeg:https://salemforallages.org/wp-content/uploads/2024/12/File-2221_medium.jpg
END:VEVENT
BEGIN:VEVENT
DTSTART;TZID=America/New_York:20250103T200000
DTEND;TZID=America/New_York:20250103T220000
DTSTAMP:20260424T205048
CREATED:20241229T100020Z
LAST-MODIFIED:20241229T100020Z
UID:22028-1735934400-1735941600@salemforallages.org
SUMMARY:Tony V
DESCRIPTION:Tony V started his stand-up comedy career in 1982 after attending several shows at Boston’s prestigious Comedy Connection. Tony has also produced and written on several shows for network and production companies. Read Tony V’s full bio here: https://offcabot.org/shows/tony-v/
URL:https://salemforallages.org/event/tony-v-2/
ATTACH;FMTTYPE=image/png:https://salemforallages.org/wp-content/uploads/2024/12/Tony-V.png
END:VEVENT
BEGIN:VEVENT
DTSTART;TZID=America/New_York:20250103T113000
DTEND;TZID=America/New_York:20250103T160000
DTSTAMP:20260424T205048
CREATED:20241229T100016Z
LAST-MODIFIED:20241229T100016Z
UID:22025-1735903800-1735920000@salemforallages.org
SUMMARY:Magical Transformations
DESCRIPTION:Through our “Magical Transformations” children embrace their charms and express their individuality. Children can choose to transform into a “Witch” or “Wizard”!
URL:https://salemforallages.org/event/magical-transformations-212/
ATTACH;FMTTYPE=image/png:https://salemforallages.org/wp-content/uploads/2024/08/Transformations.png
END:VEVENT
BEGIN:VEVENT
DTSTART;TZID=America/New_York:20250103T113000
DTEND;TZID=America/New_York:20250103T160000
DTSTAMP:20260424T205048
CREATED:20241229T100016Z
LAST-MODIFIED:20241229T100016Z
UID:22026-1735903800-1735920000@salemforallages.org
SUMMARY:Potion Brewing Store Experience
DESCRIPTION:Make your visit to The Good Witch of Salem’s shop memorable by booking our in-store Potion Brewing Experience. This activity is led by our Witch Apprentices. \nActivities are recommended for children ages 3 and up. \n*One appointment slot for each child is required.*
URL:https://salemforallages.org/event/potion-brewing-store-experience-204/
ATTACH;FMTTYPE=image/jpeg:https://salemforallages.org/wp-content/uploads/2024/12/Potion-Brewing-Store-Experience-28.jpg
END:VEVENT
BEGIN:VEVENT
DTSTART;TZID=America/New_York:20250103T100000
DTEND;TZID=America/New_York:20250103T170000
DTSTAMP:20260424T205048
CREATED:20241229T100015Z
LAST-MODIFIED:20241229T100015Z
UID:22023-1735898400-1735923600@salemforallages.org
SUMMARY:Narwhal: Revealing an Arctic Legend at The PEM
DESCRIPTION:SALEM\, MA –  This fall\, the Peabody Essex Museum (PEM) invites visitors to dive deep into the world of narwhals. These unique ocean dwellers\, sometimes called the “unicorns of the sea\,” spend their lives in the Arctic waters of Canada\, Greenland\, Norway and Russia. Learn about their changing Arctic ecosystem through firsthand accounts of scientists and Inuit community members. Hear soundscapes of the Arctic\, including the evocative vocalizations of the narwhal\, and touch an 8-foot-long cast of a real narwhal tusk. \nOn view in The Dotty Brown Art & Nature Center\, this family-friendly\, interactive exhibition is part of PEM’s interdisciplinary Climate + Environment Initiative. Narwhal: Revealing an Arctic Legend includes contemporary Inuit sculptures and prints and a historic book from PEM’s Phillips Library collection. The exhibition is organized by the Smithsonian Institution Traveling Exhibition Service in collaboration with the Smithsonian’s National Museum of Natural History and is on view at PEM September 28\, 2024 through June 15\, 2025.
URL:https://salemforallages.org/event/narwhal-revealing-an-arctic-legend-at-the-pem-68/
ATTACH;FMTTYPE=image/png:https://salemforallages.org/wp-content/uploads/2024/09/Screen-Shot-2024-08-29-at-11.30.40-AM.png
END:VEVENT
BEGIN:VEVENT
DTSTART;TZID=America/New_York:20250103T100000
DTEND;TZID=America/New_York:20250103T160000
DTSTAMP:20260424T205048
CREATED:20241229T100015Z
LAST-MODIFIED:20241229T100015Z
UID:22024-1735898400-1735920000@salemforallages.org
SUMMARY:Deck the Halls Holiday Celebration
DESCRIPTION:Step into a world of holiday splendor at Hammond Castle Museum’s sixth annual Deck The Halls holiday celebration! Join us for an enchanting visit\, where White Birch and Christmas trees\, lush garlands\, festive wreaths\, and candlelight fill the halls with warmth and seasonal magic. Immerse yourself in a bygone era of opulent tranquility and holiday grandeur that promises to be unlike any other experience on the North Shore.
URL:https://salemforallages.org/event/deck-the-halls-holiday-celebration-23/
ATTACH;FMTTYPE=image/jpeg:https://salemforallages.org/wp-content/uploads/2024/12/File-2221_medium.jpg
END:VEVENT
BEGIN:VEVENT
DTSTART;TZID=America/New_York:20250103T080000
DTEND;TZID=America/New_York:20250103T170000
DTSTAMP:20260424T205048
CREATED:20241229T100011Z
LAST-MODIFIED:20241229T100011Z
UID:22021-1735891200-1735923600@salemforallages.org
SUMMARY:Tony V
DESCRIPTION:Tony V started his stand-up comedy career in 1982 after attending several shows at Boston’s prestigious Comedy Connection. Tony has also produced and written on several shows for network and production companies. Read Tony V’s full bio here: https://offcabot.org/shows/tony-v/
URL:https://salemforallages.org/event/tony-v/
ATTACH;FMTTYPE=image/png:https://salemforallages.org/wp-content/uploads/2024/12/Tony-V.png
END:VEVENT
BEGIN:VEVENT
DTSTART;TZID=America/New_York:20250102T170000
DTEND;TZID=America/New_York:20250102T200000
DTSTAMP:20260424T205048
CREATED:20241229T100011Z
LAST-MODIFIED:20241229T100011Z
UID:22020-1735837200-1735848000@salemforallages.org
SUMMARY:Magic Tarot at Witch Pix
DESCRIPTION:Capture the magic of the tarot in a whole new way with our Witch Pix Tarot Green Screen Photography! Step into a world where ancient mysticism meets modern technology. Whether you’re a seasoned tarot reader or just want to have some mystical fun\, our setup lets you pose as a card straight out of the deck. With stunning virtual backdrops and fun props\, you can channel your inner High Priestess or embrace the mystery of the Moon card. Perfect for one person per Tarot card!\n\nAvailable in October Thursday\, Friday and Sunday 5-8pm\nhttps://www.witchpix.com/magicktarot
URL:https://salemforallages.org/event/magic-tarot-at-witch-pix-21/
END:VEVENT
BEGIN:VEVENT
DTSTART;TZID=America/New_York:20250102T113000
DTEND;TZID=America/New_York:20250102T160000
DTSTAMP:20260424T205048
CREATED:20241229T100008Z
LAST-MODIFIED:20241229T100008Z
UID:22018-1735817400-1735833600@salemforallages.org
SUMMARY:Potion Brewing Store Experience
DESCRIPTION:Make your visit to The Good Witch of Salem’s shop memorable by booking our in-store Potion Brewing Experience. This activity is led by our Witch Apprentices. \nActivities are recommended for children ages 3 and up. \n*One appointment slot for each child is required.*
URL:https://salemforallages.org/event/potion-brewing-store-experience-203/
ATTACH;FMTTYPE=image/jpeg:https://salemforallages.org/wp-content/uploads/2024/12/Potion-Brewing-Store-Experience-27.jpg
END:VEVENT
BEGIN:VEVENT
DTSTART;TZID=America/New_York:20250102T113000
DTEND;TZID=America/New_York:20250102T160000
DTSTAMP:20260424T205048
CREATED:20241229T100007Z
LAST-MODIFIED:20241229T100007Z
UID:22017-1735817400-1735833600@salemforallages.org
SUMMARY:Magical Transformations
DESCRIPTION:Through our “Magical Transformations” children embrace their charms and express their individuality. Children can choose to transform into a “Witch” or “Wizard”!
URL:https://salemforallages.org/event/magical-transformations-211/
ATTACH;FMTTYPE=image/png:https://salemforallages.org/wp-content/uploads/2024/08/Transformations.png
END:VEVENT
BEGIN:VEVENT
DTSTART;TZID=America/New_York:20250102T100000
DTEND;TZID=America/New_York:20250102T170000
DTSTAMP:20260424T205048
CREATED:20241228T100035Z
LAST-MODIFIED:20241228T100035Z
UID:22015-1735812000-1735837200@salemforallages.org
SUMMARY:Narwhal: Revealing an Arctic Legend at The PEM
DESCRIPTION:SALEM\, MA –  This fall\, the Peabody Essex Museum (PEM) invites visitors to dive deep into the world of narwhals. These unique ocean dwellers\, sometimes called the “unicorns of the sea\,” spend their lives in the Arctic waters of Canada\, Greenland\, Norway and Russia. Learn about their changing Arctic ecosystem through firsthand accounts of scientists and Inuit community members. Hear soundscapes of the Arctic\, including the evocative vocalizations of the narwhal\, and touch an 8-foot-long cast of a real narwhal tusk. \nOn view in The Dotty Brown Art & Nature Center\, this family-friendly\, interactive exhibition is part of PEM’s interdisciplinary Climate + Environment Initiative. Narwhal: Revealing an Arctic Legend includes contemporary Inuit sculptures and prints and a historic book from PEM’s Phillips Library collection. The exhibition is organized by the Smithsonian Institution Traveling Exhibition Service in collaboration with the Smithsonian’s National Museum of Natural History and is on view at PEM September 28\, 2024 through June 15\, 2025.
URL:https://salemforallages.org/event/narwhal-revealing-an-arctic-legend-at-the-pem-67/
ATTACH;FMTTYPE=image/png:https://salemforallages.org/wp-content/uploads/2024/09/Screen-Shot-2024-08-29-at-11.30.40-AM.png
END:VEVENT
BEGIN:VEVENT
DTSTART;TZID=America/New_York:20250102T100000
DTEND;TZID=America/New_York:20250102T160000
DTSTAMP:20260424T205048
CREATED:20241229T100007Z
LAST-MODIFIED:20241229T100007Z
UID:22016-1735812000-1735833600@salemforallages.org
SUMMARY:Deck the Halls Holiday Celebration
DESCRIPTION:Step into a world of holiday splendor at Hammond Castle Museum’s sixth annual Deck The Halls holiday celebration! Join us for an enchanting visit\, where White Birch and Christmas trees\, lush garlands\, festive wreaths\, and candlelight fill the halls with warmth and seasonal magic. Immerse yourself in a bygone era of opulent tranquility and holiday grandeur that promises to be unlike any other experience on the North Shore.
URL:https://salemforallages.org/event/deck-the-halls-holiday-celebration-22/
ATTACH;FMTTYPE=image/jpeg:https://salemforallages.org/wp-content/uploads/2024/12/File-2221_medium.jpg
END:VEVENT
BEGIN:VEVENT
DTSTART;TZID=America/New_York:20250101T113000
DTEND;TZID=America/New_York:20250101T153000
DTSTAMP:20260424T205048
CREATED:20241228T100027Z
LAST-MODIFIED:20241228T100027Z
UID:22010-1735731000-1735745400@salemforallages.org
SUMMARY:Magical Transformations
DESCRIPTION:Through our “Magical Transformations” children embrace their charms and express their individuality. Children can choose to transform into a “Witch” or “Wizard”!
URL:https://salemforallages.org/event/magical-transformations-210/
ATTACH;FMTTYPE=image/png:https://salemforallages.org/wp-content/uploads/2024/08/Transformations-1.png
END:VEVENT
BEGIN:VEVENT
DTSTART;TZID=America/New_York:20250101T113000
DTEND;TZID=America/New_York:20250101T150000
DTSTAMP:20260424T205048
CREATED:20241228T100031Z
LAST-MODIFIED:20241228T100031Z
UID:22013-1735731000-1735743600@salemforallages.org
SUMMARY:Potion Brewing Store Experience
DESCRIPTION:Make your visit to The Good Witch of Salem’s shop memorable by booking our in-store Potion Brewing Experience. This activity is led by our Witch Apprentices. \nActivities are recommended for children ages 3 and up. \n*One appointment slot for each child is required.*
URL:https://salemforallages.org/event/potion-brewing-store-experience-202/
ATTACH;FMTTYPE=image/jpeg:https://salemforallages.org/wp-content/uploads/2024/12/Potion-Brewing-Store-Experience-26.jpg
END:VEVENT
BEGIN:VEVENT
DTSTART;TZID=America/New_York:20250101T113000
DTEND;TZID=America/New_York:20250101T150000
DTSTAMP:20260424T205048
CREATED:20241228T100027Z
LAST-MODIFIED:20241228T100027Z
UID:22011-1735731000-1735743600@salemforallages.org
SUMMARY:Stop In For a Spell: DIY Potion Bar
DESCRIPTION:Fly in to The Good Witch and Stay for a Spell! Mix up your very own potion at our Potion Bar! \nDrop Ins begin at store opening and end 30 minutes before closing and are offered on a first come\, first serve basis. Purchase online or pay in store. \nDrop Ins may be unavailable during a birthday party or store event. Please call ahead\, or check our posted hours on Google. \nUnder age 4 may participate with the help of a supervising adult.
URL:https://salemforallages.org/event/stop-in-for-a-spell-diy-potion-bar-186/
ATTACH;FMTTYPE=image/jpeg:https://salemforallages.org/wp-content/uploads/2024/12/Stop-In-For-a-Spell-SQUARE-9.jpg
END:VEVENT
BEGIN:VEVENT
DTSTART;TZID=America/New_York:20250101T110000
DTEND;TZID=America/New_York:20250101T233000
DTSTAMP:20260424T205048
CREATED:20241228T100023Z
LAST-MODIFIED:20241228T100023Z
UID:22008-1735729200-1735774200@salemforallages.org
SUMMARY:Frozen Fire Festival
DESCRIPTION:Frozen Fire Festival continues to be a centerpiece for dynamic winter entertainment\, artisan shopping\, hospitality and craft libations. Immerse yourself in mesmerizing fire and ice installations while taking in captivating fire and cirque performances. This vibrant destination offers an unforgettable experience for the senses.
URL:https://salemforallages.org/event/frozen-fire-festival-22/
ATTACH;FMTTYPE=image/jpeg:https://salemforallages.org/wp-content/uploads/2024/12/Orissa4-scaled-7.jpg
END:VEVENT
BEGIN:VEVENT
DTSTART;TZID=America/New_York:20250101T100000
DTEND;TZID=America/New_York:20250101T160000
DTSTAMP:20260424T205048
CREATED:20241228T100022Z
LAST-MODIFIED:20241228T100022Z
UID:22007-1735725600-1735747200@salemforallages.org
SUMMARY:Deck the Halls Holiday Celebration
DESCRIPTION:Step into a world of holiday splendor at Hammond Castle Museum’s sixth annual Deck The Halls holiday celebration! Join us for an enchanting visit\, where White Birch and Christmas trees\, lush garlands\, festive wreaths\, and candlelight fill the halls with warmth and seasonal magic. Immerse yourself in a bygone era of opulent tranquility and holiday grandeur that promises to be unlike any other experience on the North Shore.
URL:https://salemforallages.org/event/deck-the-halls-holiday-celebration-21/
ATTACH;FMTTYPE=image/jpeg:https://salemforallages.org/wp-content/uploads/2024/12/File-2221_medium.jpg
END:VEVENT
BEGIN:VEVENT
DTSTART;TZID=America/New_York:20241231T210000
DTEND;TZID=America/New_York:20250101T010000
DTSTAMP:20260424T205048
CREATED:20241228T100018Z
LAST-MODIFIED:20241228T100018Z
UID:22004-1735678800-1735693200@salemforallages.org
SUMMARY:New Year’s Eve at Hammond Castle Museum
DESCRIPTION:Ring in 2025 in regal splendor! Step into a world of enchantment as Hammond Castle Museum’s Great Hall transforms into the ultimate New Year’s Eve destination with our returning host Bruce Jaques. Dance the night away\, indulge in gourmet treats\, and uncover the mysteries of the Castle’s unique chambers. As the clock strikes twelve\, join us for a spectacular champagne toast and witness our dazzling New Year’s illumination.
URL:https://salemforallages.org/event/new-years-eve-at-hammond-castle-museum/
ATTACH;FMTTYPE=image/jpeg:https://salemforallages.org/wp-content/uploads/2024/12/P1060536-scaled-e1726076286597.jpg
END:VEVENT
END:VCALENDAR