BEGIN:VCALENDAR
VERSION:2.0
PRODID:-//Salem for All Ages - ECPv6.15.18//NONSGML v1.0//EN
CALSCALE:GREGORIAN
METHOD:PUBLISH
X-ORIGINAL-URL:https://salemforallages.org
X-WR-CALDESC:Events for Salem for All Ages
REFRESH-INTERVAL;VALUE=DURATION:PT1H
X-Robots-Tag:noindex
X-PUBLISHED-TTL:PT1H
BEGIN:VTIMEZONE
TZID:America/New_York
BEGIN:DAYLIGHT
TZOFFSETFROM:-0500
TZOFFSETTO:-0400
TZNAME:EDT
DTSTART:20240310T070000
END:DAYLIGHT
BEGIN:STANDARD
TZOFFSETFROM:-0400
TZOFFSETTO:-0500
TZNAME:EST
DTSTART:20241103T060000
END:STANDARD
BEGIN:DAYLIGHT
TZOFFSETFROM:-0500
TZOFFSETTO:-0400
TZNAME:EDT
DTSTART:20250309T070000
END:DAYLIGHT
BEGIN:STANDARD
TZOFFSETFROM:-0400
TZOFFSETTO:-0500
TZNAME:EST
DTSTART:20251102T060000
END:STANDARD
BEGIN:DAYLIGHT
TZOFFSETFROM:-0500
TZOFFSETTO:-0400
TZNAME:EDT
DTSTART:20260308T070000
END:DAYLIGHT
BEGIN:STANDARD
TZOFFSETFROM:-0400
TZOFFSETTO:-0500
TZNAME:EST
DTSTART:20261101T060000
END:STANDARD
END:VTIMEZONE
BEGIN:VEVENT
DTSTART;TZID=America/New_York:20250706T113000
DTEND;TZID=America/New_York:20250706T153000
DTSTAMP:20260424T155709
CREATED:20250703T090016Z
LAST-MODIFIED:20250703T090016Z
UID:24443-1751801400-1751815800@salemforallages.org
SUMMARY:Magical Transformations
DESCRIPTION:Through our “Magical Transformations” children embrace their charms and express their individuality. Children can choose to transform into a “Witch” or “Wizard”!
URL:https://salemforallages.org/event/magical-transformations-386/
ATTACH;FMTTYPE=image/jpeg:https://salemforallages.org/wp-content/uploads/2025/07/Magicaltransformations-1.jpg
END:VEVENT
BEGIN:VEVENT
DTSTART;TZID=America/New_York:20250706T120000
DTEND;TZID=America/New_York:20250706T130000
DTSTAMP:20260424T155709
CREATED:20250703T090028Z
LAST-MODIFIED:20250703T090028Z
UID:24449-1751803200-1751806800@salemforallages.org
SUMMARY:Un recorrido por La Casa de los Siete Tejados en español
DESCRIPTION:Sundays in July at 12 P.M. (July 6\, 13\, 20\, and 27)\nCost: $25 \n¡Un recorrido por La Casa de los Siete Tejados en español! \nLa Experiencia de Visita Guiada incluye: \nUn recorrido de hasta 60 minutos por The House of the Seven Gables con un intérprete profesional\nAcceso a un recorrido de audio de 30 minutos para su propio dispositivo electrónico sobre los terrenos históricos\nTiempo de exploración en el lugar de nacimiento\, la casa de conteo y la tienda del museo de Nathaniel Hawthorne\nUn mapa único de nuestro sitio histórico.\nLa compra de su boleto es un acuerdo con las siguientes exenciones d
URL:https://salemforallages.org/event/un-recorrido-por-la-casa-de-los-siete-tejados-en-espanol/
ATTACH;FMTTYPE=image/jpeg:https://salemforallages.org/wp-content/uploads/2025/07/Screenshot-2025-06-24-131531.jpg
END:VEVENT
BEGIN:VEVENT
DTSTART;TZID=America/New_York:20250706T180000
DTEND;TZID=America/New_York:20250706T203000
DTSTAMP:20260424T155709
CREATED:20250703T090033Z
LAST-MODIFIED:20250703T090033Z
UID:24451-1751824800-1751833800@salemforallages.org
SUMMARY:Firebird Pops Orchestra: Sea to Shining Sea @ Hammond Castle
DESCRIPTION:*Rain or Shine. Performance: 6:30 pm / Doors: 6:00 pm. \nCelebrate Independence Day weekend with a moving musical journey across the American landscape – from its Indigenous roots to the many cultures that have shaped its sound. Set against the backdrop of the Atlantic at the historic Hammond Castle Museum\, this outdoor performance features a rich blend of The Firebird Pops strings and brass\, led by conductor Brendan J. Kenney. The program includes a special appearance by Elke Jahns-Harms\, making her Firebird debut on Native American flutes. Returning vocalists Fred C. VanNess\, Jr.\, and Mara Bo
URL:https://salemforallages.org/event/firebird-pops-orchestra-sea-to-shining-sea-hammond-castle/
ATTACH;FMTTYPE=image/jpeg:https://salemforallages.org/wp-content/uploads/2025/07/STSS25.jpg
END:VEVENT
BEGIN:VEVENT
DTSTART;TZID=America/New_York:20250707T090000
DTEND;TZID=America/New_York:20250707T120000
DTSTAMP:20260424T155709
CREATED:20250703T090036Z
LAST-MODIFIED:20250703T090036Z
UID:24453-1751878800-1751889600@salemforallages.org
SUMMARY:Kids’ Summer Program at NSGS (10 years old & up)!
DESCRIPTION:Join us for a week of artistic enrichment and engagement at North Shore Glass School! For kids age 10+\, students will be welcomed at our glass studio at 16 Proctor Street for a week of glassblowing\, flameworking\, fused glass\, stained glass and sandblasting. Projects will include but are not limited to glassblowing paperweights and cups\, fused glass bowls and suncatchers\, flameworking pendants and small figurines\, stained glass window pieces and boxes and sandblasted cups and vases.
URL:https://salemforallages.org/event/kids-summer-program-at-nsgs-10-years-old-up-20/
ATTACH;FMTTYPE=image/jpeg:https://salemforallages.org/wp-content/uploads/2025/07/IMG_5288-scaled-1.jpg
END:VEVENT
BEGIN:VEVENT
DTSTART;TZID=America/New_York:20250707T090000
DTEND;TZID=America/New_York:20250707T120000
DTSTAMP:20260424T155709
CREATED:20250704T090005Z
LAST-MODIFIED:20250704T090005Z
UID:24456-1751878800-1751889600@salemforallages.org
SUMMARY:Junior Kids’ Glass Summer Program at Artist Row!
DESCRIPTION:For kids ages 7 to 10\, we welcome you at our new Artist Row studio in downtown Salem! Join us for a week of glass art exploration. In this program\, students will learn about the fine art of glass and work on thoughtfully constructed and age-appropriate projects in fused glass\, stained glass\, sandblasting\, sea glass sculpting\, and glass painting.
URL:https://salemforallages.org/event/junior-kids-glass-summer-program-at-artist-row-16/
ATTACH;FMTTYPE=image/jpeg:https://salemforallages.org/wp-content/uploads/2025/07/IMG_3862-scaled-1.jpg
END:VEVENT
BEGIN:VEVENT
DTSTART;TZID=America/New_York:20250707T090000
DTEND;TZID=America/New_York:20250707T120000
DTSTAMP:20260424T155709
CREATED:20250704T090011Z
LAST-MODIFIED:20250704T090011Z
UID:24458-1751878800-1751889600@salemforallages.org
SUMMARY:Summer Youth: Fabric Printmaking
DESCRIPTION:Students will learn and use relief print\, stencil\, and pattern techniques for printing on fabric. In this class they will create two projects\, project choices include: T-shirt; drawstring bag; stuffed doll; tea towel. In addition to creating and printing their designs\, students will have the opportunity to embellish their projects with embroidery and hand painting. \nAges 8+ (Classes will be tailored to participants) \nClass runs July 7 – July 11.
URL:https://salemforallages.org/event/summer-youth-fabric-printmaking/
ATTACH;FMTTYPE=image/jpeg:https://salemforallages.org/wp-content/uploads/2025/07/IMG_9348.jpeg
END:VEVENT
BEGIN:VEVENT
DTSTART;TZID=America/New_York:20250707T100000
DTEND;TZID=America/New_York:20250707T110000
DTSTAMP:20260424T155709
CREATED:20250704T090015Z
LAST-MODIFIED:20250704T090015Z
UID:24460-1751882400-1751886000@salemforallages.org
SUMMARY:Adopt a Shark
DESCRIPTION:Workshop Time: 10:00AM – 11:00AM\nLocation: The Good Witch of Salem @ 2 North Street\, Salem MA 01970\nHosted By: Witch Apprentices \nLet’s celebrate Shark Week in Salem\, MA! Children will stuff their own shark plush\, create accessories\, set intentions\, and learn about crystal magic! \nThis workshop is limited to 8 children\, pre-registration is required. \nAll ages are welcome! Children age three (3) and up may be dropped off with a signed Consent Form. Any child under the age of three must have an adult alongside participating. We thank you for encouraging your child to take part in magical play!
URL:https://salemforallages.org/event/adopt-a-shark-4/
ATTACH;FMTTYPE=image/jpeg:https://salemforallages.org/wp-content/uploads/2025/07/July-and-August-Events-2025-SQUARE.zip-FINAL-Adopt-Shark-1.jpg
END:VEVENT
BEGIN:VEVENT
DTSTART;TZID=America/New_York:20250707T113000
DTEND;TZID=America/New_York:20250707T160000
DTSTAMP:20260424T155709
CREATED:20250704T090019Z
LAST-MODIFIED:20250704T090019Z
UID:24462-1751887800-1751904000@salemforallages.org
SUMMARY:Magical Transformations
DESCRIPTION:Through our “Magical Transformations” children embrace their charms and express their individuality. Children can choose to transform into a “Witch” or “Wizard”!
URL:https://salemforallages.org/event/magical-transformations-387/
ATTACH;FMTTYPE=image/jpeg:https://salemforallages.org/wp-content/uploads/2025/07/Magicaltransformations-2.jpg
END:VEVENT
BEGIN:VEVENT
DTSTART;TZID=America/New_York:20250707T113000
DTEND;TZID=America/New_York:20250707T160000
DTSTAMP:20260424T155709
CREATED:20250704T090023Z
LAST-MODIFIED:20250704T090023Z
UID:24464-1751887800-1751904000@salemforallages.org
SUMMARY:Potion Brewing Store Experience
DESCRIPTION:Make your visit to The Good Witch of Salem’s shop memorable by booking our in-store Potion Brewing Experience. This activity is led by our Witch Apprentices. \nActivities are recommended for children ages 3 and up. \n*One appointment slot for each child is required.*
URL:https://salemforallages.org/event/potion-brewing-store-experience-380/
ATTACH;FMTTYPE=image/jpeg:https://salemforallages.org/wp-content/uploads/2025/07/Final-Potion-Master-1-1-1.jpg
END:VEVENT
BEGIN:VEVENT
DTSTART;TZID=America/New_York:20250707T120000
DTEND;TZID=America/New_York:20250707T160000
DTSTAMP:20260424T155709
CREATED:20250704T090026Z
LAST-MODIFIED:20250704T090026Z
UID:24466-1751889600-1751904000@salemforallages.org
SUMMARY:Personal Rainbow Aura Photos
DESCRIPTION:What would the world become if everyone saw themselves as an energetic being? Each Personal Rainbow appointment comes with an instant-film aura photo and personalized reading of the colors and patterns. Bring a buddy at no extra charge to see your vibe as a dynamic duo! Book ahead as walk-ins fill up quickly\, appointments available Thursday-Monday.
URL:https://salemforallages.org/event/personal-rainbow-aura-photos-31/
ATTACH;FMTTYPE=image/jpeg:https://salemforallages.org/wp-content/uploads/2025/07/aura-photos-hauswitch-salem-3.jpg
END:VEVENT
BEGIN:VEVENT
DTSTART;TZID=America/New_York:20250707T180000
DTEND;TZID=America/New_York:20250707T200000
DTSTAMP:20260424T155709
CREATED:20250704T090030Z
LAST-MODIFIED:20250704T090030Z
UID:24468-1751911200-1751918400@salemforallages.org
SUMMARY:Sea Witch Ball Workshops
DESCRIPTION:Whether you’re visiting Salem with your witch family or just love (witch)crafting\, join The Sea Wych Salem for a magical experience in Witch City. The Sea Wych Salem will present the history and lore behind the witch ball\, and then guide you as you create your own to protect your home\, welcome in joy\, banish negativity\, or simply create a pretty souvenir for display in your home. These witch balls are further charged with ocean elements to boost your magic. Spend some time with us and bring home your own unique and uniquely crafted souvenir.
URL:https://salemforallages.org/event/sea-witch-ball-workshops-6/
ATTACH;FMTTYPE=image/jpeg:https://salemforallages.org/wp-content/uploads/2025/07/Screenshot-2025-04-26-152037-1.jpg
END:VEVENT
BEGIN:VEVENT
DTSTART;TZID=America/New_York:20250707T190000
DTEND;TZID=America/New_York:20250707T210000
DTSTAMP:20260424T155709
CREATED:20250704T090034Z
LAST-MODIFIED:20250704T090034Z
UID:24470-1751914800-1751922000@salemforallages.org
SUMMARY:Bingo with Great Gaucho
DESCRIPTION:Join us at the Taproom every Monday night for FREE BINGO with Greta Gaucho at 7:00 pm. \nDot it if ya got it for four rounds to win a Far From The Tree gift card and a prize from the fabulous prize basket. \nThe Far From the Tree taproom has an open food policy. (Bring your own food)
URL:https://salemforallages.org/event/bingo-with-great-gaucho-19/
ATTACH;FMTTYPE=image/jpeg:https://salemforallages.org/wp-content/uploads/2025/07/Add-a-subheading.jpg
END:VEVENT
BEGIN:VEVENT
DTSTART;TZID=America/New_York:20250708T080000
DTEND;TZID=America/New_York:20250708T170000
DTSTAMP:20260424T155709
CREATED:20250704T090038Z
LAST-MODIFIED:20250704T090038Z
UID:24472-1751961600-1751994000@salemforallages.org
SUMMARY:Ginger Cajun Seafood Pride Nights
DESCRIPTION:Ginger has a Pride Night every second and fourth Wednesdays of the month from 7 to 10. It’s a safe place for LGBT+ people and allies to come\, hang out and have fun. They also have a special drink list for it.
URL:https://salemforallages.org/event/ginger-cajun-seafood-pride-nights-26/
ATTACH;FMTTYPE=image/jpeg:https://salemforallages.org/wp-content/uploads/2023/05/Pride-Flag.jpg
END:VEVENT
BEGIN:VEVENT
DTSTART;TZID=America/New_York:20250708T090000
DTEND;TZID=America/New_York:20250708T120000
DTSTAMP:20260424T155709
CREATED:20250704T090039Z
LAST-MODIFIED:20250704T090039Z
UID:24473-1751965200-1751976000@salemforallages.org
SUMMARY:Kids’ Summer Program at NSGS (10 years old & up)!
DESCRIPTION:Join us for a week of artistic enrichment and engagement at North Shore Glass School! For kids age 10+\, students will be welcomed at our glass studio at 16 Proctor Street for a week of glassblowing\, flameworking\, fused glass\, stained glass and sandblasting. Projects will include but are not limited to glassblowing paperweights and cups\, fused glass bowls and suncatchers\, flameworking pendants and small figurines\, stained glass window pieces and boxes and sandblasted cups and vases.
URL:https://salemforallages.org/event/kids-summer-program-at-nsgs-10-years-old-up-21/
ATTACH;FMTTYPE=image/jpeg:https://salemforallages.org/wp-content/uploads/2025/07/IMG_5288-scaled-2.jpg
END:VEVENT
BEGIN:VEVENT
DTSTART;TZID=America/New_York:20250708T090000
DTEND;TZID=America/New_York:20250708T120000
DTSTAMP:20260424T155709
CREATED:20250704T090043Z
LAST-MODIFIED:20250704T090043Z
UID:24475-1751965200-1751976000@salemforallages.org
SUMMARY:Junior Kids’ Glass Summer Program at Artist Row!
DESCRIPTION:For kids ages 7 to 10\, we welcome you at our new Artist Row studio in downtown Salem! Join us for a week of glass art exploration. In this program\, students will learn about the fine art of glass and work on thoughtfully constructed and age-appropriate projects in fused glass\, stained glass\, sandblasting\, sea glass sculpting\, and glass painting.
URL:https://salemforallages.org/event/junior-kids-glass-summer-program-at-artist-row-17/
ATTACH;FMTTYPE=image/jpeg:https://salemforallages.org/wp-content/uploads/2025/07/IMG_3862-scaled-2.jpg
END:VEVENT
BEGIN:VEVENT
DTSTART;TZID=America/New_York:20250708T090000
DTEND;TZID=America/New_York:20250708T120000
DTSTAMP:20260424T155709
CREATED:20250704T090047Z
LAST-MODIFIED:20250704T090047Z
UID:24477-1751965200-1751976000@salemforallages.org
SUMMARY:Summer Youth: Fabric Printmaking
DESCRIPTION:Students will learn and use relief print\, stencil\, and pattern techniques for printing on fabric. In this class they will create two projects\, project choices include: T-shirt; drawstring bag; stuffed doll; tea towel. In addition to creating and printing their designs\, students will have the opportunity to embellish their projects with embroidery and hand painting. \nAges 8+ (Classes will be tailored to participants) \nClass runs July 7 – July 11.
URL:https://salemforallages.org/event/summer-youth-fabric-printmaking-2/
ATTACH;FMTTYPE=image/jpeg:https://salemforallages.org/wp-content/uploads/2025/07/IMG_9348.jpeg
END:VEVENT
BEGIN:VEVENT
DTSTART;TZID=America/New_York:20250708T113000
DTEND;TZID=America/New_York:20250708T140000
DTSTAMP:20260424T155709
CREATED:20250705T090034Z
LAST-MODIFIED:20250705T090034Z
UID:24484-1751974200-1751983200@salemforallages.org
SUMMARY:The Good Witch of Salem’s Ocean Potion
DESCRIPTION:Stop In For a Spell: DIY Potion Bar \nFly into The Good Witch and Stay for a Spell! Step into the DIY Good Witch of Salem’s Potion Bar\, where you can mix your very own magical potion creations! Choose your ingredients\, sprinkle in magical moondust\, add in your golden heart intentions\, and seal with a special charm to take home the enchantment!  \nBook your appointment online to visit our potion bar! Advanced reservations required by booking online during peek months (September- October). Please note that our space is cozy and sweet! We allow one adult per a reservation to attend the potion bar e
URL:https://salemforallages.org/event/the-good-witch-of-salems-ocean-potion-2/
ATTACH;FMTTYPE=image/jpeg:https://salemforallages.org/wp-content/uploads/2025/07/July-and-August-Events-2025-SQUARE.zip-FINAL-Ocean-Slime-Potions-1-1.jpg
END:VEVENT
BEGIN:VEVENT
DTSTART;TZID=America/New_York:20250708T113000
DTEND;TZID=America/New_York:20250708T150000
DTSTAMP:20260424T155709
CREATED:20250704T090051Z
LAST-MODIFIED:20250704T090051Z
UID:24480-1751974200-1751986800@salemforallages.org
SUMMARY:Stop In For a Spell: DIY Potion Bar
DESCRIPTION:Fly in to The Good Witch and Stay for a Spell! Mix up your very own potion at our Potion Bar! \nDrop Ins begin at store opening and end 30 minutes before closing and are offered on a first come\, first serve basis. Purchase online or pay in store. \nDrop Ins may be unavailable during a birthday party or store event. Please call ahead\, or check our posted hours on Google. \nUnder age 4 may participate with the help of a supervising adult.
URL:https://salemforallages.org/event/stop-in-for-a-spell-diy-potion-bar-255/
ATTACH;FMTTYPE=image/jpeg:https://salemforallages.org/wp-content/uploads/2025/07/Potion-Bar-2-1.jpg
END:VEVENT
BEGIN:VEVENT
DTSTART;TZID=America/New_York:20250708T113000
DTEND;TZID=America/New_York:20250708T150000
DTSTAMP:20260424T155709
CREATED:20250705T090016Z
LAST-MODIFIED:20250705T090016Z
UID:24482-1751974200-1751986800@salemforallages.org
SUMMARY:Potion Brewing Store Experience
DESCRIPTION:Make your visit to The Good Witch of Salem’s shop memorable by booking our in-store Potion Brewing Experience. This activity is led by our Witch Apprentices. \nActivities are recommended for children ages 3 and up. \n*One appointment slot for each child is required.*
URL:https://salemforallages.org/event/potion-brewing-store-experience-381/
ATTACH;FMTTYPE=image/jpeg:https://salemforallages.org/wp-content/uploads/2025/07/Final-Potion-Master-1-2.jpg
END:VEVENT
BEGIN:VEVENT
DTSTART;TZID=America/New_York:20250708T113000
DTEND;TZID=America/New_York:20250708T153000
DTSTAMP:20260424T155709
CREATED:20250704T090048Z
LAST-MODIFIED:20250704T090048Z
UID:24478-1751974200-1751988600@salemforallages.org
SUMMARY:Magical Transformations
DESCRIPTION:Through our “Magical Transformations” children embrace their charms and express their individuality. Children can choose to transform into a “Witch” or “Wizard”!
URL:https://salemforallages.org/event/magical-transformations-388/
ATTACH;FMTTYPE=image/jpeg:https://salemforallages.org/wp-content/uploads/2025/07/Magicaltransformations-3.jpg
END:VEVENT
BEGIN:VEVENT
DTSTART;TZID=America/New_York:20250708T193000
DTEND;TZID=America/New_York:20250708T210000
DTSTAMP:20260424T155709
CREATED:20250705T090114Z
LAST-MODIFIED:20250705T090114Z
UID:24486-1752003000-1752008400@salemforallages.org
SUMMARY:Trivia Time
DESCRIPTION:General knowledge trivia every Tuesday at 7:30. Free to play. Win a Flying Saucer gift card!
URL:https://salemforallages.org/event/trivia-time-23/
ATTACH;FMTTYPE=image/jpeg:https://salemforallages.org/wp-content/uploads/2025/01/trivia-aframe-Medium.jpeg
END:VEVENT
BEGIN:VEVENT
DTSTART;TZID=America/New_York:20250708T200000
DTEND;TZID=America/New_York:20250708T230000
DTSTAMP:20260424T155709
CREATED:20250705T090115Z
LAST-MODIFIED:20250705T090115Z
UID:24487-1752004800-1752015600@salemforallages.org
SUMMARY:Not Your Average Trivia
DESCRIPTION:Weekly themed trivia that isn’t like any other.
URL:https://salemforallages.org/event/not-your-average-trivia-5/
ATTACH;FMTTYPE=image/jpeg:https://salemforallages.org/wp-content/uploads/2025/06/IMG_1911.jpeg
END:VEVENT
BEGIN:VEVENT
DTSTART;TZID=America/New_York:20250709T090000
DTEND;TZID=America/New_York:20250709T120000
DTSTAMP:20260424T155709
CREATED:20250705T090116Z
LAST-MODIFIED:20250705T090116Z
UID:24488-1752051600-1752062400@salemforallages.org
SUMMARY:Kids’ Summer Program at NSGS (10 years old & up)!
DESCRIPTION:Join us for a week of artistic enrichment and engagement at North Shore Glass School! For kids age 10+\, students will be welcomed at our glass studio at 16 Proctor Street for a week of glassblowing\, flameworking\, fused glass\, stained glass and sandblasting. Projects will include but are not limited to glassblowing paperweights and cups\, fused glass bowls and suncatchers\, flameworking pendants and small figurines\, stained glass window pieces and boxes and sandblasted cups and vases.
URL:https://salemforallages.org/event/kids-summer-program-at-nsgs-10-years-old-up-22/
ATTACH;FMTTYPE=image/jpeg:https://salemforallages.org/wp-content/uploads/2025/07/IMG_5288-scaled-3.jpg
END:VEVENT
BEGIN:VEVENT
DTSTART;TZID=America/New_York:20250709T090000
DTEND;TZID=America/New_York:20250709T120000
DTSTAMP:20260424T155710
CREATED:20250705T090121Z
LAST-MODIFIED:20250705T090121Z
UID:24490-1752051600-1752062400@salemforallages.org
SUMMARY:Junior Kids’ Glass Summer Program at Artist Row!
DESCRIPTION:For kids ages 7 to 10\, we welcome you at our new Artist Row studio in downtown Salem! Join us for a week of glass art exploration. In this program\, students will learn about the fine art of glass and work on thoughtfully constructed and age-appropriate projects in fused glass\, stained glass\, sandblasting\, sea glass sculpting\, and glass painting.
URL:https://salemforallages.org/event/junior-kids-glass-summer-program-at-artist-row-18/
ATTACH;FMTTYPE=image/jpeg:https://salemforallages.org/wp-content/uploads/2025/07/IMG_3862-scaled-3.jpg
END:VEVENT
BEGIN:VEVENT
DTSTART;TZID=America/New_York:20250709T090000
DTEND;TZID=America/New_York:20250709T120000
DTSTAMP:20260424T155710
CREATED:20250705T090450Z
LAST-MODIFIED:20250705T090450Z
UID:24494-1752051600-1752062400@salemforallages.org
SUMMARY:Summer Youth: Fabric Printmaking
DESCRIPTION:Students will learn and use relief print\, stencil\, and pattern techniques for printing on fabric. In this class they will create two projects\, project choices include: T-shirt; drawstring bag; stuffed doll; tea towel. In addition to creating and printing their designs\, students will have the opportunity to embellish their projects with embroidery and hand painting. \nAges 8+ (Classes will be tailored to participants) \nClass runs July 7 – July 11.
URL:https://salemforallages.org/event/summer-youth-fabric-printmaking-3/
ATTACH;FMTTYPE=image/jpeg:https://salemforallages.org/wp-content/uploads/2025/07/IMG_9348.jpeg
END:VEVENT
BEGIN:VEVENT
DTSTART;TZID=America/New_York:20250709T090000
DTEND;TZID=America/New_York:20250709T140000
DTSTAMP:20260424T155710
CREATED:20250705T090242Z
LAST-MODIFIED:20250705T090242Z
UID:24492-1752051600-1752069600@salemforallages.org
SUMMARY:Marine Society Outings on the Schooner FAME
DESCRIPTION:Marine Society Outings are designed for children ages 8-14. Each outing is five hours on the water\, 9:00-2:00\, usually with a stop at the islands to swim off the boat (swimming is optional). Participants raise and trim the sails\, learn knots\, steer the boat\, and play silly camp games. We accept 16 kids per session. Cost is $85. For Salem residents the cost is just $55\, thanks to the Marine Society! In the event of bad weather\, Outings may be postponed to the next day\, or cancelled\, in which case you will receive a refund. For a reservation form\, e-mail SchoonerFame@gmail.com
URL:https://salemforallages.org/event/marine-society-outings-on-the-schooner-fame/
ATTACH;FMTTYPE=image/jpeg:https://salemforallages.org/wp-content/uploads/2025/07/Emmie-scaled-1.jpg
END:VEVENT
BEGIN:VEVENT
DTSTART;TZID=America/New_York:20250709T113000
DTEND;TZID=America/New_York:20250709T140000
DTSTAMP:20260424T155710
CREATED:20250705T090546Z
LAST-MODIFIED:20250705T090546Z
UID:24501-1752060600-1752069600@salemforallages.org
SUMMARY:Summer Broom Decorating
DESCRIPTION:Fly into The Good Witch and Stay for a Spell! Unleash your creativity at the Good Witch of Salem’s Broom Decorating Station\, where you can transform a broom into a magical masterpiece! Use enchanting tape\, colorful ribbons\, sparkling stickers\, and shimmering gems to create a broom that’s uniquely yours. \n Activity Length: 15-25  minutes\n Location: The Good Witch of Salem @ 2 North Street\, Salem MA 01970\n Hosted By: This is a self-guided DIY activity
URL:https://salemforallages.org/event/summer-broom-decorating-2/
ATTACH;FMTTYPE=image/png:https://salemforallages.org/wp-content/uploads/2025/07/July-and-August-Events-2025-SQUARE.zip-FINAL-Summer-Broom-Decorating.png
END:VEVENT
BEGIN:VEVENT
DTSTART;TZID=America/New_York:20250709T113000
DTEND;TZID=America/New_York:20250709T150000
DTSTAMP:20260424T155710
CREATED:20250705T090538Z
LAST-MODIFIED:20250705T090538Z
UID:24497-1752060600-1752073200@salemforallages.org
SUMMARY:Stop In For a Spell: DIY Potion Bar
DESCRIPTION:Fly in to The Good Witch and Stay for a Spell! Mix up your very own potion at our Potion Bar! \nDrop Ins begin at store opening and end 30 minutes before closing and are offered on a first come\, first serve basis. Purchase online or pay in store. \nDrop Ins may be unavailable during a birthday party or store event. Please call ahead\, or check our posted hours on Google. \nUnder age 4 may participate with the help of a supervising adult.
URL:https://salemforallages.org/event/stop-in-for-a-spell-diy-potion-bar-256/
ATTACH;FMTTYPE=image/jpeg:https://salemforallages.org/wp-content/uploads/2025/07/Potion-Bar-2-2.jpg
END:VEVENT
BEGIN:VEVENT
DTSTART;TZID=America/New_York:20250709T113000
DTEND;TZID=America/New_York:20250709T150000
DTSTAMP:20260424T155710
CREATED:20250705T090542Z
LAST-MODIFIED:20250705T090542Z
UID:24499-1752060600-1752073200@salemforallages.org
SUMMARY:Potion Brewing Store Experience
DESCRIPTION:Make your visit to The Good Witch of Salem’s shop memorable by booking our in-store Potion Brewing Experience. This activity is led by our Witch Apprentices. \nActivities are recommended for children ages 3 and up. \n*One appointment slot for each child is required.*
URL:https://salemforallages.org/event/potion-brewing-store-experience-382/
ATTACH;FMTTYPE=image/jpeg:https://salemforallages.org/wp-content/uploads/2025/07/Final-Potion-Master-1-3.jpg
END:VEVENT
BEGIN:VEVENT
DTSTART;TZID=America/New_York:20250709T113000
DTEND;TZID=America/New_York:20250709T153000
DTSTAMP:20260424T155710
CREATED:20250705T090459Z
LAST-MODIFIED:20250705T090459Z
UID:24495-1752060600-1752075000@salemforallages.org
SUMMARY:Magical Transformations
DESCRIPTION:Through our “Magical Transformations” children embrace their charms and express their individuality. Children can choose to transform into a “Witch” or “Wizard”!
URL:https://salemforallages.org/event/magical-transformations-389/
ATTACH;FMTTYPE=image/jpeg:https://salemforallages.org/wp-content/uploads/2025/07/Magicaltransformations-4.jpg
END:VEVENT
END:VCALENDAR