BEGIN:VCALENDAR
VERSION:2.0
PRODID:-//Salem for All Ages - ECPv6.15.18//NONSGML v1.0//EN
CALSCALE:GREGORIAN
METHOD:PUBLISH
X-WR-CALNAME:Salem for All Ages
X-ORIGINAL-URL:https://salemforallages.org
X-WR-CALDESC:Events for Salem for All Ages
REFRESH-INTERVAL;VALUE=DURATION:PT1H
X-Robots-Tag:noindex
X-PUBLISHED-TTL:PT1H
BEGIN:VTIMEZONE
TZID:America/New_York
BEGIN:DAYLIGHT
TZOFFSETFROM:-0500
TZOFFSETTO:-0400
TZNAME:EDT
DTSTART:20220313T070000
END:DAYLIGHT
BEGIN:STANDARD
TZOFFSETFROM:-0400
TZOFFSETTO:-0500
TZNAME:EST
DTSTART:20221106T060000
END:STANDARD
BEGIN:DAYLIGHT
TZOFFSETFROM:-0500
TZOFFSETTO:-0400
TZNAME:EDT
DTSTART:20230312T070000
END:DAYLIGHT
BEGIN:STANDARD
TZOFFSETFROM:-0400
TZOFFSETTO:-0500
TZNAME:EST
DTSTART:20231105T060000
END:STANDARD
BEGIN:DAYLIGHT
TZOFFSETFROM:-0500
TZOFFSETTO:-0400
TZNAME:EDT
DTSTART:20240310T070000
END:DAYLIGHT
BEGIN:STANDARD
TZOFFSETFROM:-0400
TZOFFSETTO:-0500
TZNAME:EST
DTSTART:20241103T060000
END:STANDARD
END:VTIMEZONE
BEGIN:VEVENT
DTSTART;TZID=America/New_York:20231015T140000
DTEND;TZID=America/New_York:20231015T150000
DTSTAMP:20260424T071418
CREATED:20231011T090014Z
LAST-MODIFIED:20231011T090014Z
UID:16785-1697378400-1697382000@salemforallages.org
SUMMARY:Tales of the Macabre
DESCRIPTION:Tales of the Macabre: From Poe to Irving with a dash of Dickens\, Jennifer whips up a maudlin Victorian performance. Please see 7Gables.org/events for tickets and more information.
URL:https://salemforallages.org/event/tales-of-the-macabre/
ATTACH;FMTTYPE=image/jpeg:https://salemforallages.org/wp-content/uploads/2021/10/unnamed-1.jpg
END:VEVENT
BEGIN:VEVENT
DTSTART;TZID=America/New_York:20231015T130000
DTEND;TZID=America/New_York:20231015T150000
DTSTAMP:20260424T071418
CREATED:20231011T090013Z
LAST-MODIFIED:20231011T090013Z
UID:16783-1697374800-1697382000@salemforallages.org
SUMMARY:The Good Witch of Salem’s Halloween Celebration for Families
DESCRIPTION:Mark your calendars for a day of FREE Halloween family magic that you won’t want to miss!\n\n\n\n\nCostume Showcase: Show off your fantastic costumes and let your creativity shine in our Halloween march around the enchanting Salem Common.\nMeet the Good Witch: Don’t miss your chance to meet “The Good Witch of Salem” in person!\nBook Signing: Have your book copy signed by “The Good Witch of Salem” herself for a magical keepsake!\nFun-Filled Activities: We’ve got a cauldron full of exciting activities planned just for you!\n\n\n\n\nStay Tuned: Keep your eyes peeled and your broomsticks ready\, because more surprises are brewing!
URL:https://salemforallages.org/event/the-good-witch-of-salems-halloween-celebration-for-families/
ATTACH;FMTTYPE=image/jpeg:https://salemforallages.org/wp-content/uploads/2023/10/Halloween-Celebration-101523.jpg
END:VEVENT
BEGIN:VEVENT
DTSTART;TZID=America/New_York:20231015T100000
DTEND;TZID=America/New_York:20231015T180000
DTSTAMP:20260424T071418
CREATED:20231011T090012Z
LAST-MODIFIED:20231011T090012Z
UID:16782-1697364000-1697392800@salemforallages.org
SUMMARY:Haunted Happenings Marketplace
DESCRIPTION:The main event returns to Salem Common! Your favorite vendors\, performances\, mural pop-up photo stations\, street performers\, and much more. \nDerby Square: Saturdays 10 AM-8PM and Sundays 10 AM-6 PM \nSeptember 30\, October 1\, 7\, 8\, 9\, 14\, 15\, 21\, 22\, 28\, 29 \n  \nForten Park: Saturdays 10 AM-8PM and Sundays 10 AM-6 PM \nSeptember 30\, October 1\, 7\, 8\, 9\, 14\, 15\, 21\, 22\, 28\, 29
URL:https://salemforallages.org/event/haunted-happenings-marketplace-27/
ATTACH;FMTTYPE=image/jpeg:https://salemforallages.org/wp-content/uploads/2021/08/Haunted-Happenings-Marketplace.jpg
END:VEVENT
BEGIN:VEVENT
DTSTART;TZID=America/New_York:20231015T100000
DTEND;TZID=America/New_York:20231015T170000
DTSTAMP:20260424T071418
CREATED:20231011T090012Z
LAST-MODIFIED:20231011T090012Z
UID:16781-1697364000-1697389200@salemforallages.org
SUMMARY:The Good Witch of Salem
DESCRIPTION:Attend one of our large events\, including Magical Tea Time 10/9\, Potion Party 10/22\, Costume Ball 10/22\, and Costume Parade. Book an in-store experience with plenty of family-friendly activities.
URL:https://salemforallages.org/event/the-good-witch-of-salem-15/
ATTACH;FMTTYPE=image/jpeg:https://salemforallages.org/wp-content/uploads/2023/09/Good-Witch-Basic-2.jpg
END:VEVENT
BEGIN:VEVENT
DTSTART;TZID=America/New_York:20231015T100000
DTEND;TZID=America/New_York:20231015T140000
DTSTAMP:20260424T071418
CREATED:20231010T090016Z
LAST-MODIFIED:20231010T090016Z
UID:16778-1697364000-1697378400@salemforallages.org
SUMMARY:Book a “Good Witch Transformation”
DESCRIPTION:Thank you for your interest in a “Good Witch” Transformation! \nThrough our transformations children unleash their own spellbinding charms and embrace their individuality. Children are invited to browse our collection of witch hats and dresses. Adorned with shimmering stars\, flowing capes\, and ribbons of enchantment\, these outfits are sure to celebrate their unique spirits. \nOur talented apprentices delicately apply a touch of stardust and add sprinkles of color that match your child’s vibrant personality. As they gaze upon their reflection\, their eyes light up with a newfound confidence and a sense of whimsical delight. They have become the magical beings they’ve always dreamt of\, casting spells and brewing potions in their imaginary world. Their laughter fills the air as they twirl and spin\, radiating with joy and wonder.
URL:https://salemforallages.org/event/book-a-good-witch-transformation-15/
END:VEVENT
BEGIN:VEVENT
DTSTART;TZID=America/New_York:20231014T203000
DTEND;TZID=America/New_York:20231014T220000
DTSTAMP:20260424T071418
CREATED:20231010T090016Z
LAST-MODIFIED:20231010T090016Z
UID:16777-1697315400-1697320800@salemforallages.org
SUMMARY:After Hours Ghost Hunt
DESCRIPTION:Join Kimberly Bizjak of Paranormal Salem for Ghost Hunting! Use EMF detectors\, infrared thermometers\, audio recorders\, and more to collect evidence inside The Lost Museum! Combo tickets with Gallows Hill Main Show.
URL:https://salemforallages.org/event/after-hours-ghost-hunt-14/
ATTACH;FMTTYPE=image/jpeg:https://salemforallages.org/wp-content/uploads/2023/09/After-Hours-Ghost-Hunt-Basic.jpg
END:VEVENT
BEGIN:VEVENT
DTSTART;TZID=America/New_York:20231014T200000
DTEND;TZID=America/New_York:20231014T213000
DTSTAMP:20260424T071418
CREATED:20231010T090016Z
LAST-MODIFIED:20231010T090016Z
UID:16776-1697313600-1697319000@salemforallages.org
SUMMARY:Moon Witch: A Ritual Theatre Experience
DESCRIPTION:Immerse yourself in the mysteries! Drawing inspiration from the mythological Three Fates\, Moon Witch weaves together folk magic and moon lore to explore the human experience. Featuring original music\, theatre\, spoken word\, and ritual space to honor the dead.
URL:https://salemforallages.org/event/moon-witch-a-ritual-theatre-experience-2/
END:VEVENT
BEGIN:VEVENT
DTSTART;TZID=America/New_York:20231014T181500
DTEND;TZID=America/New_York:20231014T201500
DTSTAMP:20260424T071418
CREATED:20231010T090015Z
LAST-MODIFIED:20231010T090015Z
UID:16775-1697307300-1697314500@salemforallages.org
SUMMARY:Guilty! A Salem Witch Trial
DESCRIPTION:It’s 1692 in Salem\, and the audience is on trial for witchcraft! Hear testimony against you and plead your case. Will you be found guilty? Combo tickets with Gallows Hill Main Show. Show times 6:15 and 7:15. 
URL:https://salemforallages.org/event/guilty-a-salem-witch-trial-33/
ATTACH;FMTTYPE=image/jpeg:https://salemforallages.org/wp-content/uploads/2023/09/Guilty-Basic-6-2.jpg
END:VEVENT
BEGIN:VEVENT
DTSTART;TZID=America/New_York:20231014T180000
DTEND;TZID=America/New_York:20231014T200000
DTSTAMP:20260424T071418
CREATED:20231010T090012Z
LAST-MODIFIED:20231010T090012Z
UID:16773-1697306400-1697313600@salemforallages.org
SUMMARY:Lore by Candlelight
DESCRIPTION:Experience New England’s fantastical past by spending an evening in one of the oldest homes in Salem. You will be immersed in original rooms dimly lit by candles while experiencing New England’s history\, legends\, and lore that have been passed down for generations. Join us to explore the reality of our terrifying past. BYOB alcohol.
URL:https://salemforallages.org/event/lore-by-candlelight-18/
ATTACH;FMTTYPE=image/jpeg:https://salemforallages.org/wp-content/uploads/2023/10/Local-Lore-by-Candlelight-2-scaled-5.jpg
END:VEVENT
BEGIN:VEVENT
DTSTART;TZID=America/New_York:20231014T150000
DTEND;TZID=America/New_York:20231014T220000
DTSTAMP:20260424T071418
CREATED:20231010T090012Z
LAST-MODIFIED:20231010T090012Z
UID:16772-1697295600-1697320800@salemforallages.org
SUMMARY:Hollowed Harvest
DESCRIPTION:Experience Salem’s ONLY Jack-O’-Lantern festival at the Hollowed Harvest: Wicked Labyrinth! Salem’s beloved fall tradition brings hundreds of intricately carved Jack-O’-Lanterns to life in an all-ages walkthrough event.
URL:https://salemforallages.org/event/hollowed-harvest-13/
ATTACH;FMTTYPE=image/png:https://salemforallages.org/wp-content/uploads/2023/09/hollowed-harvest-hh.png
END:VEVENT
BEGIN:VEVENT
DTSTART;TZID=America/New_York:20231014T103000
DTEND;TZID=America/New_York:20231014T123000
DTSTAMP:20260424T071418
CREATED:20231010T090011Z
LAST-MODIFIED:20231010T090011Z
UID:16771-1697279400-1697286600@salemforallages.org
SUMMARY:Process Art Mornings
DESCRIPTION:Informal in-process art making
URL:https://salemforallages.org/event/process-art-mornings-23/
ATTACH;FMTTYPE=image/jpeg:https://salemforallages.org/wp-content/uploads/2023/05/01.jpg
END:VEVENT
BEGIN:VEVENT
DTSTART;TZID=America/New_York:20231014T103000
DTEND;TZID=America/New_York:20231014T113000
DTSTAMP:20260424T071418
CREATED:20231014T090008Z
LAST-MODIFIED:20231014T090008Z
UID:16813-1697279400-1697283000@salemforallages.org
SUMMARY:Kids at The Cabot: Laura Doherty & the Heartbeats
DESCRIPTION:Nationally touring Laura Doherty & the Heartbeats acoustically rock your kid’s world with breezy folk-pop tunes from Doherty’s five Parent’s Choice award-winning albums\, which feature her adorable puppet friends Jazzasaurus\, Paulette the Purple Dragonette\, and Domingo the Flamingo!
URL:https://salemforallages.org/event/kids-at-the-cabot-laura-doherty-the-heartbeats/
ATTACH;FMTTYPE=image/jpeg:https://salemforallages.org/wp-content/uploads/2023/10/laura-paulette.jpg
END:VEVENT
BEGIN:VEVENT
DTSTART;TZID=America/New_York:20231014T100000
DTEND;TZID=America/New_York:20231014T200000
DTSTAMP:20260424T071418
CREATED:20231010T090010Z
LAST-MODIFIED:20231010T090010Z
UID:16769-1697277600-1697313600@salemforallages.org
SUMMARY:Haunted Happenings Marketplace
DESCRIPTION:The main event returns to Salem Common! Your favorite vendors\, performances\, mural pop-up photo stations\, street performers\, and much more. \nDerby Square: Saturdays 10 AM-8PM and Sundays 10 AM-6 PM \nSeptember 30\, October 1\, 7\, 8\, 9\, 14\, 15\, 21\, 22\, 28\, 29 \n  \nForten Park: Saturdays 10 AM-8PM and Sundays 10 AM-6 PM \nSeptember 30\, October 1\, 7\, 8\, 9\, 14\, 15\, 21\, 22\, 28\, 29
URL:https://salemforallages.org/event/haunted-happenings-marketplace-26/
ATTACH;FMTTYPE=image/jpeg:https://salemforallages.org/wp-content/uploads/2021/08/Haunted-Happenings-Marketplace.jpg
END:VEVENT
BEGIN:VEVENT
DTSTART;TZID=America/New_York:20231014T100000
DTEND;TZID=America/New_York:20231014T170000
DTSTAMP:20260424T071418
CREATED:20231010T090011Z
LAST-MODIFIED:20231010T090011Z
UID:16770-1697277600-1697302800@salemforallages.org
SUMMARY:Return to the Renaissance at Hammond Castle Museum
DESCRIPTION:Adults $35\, Kids 5-12: $10\, Little Ones 4 & Under Free with ticket. \nHammond Castle Museum Member savings apply.\nJoin us for one of two sessions as we Return to the Renaissance on our oceanside lawn with a live musical performance\, a demonstration of a Knight’s battle\, and some family-friendly improv by none other than Shakespeare himself! \nThe Brotherhood of the Arrow and Sword\, an educational-based medieval reenactment group will perform an armored fight demo as well as explore life on the medieval battlefield. The Brotherhood is dedicated to the presentation and practice of historical European martial arts and other facets of medieval life. Their armored fight demonstrations are high energy and entertaining. The Penniless Jacks is a high-energy folk-rock band that focuses on livening up traditional “tavern” music. Shakespeare Approves will keep the kids giggling with his family-friendly antics and improvisational banter. \nProgram:\nDoors open at 10:00 am. \nSession 1- 10:30 am – 12:30 pm\nPenniless Jacks: 10:30 am -11 am\nShakespeare Approves: 11:00 – 11:30\nBrotherhood of the Arrow & Sword: 11:30 – 12:30 pm. \nSession 2-1:00 pm – 3:30 pm.\nPenniless Jacks: 1:30 pm -2 pm\nShakespeare Approves: 2:00 pm – 2:30 pm\nBrotherhood of the Arrow & Sword: 2:30 pm – 3:30 pm. \nNo Guided Tours are scheduled for this day\, allowing our guests the freedom to explore the Museum at their own pace. Admittance into the Museum will conclude at 3:15pm. Those holding Session 2 tickets are encouraged to arrive ahead of time to fully immerse themselves in the Museum’s interior. Guests are encouraged to plan 60 minutes to explore the Museum. In the event of inclement weather\, the event will be rescheduled for the following Saturday\, October 14th. All reservations will be honored at the scheduled session time. \nPlease note: On-site parking will only be for those with limited mobility\, but we encourage you to keep in mind that there are many stairs leading down to the Museum\, the interior of the Museum\, and out to the seaside lawn. General parking for this event will not be provided on the premises. Off-site parking at Stage Fort Park (24 Hough Ave\, Gloucester) will be required. Two free “Yellow School Bus” shuttles will run continuously from 10 a.m. to 4:30 p.m. between the Park and the Museum.
URL:https://salemforallages.org/event/return-to-the-renaissance-at-hammond-castle-museum-2/
ATTACH;FMTTYPE=image/jpeg:https://salemforallages.org/wp-content/uploads/2023/10/File-1035_medium.jpg
END:VEVENT
BEGIN:VEVENT
DTSTART;TZID=America/New_York:20231014T100000
DTEND;TZID=America/New_York:20231014T170000
DTSTAMP:20260424T071418
CREATED:20231009T090021Z
LAST-MODIFIED:20231009T090021Z
UID:16768-1697277600-1697302800@salemforallages.org
SUMMARY:The Good Witch of Salem
DESCRIPTION:Attend one of our large events\, including Magical Tea Time 10/9\, Potion Party 10/22\, Costume Ball 10/22\, and Costume Parade. Book an in-store experience with plenty of family-friendly activities.
URL:https://salemforallages.org/event/the-good-witch-of-salem-14/
ATTACH;FMTTYPE=image/jpeg:https://salemforallages.org/wp-content/uploads/2023/09/Good-Witch-Basic-2.jpg
END:VEVENT
BEGIN:VEVENT
DTSTART;TZID=America/New_York:20231014T100000
DTEND;TZID=America/New_York:20231014T140000
DTSTAMP:20260424T071418
CREATED:20231009T090021Z
LAST-MODIFIED:20231009T090021Z
UID:16767-1697277600-1697292000@salemforallages.org
SUMMARY:Book a “Good Witch Transformation”
DESCRIPTION:Thank you for your interest in a “Good Witch” Transformation! \nThrough our transformations children unleash their own spellbinding charms and embrace their individuality. Children are invited to browse our collection of witch hats and dresses. Adorned with shimmering stars\, flowing capes\, and ribbons of enchantment\, these outfits are sure to celebrate their unique spirits. \nOur talented apprentices delicately apply a touch of stardust and add sprinkles of color that match your child’s vibrant personality. As they gaze upon their reflection\, their eyes light up with a newfound confidence and a sense of whimsical delight. They have become the magical beings they’ve always dreamt of\, casting spells and brewing potions in their imaginary world. Their laughter fills the air as they twirl and spin\, radiating with joy and wonder.
URL:https://salemforallages.org/event/book-a-good-witch-transformation-14/
END:VEVENT
BEGIN:VEVENT
DTSTART;TZID=America/New_York:20231014T080000
DTEND;TZID=America/New_York:20231014T170000
DTSTAMP:20260424T071418
CREATED:20231009T090020Z
LAST-MODIFIED:20231009T090020Z
UID:16766-1697270400-1697302800@salemforallages.org
SUMMARY:Book a “Good Witch Magical Transformation”
DESCRIPTION:Children\, tweens\, teens\, and adults are all welcome to participate in our “Good Witch Transformations”! \nThrough our transformations children unleash their own spellbinding charms and embrace their individuality. Children are invited to browse our collection of witch hats and dresses. Adorned with shimmering stars\, flowing capes\, and ribbons of enchantment\, these outfits are sure to celebrate their unique spirits. \nOur talented apprentices delicately apply a touch of stardust and add sprinkles of color that match your child’s vibrant personality. As they gaze upon their reflection\, their eyes light up with a newfound confidence and a sense of whimsical delight. They have become the magical beings they’ve always dreamt of\, casting spells and brewing potions in their imaginary world. Their laughter fills the air as they twirl and spin\, radiating with joy and wonder.
URL:https://salemforallages.org/event/book-a-good-witch-magical-transformation-4/
ATTACH;FMTTYPE=image/jpeg:https://salemforallages.org/wp-content/uploads/2023/08/magical-transoformations-.jpg
END:VEVENT
BEGIN:VEVENT
DTSTART;TZID=America/New_York:20231014T073000
DTEND;TZID=America/New_York:20231014T110000
DTSTAMP:20260424T071418
CREATED:20231009T090017Z
LAST-MODIFIED:20231009T090017Z
UID:16764-1697268600-1697281200@salemforallages.org
SUMMARY:Witch City 5K
DESCRIPTION:Run through the haunted streets of Salem while supporting Corner Stone\, our collaborative program that provides free membership and support to individuals with cancer\, those in treatment/recovery and their immediate families! The ghouls\, ghosts and goblins will be with you in spirit this year!
URL:https://salemforallages.org/event/witch-city-5k-3/
ATTACH;FMTTYPE=image/jpeg:https://salemforallages.org/wp-content/uploads/2023/10/61d710610851f.jpg
END:VEVENT
BEGIN:VEVENT
DTSTART;TZID=America/New_York:20231013T203000
DTEND;TZID=America/New_York:20231013T220000
DTSTAMP:20260424T071418
CREATED:20231009T090017Z
LAST-MODIFIED:20231009T090017Z
UID:16763-1697229000-1697234400@salemforallages.org
SUMMARY:After Hours Ghost Hunt
DESCRIPTION:Join Kimberly Bizjak of Paranormal Salem for Ghost Hunting! Use EMF detectors\, infrared thermometers\, audio recorders\, and more to collect evidence inside The Lost Museum! Combo tickets with Gallows Hill Main Show.
URL:https://salemforallages.org/event/after-hours-ghost-hunt-13/
ATTACH;FMTTYPE=image/jpeg:https://salemforallages.org/wp-content/uploads/2023/09/After-Hours-Ghost-Hunt-Basic.jpg
END:VEVENT
BEGIN:VEVENT
DTSTART;TZID=America/New_York:20231013T200000
DTEND;TZID=America/New_York:20231013T230000
DTSTAMP:20260424T071418
CREATED:20231009T090017Z
LAST-MODIFIED:20231009T090017Z
UID:16762-1697227200-1697238000@salemforallages.org
SUMMARY:Friday Night Music with Gulu-Gulu Cafe
DESCRIPTION:Join Gulu-Gulu Cafe Friday nights for their live music series. Bands and musicians range from acoustic guitar\, jazz standards\, saxophones\, trios\, and more! Support live musicians and listen to live music!
URL:https://salemforallages.org/event/friday-night-music-with-gulu-gulu-cafe-11/
ATTACH;FMTTYPE=image/jpeg:https://salemforallages.org/wp-content/uploads/2023/08/38864120_1780760032044977_6011049327684747264_n.jpg
END:VEVENT
BEGIN:VEVENT
DTSTART;TZID=America/New_York:20231013T190000
DTEND;TZID=America/New_York:20231013T210000
DTSTAMP:20260424T071418
CREATED:20231009T090017Z
LAST-MODIFIED:20231009T090017Z
UID:16761-1697223600-1697230800@salemforallages.org
SUMMARY:Friday Night Music with American Flatbread
DESCRIPTION:Join us for live music\, enjoy rock and country.
URL:https://salemforallages.org/event/friday-night-music-with-american-flatbread-19/
ATTACH;FMTTYPE=image/jpeg:https://salemforallages.org/wp-content/uploads/2023/06/American-Flatbread-.jpg
END:VEVENT
BEGIN:VEVENT
DTSTART;TZID=America/New_York:20231013T183000
DTEND;TZID=America/New_York:20231013T193000
DTSTAMP:20260424T071418
CREATED:20231009T090014Z
LAST-MODIFIED:20231009T090014Z
UID:16759-1697221800-1697225400@salemforallages.org
SUMMARY:Cheese & Cider Tasting with The Cheese Shop of Salem
DESCRIPTION:Join us on Zoom for a virtual tasting of cheese and cider! \n\n\n\n\n\n\nWanna have a beer with us? And some cheese? Join us for a tasting of our favorite beers and cheeses\, how these special products are made\, what makes them unique\, and how to create the perfect pairings. Let’s eat\, drink\, and talk beer and cheese!
URL:https://salemforallages.org/event/cheese-cider-tasting-with-the-cheese-shop-of-salem/
ATTACH;FMTTYPE=image/jpeg:https://salemforallages.org/wp-content/uploads/2023/10/ACS_14814.jpg
END:VEVENT
BEGIN:VEVENT
DTSTART;TZID=America/New_York:20231013T181500
DTEND;TZID=America/New_York:20231013T201500
DTSTAMP:20260424T071418
CREATED:20231009T090013Z
LAST-MODIFIED:20231009T090013Z
UID:16758-1697220900-1697228100@salemforallages.org
SUMMARY:Guilty! A Salem Witch Trial
DESCRIPTION:It’s 1692 in Salem\, and the audience is on trial for witchcraft! Hear testimony against you and plead your case. Will you be found guilty? Combo tickets with Gallows Hill Main Show. Show times 6:15 and 7:15. 
URL:https://salemforallages.org/event/guilty-a-salem-witch-trial-32/
ATTACH;FMTTYPE=image/jpeg:https://salemforallages.org/wp-content/uploads/2023/09/Guilty-Basic-6-2.jpg
END:VEVENT
BEGIN:VEVENT
DTSTART;TZID=America/New_York:20231013T180000
DTEND;TZID=America/New_York:20231013T200000
DTSTAMP:20260424T071418
CREATED:20231009T090011Z
LAST-MODIFIED:20231009T090011Z
UID:16756-1697220000-1697227200@salemforallages.org
SUMMARY:Lore by Candlelight
DESCRIPTION:Experience New England’s fantastical past by spending an evening in one of the oldest homes in Salem. You will be immersed in original rooms dimly lit by candles while experiencing New England’s history\, legends\, and lore that have been passed down for generations. Join us to explore the reality of our terrifying past. BYOB alcohol.
URL:https://salemforallages.org/event/lore-by-candlelight-17/
ATTACH;FMTTYPE=image/jpeg:https://salemforallages.org/wp-content/uploads/2023/10/Local-Lore-by-Candlelight-2-scaled-4.jpg
END:VEVENT
BEGIN:VEVENT
DTSTART;TZID=America/New_York:20231013T154500
DTEND;TZID=America/New_York:20231013T190000
DTSTAMP:20260424T071418
CREATED:20231013T090007Z
LAST-MODIFIED:20231013T090007Z
UID:16797-1697211900-1697223600@salemforallages.org
SUMMARY:Cash Wheel Live Salem
DESCRIPTION:For a chance to win up to $600\, CASH WHEEL LIVE 6 p.m. Must be present to win\, enter CASH WHEEL LIVE Friday\, October 13 \nbetween 3:45 p.m. and 5:45 p.m. outside Old Town Hall\, Salem
URL:https://salemforallages.org/event/cash-wheel-live-salem/
ATTACH;FMTTYPE=image/jpeg:https://salemforallages.org/wp-content/uploads/2023/10/cash-wheel-.jpg
END:VEVENT
BEGIN:VEVENT
DTSTART;TZID=America/New_York:20231013T150000
DTEND;TZID=America/New_York:20231013T220000
DTSTAMP:20260424T071418
CREATED:20231009T090010Z
LAST-MODIFIED:20231009T090010Z
UID:16755-1697209200-1697234400@salemforallages.org
SUMMARY:Hollowed Harvest
DESCRIPTION:Experience Salem’s ONLY Jack-O’-Lantern festival at the Hollowed Harvest: Wicked Labyrinth! Salem’s beloved fall tradition brings hundreds of intricately carved Jack-O’-Lanterns to life in an all-ages walkthrough event.
URL:https://salemforallages.org/event/hollowed-harvest-12/
ATTACH;FMTTYPE=image/png:https://salemforallages.org/wp-content/uploads/2023/09/hollowed-harvest-hh.png
END:VEVENT
BEGIN:VEVENT
DTSTART;TZID=America/New_York:20231013T110000
DTEND;TZID=America/New_York:20231013T150000
DTSTAMP:20260424T071418
CREATED:20231009T090010Z
LAST-MODIFIED:20231009T090010Z
UID:16754-1697194800-1697209200@salemforallages.org
SUMMARY:Book a “Good Witch Transformation”
DESCRIPTION:Thank you for your interest in a “Good Witch” Transformation! \nThrough our transformations children unleash their own spellbinding charms and embrace their individuality. Children are invited to browse our collection of witch hats and dresses. Adorned with shimmering stars\, flowing capes\, and ribbons of enchantment\, these outfits are sure to celebrate their unique spirits. \nOur talented apprentices delicately apply a touch of stardust and add sprinkles of color that match your child’s vibrant personality. As they gaze upon their reflection\, their eyes light up with a newfound confidence and a sense of whimsical delight. They have become the magical beings they’ve always dreamt of\, casting spells and brewing potions in their imaginary world. Their laughter fills the air as they twirl and spin\, radiating with joy and wonder.
URL:https://salemforallages.org/event/book-a-good-witch-transformation-13/
END:VEVENT
BEGIN:VEVENT
DTSTART;TZID=America/New_York:20231013T100000
DTEND;TZID=America/New_York:20231013T170000
DTSTAMP:20260424T071418
CREATED:20231008T090023Z
LAST-MODIFIED:20231008T090023Z
UID:16753-1697191200-1697216400@salemforallages.org
SUMMARY:The Good Witch of Salem
DESCRIPTION:Attend one of our large events\, including Magical Tea Time 10/9\, Potion Party 10/22\, Costume Ball 10/22\, and Costume Parade. Book an in-store experience with plenty of family-friendly activities.
URL:https://salemforallages.org/event/the-good-witch-of-salem-13/
ATTACH;FMTTYPE=image/jpeg:https://salemforallages.org/wp-content/uploads/2023/09/Good-Witch-Basic-2.jpg
END:VEVENT
BEGIN:VEVENT
DTSTART;TZID=America/New_York:20231012T203000
DTEND;TZID=America/New_York:20231012T220000
DTSTAMP:20260424T071418
CREATED:20231008T090023Z
LAST-MODIFIED:20231008T090023Z
UID:16752-1697142600-1697148000@salemforallages.org
SUMMARY:After Hours Ghost Hunt
DESCRIPTION:Join Kimberly Bizjak of Paranormal Salem for Ghost Hunting! Use EMF detectors\, infrared thermometers\, audio recorders\, and more to collect evidence inside The Lost Museum! Combo tickets with Gallows Hill Main Show.
URL:https://salemforallages.org/event/after-hours-ghost-hunt-12/
ATTACH;FMTTYPE=image/jpeg:https://salemforallages.org/wp-content/uploads/2023/09/After-Hours-Ghost-Hunt-Basic.jpg
END:VEVENT
BEGIN:VEVENT
DTSTART;TZID=America/New_York:20231012T200000
DTEND;TZID=America/New_York:20231012T220000
DTSTAMP:20260424T071418
CREATED:20231008T090022Z
LAST-MODIFIED:20231008T090022Z
UID:16750-1697140800-1697148000@salemforallages.org
SUMMARY:Banshee Drag Show
DESCRIPTION:Join us for a drag night starring the incredible Madeline Hatter\, Vander von Odd\, Eva Destruction and Louisiana Purchase — stars of hit reality T.V show The Boulet Brothers Dragula. Tickets will be on sale on our website\, salemartgallery.com.
URL:https://salemforallages.org/event/banshee-drag-show-2/
ATTACH;FMTTYPE=image/jpeg:https://salemforallages.org/wp-content/uploads/2023/05/satanic-temple-new-image.jpg
END:VEVENT
END:VCALENDAR