BEGIN:VCALENDAR
VERSION:2.0
PRODID:-//Salem for All Ages - ECPv6.15.18//NONSGML v1.0//EN
CALSCALE:GREGORIAN
METHOD:PUBLISH
X-WR-CALNAME:Salem for All Ages
X-ORIGINAL-URL:https://salemforallages.org
X-WR-CALDESC:Events for Salem for All Ages
REFRESH-INTERVAL;VALUE=DURATION:PT1H
X-Robots-Tag:noindex
X-PUBLISHED-TTL:PT1H
BEGIN:VTIMEZONE
TZID:America/New_York
BEGIN:DAYLIGHT
TZOFFSETFROM:-0500
TZOFFSETTO:-0400
TZNAME:EDT
DTSTART:20220313T070000
END:DAYLIGHT
BEGIN:STANDARD
TZOFFSETFROM:-0400
TZOFFSETTO:-0500
TZNAME:EST
DTSTART:20221106T060000
END:STANDARD
BEGIN:DAYLIGHT
TZOFFSETFROM:-0500
TZOFFSETTO:-0400
TZNAME:EDT
DTSTART:20230312T070000
END:DAYLIGHT
BEGIN:STANDARD
TZOFFSETFROM:-0400
TZOFFSETTO:-0500
TZNAME:EST
DTSTART:20231105T060000
END:STANDARD
BEGIN:DAYLIGHT
TZOFFSETFROM:-0500
TZOFFSETTO:-0400
TZNAME:EDT
DTSTART:20240310T070000
END:DAYLIGHT
BEGIN:STANDARD
TZOFFSETFROM:-0400
TZOFFSETTO:-0500
TZNAME:EST
DTSTART:20241103T060000
END:STANDARD
END:VTIMEZONE
BEGIN:VEVENT
DTSTART;TZID=America/New_York:20231009T100000
DTEND;TZID=America/New_York:20231009T180000
DTSTAMP:20260424T071352
CREATED:20231006T090021Z
LAST-MODIFIED:20231006T090021Z
UID:16711-1696845600-1696874400@salemforallages.org
SUMMARY:Haunted Happenings Marketplace
DESCRIPTION:The main event returns to Salem Common! Your favorite vendors\, performances\, mural pop-up photo stations\, street performers\, and much more. \nDerby Square: Saturdays 10 AM-8PM and Sundays 10 AM-6 PM \nSeptember 30\, October 1\, 7\, 8\, 9\, 14\, 15\, 21\, 22\, 28\, 29 \n  \nForten Park: Saturdays 10 AM-8PM and Sundays 10 AM-6 PM \nSeptember 30\, October 1\, 7\, 8\, 9\, 14\, 15\, 21\, 22\, 28\, 29
URL:https://salemforallages.org/event/haunted-happenings-marketplace-25/
ATTACH;FMTTYPE=image/jpeg:https://salemforallages.org/wp-content/uploads/2021/08/Haunted-Happenings-Marketplace.jpg
END:VEVENT
BEGIN:VEVENT
DTSTART;TZID=America/New_York:20231009T100000
DTEND;TZID=America/New_York:20231009T170000
DTSTAMP:20260424T071352
CREATED:20231006T090021Z
LAST-MODIFIED:20231006T090021Z
UID:16710-1696845600-1696870800@salemforallages.org
SUMMARY:The Good Witch of Salem
DESCRIPTION:Attend one of our large events\, including Magical Tea Time 10/9\, Potion Party 10/22\, Costume Ball 10/22\, and Costume Parade. Book an in-store experience with plenty of family-friendly activities.
URL:https://salemforallages.org/event/the-good-witch-of-salem-9/
ATTACH;FMTTYPE=image/jpeg:https://salemforallages.org/wp-content/uploads/2023/09/Good-Witch-Basic-2.jpg
END:VEVENT
BEGIN:VEVENT
DTSTART;TZID=America/New_York:20231009T100000
DTEND;TZID=America/New_York:20231009T160000
DTSTAMP:20260424T071352
CREATED:20231006T090025Z
LAST-MODIFIED:20231006T090025Z
UID:16714-1696845600-1696867200@salemforallages.org
SUMMARY:Kid’s Free Day at Hammond Castle Museum
DESCRIPTION:Adults: $20\, Kids 12 & Under: Free with ticket. \nHear ye\, hear ye! It has been decreed that children shall be treated like royalty as we lower the drawbridge and roll out the red carpet at Hammond Castle Museum! \nLet their imaginations awaken as they visit a towering medieval castle filled with antiquities\, tease their senses as they try out the whispering gallery in the Library\, and inspire their creativity as they glimpse the spirit and vision of one of the nation’s most prolific inventors. Throughout our 2023 season guests can enjoy a completely updated Invention Room\, showcasing exciting new perspectives on Hammond’s work as a scientist\, inventor and engineer. \nSelf-guided tours are available from 10am to 3pm\, to allow for enough time to tour the Museum. Guests should plan at least 60 minutes to explore the grounds and galleries of this historic museum.  Last entrance is 3:15 p.m. Please note that the Museum and grounds close promptly at 4:00 pm.  Strollers are not permitted in the Museum and not ideal for use around the grounds. There are many stairs.
URL:https://salemforallages.org/event/kids-free-day-at-hammond-castle-museum/
ATTACH;FMTTYPE=image/jpeg:https://salemforallages.org/wp-content/uploads/2023/10/Jim-400-x-400-veevart-1.jpg
END:VEVENT
BEGIN:VEVENT
DTSTART;TZID=America/New_York:20231009T100000
DTEND;TZID=America/New_York:20231009T160000
DTSTAMP:20260424T071352
CREATED:20231006T090022Z
LAST-MODIFIED:20231006T090022Z
UID:16712-1696845600-1696867200@salemforallages.org
SUMMARY:Kids’ Free Day
DESCRIPTION:Adults: $20\, Kids 12 & Under: Free with ticket. \nHear ye\, hear ye! It has been decreed that children shall be treated like royalty as we lower the drawbridge and roll out the red carpet at Hammond Castle Museum!\nLet their imaginations awaken as they visit a towering medieval castle filled with antiquities\, tease their senses as they try out the whispering gallery in the Library\, and inspire their creativity as they glimpse the spirit and vision of one of the nation’s most prolific inventors. Throughout our 2023 season guests can enjoy a completely updated Invention Room\, showcasing exciting new perspectives on Hammond’s work as a scientist\, inventor and engineer. \nSelf-guided tours are available from 10am to 3pm\, to allow for enough time to tour the Museum. Guests should plan at least 60 minutes to explore the grounds and galleries of this historic museum.  Last entrance is 3:15 p.m. Please note that the Museum and grounds close promptly at 4:00 pm.  Strollers are not permitted in the Museum and not ideal for use around the grounds. There are many stairs.
URL:https://salemforallages.org/event/kids-free-day/
ATTACH;FMTTYPE=image/jpeg:https://salemforallages.org/wp-content/uploads/2023/10/Jim-400-x-400-veevart.jpg
END:VEVENT
BEGIN:VEVENT
DTSTART;TZID=America/New_York:20231009T100000
DTEND;TZID=America/New_York:20231009T140000
DTSTAMP:20260424T071352
CREATED:20231006T090021Z
LAST-MODIFIED:20231006T090021Z
UID:16709-1696845600-1696860000@salemforallages.org
SUMMARY:Book a “Good Witch Transformation”
DESCRIPTION:Thank you for your interest in a “Good Witch” Transformation! \nThrough our transformations children unleash their own spellbinding charms and embrace their individuality. Children are invited to browse our collection of witch hats and dresses. Adorned with shimmering stars\, flowing capes\, and ribbons of enchantment\, these outfits are sure to celebrate their unique spirits. \nOur talented apprentices delicately apply a touch of stardust and add sprinkles of color that match your child’s vibrant personality. As they gaze upon their reflection\, their eyes light up with a newfound confidence and a sense of whimsical delight. They have become the magical beings they’ve always dreamt of\, casting spells and brewing potions in their imaginary world. Their laughter fills the air as they twirl and spin\, radiating with joy and wonder.
URL:https://salemforallages.org/event/book-a-good-witch-transformation-12/
END:VEVENT
BEGIN:VEVENT
DTSTART;TZID=America/New_York:20231008T203000
DTEND;TZID=America/New_York:20231008T220000
DTSTAMP:20260424T071352
CREATED:20231006T090021Z
LAST-MODIFIED:20231006T090021Z
UID:16708-1696797000-1696802400@salemforallages.org
SUMMARY:After Hours Ghost Hunt
DESCRIPTION:Join Kimberly Bizjak of Paranormal Salem for Ghost Hunting! Use EMF detectors\, infrared thermometers\, audio recorders\, and more to collect evidence inside The Lost Museum! Combo tickets with Gallows Hill Main Show.
URL:https://salemforallages.org/event/after-hours-ghost-hunt-8/
ATTACH;FMTTYPE=image/jpeg:https://salemforallages.org/wp-content/uploads/2023/09/After-Hours-Ghost-Hunt-Basic.jpg
END:VEVENT
BEGIN:VEVENT
DTSTART;TZID=America/New_York:20231008T181500
DTEND;TZID=America/New_York:20231008T201500
DTSTAMP:20260424T071352
CREATED:20231006T090020Z
LAST-MODIFIED:20231006T090020Z
UID:16707-1696788900-1696796100@salemforallages.org
SUMMARY:Guilty! A Salem Witch Trial
DESCRIPTION:It’s 1692 in Salem\, and the audience is on trial for witchcraft! Hear testimony against you and plead your case. Will you be found guilty? Combo tickets with Gallows Hill Main Show. Show times 6:15 and 7:15. 
URL:https://salemforallages.org/event/guilty-a-salem-witch-trial-27/
ATTACH;FMTTYPE=image/jpeg:https://salemforallages.org/wp-content/uploads/2023/09/Guilty-Basic-6-2.jpg
END:VEVENT
BEGIN:VEVENT
DTSTART;TZID=America/New_York:20231008T160000
DTEND;TZID=America/New_York:20231008T190000
DTSTAMP:20260424T071352
CREATED:20231006T090020Z
LAST-MODIFIED:20231006T090020Z
UID:16706-1696780800-1696791600@salemforallages.org
SUMMARY:DIAMOND’S DINE-IN DRAG BRUNCH!
DESCRIPTION:Come on down for Diamond’s Dine-In Drag Brunch! This is a weekly event with local Drag Queen Miz Diamond Wigfall! Someone will be her guest. Be ready for numbers\, games\, drag\, and mimosas all afternoon.
URL:https://salemforallages.org/event/diamonds-dine-in-drag-brunch-10/
ATTACH;FMTTYPE=image/jpeg:https://salemforallages.org/wp-content/uploads/2023/08/Diamond_DineIn_Final-11x171-1.jpg
END:VEVENT
BEGIN:VEVENT
DTSTART;TZID=America/New_York:20231008T150000
DTEND;TZID=America/New_York:20231008T210000
DTSTAMP:20260424T071352
CREATED:20231006T090020Z
LAST-MODIFIED:20231006T090020Z
UID:16705-1696777200-1696798800@salemforallages.org
SUMMARY:Hollowed Harvest
DESCRIPTION:Experience Salem’s ONLY Jack-O’-Lantern festival at the Hollowed Harvest: Wicked Labyrinth! Salem’s beloved fall tradition brings hundreds of intricately carved Jack-O’-Lanterns to life in an all-ages walkthrough event.
URL:https://salemforallages.org/event/hollowed-harvest-10/
ATTACH;FMTTYPE=image/png:https://salemforallages.org/wp-content/uploads/2023/09/hollowed-harvest-hh.png
END:VEVENT
BEGIN:VEVENT
DTSTART;TZID=America/New_York:20231008T150000
DTEND;TZID=America/New_York:20231008T170000
DTSTAMP:20260424T071353
CREATED:20231006T090019Z
LAST-MODIFIED:20231006T090019Z
UID:16704-1696777200-1696784400@salemforallages.org
SUMMARY:Wonderful Self-Care Cafe
DESCRIPTION:Join us to relax\, have a cup of coffee or tea + conversations
URL:https://salemforallages.org/event/wonderful-self-care-cafe-22/
ATTACH;FMTTYPE=image/jpeg:https://salemforallages.org/wp-content/uploads/2023/05/01.jpg
END:VEVENT
BEGIN:VEVENT
DTSTART;TZID=America/New_York:20231008T143000
DTEND;TZID=America/New_York:20231008T160000
DTSTAMP:20260424T071353
CREATED:20231006T090019Z
LAST-MODIFIED:20231006T090019Z
UID:16703-1696775400-1696780800@salemforallages.org
SUMMARY:October Crystal Magic Workshop with a Salem Witch in Salem\, Massachusetts
DESCRIPTION:If you’ve acquired a collection of stones (or you’re well on your way to one\, or you’d like to be)\, but you’re not entirely sure how to get the most benefit from them\, this workshop will help you understand all the ways to work with crystals and stones for protection\, healing\, love\, success\, stress relief\, and other common concerns. Sandra Mariah Wright\, co-author of Awakening the Crystals\, will show you methods for choosing\, cleansing\, “waking up\,” and working with a wide array of earth’s treasures. If you’d like to bring crystals with you\, go for it. If you don’t have any yet\, there will be an opportunity to shop the Gallows Hill Witchery collection before or after the class. This is an intimate\, accessible setting. Seating is EXTREMELY limited.
URL:https://salemforallages.org/event/october-crystal-magic-workshop-with-a-salem-witch-in-salem-massachusetts-2/
ATTACH;FMTTYPE=image/jpeg:https://salemforallages.org/wp-content/uploads/2023/09/https___cdn.evbuc_.com_images_594506249_315979052018_1_original.jpg
END:VEVENT
BEGIN:VEVENT
DTSTART;TZID=America/New_York:20231008T100000
DTEND;TZID=America/New_York:20231008T190000
DTSTAMP:20260424T071353
CREATED:20231006T090018Z
LAST-MODIFIED:20231006T090018Z
UID:16698-1696759200-1696791600@salemforallages.org
SUMMARY:Salem Chamber of Commerce Haunted Biz Baz Street Fair
DESCRIPTION:Shop dozens of Chamber members and unique vendors selling handmade art\, crafts\, gift\, apparel\, and more. Located on Salem Common to give extra space for shoppers and vendors.
URL:https://salemforallages.org/event/salem-chamber-of-commerce-haunted-biz-baz-street-fair-4/
ATTACH;FMTTYPE=image/jpeg:https://salemforallages.org/wp-content/uploads/2022/10/biz-baz-app.jpg
END:VEVENT
BEGIN:VEVENT
DTSTART;TZID=America/New_York:20231008T100000
DTEND;TZID=America/New_York:20231008T180000
DTSTAMP:20260424T071353
CREATED:20231006T090019Z
LAST-MODIFIED:20231006T090019Z
UID:16702-1696759200-1696788000@salemforallages.org
SUMMARY:Haunted Happenings Marketplace
DESCRIPTION:The main event returns to Salem Common! Your favorite vendors\, performances\, mural pop-up photo stations\, street performers\, and much more. \nDerby Square: Saturdays 10 AM-8PM and Sundays 10 AM-6 PM \nSeptember 30\, October 1\, 7\, 8\, 9\, 14\, 15\, 21\, 22\, 28\, 29 \n  \nForten Park: Saturdays 10 AM-8PM and Sundays 10 AM-6 PM \nSeptember 30\, October 1\, 7\, 8\, 9\, 14\, 15\, 21\, 22\, 28\, 29
URL:https://salemforallages.org/event/haunted-happenings-marketplace-24/
ATTACH;FMTTYPE=image/jpeg:https://salemforallages.org/wp-content/uploads/2021/08/Haunted-Happenings-Marketplace.jpg
END:VEVENT
BEGIN:VEVENT
DTSTART;TZID=America/New_York:20231008T100000
DTEND;TZID=America/New_York:20231008T170000
DTSTAMP:20260424T071353
CREATED:20231006T090019Z
LAST-MODIFIED:20231006T090019Z
UID:16701-1696759200-1696784400@salemforallages.org
SUMMARY:The Good Witch of Salem
DESCRIPTION:Attend one of our large events\, including Magical Tea Time 10/9\, Potion Party 10/22\, Costume Ball 10/22\, and Costume Parade. Book an in-store experience with plenty of family-friendly activities.
URL:https://salemforallages.org/event/the-good-witch-of-salem-8/
ATTACH;FMTTYPE=image/jpeg:https://salemforallages.org/wp-content/uploads/2023/09/Good-Witch-Basic-2.jpg
END:VEVENT
BEGIN:VEVENT
DTSTART;TZID=America/New_York:20231008T100000
DTEND;TZID=America/New_York:20231008T140000
DTSTAMP:20260424T071353
CREATED:20231006T090018Z
LAST-MODIFIED:20231006T090018Z
UID:16700-1696759200-1696773600@salemforallages.org
SUMMARY:Book a “Good Witch Transformation”
DESCRIPTION:Thank you for your interest in a “Good Witch” Transformation! \nThrough our transformations children unleash their own spellbinding charms and embrace their individuality. Children are invited to browse our collection of witch hats and dresses. Adorned with shimmering stars\, flowing capes\, and ribbons of enchantment\, these outfits are sure to celebrate their unique spirits. \nOur talented apprentices delicately apply a touch of stardust and add sprinkles of color that match your child’s vibrant personality. As they gaze upon their reflection\, their eyes light up with a newfound confidence and a sense of whimsical delight. They have become the magical beings they’ve always dreamt of\, casting spells and brewing potions in their imaginary world. Their laughter fills the air as they twirl and spin\, radiating with joy and wonder.
URL:https://salemforallages.org/event/book-a-good-witch-transformation-11/
END:VEVENT
BEGIN:VEVENT
DTSTART;TZID=America/New_York:20231008T100000
DTEND;TZID=America/New_York:20231008T120000
DTSTAMP:20260424T071353
CREATED:20231006T090018Z
LAST-MODIFIED:20231006T090018Z
UID:16699-1696759200-1696766400@salemforallages.org
SUMMARY:Mystical Tea Time
DESCRIPTION:Welcome to an enchanting tea party hosted by the Good Witch of Salem! At this whimsical gathering\, young ones are invited to choose from two mystical brews: the Dragon’s Breath or the Unicorn Elixir. The Dragon’s Breath tea carries the power of mythical creatures\, awakening bravery and resilience within. While\, the Unicorn Elixir unveils the magic of unicorns\, invoking dreams\, and uplifting spirits.
URL:https://salemforallages.org/event/mystical-tea-time-4/
END:VEVENT
BEGIN:VEVENT
DTSTART;TZID=America/New_York:20231008T100000
DTEND;TZID=America/New_York:20231008T120000
DTSTAMP:20260424T071353
CREATED:20221114T100014Z
LAST-MODIFIED:20221114T100014Z
UID:14291-1696759200-1696766400@salemforallages.org
SUMMARY:The Good Witch of Salem’s Magical Tea Time for Children
DESCRIPTION:Surround yourself in a world of pink this October and join the Good Witch of Salem for a Magical Children’s Tea Party at the Historic Hawthorne Hotel in Downtown Salem. Located in the Grand Ballroom\, all attending will be captivated by the elegance and charm upon arrival. The Magical Tea Party will begin with photo opportunities offering a glimpse into the Good Witch’s home followed by Tea Party coloring and crafts. \nThe Tea Party will officially begin with a magical message inviting guests to choose from an assortment of tea sandwiches\, fresh fruits\, muffins\, pastries and more! You’ll also discover sweet surprise treats all will be sure to enjoy. And of course\, the Good Witch of Salem will bring her favorite pink tea recipe! A Tea Party would not be complete without a fun game of BINGO! \nOnce prizes and games have come to a happy end\, The Good Witch of Salem will lead the children in an interactive story time featuring her newly released title\, “ The Good Witch of Salem\,” written by the Good Witch of Salem\, Ashley Tina and illustrated by Zuzana Svobodova. All are welcome to have their book signed at the Magical Tea Time event! The Tea Party will end with some dancing\, music and a few special treats! \nhttps://goodwitchofsalem.com/event/tea-time-2023/
URL:https://salemforallages.org/event/the-good-witch-of-salems-magical-tea-time-for-children-2/
END:VEVENT
BEGIN:VEVENT
DTSTART;TZID=America/New_York:20231007T203000
DTEND;TZID=America/New_York:20231007T220000
DTSTAMP:20260424T071353
CREATED:20231006T090018Z
LAST-MODIFIED:20231006T090018Z
UID:16697-1696710600-1696716000@salemforallages.org
SUMMARY:After Hours Ghost Hunt
DESCRIPTION:Join Kimberly Bizjak of Paranormal Salem for Ghost Hunting! Use EMF detectors\, infrared thermometers\, audio recorders\, and more to collect evidence inside The Lost Museum! Combo tickets with Gallows Hill Main Show.
URL:https://salemforallages.org/event/after-hours-ghost-hunt-7/
ATTACH;FMTTYPE=image/jpeg:https://salemforallages.org/wp-content/uploads/2023/09/After-Hours-Ghost-Hunt-Basic.jpg
END:VEVENT
BEGIN:VEVENT
DTSTART;TZID=America/New_York:20231007T200000
DTEND;TZID=America/New_York:20231007T213000
DTSTAMP:20260424T071353
CREATED:20231006T090018Z
LAST-MODIFIED:20231006T090018Z
UID:16696-1696708800-1696714200@salemforallages.org
SUMMARY:Moon Witch: A Ritual Theatre Experience
DESCRIPTION:Immerse yourself in the mysteries! Drawing inspiration from the mythological Three Fates\, Moon Witch weaves together folk magic and moon lore to explore the human experience. Featuring original music\, theatre\, spoken word\, and ritual space to honor the dead.
URL:https://salemforallages.org/event/moon-witch-a-ritual-theatre-experience/
END:VEVENT
BEGIN:VEVENT
DTSTART;TZID=America/New_York:20231007T193000
DTEND;TZID=America/New_York:20231007T213000
DTSTAMP:20260424T071353
CREATED:20231006T090016Z
LAST-MODIFIED:20231006T090016Z
UID:16694-1696707000-1696714200@salemforallages.org
SUMMARY:The Cabinet of Dr. Caligari: Silent Movie with Live Organ Accompaniment
DESCRIPTION:The Cabinet of Dr. Caligari (1920) \nSpend the evening with an insane hypnotist\, as he uses a sleepwalker to commit grisly murders!  This cavernous Gothic building is the perfect venue for the Haunted Grace Silent Movie Series\, accompanied by live organ.
URL:https://salemforallages.org/event/the-cabinet-of-dr-caligari-silent-movie-with-live-organ-accompaniment/
ATTACH;FMTTYPE=image/webp:https://salemforallages.org/wp-content/uploads/2023/10/The-Cabinet-of-Dr-Caligari.webp
END:VEVENT
BEGIN:VEVENT
DTSTART;TZID=America/New_York:20231007T181500
DTEND;TZID=America/New_York:20231007T201500
DTSTAMP:20260424T071353
CREATED:20231006T090016Z
LAST-MODIFIED:20231006T090016Z
UID:16693-1696702500-1696709700@salemforallages.org
SUMMARY:Guilty! A Salem Witch Trial
DESCRIPTION:It’s 1692 in Salem\, and the audience is on trial for witchcraft! Hear testimony against you and plead your case. Will you be found guilty? Combo tickets with Gallows Hill Main Show. Show times 6:15 and 7:15. 
URL:https://salemforallages.org/event/guilty-a-salem-witch-trial-26/
ATTACH;FMTTYPE=image/jpeg:https://salemforallages.org/wp-content/uploads/2023/09/Guilty-Basic-6-2.jpg
END:VEVENT
BEGIN:VEVENT
DTSTART;TZID=America/New_York:20231007T180000
DTEND;TZID=America/New_York:20231007T200000
DTSTAMP:20260424T071353
CREATED:20231006T090013Z
LAST-MODIFIED:20231006T090013Z
UID:16691-1696701600-1696708800@salemforallages.org
SUMMARY:Lore by Candlelight
DESCRIPTION:Experience New England’s fantastical past by spending an evening in one of the oldest homes in Salem. You will be immersed in original rooms dimly lit by candles while experiencing New England’s history\, legends\, and lore that have been passed down for generations. Join us to explore the reality of our terrifying past. BYOB alcohol.
URL:https://salemforallages.org/event/lore-by-candlelight-15/
ATTACH;FMTTYPE=image/jpeg:https://salemforallages.org/wp-content/uploads/2023/10/Local-Lore-by-Candlelight-2-scaled-2.jpg
END:VEVENT
BEGIN:VEVENT
DTSTART;TZID=America/New_York:20231007T180000
DTEND;TZID=America/New_York:20231007T190000
DTSTAMP:20260424T071353
CREATED:20231006T090013Z
LAST-MODIFIED:20231006T090013Z
UID:16690-1696701600-1696705200@salemforallages.org
SUMMARY:Satanic Candle Crafting\, with Minister of Satan Mellissa Gurr
DESCRIPTION:This candle making class will teach participants to hand make candles that are a personalized ritual item for your own personal satanic practice. \nTickets are $100.00 per person\, and will be posted on our website.
URL:https://salemforallages.org/event/satanic-candle-crafting-with-minister-of-satan-mellissa-gurr/
ATTACH;FMTTYPE=image/jpeg:https://salemforallages.org/wp-content/uploads/2023/05/satanic-temple-new-image.jpg
END:VEVENT
BEGIN:VEVENT
DTSTART;TZID=America/New_York:20231007T150000
DTEND;TZID=America/New_York:20231007T220000
DTSTAMP:20260424T071353
CREATED:20231006T090013Z
LAST-MODIFIED:20231006T090013Z
UID:16689-1696690800-1696716000@salemforallages.org
SUMMARY:Hollowed Harvest
DESCRIPTION:Experience Salem’s ONLY Jack-O’-Lantern festival at the Hollowed Harvest: Wicked Labyrinth! Salem’s beloved fall tradition brings hundreds of intricately carved Jack-O’-Lanterns to life in an all-ages walkthrough event.
URL:https://salemforallages.org/event/hollowed-harvest-9/
ATTACH;FMTTYPE=image/png:https://salemforallages.org/wp-content/uploads/2023/09/hollowed-harvest-hh.png
END:VEVENT
BEGIN:VEVENT
DTSTART;TZID=America/New_York:20231007T140000
DTEND;TZID=America/New_York:20231007T150000
DTSTAMP:20260424T071353
CREATED:20231002T090018Z
LAST-MODIFIED:20231002T090018Z
UID:16682-1696687200-1696690800@salemforallages.org
SUMMARY:Haunted Fables at The Gables
DESCRIPTION:Join Salem’s master storyteller\, Nathaniel Hawthorne\, for a frightful evening of thrills and chills in the gloomy shadow of the Gables! The famous author performs his most frightening tales\, as well as the terrifying works of fellow writer\, Edgar Allan Poe. Stories include The House of the Seven Gables\, The Cask of Amontillado\, Annabel Lee\, Young Goodman Brown\, The Raven\, and more. Experience the greatest Gothic horror stories ever written\, brought to life by one of the authors himself! Appropriate for families with brave children 10 and up. Tickets are non-refundable. Please see 7Gables.org/events for tickets and more information.
URL:https://salemforallages.org/event/haunted-fables-at-the-gables-7/
ATTACH;FMTTYPE=image/jpeg:https://salemforallages.org/wp-content/uploads/2021/11/unnamed.jpg
END:VEVENT
BEGIN:VEVENT
DTSTART;TZID=America/New_York:20231007T120000
DTEND;TZID=America/New_York:20231007T160000
DTSTAMP:20260424T071353
CREATED:20231006T090009Z
LAST-MODIFIED:20231006T090009Z
UID:16687-1696680000-1696694400@salemforallages.org
SUMMARY:Gore Girls Realistic Face Painting
DESCRIPTION:Stop by East Regiment Beer Co. to learn all about realistic face painting for this Halloween season! Have a drink\, get creative\, and enjoy the October festivities.
URL:https://salemforallages.org/event/gore-girls-realistic-face-painting/
ATTACH;FMTTYPE=image/jpeg:https://salemforallages.org/wp-content/uploads/2023/10/IMG_0800.jpg
END:VEVENT
BEGIN:VEVENT
DTSTART;TZID=America/New_York:20231007T110000
DTEND;TZID=America/New_York:20231007T150000
DTSTAMP:20260424T071353
CREATED:20231002T090015Z
LAST-MODIFIED:20231002T090015Z
UID:16680-1696676400-1696690800@salemforallages.org
SUMMARY:Salem Zombie Walk 2023
DESCRIPTION:The Salem Zombiewalk has been an annual event for a number of years. This is a great family-friendly event will be held in Downtown Salem\, MA. Prior to the Zombiewalk\, participants gather at Salem Commons for some field day activities\, last-minute costume tweaks and alterations\, and of course to admire other lovers of the Zombie theme. \n  \nSONY DSC
URL:https://salemforallages.org/event/salem-zombie-walk-2023/
ATTACH;FMTTYPE=image/jpeg:https://salemforallages.org/wp-content/uploads/2023/10/2023-Zombie-Walk-Salem-flyer-1.jpg
END:VEVENT
BEGIN:VEVENT
DTSTART;TZID=America/New_York:20231007T103000
DTEND;TZID=America/New_York:20231007T123000
DTSTAMP:20260424T071353
CREATED:20231002T090014Z
LAST-MODIFIED:20231002T090014Z
UID:16679-1696674600-1696681800@salemforallages.org
SUMMARY:Process Art Mornings
DESCRIPTION:Informal in-process art making
URL:https://salemforallages.org/event/process-art-mornings-22/
ATTACH;FMTTYPE=image/jpeg:https://salemforallages.org/wp-content/uploads/2023/05/01.jpg
END:VEVENT
BEGIN:VEVENT
DTSTART;TZID=America/New_York:20231007T100000
DTEND;TZID=America/New_York:20231007T200000
DTSTAMP:20260424T071353
CREATED:20231002T090011Z
LAST-MODIFIED:20231002T090011Z
UID:16676-1696672800-1696708800@salemforallages.org
SUMMARY:Haunted Happenings Marketplace
DESCRIPTION:The main event returns to Salem Common! Your favorite vendors\, performances\, mural pop-up photo stations\, street performers\, and much more. \nDerby Square: Saturdays 10 AM-8PM and Sundays 10 AM-6 PM \nSeptember 30\, October 1\, 7\, 8\, 9\, 14\, 15\, 21\, 22\, 28\, 29 \n  \nForten Park: Saturdays 10 AM-8PM and Sundays 10 AM-6 PM \nSeptember 30\, October 1\, 7\, 8\, 9\, 14\, 15\, 21\, 22\, 28\, 29
URL:https://salemforallages.org/event/haunted-happenings-marketplace-23/
ATTACH;FMTTYPE=image/jpeg:https://salemforallages.org/wp-content/uploads/2021/08/Haunted-Happenings-Marketplace.jpg
END:VEVENT
BEGIN:VEVENT
DTSTART;TZID=America/New_York:20231007T100000
DTEND;TZID=America/New_York:20231007T190000
DTSTAMP:20260424T071353
CREATED:20231002T090010Z
LAST-MODIFIED:20231002T090010Z
UID:16673-1696672800-1696705200@salemforallages.org
SUMMARY:Salem Chamber of Commerce Haunted Biz Baz Street Fair
DESCRIPTION:Shop dozens of Chamber members and unique vendors selling handmade art\, crafts\, gift\, apparel\, and more. Located on Salem Common to give extra space for shoppers and vendors.
URL:https://salemforallages.org/event/salem-chamber-of-commerce-haunted-biz-baz-street-fair-3/
ATTACH;FMTTYPE=image/jpeg:https://salemforallages.org/wp-content/uploads/2022/10/biz-baz-app.jpg
END:VEVENT
END:VCALENDAR