BEGIN:VCALENDAR
VERSION:2.0
PRODID:-//Salem for All Ages - ECPv6.15.18//NONSGML v1.0//EN
CALSCALE:GREGORIAN
METHOD:PUBLISH
X-ORIGINAL-URL:https://salemforallages.org
X-WR-CALDESC:Events for Salem for All Ages
REFRESH-INTERVAL;VALUE=DURATION:PT1H
X-Robots-Tag:noindex
X-PUBLISHED-TTL:PT1H
BEGIN:VTIMEZONE
TZID:America/New_York
BEGIN:DAYLIGHT
TZOFFSETFROM:-0500
TZOFFSETTO:-0400
TZNAME:EDT
DTSTART:20240310T070000
END:DAYLIGHT
BEGIN:STANDARD
TZOFFSETFROM:-0400
TZOFFSETTO:-0500
TZNAME:EST
DTSTART:20241103T060000
END:STANDARD
BEGIN:DAYLIGHT
TZOFFSETFROM:-0500
TZOFFSETTO:-0400
TZNAME:EDT
DTSTART:20250309T070000
END:DAYLIGHT
BEGIN:STANDARD
TZOFFSETFROM:-0400
TZOFFSETTO:-0500
TZNAME:EST
DTSTART:20251102T060000
END:STANDARD
BEGIN:DAYLIGHT
TZOFFSETFROM:-0500
TZOFFSETTO:-0400
TZNAME:EDT
DTSTART:20260308T070000
END:DAYLIGHT
BEGIN:STANDARD
TZOFFSETFROM:-0400
TZOFFSETTO:-0500
TZNAME:EST
DTSTART:20261101T060000
END:STANDARD
END:VTIMEZONE
BEGIN:VEVENT
DTSTART;TZID=America/New_York:20250704T090000
DTEND;TZID=America/New_York:20250704T120000
DTSTAMP:20260424T140445
CREATED:20250630T090006Z
LAST-MODIFIED:20250630T090006Z
UID:24390-1751619600-1751630400@salemforallages.org
SUMMARY:Kids’ Summer Program at NSGS (10 years old & up)!
DESCRIPTION:Join us for a week of artistic enrichment and engagement at North Shore Glass School! For kids age 10+\, students will be welcomed at our glass studio at 16 Proctor Street for a week of glassblowing\, flameworking\, fused glass\, stained glass and sandblasting. Projects will include but are not limited to glassblowing paperweights and cups\, fused glass bowls and suncatchers\, flameworking pendants and small figurines\, stained glass window pieces and boxes and sandblasted cups and vases.
URL:https://salemforallages.org/event/kids-summer-program-at-nsgs-10-years-old-up-19/
ATTACH;FMTTYPE=image/jpeg:https://salemforallages.org/wp-content/uploads/2025/06/IMG_5288-scaled-19.jpg
END:VEVENT
BEGIN:VEVENT
DTSTART;TZID=America/New_York:20250704T090000
DTEND;TZID=America/New_York:20250704T120000
DTSTAMP:20260424T140445
CREATED:20250630T090010Z
LAST-MODIFIED:20250630T090010Z
UID:24392-1751619600-1751630400@salemforallages.org
SUMMARY:Junior Kids’ Glass Summer Program at Artist Row!
DESCRIPTION:For kids ages 7 to 10\, we welcome you at our new Artist Row studio in downtown Salem! Join us for a week of glass art exploration. In this program\, students will learn about the fine art of glass and work on thoughtfully constructed and age-appropriate projects in fused glass\, stained glass\, sandblasting\, sea glass sculpting\, and glass painting.
URL:https://salemforallages.org/event/junior-kids-glass-summer-program-at-artist-row-15/
ATTACH;FMTTYPE=image/jpeg:https://salemforallages.org/wp-content/uploads/2025/06/IMG_3862-scaled-15.jpg
END:VEVENT
BEGIN:VEVENT
DTSTART;TZID=America/New_York:20250704T110000
DTEND;TZID=America/New_York:20250704T123000
DTSTAMP:20260424T140445
CREATED:20250630T090015Z
LAST-MODIFIED:20250630T090015Z
UID:24395-1751626800-1751632200@salemforallages.org
SUMMARY:Revolution 250 Salem Tour
DESCRIPTION:Everyone knows Salem for the 1692 Witchcraft Trials\, but did you know that Salem made significant contributions to the American Revolution? The shot heard round the world almost happened here\, we were known for our Privateers (legal Pirates)\, who were the most successful against the British\, and British Governor General Thomas Gage encountered some of his biggest challenges to his authority in Salem. \nWe say that without Salem\, the United States may not be the same United States we know today.\nCome to Salem and learn the incredible role that our Patriots played in the start of our country.
URL:https://salemforallages.org/event/revolution-250-salem-tour-11/
ATTACH;FMTTYPE=image/png:https://salemforallages.org/wp-content/uploads/2025/04/Screen-Shot-2025-03-16-at-5.02.45-PM.png
END:VEVENT
BEGIN:VEVENT
DTSTART;TZID=America/New_York:20250704T110000
DTEND;TZID=America/New_York:20250704T170000
DTSTAMP:20260424T140445
CREATED:20250630T090016Z
LAST-MODIFIED:20250630T090016Z
UID:24396-1751626800-1751648400@salemforallages.org
SUMMARY:Personal Rainbow Aura Photos
DESCRIPTION:What would the world become if everyone saw themselves as an energetic being? Each Personal Rainbow appointment comes with an instant-film aura photo and personalized reading of the colors and patterns. Bring a buddy at no extra charge to see your vibe as a dynamic duo! Book ahead as walk-ins fill up quickly\, appointments available Thursday-Monday.
URL:https://salemforallages.org/event/personal-rainbow-aura-photos-28/
ATTACH;FMTTYPE=image/jpeg:https://salemforallages.org/wp-content/uploads/2025/06/aura-photos-hauswitch-salem-6.jpg
END:VEVENT
BEGIN:VEVENT
DTSTART;TZID=America/New_York:20250704T113000
DTEND;TZID=America/New_York:20250704T160000
DTSTAMP:20260424T140445
CREATED:20250630T090020Z
LAST-MODIFIED:20250630T090020Z
UID:24398-1751628600-1751644800@salemforallages.org
SUMMARY:Magical Transformations
DESCRIPTION:Through our “Magical Transformations” children embrace their charms and express their individuality. Children can choose to transform into a “Witch” or “Wizard”!
URL:https://salemforallages.org/event/magical-transformations-384/
ATTACH;FMTTYPE=image/jpeg:https://salemforallages.org/wp-content/uploads/2025/06/Magicaltransformations-22.jpg
END:VEVENT
BEGIN:VEVENT
DTSTART;TZID=America/New_York:20250704T113000
DTEND;TZID=America/New_York:20250704T160000
DTSTAMP:20260424T140445
CREATED:20250630T090024Z
LAST-MODIFIED:20250630T090024Z
UID:24400-1751628600-1751644800@salemforallages.org
SUMMARY:Potion Brewing Store Experience
DESCRIPTION:Make your visit to The Good Witch of Salem’s shop memorable by booking our in-store Potion Brewing Experience. This activity is led by our Witch Apprentices. \nActivities are recommended for children ages 3 and up. \n*One appointment slot for each child is required.*
URL:https://salemforallages.org/event/potion-brewing-store-experience-377/
ATTACH;FMTTYPE=image/jpeg:https://salemforallages.org/wp-content/uploads/2025/06/Final-Potion-Master-1-1-14.jpg
END:VEVENT
BEGIN:VEVENT
DTSTART;TZID=America/New_York:20250704T120000
DTEND;TZID=America/New_York:20250704T133000
DTSTAMP:20260424T140445
CREATED:20250630T090029Z
LAST-MODIFIED:20250630T090029Z
UID:24402-1751630400-1751635800@salemforallages.org
SUMMARY:Craft Witch
DESCRIPTION:Craft Witch is a DIY crafting session with something for everyone! Choose from a wide array of options to create your very own one-of-a-kind craft. Whichever craft you decide to create\, you’ll be provided with all the materials\, tools\, and knowledge needed to let your creativity flourish. Unlike our broom making\, bookbinding\, and spelljar making workshops in which participants are being guided through the crafting process step-by step by an instructor\, the DIY nature of Craft Witch means that you can use the studio time however you wish. Check out the crafting options on our website!
URL:https://salemforallages.org/event/craft-witch-80/
ATTACH;FMTTYPE=image/jpeg:https://salemforallages.org/wp-content/uploads/2025/06/Image-from-iOS-scaled-17.jpg
END:VEVENT
BEGIN:VEVENT
DTSTART;TZID=America/New_York:20250704T180000
DTEND;TZID=America/New_York:20250704T230000
DTSTAMP:20260424T140445
CREATED:20250630T090033Z
LAST-MODIFIED:20250630T090033Z
UID:24404-1751652000-1751670000@salemforallages.org
SUMMARY:July 4th Bash at The Roof
DESCRIPTION:4th of July plans? Look no further and join us at The Roof with delicious Food\, Crafted Cocktails & Rooftop views of the Fireworks!\nTicket Includes:\nRaw Bar\nBuffet Dinner\nMains:\n-Smoked Coffee Rubbed Beef Brisket\n-Smoked Baby Back Ribs\n-Classic Grilled Chicken\nSides:\nDeviled Egg Potato Salad\nSweet Potato Salad\nShaved Duel Cabbage Slaw\nGrilled Sweet Corn and Herb Butter\nGrilled Summer Veggie Salad over Greens\nSweet Rolls\nButter\nDessert Bar:\n‘Merica Cupcakes: Chocolate and Vanilla with usa buttercream\nSmores Bars\nBerry Pie Cups \nChoice of:\nSpecialty Snow Cone Cocktail or Espresso Martini from Fountian upon arrival\nTax & Gratuity Included\, Cash Bar*
URL:https://salemforallages.org/event/july-4th-bash-at-the-roof/
ATTACH;FMTTYPE=image/jpeg:https://salemforallages.org/wp-content/uploads/2025/06/Roof-July4-Promo-1200x1200-250611.jpg
END:VEVENT
BEGIN:VEVENT
DTSTART;TZID=America/New_York:20250704T190000
DTEND;TZID=America/New_York:20250704T220000
DTSTAMP:20260424T140445
CREATED:20250630T090036Z
LAST-MODIFIED:20250630T090036Z
UID:24406-1751655600-1751666400@salemforallages.org
SUMMARY:July 4 Fireworks Cruise
DESCRIPTION:Did you know what ELSE happened on the 4th of July? The original FAME captured the first prizes of the War of 1812! And each July 4th we offer four public sails during the day\, leading up to the extended sunset cruise which culminates in watching the fireworks from the best vantage point on Salem — our Pickering Wharf dock.
URL:https://salemforallages.org/event/july-4-fireworks-cruise/
ATTACH;FMTTYPE=image/jpeg:https://salemforallages.org/wp-content/uploads/2025/06/Fireworks_2023c.jpg
END:VEVENT
BEGIN:VEVENT
DTSTART;TZID=America/New_York:20250704T194500
DTEND;TZID=America/New_York:20250704T220000
DTSTAMP:20260424T140445
CREATED:20250701T090007Z
LAST-MODIFIED:20250701T090007Z
UID:24408-1751658300-1751666400@salemforallages.org
SUMMARY:Fireworks Cruise
DESCRIPTION:Nothing beats watching the Fireworks on the water! We promise once you’ve experienced it\, Mahi will become your new 4th of July tradition! Hop on board the Hannah Glover or the Finback and escape the crowds for an unforgettable view of the fireworks show.
URL:https://salemforallages.org/event/fireworks-cruise-2/
ATTACH;FMTTYPE=image/jpeg:https://salemforallages.org/wp-content/uploads/2025/07/C9DC4E1B-8612-4604-8BD2-4CB3DCF340AE-scaled-1.jpg
END:VEVENT
BEGIN:VEVENT
DTSTART;TZID=America/New_York:20250704T200000
DTEND;TZID=America/New_York:20250704T233000
DTSTAMP:20260424T140445
CREATED:20250701T090010Z
LAST-MODIFIED:20250701T090010Z
UID:24410-1751659200-1751671800@salemforallages.org
SUMMARY:Fierce Fridays hosted by Miz Diamond Wigfall
DESCRIPTION:Ru Paul drag race viewing 8pm\nPerformers go on 9pm\nMusic by Maxine Harrison \nFree! 21+
URL:https://salemforallages.org/event/fierce-fridays-hosted-by-miz-diamond-wigfall-5/
ATTACH;FMTTYPE=image/jpeg:https://salemforallages.org/wp-content/uploads/2025/06/Fierce-Friday-june-schedule.jpg
END:VEVENT
BEGIN:VEVENT
DTSTART;TZID=America/New_York:20250705T090000
DTEND;TZID=America/New_York:20250705T110000
DTSTAMP:20260424T140445
CREATED:20250701T090011Z
LAST-MODIFIED:20250701T090011Z
UID:24411-1751706000-1751713200@salemforallages.org
SUMMARY:Salem Discovery Paddle Tours
DESCRIPTION:Embark on a serene paddleboard or kayak journey along the enchanting coastlines of Salem and Beverly Harbors\, where each stroke of your paddle unveils narratives ranging from historic naval battles to the infamous witch trials\, echoing the vibrant past of what was once the world’s busiest trading port. Age 16+
URL:https://salemforallages.org/event/salem-discovery-paddle-tours-12/
ATTACH;FMTTYPE=image/jpeg:https://salemforallages.org/wp-content/uploads/2025/07/IMG_0793-scaled-1.jpeg
END:VEVENT
BEGIN:VEVENT
DTSTART;TZID=America/New_York:20250705T100000
DTEND;TZID=America/New_York:20250705T110000
DTSTAMP:20260424T140445
CREATED:20250701T090015Z
LAST-MODIFIED:20250701T090015Z
UID:24413-1751709600-1751713200@salemforallages.org
SUMMARY:Mermaid Spa Day
DESCRIPTION:Workshop Time: 10:00AM – 11:00AM\nLocation: The Good Witch of Salem @ 2 North Street\, Salem MA 01970\nHosted By: Witch Apprentice \nLet’s have a Mermaid Spa Day! Join us for a little pampering and relaxation with our Witch Apprentices. Children will create their own mermaid potion and receive sparkly nails\, mermaid hair accessories\, and a touch of glitter with pink lips and rosy cheeks.  \nThis workshop is limited to 8 children\, pre-registration is required. Under age 4 may attend with the help of a supervising adult.
URL:https://salemforallages.org/event/mermaid-spa-day-2/
ATTACH;FMTTYPE=image/jpeg:https://salemforallages.org/wp-content/uploads/2025/07/FINAL-Mermaid-Spa-Day-2.jpg
END:VEVENT
BEGIN:VEVENT
DTSTART;TZID=America/New_York:20250705T110000
DTEND;TZID=America/New_York:20250705T123000
DTSTAMP:20260424T140445
CREATED:20250701T090019Z
LAST-MODIFIED:20250701T090019Z
UID:24415-1751713200-1751718600@salemforallages.org
SUMMARY:Revolution 250 Salem Tour
DESCRIPTION:Everyone knows Salem for the 1692 Witchcraft Trials\, but did you know that Salem made significant contributions to the American Revolution? The shot heard round the world almost happened here\, we were known for our Privateers (legal Pirates)\, who were the most successful against the British\, and British Governor General Thomas Gage encountered some of his biggest challenges to his authority in Salem. \nWe say that without Salem\, the United States may not be the same United States we know today.\nCome to Salem and learn the incredible role that our Patriots played in the start of our country.
URL:https://salemforallages.org/event/revolution-250-salem-tour-12/
ATTACH;FMTTYPE=image/png:https://salemforallages.org/wp-content/uploads/2025/04/Screen-Shot-2025-03-16-at-5.02.45-PM.png
END:VEVENT
BEGIN:VEVENT
DTSTART;TZID=America/New_York:20250705T110000
DTEND;TZID=America/New_York:20250705T160000
DTSTAMP:20260424T140445
CREATED:20250701T090024Z
LAST-MODIFIED:20250701T090024Z
UID:24418-1751713200-1751731200@salemforallages.org
SUMMARY:Hands on History
DESCRIPTION:Hands-on History\nJune 14-August 31 on Saturdays and Sundays\, 11:00 A.M. – 4:00 P.M.\n(Specific dates: June 14\, 15\, 21\, 22\, 28\, and 29. July 5\, 6\, 12. 13\, 19\, 20\, 26\, and 27. August 2\, 3\, 9\, 10. 16\, 17\, 23\, 24\, 30\, and 31.) \nJoin us for Hands-on History at The Gables! This summer\, we invite young (and young at heart!) guests to explore different elements of our history and legacy through hands-on activities. This program will run June 14-August 31 on Saturdays and Sundays\, 11:00 A.M. – 4:00 P.M. Hands-on History is included with your purchase of a Mansion Tour Package or Grounds Pass. We hope
URL:https://salemforallages.org/event/hands-on-history-51/
ATTACH;FMTTYPE=image/jpeg:https://salemforallages.org/wp-content/uploads/2025/07/SQUARE-House-of-seven-Gables-Salem-Academy-Charter-Visit-March-2016_0224-scaled-1.jpg
END:VEVENT
BEGIN:VEVENT
DTSTART;TZID=America/New_York:20250705T110000
DTEND;TZID=America/New_York:20250705T170000
DTSTAMP:20260424T140445
CREATED:20250701T090020Z
LAST-MODIFIED:20250701T090020Z
UID:24416-1751713200-1751734800@salemforallages.org
SUMMARY:Personal Rainbow Aura Photos
DESCRIPTION:What would the world become if everyone saw themselves as an energetic being? Each Personal Rainbow appointment comes with an instant-film aura photo and personalized reading of the colors and patterns. Bring a buddy at no extra charge to see your vibe as a dynamic duo! Book ahead as walk-ins fill up quickly\, appointments available Thursday-Monday.
URL:https://salemforallages.org/event/personal-rainbow-aura-photos-29/
ATTACH;FMTTYPE=image/jpeg:https://salemforallages.org/wp-content/uploads/2025/07/aura-photos-hauswitch-salem-1.jpg
END:VEVENT
BEGIN:VEVENT
DTSTART;TZID=America/New_York:20250705T113000
DTEND;TZID=America/New_York:20250705T140000
DTSTAMP:20260424T140445
CREATED:20250702T090015Z
LAST-MODIFIED:20250702T090015Z
UID:24424-1751715000-1751724000@salemforallages.org
SUMMARY:The Good Witch of Salem’s USA Magic Potion
DESCRIPTION:Fly into The Good Witch and Stay for a Spell! Step into the DIY Good Witch of Salem’s Potion Bar\, where you can mix your very own magical potion creations! Choose your ingredients\, sprinkle in magical moondust\, add in your golden heart intentions\, and seal with a special charm to take home the enchantment!
URL:https://salemforallages.org/event/the-good-witch-of-salems-usa-magic-potion-4/
ATTACH;FMTTYPE=image/jpeg:https://salemforallages.org/wp-content/uploads/2025/07/USA-Magic-scaled-1.jpg
END:VEVENT
BEGIN:VEVENT
DTSTART;TZID=America/New_York:20250705T113000
DTEND;TZID=America/New_York:20250705T140000
DTSTAMP:20260424T140445
CREATED:20250702T090018Z
LAST-MODIFIED:20250702T090018Z
UID:24426-1751715000-1751724000@salemforallages.org
SUMMARY:Summer Broom Decorating
DESCRIPTION:Fly into The Good Witch and Stay for a Spell! Unleash your creativity at the Good Witch of Salem’s Broom Decorating Station\, where you can transform a broom into a magical masterpiece! Use enchanting tape\, colorful ribbons\, sparkling stickers\, and shimmering gems to create a broom that’s uniquely yours. \n Activity Length: 15-25  minutes\n Location: The Good Witch of Salem @ 2 North Street\, Salem MA 01970\n Hosted By: This is a self-guided DIY activity
URL:https://salemforallages.org/event/summer-broom-decorating/
ATTACH;FMTTYPE=image/png:https://salemforallages.org/wp-content/uploads/2025/07/July-and-August-Events-2025-SQUARE.zip-FINAL-Summer-Broom-Decorating.png
END:VEVENT
BEGIN:VEVENT
DTSTART;TZID=America/New_York:20250705T113000
DTEND;TZID=America/New_York:20250705T160000
DTSTAMP:20260424T140445
CREATED:20250702T090006Z
LAST-MODIFIED:20250702T090006Z
UID:24420-1751715000-1751731200@salemforallages.org
SUMMARY:Magical Transformations
DESCRIPTION:Through our “Magical Transformations” children embrace their charms and express their individuality. Children can choose to transform into a “Witch” or “Wizard”!
URL:https://salemforallages.org/event/magical-transformations-385/
ATTACH;FMTTYPE=image/jpeg:https://salemforallages.org/wp-content/uploads/2025/07/Magicaltransformations.jpg
END:VEVENT
BEGIN:VEVENT
DTSTART;TZID=America/New_York:20250705T113000
DTEND;TZID=America/New_York:20250705T160000
DTSTAMP:20260424T140445
CREATED:20250702T090010Z
LAST-MODIFIED:20250702T090010Z
UID:24422-1751715000-1751731200@salemforallages.org
SUMMARY:Potion Brewing Store Experience
DESCRIPTION:Make your visit to The Good Witch of Salem’s shop memorable by booking our in-store Potion Brewing Experience. This activity is led by our Witch Apprentices. \nActivities are recommended for children ages 3 and up. \n*One appointment slot for each child is required.*
URL:https://salemforallages.org/event/potion-brewing-store-experience-378/
ATTACH;FMTTYPE=image/jpeg:https://salemforallages.org/wp-content/uploads/2025/07/Final-Potion-Master-1-1.jpg
END:VEVENT
BEGIN:VEVENT
DTSTART;TZID=America/New_York:20250705T120000
DTEND;TZID=America/New_York:20250705T133000
DTSTAMP:20260424T140445
CREATED:20250702T090024Z
LAST-MODIFIED:20250702T090024Z
UID:24428-1751716800-1751722200@salemforallages.org
SUMMARY:Craft Witch
DESCRIPTION:Craft Witch is a DIY crafting session with something for everyone! Choose from a wide array of options to create your very own one-of-a-kind craft. Whichever craft you decide to create\, you’ll be provided with all the materials\, tools\, and knowledge needed to let your creativity flourish. Unlike our broom making\, bookbinding\, and spelljar making workshops in which participants are being guided through the crafting process step-by step by an instructor\, the DIY nature of Craft Witch means that you can use the studio time however you wish. Check out the crafting options on our website!
URL:https://salemforallages.org/event/craft-witch-81/
ATTACH;FMTTYPE=image/jpeg:https://salemforallages.org/wp-content/uploads/2025/07/Image-from-iOS-scaled-1.jpg
END:VEVENT
BEGIN:VEVENT
DTSTART;TZID=America/New_York:20250705T190000
DTEND;TZID=America/New_York:20250705T210000
DTSTAMP:20260424T140445
CREATED:20250702T090029Z
LAST-MODIFIED:20250702T090029Z
UID:24430-1751742000-1751749200@salemforallages.org
SUMMARY:Sea Witch Ball Workshops
DESCRIPTION:Whether you’re visiting Salem with your witch family or just love (witch)crafting\, join The Sea Wych Salem for a magical experience in Witch City. The Sea Wych Salem will present the history and lore behind the witch ball\, and then guide you as you create your own to protect your home\, welcome in joy\, banish negativity\, or simply create a pretty souvenir for display in your home. These witch balls are further charged with ocean elements to boost your magic. Spend some time with us and bring home your own unique and uniquely crafted souvenir.
URL:https://salemforallages.org/event/sea-witch-ball-workshops-5/
ATTACH;FMTTYPE=image/jpeg:https://salemforallages.org/wp-content/uploads/2025/07/Screenshot-2025-04-26-152037.jpg
END:VEVENT
BEGIN:VEVENT
DTSTART;TZID=America/New_York:20250706T080000
DTEND;TZID=America/New_York:20250706T170000
DTSTAMP:20260424T140445
CREATED:20250702T090032Z
LAST-MODIFIED:20250702T090032Z
UID:24432-1751788800-1751821200@salemforallages.org
SUMMARY:The Good Witch of Salem’s Ocean Potion
DESCRIPTION:Stop In For a Spell: DIY Potion Bar \nFly into The Good Witch and Stay for a Spell! Step into the DIY Good Witch of Salem’s Potion Bar\, where you can mix your very own magical potion creations! Choose your ingredients\, sprinkle in magical moondust\, add in your golden heart intentions\, and seal with a special charm to take home the enchantment!  \nBook your appointment online to visit our potion bar! Advanced reservations required by booking online during peek months (September- October). Please note that our space is cozy and sweet! We allow one adult per a reservation to attend the potion bar e
URL:https://salemforallages.org/event/the-good-witch-of-salems-ocean-potion/
ATTACH;FMTTYPE=image/jpeg:https://salemforallages.org/wp-content/uploads/2025/07/July-and-August-Events-2025-SQUARE.zip-FINAL-Ocean-Slime-Potions-1.jpg
END:VEVENT
BEGIN:VEVENT
DTSTART;TZID=America/New_York:20250706T090000
DTEND;TZID=America/New_York:20250706T110000
DTSTAMP:20260424T140445
CREATED:20250702T090036Z
LAST-MODIFIED:20250702T090036Z
UID:24434-1751792400-1751799600@salemforallages.org
SUMMARY:Yoga and Meditation in the Galleries at PEM / Yoga y meditación en las galerías
DESCRIPTION:Members $5; nonmembers $10\nAdvance tickets are required; space is limited. \nPlease note that this session will begin with meditation\, followed by yoga. \nThis class is designed to be accessible to all ages and abilities. No prior experience with yoga or meditation is necessary – all are welcome! Limited seating will be available in the gallery during meditation. \nSealed water is permitted in the gallery during yoga and meditation. \nVisit our website for a full description of the event! \n¡Disfruta con nosotros de una reparadora mañana de yoga y meditación! Primero\, respira profundo y déjate inspirar por la serenidad de Todas las flores son para mí de Anila Quayyum Agha durante una hora de yoga. Luego\, quédate para realizar una práctica guiada de atención plena. Las sesiones están dirigidas por Heidy Ramírez\, coach de vida\, instructora de yoga y responsable de programación en EparaTodos Lynn.
URL:https://salemforallages.org/event/yoga-and-meditation-in-the-galleries-at-pem-yoga-y-meditacion-en-las-galerias/
ATTACH;FMTTYPE=image/jpeg:https://salemforallages.org/wp-content/uploads/2025/07/Ev_YogaSpanish_1600_SplitHero.jpg
END:VEVENT
BEGIN:VEVENT
DTSTART;TZID=America/New_York:20250706T100000
DTEND;TZID=America/New_York:20250706T110000
DTSTAMP:20260424T140445
CREATED:20250703T090006Z
LAST-MODIFIED:20250703T090006Z
UID:24436-1751796000-1751799600@salemforallages.org
SUMMARY:Adopt a Shark
DESCRIPTION:Workshop Time: 10:00AM – 11:00AM\nLocation: The Good Witch of Salem @ 2 North Street\, Salem MA 01970\nHosted By: Witch Apprentices \nLet’s celebrate Shark Week in Salem\, MA! Children will stuff their own shark plush\, create accessories\, set intentions\, and learn about crystal magic! \nThis workshop is limited to 8 children\, pre-registration is required. \nAll ages are welcome! Children age three (3) and up may be dropped off with a signed Consent Form. Any child under the age of three must have an adult alongside participating. We thank you for encouraging your child to take part in magical play!
URL:https://salemforallages.org/event/adopt-a-shark-3/
ATTACH;FMTTYPE=image/jpeg:https://salemforallages.org/wp-content/uploads/2025/07/July-and-August-Events-2025-SQUARE.zip-FINAL-Adopt-Shark.jpg
END:VEVENT
BEGIN:VEVENT
DTSTART;TZID=America/New_York:20250706T110000
DTEND;TZID=America/New_York:20250706T123000
DTSTAMP:20260424T140445
CREATED:20250703T090009Z
LAST-MODIFIED:20250703T090009Z
UID:24438-1751799600-1751805000@salemforallages.org
SUMMARY:Revolution 250 Salem Tour
DESCRIPTION:Everyone knows Salem for the 1692 Witchcraft Trials\, but did you know that Salem made significant contributions to the American Revolution? The shot heard round the world almost happened here\, we were known for our Privateers (legal Pirates)\, who were the most successful against the British\, and British Governor General Thomas Gage encountered some of his biggest challenges to his authority in Salem. \nWe say that without Salem\, the United States may not be the same United States we know today.\nCome to Salem and learn the incredible role that our Patriots played in the start of our country.
URL:https://salemforallages.org/event/revolution-250-salem-tour-13/
ATTACH;FMTTYPE=image/png:https://salemforallages.org/wp-content/uploads/2025/04/Screen-Shot-2025-03-16-at-5.02.45-PM.png
END:VEVENT
BEGIN:VEVENT
DTSTART;TZID=America/New_York:20250706T110000
DTEND;TZID=America/New_York:20250706T160000
DTSTAMP:20260424T140445
CREATED:20250703T090013Z
LAST-MODIFIED:20250703T090013Z
UID:24441-1751799600-1751817600@salemforallages.org
SUMMARY:Hands on History
DESCRIPTION:Hands-on History\nJune 14-August 31 on Saturdays and Sundays\, 11:00 A.M. – 4:00 P.M.\n(Specific dates: June 14\, 15\, 21\, 22\, 28\, and 29. July 5\, 6\, 12. 13\, 19\, 20\, 26\, and 27. August 2\, 3\, 9\, 10. 16\, 17\, 23\, 24\, 30\, and 31.) \nJoin us for Hands-on History at The Gables! This summer\, we invite young (and young at heart!) guests to explore different elements of our history and legacy through hands-on activities. This program will run June 14-August 31 on Saturdays and Sundays\, 11:00 A.M. – 4:00 P.M. Hands-on History is included with your purchase of a Mansion Tour Package or Grounds Pass. We hope
URL:https://salemforallages.org/event/hands-on-history-52/
ATTACH;FMTTYPE=image/jpeg:https://salemforallages.org/wp-content/uploads/2025/07/SQUARE-House-of-seven-Gables-Salem-Academy-Charter-Visit-March-2016_0224-scaled-2.jpg
END:VEVENT
BEGIN:VEVENT
DTSTART;TZID=America/New_York:20250706T110000
DTEND;TZID=America/New_York:20250706T170000
DTSTAMP:20260424T140445
CREATED:20250703T090010Z
LAST-MODIFIED:20250703T090010Z
UID:24439-1751799600-1751821200@salemforallages.org
SUMMARY:Personal Rainbow Aura Photos
DESCRIPTION:What would the world become if everyone saw themselves as an energetic being? Each Personal Rainbow appointment comes with an instant-film aura photo and personalized reading of the colors and patterns. Bring a buddy at no extra charge to see your vibe as a dynamic duo! Book ahead as walk-ins fill up quickly\, appointments available Thursday-Monday.
URL:https://salemforallages.org/event/personal-rainbow-aura-photos-30/
ATTACH;FMTTYPE=image/jpeg:https://salemforallages.org/wp-content/uploads/2025/07/aura-photos-hauswitch-salem-2.jpg
END:VEVENT
BEGIN:VEVENT
DTSTART;TZID=America/New_York:20250706T113000
DTEND;TZID=America/New_York:20250706T150000
DTSTAMP:20260424T140445
CREATED:20250703T090020Z
LAST-MODIFIED:20250703T090020Z
UID:24445-1751801400-1751814000@salemforallages.org
SUMMARY:Stop In For a Spell: DIY Potion Bar
DESCRIPTION:Fly in to The Good Witch and Stay for a Spell! Mix up your very own potion at our Potion Bar! \nDrop Ins begin at store opening and end 30 minutes before closing and are offered on a first come\, first serve basis. Purchase online or pay in store. \nDrop Ins may be unavailable during a birthday party or store event. Please call ahead\, or check our posted hours on Google. \nUnder age 4 may participate with the help of a supervising adult.
URL:https://salemforallages.org/event/stop-in-for-a-spell-diy-potion-bar-254/
ATTACH;FMTTYPE=image/jpeg:https://salemforallages.org/wp-content/uploads/2025/07/Potion-Bar-2.jpg
END:VEVENT
BEGIN:VEVENT
DTSTART;TZID=America/New_York:20250706T113000
DTEND;TZID=America/New_York:20250706T150000
DTSTAMP:20260424T140445
CREATED:20250703T090023Z
LAST-MODIFIED:20250703T090023Z
UID:24447-1751801400-1751814000@salemforallages.org
SUMMARY:Potion Brewing Store Experience
DESCRIPTION:Make your visit to The Good Witch of Salem’s shop memorable by booking our in-store Potion Brewing Experience. This activity is led by our Witch Apprentices. \nActivities are recommended for children ages 3 and up. \n*One appointment slot for each child is required.*
URL:https://salemforallages.org/event/potion-brewing-store-experience-379/
ATTACH;FMTTYPE=image/jpeg:https://salemforallages.org/wp-content/uploads/2025/07/Final-Potion-Master-1.jpg
END:VEVENT
END:VCALENDAR