BEGIN:VCALENDAR
VERSION:2.0
PRODID:-//Salem for All Ages - ECPv6.15.18//NONSGML v1.0//EN
CALSCALE:GREGORIAN
METHOD:PUBLISH
X-ORIGINAL-URL:https://salemforallages.org
X-WR-CALDESC:Events for Salem for All Ages
REFRESH-INTERVAL;VALUE=DURATION:PT1H
X-Robots-Tag:noindex
X-PUBLISHED-TTL:PT1H
BEGIN:VTIMEZONE
TZID:America/New_York
BEGIN:DAYLIGHT
TZOFFSETFROM:-0500
TZOFFSETTO:-0400
TZNAME:EDT
DTSTART:20240310T070000
END:DAYLIGHT
BEGIN:STANDARD
TZOFFSETFROM:-0400
TZOFFSETTO:-0500
TZNAME:EST
DTSTART:20241103T060000
END:STANDARD
BEGIN:DAYLIGHT
TZOFFSETFROM:-0500
TZOFFSETTO:-0400
TZNAME:EDT
DTSTART:20250309T070000
END:DAYLIGHT
BEGIN:STANDARD
TZOFFSETFROM:-0400
TZOFFSETTO:-0500
TZNAME:EST
DTSTART:20251102T060000
END:STANDARD
BEGIN:DAYLIGHT
TZOFFSETFROM:-0500
TZOFFSETTO:-0400
TZNAME:EDT
DTSTART:20260308T070000
END:DAYLIGHT
BEGIN:STANDARD
TZOFFSETFROM:-0400
TZOFFSETTO:-0500
TZNAME:EST
DTSTART:20261101T060000
END:STANDARD
END:VTIMEZONE
BEGIN:VEVENT
DTSTART;TZID=America/New_York:20250624T200000
DTEND;TZID=America/New_York:20250624T230000
DTSTAMP:20260424T143716
CREATED:20250621T090022Z
LAST-MODIFIED:20250621T090022Z
UID:24196-1750795200-1750806000@salemforallages.org
SUMMARY:Not Your Average Trivia
DESCRIPTION:Weekly themed trivia that isn’t like any other.
URL:https://salemforallages.org/event/not-your-average-trivia-3/
ATTACH;FMTTYPE=image/jpeg:https://salemforallages.org/wp-content/uploads/2025/06/IMG_1911.jpeg
END:VEVENT
BEGIN:VEVENT
DTSTART;TZID=America/New_York:20250625T090000
DTEND;TZID=America/New_York:20250625T120000
DTSTAMP:20260424T143716
CREATED:20250621T090023Z
LAST-MODIFIED:20250621T090023Z
UID:24197-1750842000-1750852800@salemforallages.org
SUMMARY:Kids’ Summer Program at NSGS (10 years old & up)!
DESCRIPTION:Join us for a week of artistic enrichment and engagement at North Shore Glass School! For kids age 10+\, students will be welcomed at our glass studio at 16 Proctor Street for a week of glassblowing\, flameworking\, fused glass\, stained glass and sandblasting. Projects will include but are not limited to glassblowing paperweights and cups\, fused glass bowls and suncatchers\, flameworking pendants and small figurines\, stained glass window pieces and boxes and sandblasted cups and vases.
URL:https://salemforallages.org/event/kids-summer-program-at-nsgs-10-years-old-up-12/
ATTACH;FMTTYPE=image/jpeg:https://salemforallages.org/wp-content/uploads/2025/06/IMG_5288-scaled-12.jpg
END:VEVENT
BEGIN:VEVENT
DTSTART;TZID=America/New_York:20250625T090000
DTEND;TZID=America/New_York:20250625T120000
DTSTAMP:20260424T143716
CREATED:20250621T090026Z
LAST-MODIFIED:20250621T090026Z
UID:24199-1750842000-1750852800@salemforallages.org
SUMMARY:Junior Kids’ Glass Summer Program at Artist Row!
DESCRIPTION:North Shore Glass School is thrilled to announce our new kid’s glass art program at Artist Row this summer. This program is for kids aged 7-10 years old. In this week-long program\, kids will enjoy projects in stained glass\, fused glass\, sandblasting\, glass art painting and sea glass sculpting.
URL:https://salemforallages.org/event/junior-kids-glass-summer-program-at-artist-row-8/
ATTACH;FMTTYPE=image/jpeg:https://salemforallages.org/wp-content/uploads/2025/06/IMG_3862-scaled-8.jpg
END:VEVENT
BEGIN:VEVENT
DTSTART;TZID=America/New_York:20250625T090000
DTEND;TZID=America/New_York:20250625T120000
DTSTAMP:20260424T143716
CREATED:20250621T090030Z
LAST-MODIFIED:20250621T090030Z
UID:24201-1750842000-1750852800@salemforallages.org
SUMMARY:Kids’ Glass Summer Program at Artist Row!
DESCRIPTION:North Shore Glass School is thrilled to announce a summer program for kids aged 7-10 years old at Artist Row. Our kids summer program will run weekly June through August from 9-12pm. In this summer workshop\, kids will be introduced to the fine arts of fused glass\, stained glass\, sandblasting\, glass painting and sea glass sculpting.
URL:https://salemforallages.org/event/kids-glass-summer-program-at-artist-row-8/
ATTACH;FMTTYPE=image/jpeg:https://salemforallages.org/wp-content/uploads/2025/06/IMG_3862-1-scaled-8.jpg
END:VEVENT
BEGIN:VEVENT
DTSTART;TZID=America/New_York:20250625T113000
DTEND;TZID=America/New_York:20250625T150000
DTSTAMP:20260424T143716
CREATED:20250621T090037Z
LAST-MODIFIED:20250621T090037Z
UID:24205-1750851000-1750863600@salemforallages.org
SUMMARY:Stop In For a Spell: DIY Potion Bar
DESCRIPTION:Fly in to The Good Witch and Stay for a Spell! Mix up your very own potion at our Potion Bar! \nDrop Ins begin at store opening and end 30 minutes before closing and are offered on a first come\, first serve basis. Purchase online or pay in store. \nDrop Ins may be unavailable during a birthday party or store event. Please call ahead\, or check our posted hours on Google. \nUnder age 4 may participate with the help of a supervising adult.
URL:https://salemforallages.org/event/stop-in-for-a-spell-diy-potion-bar-250/
ATTACH;FMTTYPE=image/jpeg:https://salemforallages.org/wp-content/uploads/2025/06/Potion-Bar-2-7.jpg
END:VEVENT
BEGIN:VEVENT
DTSTART;TZID=America/New_York:20250625T113000
DTEND;TZID=America/New_York:20250625T150000
DTSTAMP:20260424T143716
CREATED:20250621T090040Z
LAST-MODIFIED:20250621T090040Z
UID:24207-1750851000-1750863600@salemforallages.org
SUMMARY:Potion Brewing Store Experience
DESCRIPTION:Make your visit to The Good Witch of Salem’s shop memorable by booking our in-store Potion Brewing Experience. This activity is led by our Witch Apprentices. \nActivities are recommended for children ages 3 and up. \n*One appointment slot for each child is required.*
URL:https://salemforallages.org/event/potion-brewing-store-experience-368/
ATTACH;FMTTYPE=image/jpeg:https://salemforallages.org/wp-content/uploads/2025/06/Final-Potion-Master-1-7.jpg
END:VEVENT
BEGIN:VEVENT
DTSTART;TZID=America/New_York:20250625T113000
DTEND;TZID=America/New_York:20250625T153000
DTSTAMP:20260424T143716
CREATED:20250621T090033Z
LAST-MODIFIED:20250621T090033Z
UID:24203-1750851000-1750865400@salemforallages.org
SUMMARY:Magical Transformations
DESCRIPTION:Through our “Magical Transformations” children embrace their charms and express their individuality. Children can choose to transform into a “Witch” or “Wizard”!
URL:https://salemforallages.org/event/magical-transformations-375/
ATTACH;FMTTYPE=image/jpeg:https://salemforallages.org/wp-content/uploads/2025/06/Magicaltransformations-13.jpg
END:VEVENT
BEGIN:VEVENT
DTSTART;TZID=America/New_York:20250625T120000
DTEND;TZID=America/New_York:20250625T133000
DTSTAMP:20260424T143716
CREATED:20250621T090044Z
LAST-MODIFIED:20250621T090044Z
UID:24209-1750852800-1750858200@salemforallages.org
SUMMARY:Craft Witch
DESCRIPTION:Craft Witch is a DIY crafting session with something for everyone! Choose from a wide array of options to create your very own one-of-a-kind craft. Whichever craft you decide to create\, you’ll be provided with all the materials\, tools\, and knowledge needed to let your creativity flourish. Unlike our broom making\, bookbinding\, and spelljar making workshops in which participants are being guided through the crafting process step-by step by an instructor\, the DIY nature of Craft Witch means that you can use the studio time however you wish. Check out the crafting options on our website!
URL:https://salemforallages.org/event/craft-witch-74/
ATTACH;FMTTYPE=image/jpeg:https://salemforallages.org/wp-content/uploads/2025/06/Image-from-iOS-scaled-11.jpg
END:VEVENT
BEGIN:VEVENT
DTSTART;TZID=America/New_York:20250625T180000
DTEND;TZID=America/New_York:20250625T200000
DTSTAMP:20260424T143716
CREATED:20250621T090048Z
LAST-MODIFIED:20250621T090048Z
UID:24211-1750874400-1750881600@salemforallages.org
SUMMARY:QUEER VOICES: A Pride Panel of LGBTQ+ Entrepreneurs
DESCRIPTION:Welcome to QUEER VOICES: A Pride Panel of LGBTQ+ Entrepreneurs! Join us for an inspiring evening filled with stories\, insights\, and experiences from successful LGBTQ+ business owners. This is an outdoor event held on our back patio behind 98 Lafayette St\, with light food and refreshments to enjoy. Come network with other entrepreneurs and make connections in the queer community! \nThis event is put on in collaboration with the Massachusetts LGBT Chamber of Commerce. \nIn the event of rain\, we will move to our community space\, Espacio at 105 Congress St\, Salem.
URL:https://salemforallages.org/event/queer-voices-a-pride-panel-of-lgbtq-entrepreneurs/
ATTACH;FMTTYPE=image/jpeg:https://salemforallages.org/wp-content/uploads/2025/06/Queer-Entrepreneur-Panel-Flyer.jpg
END:VEVENT
BEGIN:VEVENT
DTSTART;TZID=America/New_York:20250625T180000
DTEND;TZID=America/New_York:20250625T200000
DTSTAMP:20260424T143716
CREATED:20250621T090052Z
LAST-MODIFIED:20250621T090052Z
UID:24213-1750874400-1750881600@salemforallages.org
SUMMARY:Free Bingo Night with Will Pottorff
DESCRIPTION:Come enjoy our weekly free Bingo hosted by the BINGO KING himself Will Pottorff!
URL:https://salemforallages.org/event/free-bingo-night-with-will-pottorff-2/
ATTACH;FMTTYPE=image/jpeg:https://salemforallages.org/wp-content/uploads/2025/06/c05c7178-2c36-4e12-bd6d-606da89f8c00.jpg
END:VEVENT
BEGIN:VEVENT
DTSTART;TZID=America/New_York:20250625T190000
DTEND;TZID=America/New_York:20250625T203000
DTSTAMP:20260424T143716
CREATED:20250624T090008Z
LAST-MODIFIED:20250624T090008Z
UID:24261-1750878000-1750883400@salemforallages.org
SUMMARY:Nintendo Switch Trivia Tournament
DESCRIPTION:Nintendo Switch Tournament at Essex Pizza!\nRack up 3 wins total and score a brand new Nintendo Switch 🏆🍕\nJoin the battle every Wednesday at 7PM! Pizza\, prizes\, and pixel-powered bragging rights!
URL:https://salemforallages.org/event/nintendo-switch-trivia-tournament/
ATTACH;FMTTYPE=image/jpeg:https://salemforallages.org/wp-content/uploads/2025/06/4BC450C9-0190-420A-919C-9F23778CFBD1.jpg
END:VEVENT
BEGIN:VEVENT
DTSTART;TZID=America/New_York:20250625T200000
DTEND;TZID=America/New_York:20250625T210000
DTSTAMP:20260424T143716
CREATED:20250622T090005Z
LAST-MODIFIED:20250622T090005Z
UID:24214-1750881600-1750885200@salemforallages.org
SUMMARY:Shadow Work Meditation
DESCRIPTION:Embrace your darkness to illuminate your truth during the dark moon. \n\n\n\n\n\n\n\n\n\nStep into the sacred stillness of the Dark Moon with a powerful Shadow Work Meditation designed to support deep inner reflection and emotional healing. This guided experience offers a safe and intentional space to explore the parts of yourself that often remain hidden—the beliefs\, patterns\, and feelings held in your subconscious.
URL:https://salemforallages.org/event/shadow-work-meditation/
ATTACH;FMTTYPE=image/jpeg:https://salemforallages.org/wp-content/uploads/2025/06/IMG_6473.jpg
END:VEVENT
BEGIN:VEVENT
DTSTART;TZID=America/New_York:20250626T090000
DTEND;TZID=America/New_York:20250626T120000
DTSTAMP:20260424T143716
CREATED:20250622T090009Z
LAST-MODIFIED:20250622T090009Z
UID:24216-1750928400-1750939200@salemforallages.org
SUMMARY:Kids’ Summer Program at NSGS (10 years old & up)!
DESCRIPTION:Join us for a week of artistic enrichment and engagement at North Shore Glass School! For kids age 10+\, students will be welcomed at our glass studio at 16 Proctor Street for a week of glassblowing\, flameworking\, fused glass\, stained glass and sandblasting. Projects will include but are not limited to glassblowing paperweights and cups\, fused glass bowls and suncatchers\, flameworking pendants and small figurines\, stained glass window pieces and boxes and sandblasted cups and vases.
URL:https://salemforallages.org/event/kids-summer-program-at-nsgs-10-years-old-up-13/
ATTACH;FMTTYPE=image/jpeg:https://salemforallages.org/wp-content/uploads/2025/06/IMG_5288-scaled-13.jpg
END:VEVENT
BEGIN:VEVENT
DTSTART;TZID=America/New_York:20250626T090000
DTEND;TZID=America/New_York:20250626T120000
DTSTAMP:20260424T143716
CREATED:20250622T090013Z
LAST-MODIFIED:20250622T090013Z
UID:24218-1750928400-1750939200@salemforallages.org
SUMMARY:Junior Kids’ Glass Summer Program at Artist Row!
DESCRIPTION:North Shore Glass School is thrilled to announce our new kid’s glass art program at Artist Row this summer. This program is for kids aged 7-10 years old. In this week-long program\, kids will enjoy projects in stained glass\, fused glass\, sandblasting\, glass art painting and sea glass sculpting.
URL:https://salemforallages.org/event/junior-kids-glass-summer-program-at-artist-row-9/
ATTACH;FMTTYPE=image/jpeg:https://salemforallages.org/wp-content/uploads/2025/06/IMG_3862-scaled-9.jpg
END:VEVENT
BEGIN:VEVENT
DTSTART;TZID=America/New_York:20250626T090000
DTEND;TZID=America/New_York:20250626T120000
DTSTAMP:20260424T143716
CREATED:20250622T090017Z
LAST-MODIFIED:20250622T090017Z
UID:24220-1750928400-1750939200@salemforallages.org
SUMMARY:Kids’ Glass Summer Program at Artist Row!
DESCRIPTION:North Shore Glass School is thrilled to announce a summer program for kids aged 7-10 years old at Artist Row. Our kids summer program will run weekly June through August from 9-12pm. In this summer workshop\, kids will be introduced to the fine arts of fused glass\, stained glass\, sandblasting\, glass painting and sea glass sculpting.
URL:https://salemforallages.org/event/kids-glass-summer-program-at-artist-row-9/
ATTACH;FMTTYPE=image/jpeg:https://salemforallages.org/wp-content/uploads/2025/06/IMG_3862-1-scaled-9.jpg
END:VEVENT
BEGIN:VEVENT
DTSTART;TZID=America/New_York:20250626T113000
DTEND;TZID=America/New_York:20250626T160000
DTSTAMP:20260424T143716
CREATED:20250622T090021Z
LAST-MODIFIED:20250622T090021Z
UID:24222-1750937400-1750953600@salemforallages.org
SUMMARY:Magical Transformations
DESCRIPTION:Through our “Magical Transformations” children embrace their charms and express their individuality. Children can choose to transform into a “Witch” or “Wizard”!
URL:https://salemforallages.org/event/magical-transformations-376/
ATTACH;FMTTYPE=image/jpeg:https://salemforallages.org/wp-content/uploads/2025/06/Magicaltransformations-14.jpg
END:VEVENT
BEGIN:VEVENT
DTSTART;TZID=America/New_York:20250626T113000
DTEND;TZID=America/New_York:20250626T160000
DTSTAMP:20260424T143716
CREATED:20250622T090024Z
LAST-MODIFIED:20250622T090024Z
UID:24224-1750937400-1750953600@salemforallages.org
SUMMARY:Potion Brewing Store Experience
DESCRIPTION:Make your visit to The Good Witch of Salem’s shop memorable by booking our in-store Potion Brewing Experience. This activity is led by our Witch Apprentices. \nActivities are recommended for children ages 3 and up. \n*One appointment slot for each child is required.*
URL:https://salemforallages.org/event/potion-brewing-store-experience-369/
ATTACH;FMTTYPE=image/jpeg:https://salemforallages.org/wp-content/uploads/2025/06/Final-Potion-Master-1-1-9.jpg
END:VEVENT
BEGIN:VEVENT
DTSTART;TZID=America/New_York:20250626T120000
DTEND;TZID=America/New_York:20250626T133000
DTSTAMP:20260424T143716
CREATED:20250622T090028Z
LAST-MODIFIED:20250622T090028Z
UID:24226-1750939200-1750944600@salemforallages.org
SUMMARY:Craft Witch
DESCRIPTION:Craft Witch is a DIY crafting session with something for everyone! Choose from a wide array of options to create your very own one-of-a-kind craft. Whichever craft you decide to create\, you’ll be provided with all the materials\, tools\, and knowledge needed to let your creativity flourish. Unlike our broom making\, bookbinding\, and spelljar making workshops in which participants are being guided through the crafting process step-by step by an instructor\, the DIY nature of Craft Witch means that you can use the studio time however you wish. Check out the crafting options on our website!
URL:https://salemforallages.org/event/craft-witch-75/
ATTACH;FMTTYPE=image/jpeg:https://salemforallages.org/wp-content/uploads/2025/06/Image-from-iOS-scaled-12.jpg
END:VEVENT
BEGIN:VEVENT
DTSTART;TZID=America/New_York:20250626T140000
DTEND;TZID=America/New_York:20250626T160000
DTSTAMP:20260424T143716
CREATED:20250622T090032Z
LAST-MODIFIED:20250622T090032Z
UID:24228-1750946400-1750953600@salemforallages.org
SUMMARY:Salem Discovery Paddle Tours
DESCRIPTION:Embark on a serene paddleboard or kayak journey along the enchanting coastlines of Salem and Beverly Harbors\, where each stroke of your paddle unveils narratives ranging from historic naval battles to the infamous witch trials\, echoing the vibrant past of what was once the world’s busiest trading port.
URL:https://salemforallages.org/event/salem-discovery-paddle-tours-9/
ATTACH;FMTTYPE=image/jpeg:https://salemforallages.org/wp-content/uploads/2025/06/IMG_0793-1-scaled-3.jpeg
END:VEVENT
BEGIN:VEVENT
DTSTART;TZID=America/New_York:20250626T150000
DTEND;TZID=America/New_York:20250626T190000
DTSTAMP:20260424T143716
CREATED:20250622T090035Z
LAST-MODIFIED:20250622T090035Z
UID:24230-1750950000-1750964400@salemforallages.org
SUMMARY:Salem Farmer’s Market
DESCRIPTION:Thursdays\, June 12th through October 9th\nThe Salem Farmers’ Market is a tradition that dates back to 1634. The Salem Farmers Market features local farms every Thursday from 3 p.m. to 7\np.m.
URL:https://salemforallages.org/event/salem-farmers-market-119/
ATTACH;FMTTYPE=image/jpeg:https://salemforallages.org/wp-content/uploads/2020/08/farmers-market.jpg
END:VEVENT
BEGIN:VEVENT
DTSTART;TZID=America/New_York:20250626T180000
DTEND;TZID=America/New_York:20250626T210000
DTSTAMP:20260424T143716
CREATED:20250622T090037Z
LAST-MODIFIED:20250622T090037Z
UID:24231-1750960800-1750971600@salemforallages.org
SUMMARY:Ledger’s Fourth Annual Luau
DESCRIPTION:It’s time for our favorite party of the year! Come party with us tiki style! Enjoy live music from the Redemption Band while sipping tropical drinks and enjoying tiki inspired snacks from Chef Daniel Gursha. Your ticket includes welcome cocktail on arrival\, food\, raffle ticket to win swag and prizes and gratuity. This Luau is a PARTY and sells out quickly – purchase your tickets early!
URL:https://salemforallages.org/event/ledgers-fourth-annual-luau/
ATTACH;FMTTYPE=image/jpeg:https://salemforallages.org/wp-content/uploads/2025/06/1FINAL2025.jpg
END:VEVENT
BEGIN:VEVENT
DTSTART;TZID=America/New_York:20250626T190000
DTEND;TZID=America/New_York:20250626T203000
DTSTAMP:20260424T143716
CREATED:20250622T090040Z
LAST-MODIFIED:20250622T090040Z
UID:24233-1750964400-1750969800@salemforallages.org
SUMMARY:PEM Create Night: Dream Vision Boards
DESCRIPTION:Know before you go\nIn-person event\nLocation: Main Atrium and Building Dreams Exhibition Gallery \n$10 members\, $20 nonmembers \nJoin us for an evening of mindful creativity that celebrates the recent opening of Jung Yeondoo: Building Dreams! Go on a curator-led tour of the exhibition and then bring your dreams to life by exploring a visual manifestation practice.
URL:https://salemforallages.org/event/pem-create-night-dream-vision-boards/
ATTACH;FMTTYPE=image/jpeg:https://salemforallages.org/wp-content/uploads/2025/06/Ev_CreateNightBuildingDreams_1600_SplitHero.jpg
END:VEVENT
BEGIN:VEVENT
DTSTART;TZID=America/New_York:20250626T193000
DTEND;TZID=America/New_York:20250626T213000
DTSTAMP:20260424T143716
CREATED:20250622T090043Z
LAST-MODIFIED:20250622T090043Z
UID:24235-1750966200-1750973400@salemforallages.org
SUMMARY:Mahi Summer Music Series
DESCRIPTION:Nothing beats music on the ocean. Live music every thursday on the Hannah Glover. Dance with friends and strangers under the stars with the best local bands on the North Shore\, a boat drink in hand\, and munching on a backyard favorite. 21+ cruise.
URL:https://salemforallages.org/event/mahi-summer-music-series-4/
ATTACH;FMTTYPE=image/jpeg:https://salemforallages.org/wp-content/uploads/2025/06/MUSIC-SERIES-POST-CARD-scaled-2.jpeg
END:VEVENT
BEGIN:VEVENT
DTSTART;TZID=America/New_York:20250626T193000
DTEND;TZID=America/New_York:20250626T233000
DTSTAMP:20260424T143716
CREATED:20250622T090047Z
LAST-MODIFIED:20250622T090047Z
UID:24237-1750966200-1750980600@salemforallages.org
SUMMARY:Open Mic
DESCRIPTION:Come join us for our weekly free Open Mic shindig every Thursday. Sign ups start at 7:30pm and the event starts at 8pm. Hope to see you here!
URL:https://salemforallages.org/event/open-mic-3/
ATTACH;FMTTYPE=image/jpeg:https://salemforallages.org/wp-content/uploads/2025/06/OpenMic-Twitter.jpg
END:VEVENT
BEGIN:VEVENT
DTSTART;TZID=America/New_York:20250627T090000
DTEND;TZID=America/New_York:20250627T103000
DTSTAMP:20260424T143716
CREATED:20250623T090016Z
LAST-MODIFIED:20250623T090016Z
UID:24244-1751014800-1751020200@salemforallages.org
SUMMARY:Family Paddle
DESCRIPTION:Create lasting memories with a family adventure on the water! Our Salem Family Paddles are designed for families of all ages\, combining easy paddling\, fun games\, and light instruction in a safe\, supportive setting. Explore Salem’s scenic harbor together while learning new skills and spotting seabirds\, boats\, and coastal landmarks. With experienced guides leading the way\, it’s the perfect way for families to connect with the natural and historical beauty of Salem.
URL:https://salemforallages.org/event/family-paddle-5/
ATTACH;FMTTYPE=image/jpeg:https://salemforallages.org/wp-content/uploads/2025/05/CoasttoCoast2022-224.jpg
END:VEVENT
BEGIN:VEVENT
DTSTART;TZID=America/New_York:20250627T090000
DTEND;TZID=America/New_York:20250627T120000
DTSTAMP:20260424T143716
CREATED:20250623T090005Z
LAST-MODIFIED:20250623T090005Z
UID:24238-1751014800-1751025600@salemforallages.org
SUMMARY:Kids’ Summer Program at NSGS (10 years old & up)!
DESCRIPTION:Join us for a week of artistic enrichment and engagement at North Shore Glass School! For kids age 10+\, students will be welcomed at our glass studio at 16 Proctor Street for a week of glassblowing\, flameworking\, fused glass\, stained glass and sandblasting. Projects will include but are not limited to glassblowing paperweights and cups\, fused glass bowls and suncatchers\, flameworking pendants and small figurines\, stained glass window pieces and boxes and sandblasted cups and vases.
URL:https://salemforallages.org/event/kids-summer-program-at-nsgs-10-years-old-up-14/
ATTACH;FMTTYPE=image/jpeg:https://salemforallages.org/wp-content/uploads/2025/06/IMG_5288-scaled-14.jpg
END:VEVENT
BEGIN:VEVENT
DTSTART;TZID=America/New_York:20250627T090000
DTEND;TZID=America/New_York:20250627T120000
DTSTAMP:20260424T143716
CREATED:20250623T090009Z
LAST-MODIFIED:20250623T090009Z
UID:24240-1751014800-1751025600@salemforallages.org
SUMMARY:Junior Kids’ Glass Summer Program at Artist Row!
DESCRIPTION:North Shore Glass School is thrilled to announce our new kid’s glass art program at Artist Row this summer. This program is for kids aged 7-10 years old. In this week-long program\, kids will enjoy projects in stained glass\, fused glass\, sandblasting\, glass art painting and sea glass sculpting.
URL:https://salemforallages.org/event/junior-kids-glass-summer-program-at-artist-row-10/
ATTACH;FMTTYPE=image/jpeg:https://salemforallages.org/wp-content/uploads/2025/06/IMG_3862-scaled-10.jpg
END:VEVENT
BEGIN:VEVENT
DTSTART;TZID=America/New_York:20250627T090000
DTEND;TZID=America/New_York:20250627T120000
DTSTAMP:20260424T143716
CREATED:20250623T090012Z
LAST-MODIFIED:20250623T090012Z
UID:24242-1751014800-1751025600@salemforallages.org
SUMMARY:Kids’ Glass Summer Program at Artist Row!
DESCRIPTION:North Shore Glass School is thrilled to announce a summer program for kids aged 7-10 years old at Artist Row. Our kids summer program will run weekly June through August from 9-12pm. In this summer workshop\, kids will be introduced to the fine arts of fused glass\, stained glass\, sandblasting\, glass painting and sea glass sculpting.
URL:https://salemforallages.org/event/kids-glass-summer-program-at-artist-row-10/
ATTACH;FMTTYPE=image/jpeg:https://salemforallages.org/wp-content/uploads/2025/06/IMG_3862-1-scaled-10.jpg
END:VEVENT
BEGIN:VEVENT
DTSTART;TZID=America/New_York:20250627T110000
DTEND;TZID=America/New_York:20250627T170000
DTSTAMP:20260424T143716
CREATED:20250623T090017Z
LAST-MODIFIED:20250623T090017Z
UID:24245-1751022000-1751043600@salemforallages.org
SUMMARY:Personal Rainbow Aura Photos
DESCRIPTION:What would the world become if everyone saw themselves as an energetic being? Each Personal Rainbow appointment comes with an instant-film aura photo and personalized reading of the colors and patterns. Bring a buddy at no extra charge to see your vibe as a dynamic duo! Book ahead as walk-ins fill up quickly\, appointments available Thursday-Monday.
URL:https://salemforallages.org/event/personal-rainbow-aura-photos-24/
ATTACH;FMTTYPE=image/jpeg:https://salemforallages.org/wp-content/uploads/2025/06/aura-photos-hauswitch-salem-5.jpg
END:VEVENT
BEGIN:VEVENT
DTSTART;TZID=America/New_York:20250627T113000
DTEND;TZID=America/New_York:20250627T160000
DTSTAMP:20260424T143716
CREATED:20250623T090021Z
LAST-MODIFIED:20250623T090021Z
UID:24247-1751023800-1751040000@salemforallages.org
SUMMARY:Magical Transformations
DESCRIPTION:Through our “Magical Transformations” children embrace their charms and express their individuality. Children can choose to transform into a “Witch” or “Wizard”!
URL:https://salemforallages.org/event/magical-transformations-377/
ATTACH;FMTTYPE=image/jpeg:https://salemforallages.org/wp-content/uploads/2025/06/Magicaltransformations-15.jpg
END:VEVENT
END:VCALENDAR