BEGIN:VCALENDAR
VERSION:2.0
PRODID:-//Salem for All Ages - ECPv6.15.18//NONSGML v1.0//EN
CALSCALE:GREGORIAN
METHOD:PUBLISH
X-WR-CALNAME:Salem for All Ages
X-ORIGINAL-URL:https://salemforallages.org
X-WR-CALDESC:Events for Salem for All Ages
REFRESH-INTERVAL;VALUE=DURATION:PT1H
X-Robots-Tag:noindex
X-PUBLISHED-TTL:PT1H
BEGIN:VTIMEZONE
TZID:America/New_York
BEGIN:DAYLIGHT
TZOFFSETFROM:-0500
TZOFFSETTO:-0400
TZNAME:EDT
DTSTART:20220313T070000
END:DAYLIGHT
BEGIN:STANDARD
TZOFFSETFROM:-0400
TZOFFSETTO:-0500
TZNAME:EST
DTSTART:20221106T060000
END:STANDARD
BEGIN:DAYLIGHT
TZOFFSETFROM:-0500
TZOFFSETTO:-0400
TZNAME:EDT
DTSTART:20230312T070000
END:DAYLIGHT
BEGIN:STANDARD
TZOFFSETFROM:-0400
TZOFFSETTO:-0500
TZNAME:EST
DTSTART:20231105T060000
END:STANDARD
BEGIN:DAYLIGHT
TZOFFSETFROM:-0500
TZOFFSETTO:-0400
TZNAME:EDT
DTSTART:20240310T070000
END:DAYLIGHT
BEGIN:STANDARD
TZOFFSETFROM:-0400
TZOFFSETTO:-0500
TZNAME:EST
DTSTART:20241103T060000
END:STANDARD
END:VTIMEZONE
BEGIN:VEVENT
DTSTART;TZID=America/New_York:20231019T181500
DTEND;TZID=America/New_York:20231019T201500
DTSTAMP:20260424T052154
CREATED:20231014T090016Z
LAST-MODIFIED:20231014T090016Z
UID:16822-1697739300-1697746500@salemforallages.org
SUMMARY:Guilty! A Salem Witch Trial
DESCRIPTION:It’s 1692 in Salem\, and the audience is on trial for witchcraft! Hear testimony against you and plead your case. Will you be found guilty? Combo tickets with Gallows Hill Main Show. Show times 6:15 and 7:15. 
URL:https://salemforallages.org/event/guilty-a-salem-witch-trial-38/
ATTACH;FMTTYPE=image/jpeg:https://salemforallages.org/wp-content/uploads/2023/09/Guilty-Basic-6-2.jpg
END:VEVENT
BEGIN:VEVENT
DTSTART;TZID=America/New_York:20231019T180000
DTEND;TZID=America/New_York:20231019T220000
DTSTAMP:20260424T052154
CREATED:20231014T090016Z
LAST-MODIFIED:20231014T090016Z
UID:16821-1697738400-1697752800@salemforallages.org
SUMMARY:Spiritualism Tours at Hammond Castle Museum
DESCRIPTION:Since its completion in 1929\, Hammond Castle Museum has attracted rumors and urban legends of supernatural association and occult happening. While most of these wild stories can be dismissed as pure fiction\, the building occupies a fascinating place within the broader historical context of the development of spiritualist and spiritualist-adjacent fields in American culture. The spiritualist movement enthralled America’s upper and middle classes during the late 19th and early 20th centuries. Both John Hays Hammond Jr. and his wife\, Irene\, were fascinated with wide-ranging topics including Astrology\, Divination\, Numerology\, Extrasensory Perception (ESP)\, and Mediumship.\n\nEvery Thursday evening in August\, September and October (and even a couple of Wednesday nights in October too) we offer Spiritualism Tours.  This specialty tour explores the history of American spiritualism\, with a particular focus on contextualizing the movement within broader contemporary cultural trends and discussing the Hammonds’ own complicated engagements with these cultural phenomena. From John Hays Hammond Jr.’s attempts to communicate with supernatural entities using a Faraday Cage\, to Irene Hammond’s work on a comprehensive survey of astrological signs; over the course of this approximately 55-minute fully-guided tour\, the dramatic gothic-inspired architecture of the building and night-time atmosphere will set the stage for a fun and informative seasonal experience unlike any other!\n\nMember benefits apply to Spiritualism Tour tickets. All proceeds from this program will support the restoration and preservation of Hammond Castle Museum.
URL:https://salemforallages.org/event/spiritualism-tours-at-hammond-castle-museum-4/
END:VEVENT
BEGIN:VEVENT
DTSTART;TZID=America/New_York:20231019T180000
DTEND;TZID=America/New_York:20231019T200000
DTSTAMP:20260424T052154
CREATED:20231014T090013Z
LAST-MODIFIED:20231014T090013Z
UID:16819-1697738400-1697745600@salemforallages.org
SUMMARY:Lore by Candlelight
DESCRIPTION:Experience New England’s fantastical past by spending an evening in one of the oldest homes in Salem. You will be immersed in original rooms dimly lit by candles while experiencing New England’s history\, legends\, and lore that have been passed down for generations. Join us to explore the reality of our terrifying past. BYOB alcohol.
URL:https://salemforallages.org/event/lore-by-candlelight-19/
ATTACH;FMTTYPE=image/jpeg:https://salemforallages.org/wp-content/uploads/2023/10/Local-Lore-by-Candlelight-2-scaled-6.jpg
END:VEVENT
BEGIN:VEVENT
DTSTART;TZID=America/New_York:20231019T180000
DTEND;TZID=America/New_York:20231019T190000
DTSTAMP:20260424T052154
CREATED:20231014T090013Z
LAST-MODIFIED:20231014T090013Z
UID:16818-1697738400-1697742000@salemforallages.org
SUMMARY:Spiritualism Tours of Hammond Castle Museum
DESCRIPTION:Since its completion in 1929\, Hammond Castle Museum has attracted rumors and urban legends of supernatural associations and occult happening. While most of these wild stories can be dismissed as pure fiction\, the building occupies a fascinating place within the broader historical context of the development of spiritualist and spiritualist-adjacent fields in American culture. The spiritualist movement enthralled America’s upper and middle classes during the late 19th and early 20th centuries. Both John Hays Hammond Jr. and his wife\, Irene\, were fascinated with wide-ranging topics including Astrology\, Divination\, Numerology\, Extrasensory Perception (ESP)\, and Mediumship. \nEvery Thursday evening in August\, September\, and October (and even a couple of Wednesday nights in October too) we offer Spiritualism Tours\, This specialty tour explores the history of American spiritualism\, with a particular focus on contextualizing the movement within broader contemporary cultural trends and discussing the Hammonds’ own complicated engagements with these cultural phenomena. From John Hays Hammond Jr.’s attempts to communicate with supernatural entities using a Faraday Cage\, to Irene Hammond’s work on a comprehensive survey of astrological signs; over the course of this approximately 55-minute fully-guided tour\, the dramatic gothic-inspired architecture of the building and night-time atmosphere will set the stage for a fun and informative seasonal experience unlike any other! \nCarry-In/Carry-Out Picnics: Guests may enjoy a carry-in/carry-out picnic on our seaside lawn before their tour on Thursday evenings in August! Reservations are $5 per party and start one hour prior to your ticketed evening tour. Reservations are required in advance.  Hammond Castle Museum members enjoy complimentary picnic reservations.
URL:https://salemforallages.org/event/spiritualism-tours-of-hammond-castle-museum-13/
ATTACH;FMTTYPE=image/jpeg:https://salemforallages.org/wp-content/uploads/2023/08/20200813_115337-1-1.jpg
END:VEVENT
BEGIN:VEVENT
DTSTART;TZID=America/New_York:20231019T170000
DTEND;TZID=America/New_York:20231019T210000
DTSTAMP:20260424T052154
CREATED:20231014T090013Z
LAST-MODIFIED:20231014T090013Z
UID:16817-1697734800-1697749200@salemforallages.org
SUMMARY:Hollowed Harvest
DESCRIPTION:Experience Salem’s ONLY Jack-O’-Lantern festival at the Hollowed Harvest: Wicked Labyrinth! Salem’s beloved fall tradition brings hundreds of intricately carved Jack-O’-Lanterns to life in an all-ages walkthrough event.
URL:https://salemforallages.org/event/hollowed-harvest-15/
ATTACH;FMTTYPE=image/png:https://salemforallages.org/wp-content/uploads/2023/09/hollowed-harvest-hh.png
END:VEVENT
BEGIN:VEVENT
DTSTART;TZID=America/New_York:20231019T150000
DTEND;TZID=America/New_York:20231019T190000
DTSTAMP:20260424T052154
CREATED:20231014T090013Z
LAST-MODIFIED:20231014T090013Z
UID:16816-1697727600-1697742000@salemforallages.org
SUMMARY:Salem Farmers’ Market
DESCRIPTION:Stop by the historic Derby Square abutting Front Street in Downtown Salem\, Thursdays for farm fresh food\, live music\, cooking demos\, and more! Stop by to see the community art project the Tree of Care and Wonder from the artists in residence at Artist’s Row.
URL:https://salemforallages.org/event/salem-farmers-market-98/
ATTACH;FMTTYPE=image/jpeg:https://salemforallages.org/wp-content/uploads/2023/06/Day-1-2-hours-is-what-it-takes-to-set-up-the-Salem-Farmers-Market_-every-week-before-we-greet-over-2000-shoppers.jpg
END:VEVENT
BEGIN:VEVENT
DTSTART;TZID=America/New_York:20231019T100000
DTEND;TZID=America/New_York:20231019T170000
DTSTAMP:20260424T052154
CREATED:20231014T090012Z
LAST-MODIFIED:20231014T090012Z
UID:16815-1697709600-1697734800@salemforallages.org
SUMMARY:The Good Witch of Salem
DESCRIPTION:Attend one of our large events\, including Magical Tea Time 10/9\, Potion Party 10/22\, Costume Ball 10/22\, and Costume Parade. Book an in-store experience with plenty of family-friendly activities.
URL:https://salemforallages.org/event/the-good-witch-of-salem-19/
ATTACH;FMTTYPE=image/jpeg:https://salemforallages.org/wp-content/uploads/2023/09/Good-Witch-Basic-2.jpg
END:VEVENT
BEGIN:VEVENT
DTSTART;TZID=America/New_York:20231018T203000
DTEND;TZID=America/New_York:20231018T220000
DTSTAMP:20260424T052154
CREATED:20231013T090016Z
LAST-MODIFIED:20231013T090016Z
UID:16812-1697661000-1697666400@salemforallages.org
SUMMARY:After Hours Ghost Hunt
DESCRIPTION:Join Kimberly Bizjak of Paranormal Salem for Ghost Hunting! Use EMF detectors\, infrared thermometers\, audio recorders\, and more to collect evidence inside The Lost Museum! Combo tickets with Gallows Hill Main Show.
URL:https://salemforallages.org/event/after-hours-ghost-hunt-18/
ATTACH;FMTTYPE=image/jpeg:https://salemforallages.org/wp-content/uploads/2023/09/After-Hours-Ghost-Hunt-Basic.jpg
END:VEVENT
BEGIN:VEVENT
DTSTART;TZID=America/New_York:20231018T183000
DTEND;TZID=America/New_York:20231018T210000
DTSTAMP:20260424T052154
CREATED:20231013T090013Z
LAST-MODIFIED:20231013T090013Z
UID:16810-1697653800-1697662800@salemforallages.org
SUMMARY:Irish Session
DESCRIPTION:Hosted by Bob Strom\, enjoy a night of traditional folk music with a Celtic twist. Grab your fiddle or any other instrument and get ready to dance! \nBob and Jen play together regularly north-of-Boston at sessions\, Irish Pubs and local festivals. Though Jen began as mainly a contra-dance fiddler\, she is now a serious Irish fiddler as well as a singer of traditional songs from the British Isles\, American ballads and contemporary folk songs\, backed-up by Bob’s tasteful guitar work.
URL:https://salemforallages.org/event/irish-session-2/
ATTACH;FMTTYPE=image/jpeg:https://salemforallages.org/wp-content/uploads/2023/10/IrishSession.jpg
END:VEVENT
BEGIN:VEVENT
DTSTART;TZID=America/New_York:20231018T181500
DTEND;TZID=America/New_York:20231018T201500
DTSTAMP:20260424T052154
CREATED:20231013T090013Z
LAST-MODIFIED:20231013T090013Z
UID:16809-1697652900-1697660100@salemforallages.org
SUMMARY:Guilty! A Salem Witch Trial
DESCRIPTION:It’s 1692 in Salem\, and the audience is on trial for witchcraft! Hear testimony against you and plead your case. Will you be found guilty? Combo tickets with Gallows Hill Main Show. Show times 6:15 and 7:15. 
URL:https://salemforallages.org/event/guilty-a-salem-witch-trial-37/
ATTACH;FMTTYPE=image/jpeg:https://salemforallages.org/wp-content/uploads/2023/09/Guilty-Basic-6-2.jpg
END:VEVENT
BEGIN:VEVENT
DTSTART;TZID=America/New_York:20231018T180000
DTEND;TZID=America/New_York:20231018T220000
DTSTAMP:20260424T052154
CREATED:20231013T090013Z
LAST-MODIFIED:20231013T090013Z
UID:16808-1697652000-1697666400@salemforallages.org
SUMMARY:Spiritualism Tours at Hammond Castle Museum
DESCRIPTION:Since its completion in 1929\, Hammond Castle Museum has attracted rumors and urban legends of supernatural association and occult happening. While most of these wild stories can be dismissed as pure fiction\, the building occupies a fascinating place within the broader historical context of the development of spiritualist and spiritualist-adjacent fields in American culture. The spiritualist movement enthralled America’s upper and middle classes during the late 19th and early 20th centuries. Both John Hays Hammond Jr. and his wife\, Irene\, were fascinated with wide-ranging topics including Astrology\, Divination\, Numerology\, Extrasensory Perception (ESP)\, and Mediumship.\n\nEvery Thursday evening in August\, September and October (and even a couple of Wednesday nights in October too) we offer Spiritualism Tours.  This specialty tour explores the history of American spiritualism\, with a particular focus on contextualizing the movement within broader contemporary cultural trends and discussing the Hammonds’ own complicated engagements with these cultural phenomena. From John Hays Hammond Jr.’s attempts to communicate with supernatural entities using a Faraday Cage\, to Irene Hammond’s work on a comprehensive survey of astrological signs; over the course of this approximately 55-minute fully-guided tour\, the dramatic gothic-inspired architecture of the building and night-time atmosphere will set the stage for a fun and informative seasonal experience unlike any other!\n\nMember benefits apply to Spiritualism Tour tickets. All proceeds from this program will support the restoration and preservation of Hammond Castle Museum.
URL:https://salemforallages.org/event/spiritualism-tours-at-hammond-castle-museum-3/
END:VEVENT
BEGIN:VEVENT
DTSTART;TZID=America/New_York:20231018T180000
DTEND;TZID=America/New_York:20231018T210000
DTSTAMP:20260424T052154
CREATED:20231013T090012Z
LAST-MODIFIED:20231013T090012Z
UID:16807-1697652000-1697662800@salemforallages.org
SUMMARY:Spiritualism Tours of Hammond Castle Museum
DESCRIPTION:Since its completion in 1929\, Hammond Castle Museum has attracted rumors and urban legends of supernatural associations and occult happening. While most of these wild stories can be dismissed as pure fiction\, the building occupies a fascinating place within the broader historical context of the development of spiritualist and spiritualist-adjacent fields in American culture. The spiritualist movement enthralled America’s upper and middle classes during the late 19th and early 20th centuries. Both John Hays Hammond Jr. and his wife\, Irene\, were fascinated with wide-ranging topics including Astrology\, Divination\, Numerology\, Extrasensory Perception (ESP)\, and Mediumship. \nEvery Thursday evening in August\, September\, and October (and even a couple of Wednesday nights in October too) we offer Spiritualism Tours\, This specialty tour explores the history of American spiritualism\, with a particular focus on contextualizing the movement within broader contemporary cultural trends and discussing the Hammonds’ own complicated engagements with these cultural phenomena. From John Hays Hammond Jr.’s attempts to communicate with supernatural entities using a Faraday Cage\, to Irene Hammond’s work on a comprehensive survey of astrological signs; over the course of this approximately 55-minute fully-guided tour\, the dramatic gothic-inspired architecture of the building and night-time atmosphere will set the stage for a fun and informative seasonal experience unlike any other! \nCarry-In/Carry-Out Picnics: Guests may enjoy a carry-in/carry-out picnic on our seaside lawn before their tour on Thursday evenings in August! Reservations are $5 per party and start one hour prior to your ticketed evening tour. Reservations are required in advance.  Hammond Castle Museum members enjoy complimentary picnic reservations.
URL:https://salemforallages.org/event/spiritualism-tours-of-hammond-castle-museum-12/
ATTACH;FMTTYPE=image/jpeg:https://salemforallages.org/wp-content/uploads/2023/08/20200813_115337-1-1.jpg
END:VEVENT
BEGIN:VEVENT
DTSTART;TZID=America/New_York:20231018T180000
DTEND;TZID=America/New_York:20231018T200000
DTSTAMP:20260424T052154
CREATED:20231013T090012Z
LAST-MODIFIED:20231013T090012Z
UID:16806-1697652000-1697659200@salemforallages.org
SUMMARY:Bingo at Gulu-Gulu Cafe
DESCRIPTION:Stop by Gulu-Gulu Cafe for a fun trivia series that will excite and engage any audience! Quirky\, funny\, and free!
URL:https://salemforallages.org/event/bingo-at-gulu-gulu-cafe-12/
ATTACH;FMTTYPE=image/jpeg:https://salemforallages.org/wp-content/uploads/2023/08/BingoBoardNew.jpg
END:VEVENT
BEGIN:VEVENT
DTSTART;TZID=America/New_York:20231018T150000
DTEND;TZID=America/New_York:20231018T180000
DTSTAMP:20260424T052154
CREATED:20231013T090012Z
LAST-MODIFIED:20231013T090012Z
UID:16805-1697641200-1697652000@salemforallages.org
SUMMARY:Wicked Wednesdays at Phillips House
DESCRIPTION:Get wicked at Phillips House! This family-friendly drop-in event features historic games and fall crafts in the backyard. \nA family-themed tour of the house is included in your ticket. Tours are offered every half-hour. Last tour departs at 5:00 p.m. \nMember Family and Salem Residents $5; Nonmember Family $10.  Log in or join now to have your discount applied at checkout. \nPlease call 978-744-0440 for more information. \nSalem residents must call to receive a discount.
URL:https://salemforallages.org/event/wicked-wednesdays-at-phillips-house-2/
ATTACH;FMTTYPE=image/jpeg:https://salemforallages.org/wp-content/uploads/2023/10/Wicked-Wednesdays.jpg
END:VEVENT
BEGIN:VEVENT
DTSTART;TZID=America/New_York:20231018T100000
DTEND;TZID=America/New_York:20231018T170000
DTSTAMP:20260424T052154
CREATED:20231013T090012Z
LAST-MODIFIED:20231013T090012Z
UID:16804-1697623200-1697648400@salemforallages.org
SUMMARY:The Good Witch of Salem
DESCRIPTION:Attend one of our large events\, including Magical Tea Time 10/9\, Potion Party 10/22\, Costume Ball 10/22\, and Costume Parade. Book an in-store experience with plenty of family-friendly activities.
URL:https://salemforallages.org/event/the-good-witch-of-salem-18/
ATTACH;FMTTYPE=image/jpeg:https://salemforallages.org/wp-content/uploads/2023/09/Good-Witch-Basic-2.jpg
END:VEVENT
BEGIN:VEVENT
DTSTART;TZID=America/New_York:20231017T203000
DTEND;TZID=America/New_York:20231017T220000
DTSTAMP:20260424T052154
CREATED:20231013T090011Z
LAST-MODIFIED:20231013T090011Z
UID:16803-1697574600-1697580000@salemforallages.org
SUMMARY:After Hours Ghost Hunt
DESCRIPTION:Join Kimberly Bizjak of Paranormal Salem for Ghost Hunting! Use EMF detectors\, infrared thermometers\, audio recorders\, and more to collect evidence inside The Lost Museum! Combo tickets with Gallows Hill Main Show.
URL:https://salemforallages.org/event/after-hours-ghost-hunt-17/
ATTACH;FMTTYPE=image/jpeg:https://salemforallages.org/wp-content/uploads/2023/09/After-Hours-Ghost-Hunt-Basic.jpg
END:VEVENT
BEGIN:VEVENT
DTSTART;TZID=America/New_York:20231017T183000
DTEND;TZID=America/New_York:20231017T193000
DTSTAMP:20260424T052154
CREATED:20231013T090011Z
LAST-MODIFIED:20231013T090011Z
UID:16802-1697567400-1697571000@salemforallages.org
SUMMARY:To the Fowl of the Air: Bird Magic in English Cunning-Craft with Dr Alexander Cummins
DESCRIPTION:Birds have long been considered to have things to tell the wise who can read their meanings\, and to hold magical power that can be bestowed\, bartered\, earned\, or stolen from them. \nFrom foretelling fortunes – of mortal lives and ever-turning seasons alike – by the auguries of their flight to the chatter of their calls\, the language of the birds and the meanings of their comings-and-goings have been considered magics of prognostication and prophecy. And from the feathers of their wings to the blood
URL:https://salemforallages.org/event/to-the-fowl-of-the-air-bird-magic-in-english-cunning-craft-with-dr-alexander-cummins/
END:VEVENT
BEGIN:VEVENT
DTSTART;TZID=America/New_York:20231017T181500
DTEND;TZID=America/New_York:20231017T201500
DTSTAMP:20260424T052154
CREATED:20231013T090011Z
LAST-MODIFIED:20231013T090011Z
UID:16801-1697566500-1697573700@salemforallages.org
SUMMARY:Guilty! A Salem Witch Trial
DESCRIPTION:It’s 1692 in Salem\, and the audience is on trial for witchcraft! Hear testimony against you and plead your case. Will you be found guilty? Combo tickets with Gallows Hill Main Show. Show times 6:15 and 7:15. 
URL:https://salemforallages.org/event/guilty-a-salem-witch-trial-36/
ATTACH;FMTTYPE=image/jpeg:https://salemforallages.org/wp-content/uploads/2023/09/Guilty-Basic-6-2.jpg
END:VEVENT
BEGIN:VEVENT
DTSTART;TZID=America/New_York:20231017T110000
DTEND;TZID=America/New_York:20231017T170000
DTSTAMP:20260424T052154
CREATED:20231013T090011Z
LAST-MODIFIED:20231013T090011Z
UID:16800-1697540400-1697562000@salemforallages.org
SUMMARY:Teatime Tuesdays with the Satanic Temple
DESCRIPTION:Join us every Tuesday during gallery hours for complementary tea with admission to the gallery.
URL:https://salemforallages.org/event/teatime-tuesdays-with-the-satanic-temple-21/
ATTACH;FMTTYPE=image/jpeg:https://salemforallages.org/wp-content/uploads/2023/05/satanic-tea-art-gallery.jpg
END:VEVENT
BEGIN:VEVENT
DTSTART;TZID=America/New_York:20231017T100000
DTEND;TZID=America/New_York:20231017T170000
DTSTAMP:20260424T052154
CREATED:20231013T090010Z
LAST-MODIFIED:20231013T090010Z
UID:16799-1697536800-1697562000@salemforallages.org
SUMMARY:The Good Witch of Salem
DESCRIPTION:Attend one of our large events\, including Magical Tea Time 10/9\, Potion Party 10/22\, Costume Ball 10/22\, and Costume Parade. Book an in-store experience with plenty of family-friendly activities.
URL:https://salemforallages.org/event/the-good-witch-of-salem-17/
ATTACH;FMTTYPE=image/jpeg:https://salemforallages.org/wp-content/uploads/2023/09/Good-Witch-Basic-2.jpg
END:VEVENT
BEGIN:VEVENT
DTSTART;TZID=America/New_York:20231016T203000
DTEND;TZID=America/New_York:20231016T220000
DTSTAMP:20260424T052154
CREATED:20231012T090013Z
LAST-MODIFIED:20231012T090013Z
UID:16795-1697488200-1697493600@salemforallages.org
SUMMARY:After Hours Ghost Hunt
DESCRIPTION:Join Kimberly Bizjak of Paranormal Salem for Ghost Hunting! Use EMF detectors\, infrared thermometers\, audio recorders\, and more to collect evidence inside The Lost Museum! Combo tickets with Gallows Hill Main Show.
URL:https://salemforallages.org/event/after-hours-ghost-hunt-16/
ATTACH;FMTTYPE=image/jpeg:https://salemforallages.org/wp-content/uploads/2023/09/After-Hours-Ghost-Hunt-Basic.jpg
END:VEVENT
BEGIN:VEVENT
DTSTART;TZID=America/New_York:20231016T181500
DTEND;TZID=America/New_York:20231016T201500
DTSTAMP:20260424T052154
CREATED:20231012T090013Z
LAST-MODIFIED:20231012T090013Z
UID:16794-1697480100-1697487300@salemforallages.org
SUMMARY:Guilty! A Salem Witch Trial
DESCRIPTION:It’s 1692 in Salem\, and the audience is on trial for witchcraft! Hear testimony against you and plead your case. Will you be found guilty? Combo tickets with Gallows Hill Main Show. Show times 6:15 and 7:15. 
URL:https://salemforallages.org/event/guilty-a-salem-witch-trial-35/
ATTACH;FMTTYPE=image/jpeg:https://salemforallages.org/wp-content/uploads/2023/09/Guilty-Basic-6-2.jpg
END:VEVENT
BEGIN:VEVENT
DTSTART;TZID=America/New_York:20231016T100000
DTEND;TZID=America/New_York:20231016T170000
DTSTAMP:20260424T052154
CREATED:20231012T090013Z
LAST-MODIFIED:20231012T090013Z
UID:16793-1697450400-1697475600@salemforallages.org
SUMMARY:The Good Witch of Salem
DESCRIPTION:Attend one of our large events\, including Magical Tea Time 10/9\, Potion Party 10/22\, Costume Ball 10/22\, and Costume Parade. Book an in-store experience with plenty of family-friendly activities.
URL:https://salemforallages.org/event/the-good-witch-of-salem-16/
ATTACH;FMTTYPE=image/jpeg:https://salemforallages.org/wp-content/uploads/2023/09/Good-Witch-Basic-2.jpg
END:VEVENT
BEGIN:VEVENT
DTSTART;TZID=America/New_York:20231016T100000
DTEND;TZID=America/New_York:20231016T140000
DTSTAMP:20260424T052154
CREATED:20231012T090013Z
LAST-MODIFIED:20231012T090013Z
UID:16792-1697450400-1697464800@salemforallages.org
SUMMARY:Book a “Good Witch Transformation”
DESCRIPTION:Thank you for your interest in a “Good Witch” Transformation! \nThrough our transformations children unleash their own spellbinding charms and embrace their individuality. Children are invited to browse our collection of witch hats and dresses. Adorned with shimmering stars\, flowing capes\, and ribbons of enchantment\, these outfits are sure to celebrate their unique spirits. \nOur talented apprentices delicately apply a touch of stardust and add sprinkles of color that match your child’s vibrant personality. As they gaze upon their reflection\, their eyes light up with a newfound confidence and a sense of whimsical delight. They have become the magical beings they’ve always dreamt of\, casting spells and brewing potions in their imaginary world. Their laughter fills the air as they twirl and spin\, radiating with joy and wonder.
URL:https://salemforallages.org/event/book-a-good-witch-transformation-16/
END:VEVENT
BEGIN:VEVENT
DTSTART;TZID=America/New_York:20231015T203000
DTEND;TZID=America/New_York:20231015T220000
DTSTAMP:20260424T052154
CREATED:20231012T090012Z
LAST-MODIFIED:20231012T090012Z
UID:16791-1697401800-1697407200@salemforallages.org
SUMMARY:After Hours Ghost Hunt
DESCRIPTION:Join Kimberly Bizjak of Paranormal Salem for Ghost Hunting! Use EMF detectors\, infrared thermometers\, audio recorders\, and more to collect evidence inside The Lost Museum! Combo tickets with Gallows Hill Main Show.
URL:https://salemforallages.org/event/after-hours-ghost-hunt-15/
ATTACH;FMTTYPE=image/jpeg:https://salemforallages.org/wp-content/uploads/2023/09/After-Hours-Ghost-Hunt-Basic.jpg
END:VEVENT
BEGIN:VEVENT
DTSTART;TZID=America/New_York:20231015T181500
DTEND;TZID=America/New_York:20231015T201500
DTSTAMP:20260424T052154
CREATED:20231012T090012Z
LAST-MODIFIED:20231012T090012Z
UID:16790-1697393700-1697400900@salemforallages.org
SUMMARY:Guilty! A Salem Witch Trial
DESCRIPTION:It’s 1692 in Salem\, and the audience is on trial for witchcraft! Hear testimony against you and plead your case. Will you be found guilty? Combo tickets with Gallows Hill Main Show. Show times 6:15 and 7:15. 
URL:https://salemforallages.org/event/guilty-a-salem-witch-trial-34/
ATTACH;FMTTYPE=image/jpeg:https://salemforallages.org/wp-content/uploads/2023/09/Guilty-Basic-6-2.jpg
END:VEVENT
BEGIN:VEVENT
DTSTART;TZID=America/New_York:20231015T160000
DTEND;TZID=America/New_York:20231015T190000
DTSTAMP:20260424T052154
CREATED:20231012T090012Z
LAST-MODIFIED:20231012T090012Z
UID:16789-1697385600-1697396400@salemforallages.org
SUMMARY:DIAMOND’S DINE-IN DRAG BRUNCH!
DESCRIPTION:Come on down for Diamond’s Dine-In Drag Brunch! This is a weekly event with local Drag Queen Miz Diamond Wigfall! Someone will be her guest. Be ready for numbers\, games\, drag\, and mimosas all afternoon.
URL:https://salemforallages.org/event/diamonds-dine-in-drag-brunch-11/
ATTACH;FMTTYPE=image/jpeg:https://salemforallages.org/wp-content/uploads/2023/08/Diamond_DineIn_Final-11x171-1.jpg
END:VEVENT
BEGIN:VEVENT
DTSTART;TZID=America/New_York:20231015T150000
DTEND;TZID=America/New_York:20231015T210000
DTSTAMP:20260424T052154
CREATED:20231012T090011Z
LAST-MODIFIED:20231012T090011Z
UID:16788-1697382000-1697403600@salemforallages.org
SUMMARY:Hollowed Harvest
DESCRIPTION:Experience Salem’s ONLY Jack-O’-Lantern festival at the Hollowed Harvest: Wicked Labyrinth! Salem’s beloved fall tradition brings hundreds of intricately carved Jack-O’-Lanterns to life in an all-ages walkthrough event.
URL:https://salemforallages.org/event/hollowed-harvest-14/
ATTACH;FMTTYPE=image/png:https://salemforallages.org/wp-content/uploads/2023/09/hollowed-harvest-hh.png
END:VEVENT
BEGIN:VEVENT
DTSTART;TZID=America/New_York:20231015T150000
DTEND;TZID=America/New_York:20231015T170000
DTSTAMP:20260424T052154
CREATED:20231011T090015Z
LAST-MODIFIED:20231011T090015Z
UID:16787-1697382000-1697389200@salemforallages.org
SUMMARY:Wonderful Self-Care Cafe
DESCRIPTION:Join us to relax\, have a cup of coffee or tea + conversations
URL:https://salemforallages.org/event/wonderful-self-care-cafe-23/
ATTACH;FMTTYPE=image/jpeg:https://salemforallages.org/wp-content/uploads/2023/05/01.jpg
END:VEVENT
BEGIN:VEVENT
DTSTART;TZID=America/New_York:20231015T143000
DTEND;TZID=America/New_York:20231015T160000
DTSTAMP:20260424T052154
CREATED:20231011T090015Z
LAST-MODIFIED:20231011T090015Z
UID:16786-1697380200-1697385600@salemforallages.org
SUMMARY:October Crystal Magic Workshop with a Salem Witch in Salem\, Massachusetts
DESCRIPTION:If you’ve acquired a collection of stones (or you’re well on your way to one\, or you’d like to be)\, but you’re not entirely sure how to get the most benefit from them\, this workshop will help you understand all the ways to work with crystals and stones for protection\, healing\, love\, success\, stress relief\, and other common concerns. Sandra Mariah Wright\, co-author of Awakening the Crystals\, will show you methods for choosing\, cleansing\, “waking up\,” and working with a wide array of earth’s treasures. If you’d like to bring crystals with you\, go for it. If you don’t have any yet\, there will be an opportunity to shop the Gallows Hill Witchery collection before or after the class. This is an intimate\, accessible setting. Seating is EXTREMELY limited.
URL:https://salemforallages.org/event/october-crystal-magic-workshop-with-a-salem-witch-in-salem-massachusetts-3/
ATTACH;FMTTYPE=image/jpeg:https://salemforallages.org/wp-content/uploads/2023/09/https___cdn.evbuc_.com_images_594506249_315979052018_1_original.jpg
END:VEVENT
END:VCALENDAR