BEGIN:VCALENDAR
VERSION:2.0
PRODID:-//Salem for All Ages - ECPv6.15.18//NONSGML v1.0//EN
CALSCALE:GREGORIAN
METHOD:PUBLISH
X-ORIGINAL-URL:https://salemforallages.org
X-WR-CALDESC:Events for Salem for All Ages
REFRESH-INTERVAL;VALUE=DURATION:PT1H
X-Robots-Tag:noindex
X-PUBLISHED-TTL:PT1H
BEGIN:VTIMEZONE
TZID:America/New_York
BEGIN:DAYLIGHT
TZOFFSETFROM:-0500
TZOFFSETTO:-0400
TZNAME:EDT
DTSTART:20240310T070000
END:DAYLIGHT
BEGIN:STANDARD
TZOFFSETFROM:-0400
TZOFFSETTO:-0500
TZNAME:EST
DTSTART:20241103T060000
END:STANDARD
BEGIN:DAYLIGHT
TZOFFSETFROM:-0500
TZOFFSETTO:-0400
TZNAME:EDT
DTSTART:20250309T070000
END:DAYLIGHT
BEGIN:STANDARD
TZOFFSETFROM:-0400
TZOFFSETTO:-0500
TZNAME:EST
DTSTART:20251102T060000
END:STANDARD
BEGIN:DAYLIGHT
TZOFFSETFROM:-0500
TZOFFSETTO:-0400
TZNAME:EDT
DTSTART:20260308T070000
END:DAYLIGHT
BEGIN:STANDARD
TZOFFSETFROM:-0400
TZOFFSETTO:-0500
TZNAME:EST
DTSTART:20261101T060000
END:STANDARD
END:VTIMEZONE
BEGIN:VEVENT
DTSTART;TZID=America/New_York:20250621T190000
DTEND;TZID=America/New_York:20250621T210000
DTSTAMP:20260424T130053
CREATED:20250618T090038Z
LAST-MODIFIED:20250618T090038Z
UID:24143-1750532400-1750539600@salemforallages.org
SUMMARY:Sea Witch Ball Workshops
DESCRIPTION:Whether you’re visiting Salem with your witch family or just love (witch)crafting\, join The Sea Wych Salem for a magical experience in Witch City. The Sea Wych Salem will present the history and lore behind the witch ball\, and then guide you as you create your own to protect your home\, welcome in joy\, banish negativity\, or simply create a pretty souvenir for display in your home. These witch balls are further charged with ocean elements to boost your magic. Spend some time with us and bring home your own unique and uniquely crafted souvenir.
URL:https://salemforallages.org/event/sea-witch-ball-workshops/
ATTACH;FMTTYPE=image/jpeg:https://salemforallages.org/wp-content/uploads/2025/06/Screenshot-2025-04-26-152037.jpg
END:VEVENT
BEGIN:VEVENT
DTSTART;TZID=America/New_York:20250621T200000
DTEND;TZID=America/New_York:20250621T230000
DTSTAMP:20260424T130053
CREATED:20250618T090042Z
LAST-MODIFIED:20250618T090042Z
UID:24145-1750536000-1750546800@salemforallages.org
SUMMARY:Rick Berlin w/ The Nickel & Dime Band
DESCRIPTION:Boston based indie rock Nickel & Dime band led by front man Rick Berlin make a special appearance at the Gulu-Gulu Cafe!
URL:https://salemforallages.org/event/rick-berlin-w-the-nickel-dime-band/
ATTACH;FMTTYPE=image/jpeg:https://salemforallages.org/wp-content/uploads/2025/06/rick-berlin.jpg
END:VEVENT
BEGIN:VEVENT
DTSTART;TZID=America/New_York:20250622T110000
DTEND;TZID=America/New_York:20250622T160000
DTSTAMP:20260424T130053
CREATED:20250619T090009Z
LAST-MODIFIED:20250619T090009Z
UID:24149-1750590000-1750608000@salemforallages.org
SUMMARY:Hands on History
DESCRIPTION:Hands-on History\nJune 14-August 31 on Saturdays and Sundays\, 11:00 A.M. – 4:00 P.M.\n(Specific dates: June 14\, 15\, 21\, 22\, 28\, and 29. July 5\, 6\, 12. 13\, 19\, 20\, 26\, and 27. August 2\, 3\, 9\, 10. 16\, 17\, 23\, 24\, 30\, and 31.) \nJoin us for Hands-on History at The Gables! This summer\, we invite young (and young at heart!) guests to explore different elements of our history and legacy through hands-on activities. This program will run June 14-August 31 on Saturdays and Sundays\, 11:00 A.M. – 4:00 P.M. Hands-on History is included with your purchase of a Mansion Tour Package or Grounds Pass. We hope
URL:https://salemforallages.org/event/hands-on-history-48/
ATTACH;FMTTYPE=image/jpeg:https://salemforallages.org/wp-content/uploads/2025/06/SQUARE-House-of-seven-Gables-Salem-Academy-Charter-Visit-March-2016_0224-scaled-4.jpg
END:VEVENT
BEGIN:VEVENT
DTSTART;TZID=America/New_York:20250622T110000
DTEND;TZID=America/New_York:20250622T170000
DTSTAMP:20260424T130053
CREATED:20250619T090006Z
LAST-MODIFIED:20250619T090006Z
UID:24147-1750590000-1750611600@salemforallages.org
SUMMARY:Personal Rainbow Aura Photos
DESCRIPTION:What would the world become if everyone saw themselves as an energetic being? Each Personal Rainbow appointment comes with an instant-film aura photo and personalized reading of the colors and patterns. Bring a buddy at no extra charge to see your vibe as a dynamic duo! Book ahead as walk-ins fill up quickly\, appointments available Thursday-Monday.
URL:https://salemforallages.org/event/personal-rainbow-aura-photos-22/
ATTACH;FMTTYPE=image/jpeg:https://salemforallages.org/wp-content/uploads/2025/06/aura-photos-hauswitch-salem-2-2.jpg
END:VEVENT
BEGIN:VEVENT
DTSTART;TZID=America/New_York:20250622T113000
DTEND;TZID=America/New_York:20250622T140000
DTSTAMP:20260424T130053
CREATED:20250619T090027Z
LAST-MODIFIED:20250619T090027Z
UID:24157-1750591800-1750600800@salemforallages.org
SUMMARY:Rainbow Broom Decorating
DESCRIPTION:Fly into The Good Witch and Stay for a Spell! Unleash your creativity at the Good Witch of Salem’s Broom Decorating Station\, where you can transform a broom into a magical masterpiece! Use enchanting tape\, colorful ribbons\, sparkling stickers\, and shimmering gems to create a broom that’s uniquely yours.
URL:https://salemforallages.org/event/rainbow-broom-decorating-8/
ATTACH;FMTTYPE=image/png:https://salemforallages.org/wp-content/uploads/2025/05/Rainbow-Broom-Decorating-1.png
END:VEVENT
BEGIN:VEVENT
DTSTART;TZID=America/New_York:20250622T113000
DTEND;TZID=America/New_York:20250622T150000
DTSTAMP:20260424T130053
CREATED:20250619T090020Z
LAST-MODIFIED:20250619T090020Z
UID:24153-1750591800-1750604400@salemforallages.org
SUMMARY:Stop In For a Spell: DIY Potion Bar
DESCRIPTION:Fly in to The Good Witch and Stay for a Spell! Mix up your very own potion at our Potion Bar! \nDrop Ins begin at store opening and end 30 minutes before closing and are offered on a first come\, first serve basis. Purchase online or pay in store. \nDrop Ins may be unavailable during a birthday party or store event. Please call ahead\, or check our posted hours on Google. \nUnder age 4 may participate with the help of a supervising adult.
URL:https://salemforallages.org/event/stop-in-for-a-spell-diy-potion-bar-248/
ATTACH;FMTTYPE=image/jpeg:https://salemforallages.org/wp-content/uploads/2025/06/Potion-Bar-2-5.jpg
END:VEVENT
BEGIN:VEVENT
DTSTART;TZID=America/New_York:20250622T113000
DTEND;TZID=America/New_York:20250622T150000
DTSTAMP:20260424T130053
CREATED:20250619T090024Z
LAST-MODIFIED:20250619T090024Z
UID:24155-1750591800-1750604400@salemforallages.org
SUMMARY:Potion Brewing Store Experience
DESCRIPTION:Make your visit to The Good Witch of Salem’s shop memorable by booking our in-store Potion Brewing Experience. This activity is led by our Witch Apprentices. \nActivities are recommended for children ages 3 and up. \n*One appointment slot for each child is required.*
URL:https://salemforallages.org/event/potion-brewing-store-experience-365/
ATTACH;FMTTYPE=image/jpeg:https://salemforallages.org/wp-content/uploads/2025/06/Final-Potion-Master-1-5.jpg
END:VEVENT
BEGIN:VEVENT
DTSTART;TZID=America/New_York:20250622T113000
DTEND;TZID=America/New_York:20250622T153000
DTSTAMP:20260424T130053
CREATED:20250619T090017Z
LAST-MODIFIED:20250619T090017Z
UID:24151-1750591800-1750606200@salemforallages.org
SUMMARY:Magical Transformations
DESCRIPTION:Through our “Magical Transformations” children embrace their charms and express their individuality. Children can choose to transform into a “Witch” or “Wizard”!
URL:https://salemforallages.org/event/magical-transformations-372/
ATTACH;FMTTYPE=image/jpeg:https://salemforallages.org/wp-content/uploads/2025/06/Magicaltransformations-10.jpg
END:VEVENT
BEGIN:VEVENT
DTSTART;TZID=America/New_York:20250622T140000
DTEND;TZID=America/New_York:20250622T153000
DTSTAMP:20260424T130053
CREATED:20250619T090028Z
LAST-MODIFIED:20250619T090028Z
UID:24158-1750600800-1750606200@salemforallages.org
SUMMARY:My Dear Sister: Nathaniel Hawthorne And His Sisters
DESCRIPTION:Date: June 22 @ 2:00 pm – 3:30 pm \nCost: $25 \nA lecture by author Kris Hansen \nThis lecture includes a comparison of the opposing personalities of Elizabeth Manning Hawthorne and her 6-year-younger sister\, Maria Louisa\, with excerpts from personal letters to illustrate their individual qualities. Extracts from Nathaniel Hawthorne’s writings provide examples where he possibly modelled specific traits of fictional characters from his sisters\, such as Hepzibah and Phoebe in The House of the Seven Gables.
URL:https://salemforallages.org/event/my-dear-sister-nathaniel-hawthorne-and-his-sisters/
ATTACH;FMTTYPE=image/png:https://salemforallages.org/wp-content/uploads/2025/06/Screenshot-2025-05-20-154105.png
END:VEVENT
BEGIN:VEVENT
DTSTART;TZID=America/New_York:20250622T140000
DTEND;TZID=America/New_York:20250622T160000
DTSTAMP:20260424T130053
CREATED:20250620T090005Z
LAST-MODIFIED:20250620T090005Z
UID:24162-1750600800-1750608000@salemforallages.org
SUMMARY:Diamonds Dine in w/ DJ Maxine Harrison
DESCRIPTION:Salem’s free Sunday Drag Brunch\, going 4 years strong at Gulu-Gulu Cafe. Hosted by Miz Diamond Wigfall and DJ Maxine Harrison! Featuring new guest performances every week. Please come and celebrate Sungay with us and bring all the good energy!
URL:https://salemforallages.org/event/diamonds-dine-in-w-dj-maxine-harrison-2/
ATTACH;FMTTYPE=image/jpeg:https://salemforallages.org/wp-content/uploads/2025/06/IMG_9935.jpg
END:VEVENT
BEGIN:VEVENT
DTSTART;TZID=America/New_York:20250622T140000
DTEND;TZID=America/New_York:20250622T161500
DTSTAMP:20260424T130053
CREATED:20250619T090050Z
LAST-MODIFIED:20250619T090050Z
UID:24160-1750600800-1750608900@salemforallages.org
SUMMARY:76 Days Adrift Film Screening and Q&A
DESCRIPTION:Know before you go\nIn-person event\nLocation: Morse Auditorium \nIncluded with admission \nRecommended for ages 13 and up. \nThis film is in English with English subtitles. \nJoin Daniel Finamore\, Associate Director–Exhibitions and the Russell W. Knight Curator of Maritime Art and History\, for a screening of 76 Days Adrift\, the gripping film based on Steve Callahan’s harrowing survival at sea. Hear firsthand from Callahan and Executive Producer Robert Sennott as they discuss the making of the film\, the emotional and physical challenges Callahan faced during his 76-day ordeal and the deeper themes o
URL:https://salemforallages.org/event/76-days-adrift-film-screening-and-qa/
ATTACH;FMTTYPE=image/jpeg:https://salemforallages.org/wp-content/uploads/2025/06/Ev_76daysscreening_1600_SplitHero.jpg
END:VEVENT
BEGIN:VEVENT
DTSTART;TZID=America/New_York:20250622T180000
DTEND;TZID=America/New_York:20250622T210000
DTSTAMP:20260424T130053
CREATED:20250620T090006Z
LAST-MODIFIED:20250620T090006Z
UID:24163-1750615200-1750626000@salemforallages.org
SUMMARY:Witch Stitch? Summerween Horror Craft & Sip
DESCRIPTION:Bring any fiber arts project you’re working on\, wear a costume\, and watch horror films with spooky crafty like minded folks for an evening of fun.
URL:https://salemforallages.org/event/witch-stitch-summerween-horror-craft-sip/
ATTACH;FMTTYPE=image/jpeg:https://salemforallages.org/wp-content/uploads/2025/06/IMG_20250607_142410_562.jpg
END:VEVENT
BEGIN:VEVENT
DTSTART;TZID=America/New_York:20250622T193000
DTEND;TZID=America/New_York:20250622T210000
DTSTAMP:20260424T130053
CREATED:20250620T090009Z
LAST-MODIFIED:20250620T090009Z
UID:24165-1750620600-1750626000@salemforallages.org
SUMMARY:Salem Sunday Funny Day – Free Outdoor Comedy
DESCRIPTION:Sunday Funny Day is coming to Harborwalk Garden! \nWe’re thrilled to bring the laughter to Salem with Like2Laugh Productions for a special comedy night in Salem’s newest waterfront beer and wine garden! \nJoin us Sunday June 22nd as we welcome the incredibly funny Janelle Draper to the stage for an evening of stand-up under the stars! \nHarborwalk Garden is Salem’s open-air\, harbor-front hangout – featuring craft beer\, wine\, frozen cocktails and a lively\, welcoming vibe. Come early\, grab a drink and settle in for a show you won’t forget! \n🎤 Sunday\, June 22nd\n🪑 Seating begins at 7:30PM
URL:https://salemforallages.org/event/salem-sunday-funny-day-free-outdoor-comedy/
ATTACH;FMTTYPE=image/jpeg:https://salemforallages.org/wp-content/uploads/2025/06/6423-scaled-1.jpg
END:VEVENT
BEGIN:VEVENT
DTSTART;TZID=America/New_York:20250623T090000
DTEND;TZID=America/New_York:20250623T120000
DTSTAMP:20260424T130053
CREATED:20250620T090012Z
LAST-MODIFIED:20250620T090012Z
UID:24167-1750669200-1750680000@salemforallages.org
SUMMARY:Kids’ Summer Program at NSGS (10 years old & up)!
DESCRIPTION:Join us for a week of artistic enrichment and engagement at North Shore Glass School! For kids age 10+\, students will be welcomed at our glass studio at 16 Proctor Street for a week of glassblowing\, flameworking\, fused glass\, stained glass and sandblasting. Projects will include but are not limited to glassblowing paperweights and cups\, fused glass bowls and suncatchers\, flameworking pendants and small figurines\, stained glass window pieces and boxes and sandblasted cups and vases.
URL:https://salemforallages.org/event/kids-summer-program-at-nsgs-10-years-old-up-10/
ATTACH;FMTTYPE=image/jpeg:https://salemforallages.org/wp-content/uploads/2025/06/IMG_5288-scaled-10.jpg
END:VEVENT
BEGIN:VEVENT
DTSTART;TZID=America/New_York:20250623T090000
DTEND;TZID=America/New_York:20250623T120000
DTSTAMP:20260424T130053
CREATED:20250620T090016Z
LAST-MODIFIED:20250620T090016Z
UID:24169-1750669200-1750680000@salemforallages.org
SUMMARY:Junior Kids’ Glass Summer Program at Artist Row!
DESCRIPTION:North Shore Glass School is thrilled to announce our new kid’s glass art program at Artist Row this summer. This program is for kids aged 7-10 years old. In this week-long program\, kids will enjoy projects in stained glass\, fused glass\, sandblasting\, glass art painting and sea glass sculpting.
URL:https://salemforallages.org/event/junior-kids-glass-summer-program-at-artist-row-6/
ATTACH;FMTTYPE=image/jpeg:https://salemforallages.org/wp-content/uploads/2025/06/IMG_3862-scaled-6.jpg
END:VEVENT
BEGIN:VEVENT
DTSTART;TZID=America/New_York:20250623T090000
DTEND;TZID=America/New_York:20250623T120000
DTSTAMP:20260424T130053
CREATED:20250620T090020Z
LAST-MODIFIED:20250620T090020Z
UID:24171-1750669200-1750680000@salemforallages.org
SUMMARY:Kids’ Glass Summer Program at Artist Row!
DESCRIPTION:North Shore Glass School is thrilled to announce a summer program for kids aged 7-10 years old at Artist Row. Our kids summer program will run weekly June through August from 9-12pm. In this summer workshop\, kids will be introduced to the fine arts of fused glass\, stained glass\, sandblasting\, glass painting and sea glass sculpting.
URL:https://salemforallages.org/event/kids-glass-summer-program-at-artist-row-6/
ATTACH;FMTTYPE=image/jpeg:https://salemforallages.org/wp-content/uploads/2025/06/IMG_3862-1-scaled-6.jpg
END:VEVENT
BEGIN:VEVENT
DTSTART;TZID=America/New_York:20250623T113000
DTEND;TZID=America/New_York:20250623T160000
DTSTAMP:20260424T130053
CREATED:20250620T090023Z
LAST-MODIFIED:20250620T090023Z
UID:24173-1750678200-1750694400@salemforallages.org
SUMMARY:Magical Transformations
DESCRIPTION:Through our “Magical Transformations” children embrace their charms and express their individuality. Children can choose to transform into a “Witch” or “Wizard”!
URL:https://salemforallages.org/event/magical-transformations-373/
ATTACH;FMTTYPE=image/jpeg:https://salemforallages.org/wp-content/uploads/2025/06/Magicaltransformations-11.jpg
END:VEVENT
BEGIN:VEVENT
DTSTART;TZID=America/New_York:20250623T113000
DTEND;TZID=America/New_York:20250623T160000
DTSTAMP:20260424T130053
CREATED:20250620T090027Z
LAST-MODIFIED:20250620T090027Z
UID:24175-1750678200-1750694400@salemforallages.org
SUMMARY:Potion Brewing Store Experience
DESCRIPTION:Make your visit to The Good Witch of Salem’s shop memorable by booking our in-store Potion Brewing Experience. This activity is led by our Witch Apprentices. \nActivities are recommended for children ages 3 and up. \n*One appointment slot for each child is required.*
URL:https://salemforallages.org/event/potion-brewing-store-experience-366/
ATTACH;FMTTYPE=image/jpeg:https://salemforallages.org/wp-content/uploads/2025/06/Final-Potion-Master-1-1-8.jpg
END:VEVENT
BEGIN:VEVENT
DTSTART;TZID=America/New_York:20250623T120000
DTEND;TZID=America/New_York:20250623T160000
DTSTAMP:20260424T130053
CREATED:20250620T090030Z
LAST-MODIFIED:20250620T090030Z
UID:24177-1750680000-1750694400@salemforallages.org
SUMMARY:Personal Rainbow Aura Photos
DESCRIPTION:What would the world become if everyone saw themselves as an energetic being? Each Personal Rainbow appointment comes with an instant-film aura photo and personalized reading of the colors and patterns. Bring a buddy at no extra charge to see your vibe as a dynamic duo! Book ahead as walk-ins fill up quickly\, appointments available Thursday-Monday.
URL:https://salemforallages.org/event/personal-rainbow-aura-photos-23/
ATTACH;FMTTYPE=image/jpeg:https://salemforallages.org/wp-content/uploads/2025/06/aura-photos-hauswitch-salem-3-2.jpg
END:VEVENT
BEGIN:VEVENT
DTSTART;TZID=America/New_York:20250623T190000
DTEND;TZID=America/New_York:20250623T210000
DTSTAMP:20260424T130053
CREATED:20250620T090033Z
LAST-MODIFIED:20250620T090033Z
UID:24179-1750705200-1750712400@salemforallages.org
SUMMARY:Bingo with Great Gaucho
DESCRIPTION:Join us at the Taproom every Monday night for FREE BINGO with Greta Gaucho at 7:00 pm. \nDot it if ya got it for four rounds to win a Far From The Tree gift card and a prize from the fabulous prize basket. \nThe Far From the Tree taproom has an open food policy. (Bring your own food)
URL:https://salemforallages.org/event/bingo-with-great-gaucho-17/
ATTACH;FMTTYPE=image/jpeg:https://salemforallages.org/wp-content/uploads/2025/06/Add-a-subheading-2.jpg
END:VEVENT
BEGIN:VEVENT
DTSTART;TZID=America/New_York:20250623T190000
DTEND;TZID=America/New_York:20250623T213000
DTSTAMP:20260424T130053
CREATED:20250620T090037Z
LAST-MODIFIED:20250620T090037Z
UID:24181-1750705200-1750714200@salemforallages.org
SUMMARY:Jazz Dinner w/ Jordan Gravel
DESCRIPTION:Jordan Gravel takes up residency at the Gulu-Gulu Cafe twice a month\, come & check out his unique style of Jazz featuring a Hammond Organ!
URL:https://salemforallages.org/event/jazz-dinner-w-jordan-gravel/
ATTACH;FMTTYPE=image/jpeg:https://salemforallages.org/wp-content/uploads/2022/06/image1.jpg
END:VEVENT
BEGIN:VEVENT
DTSTART;TZID=America/New_York:20250624T090000
DTEND;TZID=America/New_York:20250624T120000
DTSTAMP:20260424T130053
CREATED:20250620T090038Z
LAST-MODIFIED:20250620T090038Z
UID:24182-1750755600-1750766400@salemforallages.org
SUMMARY:Kids’ Summer Program at NSGS (10 years old & up)!
DESCRIPTION:Join us for a week of artistic enrichment and engagement at North Shore Glass School! For kids age 10+\, students will be welcomed at our glass studio at 16 Proctor Street for a week of glassblowing\, flameworking\, fused glass\, stained glass and sandblasting. Projects will include but are not limited to glassblowing paperweights and cups\, fused glass bowls and suncatchers\, flameworking pendants and small figurines\, stained glass window pieces and boxes and sandblasted cups and vases.
URL:https://salemforallages.org/event/kids-summer-program-at-nsgs-10-years-old-up-11/
ATTACH;FMTTYPE=image/jpeg:https://salemforallages.org/wp-content/uploads/2025/06/IMG_5288-scaled-11.jpg
END:VEVENT
BEGIN:VEVENT
DTSTART;TZID=America/New_York:20250624T090000
DTEND;TZID=America/New_York:20250624T120000
DTSTAMP:20260424T130053
CREATED:20250620T090042Z
LAST-MODIFIED:20250620T090042Z
UID:24184-1750755600-1750766400@salemforallages.org
SUMMARY:Junior Kids’ Glass Summer Program at Artist Row!
DESCRIPTION:North Shore Glass School is thrilled to announce our new kid’s glass art program at Artist Row this summer. This program is for kids aged 7-10 years old. In this week-long program\, kids will enjoy projects in stained glass\, fused glass\, sandblasting\, glass art painting and sea glass sculpting.
URL:https://salemforallages.org/event/junior-kids-glass-summer-program-at-artist-row-7/
ATTACH;FMTTYPE=image/jpeg:https://salemforallages.org/wp-content/uploads/2025/06/IMG_3862-scaled-7.jpg
END:VEVENT
BEGIN:VEVENT
DTSTART;TZID=America/New_York:20250624T090000
DTEND;TZID=America/New_York:20250624T120000
DTSTAMP:20260424T130053
CREATED:20250621T090006Z
LAST-MODIFIED:20250621T090006Z
UID:24186-1750755600-1750766400@salemforallages.org
SUMMARY:Kids’ Glass Summer Program at Artist Row!
DESCRIPTION:North Shore Glass School is thrilled to announce a summer program for kids aged 7-10 years old at Artist Row. Our kids summer program will run weekly June through August from 9-12pm. In this summer workshop\, kids will be introduced to the fine arts of fused glass\, stained glass\, sandblasting\, glass painting and sea glass sculpting.
URL:https://salemforallages.org/event/kids-glass-summer-program-at-artist-row-7/
ATTACH;FMTTYPE=image/jpeg:https://salemforallages.org/wp-content/uploads/2025/06/IMG_3862-1-scaled-7.jpg
END:VEVENT
BEGIN:VEVENT
DTSTART;TZID=America/New_York:20250624T113000
DTEND;TZID=America/New_York:20250624T150000
DTSTAMP:20260424T130053
CREATED:20250621T090012Z
LAST-MODIFIED:20250621T090012Z
UID:24190-1750764600-1750777200@salemforallages.org
SUMMARY:Stop In For a Spell: DIY Potion Bar
DESCRIPTION:Fly in to The Good Witch and Stay for a Spell! Mix up your very own potion at our Potion Bar! \nDrop Ins begin at store opening and end 30 minutes before closing and are offered on a first come\, first serve basis. Purchase online or pay in store. \nDrop Ins may be unavailable during a birthday party or store event. Please call ahead\, or check our posted hours on Google. \nUnder age 4 may participate with the help of a supervising adult.
URL:https://salemforallages.org/event/stop-in-for-a-spell-diy-potion-bar-249/
ATTACH;FMTTYPE=image/jpeg:https://salemforallages.org/wp-content/uploads/2025/06/Potion-Bar-2-6.jpg
END:VEVENT
BEGIN:VEVENT
DTSTART;TZID=America/New_York:20250624T113000
DTEND;TZID=America/New_York:20250624T150000
DTSTAMP:20260424T130053
CREATED:20250621T090016Z
LAST-MODIFIED:20250621T090016Z
UID:24192-1750764600-1750777200@salemforallages.org
SUMMARY:Potion Brewing Store Experience
DESCRIPTION:Make your visit to The Good Witch of Salem’s shop memorable by booking our in-store Potion Brewing Experience. This activity is led by our Witch Apprentices. \nActivities are recommended for children ages 3 and up. \n*One appointment slot for each child is required.*
URL:https://salemforallages.org/event/potion-brewing-store-experience-367/
ATTACH;FMTTYPE=image/jpeg:https://salemforallages.org/wp-content/uploads/2025/06/Final-Potion-Master-1-6.jpg
END:VEVENT
BEGIN:VEVENT
DTSTART;TZID=America/New_York:20250624T113000
DTEND;TZID=America/New_York:20250624T153000
DTSTAMP:20260424T130053
CREATED:20250621T090009Z
LAST-MODIFIED:20250621T090009Z
UID:24188-1750764600-1750779000@salemforallages.org
SUMMARY:Magical Transformations
DESCRIPTION:Through our “Magical Transformations” children embrace their charms and express their individuality. Children can choose to transform into a “Witch” or “Wizard”!
URL:https://salemforallages.org/event/magical-transformations-374/
ATTACH;FMTTYPE=image/jpeg:https://salemforallages.org/wp-content/uploads/2025/06/Magicaltransformations-12.jpg
END:VEVENT
BEGIN:VEVENT
DTSTART;TZID=America/New_York:20250624T190000
DTEND;TZID=America/New_York:20250624T210000
DTSTAMP:20260424T130053
CREATED:20250621T090020Z
LAST-MODIFIED:20250621T090020Z
UID:24194-1750791600-1750798800@salemforallages.org
SUMMARY:Karaoke with Maxine Harrison
DESCRIPTION:Free Karaoke hosted by Queen Maxine Harrison at Gulu Gulu Cafe – every Tuesday night in June\, 7-9 pm.
URL:https://salemforallages.org/event/karaoke-with-maxine-harrison-2/
ATTACH;FMTTYPE=image/jpeg:https://salemforallages.org/wp-content/uploads/2025/06/Internati-2.jpg
END:VEVENT
BEGIN:VEVENT
DTSTART;TZID=America/New_York:20250624T193000
DTEND;TZID=America/New_York:20250624T210000
DTSTAMP:20260424T130053
CREATED:20250621T090021Z
LAST-MODIFIED:20250621T090021Z
UID:24195-1750793400-1750798800@salemforallages.org
SUMMARY:Trivia Time
DESCRIPTION:General knowledge trivia every Tuesday at 7:30. Free to play. Win a Flying Saucer gift card!
URL:https://salemforallages.org/event/trivia-time-21/
ATTACH;FMTTYPE=image/jpeg:https://salemforallages.org/wp-content/uploads/2025/01/trivia-aframe-Medium.jpeg
END:VEVENT
BEGIN:VEVENT
DTSTART;TZID=America/New_York:20250624T200000
DTEND;TZID=America/New_York:20250624T213000
DTSTAMP:20260424T130053
CREATED:20250624T090005Z
LAST-MODIFIED:20250624T090005Z
UID:24259-1750795200-1750800600@salemforallages.org
SUMMARY:A Very Gay Trivia Night!
DESCRIPTION:Join us for A Very Gay Trivia Night — a night of queer chaos\, pop culture\, and prizes! Bring your flannel\, your besties\, and your brain. June 24th · 8PM · Bit Bar Salem
URL:https://salemforallages.org/event/a-very-gay-trivia-night/
ATTACH;FMTTYPE=image/jpeg:https://salemforallages.org/wp-content/uploads/2025/06/A4ED3B0D-1947-4E4D-9C7A-A0EAFB795878.jpg
END:VEVENT
END:VCALENDAR