BEGIN:VCALENDAR
VERSION:2.0
PRODID:-//Salem for All Ages - ECPv6.15.18//NONSGML v1.0//EN
CALSCALE:GREGORIAN
METHOD:PUBLISH
X-WR-CALNAME:Salem for All Ages
X-ORIGINAL-URL:https://salemforallages.org
X-WR-CALDESC:Events for Salem for All Ages
REFRESH-INTERVAL;VALUE=DURATION:PT1H
X-Robots-Tag:noindex
X-PUBLISHED-TTL:PT1H
BEGIN:VTIMEZONE
TZID:America/New_York
BEGIN:DAYLIGHT
TZOFFSETFROM:-0500
TZOFFSETTO:-0400
TZNAME:EDT
DTSTART:20240310T070000
END:DAYLIGHT
BEGIN:STANDARD
TZOFFSETFROM:-0400
TZOFFSETTO:-0500
TZNAME:EST
DTSTART:20241103T060000
END:STANDARD
BEGIN:DAYLIGHT
TZOFFSETFROM:-0500
TZOFFSETTO:-0400
TZNAME:EDT
DTSTART:20250309T070000
END:DAYLIGHT
BEGIN:STANDARD
TZOFFSETFROM:-0400
TZOFFSETTO:-0500
TZNAME:EST
DTSTART:20251102T060000
END:STANDARD
BEGIN:DAYLIGHT
TZOFFSETFROM:-0500
TZOFFSETTO:-0400
TZNAME:EDT
DTSTART:20260308T070000
END:DAYLIGHT
BEGIN:STANDARD
TZOFFSETFROM:-0400
TZOFFSETTO:-0500
TZNAME:EST
DTSTART:20261101T060000
END:STANDARD
END:VTIMEZONE
BEGIN:VEVENT
DTSTART;TZID=America/New_York:20250123T113000
DTEND;TZID=America/New_York:20250123T160000
DTSTAMP:20260424T151629
CREATED:20250112T100019Z
LAST-MODIFIED:20250112T100019Z
UID:22184-1737631800-1737648000@salemforallages.org
SUMMARY:Magical Transformations
DESCRIPTION:Through our “Magical Transformations” children embrace their charms and express their individuality. Children can choose to transform into a “Witch” or “Wizard”!
URL:https://salemforallages.org/event/magical-transformations-230/
ATTACH;FMTTYPE=image/png:https://salemforallages.org/wp-content/uploads/2024/08/Transformations.png
END:VEVENT
BEGIN:VEVENT
DTSTART;TZID=America/New_York:20250123T100000
DTEND;TZID=America/New_York:20250123T170000
DTSTAMP:20260424T151629
CREATED:20250112T100019Z
LAST-MODIFIED:20250112T100019Z
UID:22183-1737626400-1737651600@salemforallages.org
SUMMARY:Narwhal: Revealing an Arctic Legend at The PEM
DESCRIPTION:SALEM\, MA –  This fall\, the Peabody Essex Museum (PEM) invites visitors to dive deep into the world of narwhals. These unique ocean dwellers\, sometimes called the “unicorns of the sea\,” spend their lives in the Arctic waters of Canada\, Greenland\, Norway and Russia. Learn about their changing Arctic ecosystem through firsthand accounts of scientists and Inuit community members. Hear soundscapes of the Arctic\, including the evocative vocalizations of the narwhal\, and touch an 8-foot-long cast of a real narwhal tusk. \nOn view in The Dotty Brown Art & Nature Center\, this family-friendly\, interactive exhibition is part of PEM’s interdisciplinary Climate + Environment Initiative. Narwhal: Revealing an Arctic Legend includes contemporary Inuit sculptures and prints and a historic book from PEM’s Phillips Library collection. The exhibition is organized by the Smithsonian Institution Traveling Exhibition Service in collaboration with the Smithsonian’s National Museum of Natural History and is on view at PEM September 28\, 2024 through June 15\, 2025.
URL:https://salemforallages.org/event/narwhal-revealing-an-arctic-legend-at-the-pem-82/
ATTACH;FMTTYPE=image/jpeg:https://salemforallages.org/wp-content/uploads/2025/01/ExNarwhal_3600_Hero-scaled-e1736436363581.jpg
END:VEVENT
BEGIN:VEVENT
DTSTART;TZID=America/New_York:20250122T080000
DTEND;TZID=America/New_York:20250122T170000
DTSTAMP:20260424T151629
CREATED:20250112T100019Z
LAST-MODIFIED:20250112T100019Z
UID:22182-1737532800-1737565200@salemforallages.org
SUMMARY:Sperling Test
DESCRIPTION:testing
URL:https://salemforallages.org/event/sperling-test/
END:VEVENT
BEGIN:VEVENT
DTSTART;TZID=America/New_York:20250120T113000
DTEND;TZID=America/New_York:20250120T160000
DTSTAMP:20260424T151629
CREATED:20250112T100014Z
LAST-MODIFIED:20250112T100014Z
UID:22180-1737372600-1737388800@salemforallages.org
SUMMARY:Potion Brewing Store Experience
DESCRIPTION:Make your visit to The Good Witch of Salem’s shop memorable by booking our in-store Potion Brewing Experience. This activity is led by our Witch Apprentices. \nActivities are recommended for children ages 3 and up. \n*One appointment slot for each child is required.*
URL:https://salemforallages.org/event/potion-brewing-store-experience-221/
ATTACH;FMTTYPE=image/jpeg:https://salemforallages.org/wp-content/uploads/2025/01/Potion-Brewing-Store-Experience-12.jpg
END:VEVENT
BEGIN:VEVENT
DTSTART;TZID=America/New_York:20250120T113000
DTEND;TZID=America/New_York:20250120T160000
DTSTAMP:20260424T151629
CREATED:20250112T100013Z
LAST-MODIFIED:20250112T100013Z
UID:22179-1737372600-1737388800@salemforallages.org
SUMMARY:Magical Transformations
DESCRIPTION:Through our “Magical Transformations” children embrace their charms and express their individuality. Children can choose to transform into a “Witch” or “Wizard”!
URL:https://salemforallages.org/event/magical-transformations-229/
ATTACH;FMTTYPE=image/png:https://salemforallages.org/wp-content/uploads/2024/08/Transformations.png
END:VEVENT
BEGIN:VEVENT
DTSTART;TZID=America/New_York:20250120T110000
DTEND;TZID=America/New_York:20250120T153000
DTSTAMP:20260424T151629
CREATED:20250112T100010Z
LAST-MODIFIED:20250112T100010Z
UID:22177-1737370800-1737387000@salemforallages.org
SUMMARY:Dr. Martin Luther King Jr. Day Celebration
DESCRIPTION:Join us as we celebrate the legacy and leadership of Rev. Dr. Martin Luther King Jr. Come explore America\, A Hymnal\, David Boxer’s The Black Books\, Alison Saar’s Weight and other works that examine social justice\, identity and freedom across the generations. \n\n\nArt Making | Pour Art with Rahim Gray\n\n\nLearn how to make your own fluid acrylics masterpiece with a local artist!\n\nThe museum is free all day.
URL:https://salemforallages.org/event/dr-martin-luther-king-jr-day-celebration/
ATTACH;FMTTYPE=image/jpeg:https://salemforallages.org/wp-content/uploads/2025/01/20230905_180807-scaled-1.jpg
END:VEVENT
BEGIN:VEVENT
DTSTART;TZID=America/New_York:20250120T100000
DTEND;TZID=America/New_York:20250120T170000
DTSTAMP:20260424T151629
CREATED:20250111T100019Z
LAST-MODIFIED:20250111T100019Z
UID:22173-1737367200-1737392400@salemforallages.org
SUMMARY:Narwhal: Revealing an Arctic Legend at The PEM
DESCRIPTION:SALEM\, MA –  This fall\, the Peabody Essex Museum (PEM) invites visitors to dive deep into the world of narwhals. These unique ocean dwellers\, sometimes called the “unicorns of the sea\,” spend their lives in the Arctic waters of Canada\, Greenland\, Norway and Russia. Learn about their changing Arctic ecosystem through firsthand accounts of scientists and Inuit community members. Hear soundscapes of the Arctic\, including the evocative vocalizations of the narwhal\, and touch an 8-foot-long cast of a real narwhal tusk. \nOn view in The Dotty Brown Art & Nature Center\, this family-friendly\, interactive exhibition is part of PEM’s interdisciplinary Climate + Environment Initiative. Narwhal: Revealing an Arctic Legend includes contemporary Inuit sculptures and prints and a historic book from PEM’s Phillips Library collection. The exhibition is organized by the Smithsonian Institution Traveling Exhibition Service in collaboration with the Smithsonian’s National Museum of Natural History and is on view at PEM September 28\, 2024 through June 15\, 2025.
URL:https://salemforallages.org/event/narwhal-revealing-an-arctic-legend-at-the-pem-81/
ATTACH;FMTTYPE=image/jpeg:https://salemforallages.org/wp-content/uploads/2025/01/ExNarwhal_3600_Hero-scaled-e1736436363581.jpg
END:VEVENT
BEGIN:VEVENT
DTSTART;TZID=America/New_York:20250120T100000
DTEND;TZID=America/New_York:20250120T110000
DTSTAMP:20260424T151629
CREATED:20250112T100006Z
LAST-MODIFIED:20250112T100006Z
UID:22175-1737367200-1737370800@salemforallages.org
SUMMARY:Arctic Slime
DESCRIPTION:Children will create their own arctic themed slime creation. Students will get to take home their slime. Our magical employees will guide children in creating their own slime creations.\nThis workshop is limited to 8 children\, pre-registration is required. Under age 4 may attend with the help of a supervising adult.
URL:https://salemforallages.org/event/arctic-slime-2/
ATTACH;FMTTYPE=image/png:https://salemforallages.org/wp-content/uploads/2025/01/FINAL-Arctic-Slime-FB.png
END:VEVENT
BEGIN:VEVENT
DTSTART;TZID=America/New_York:20250119T190000
DTEND;TZID=America/New_York:20250119T200000
DTSTAMP:20260424T151629
CREATED:20250110T100014Z
LAST-MODIFIED:20250110T100014Z
UID:22165-1737313200-1737316800@salemforallages.org
SUMMARY:Let’s Sing Taylor
DESCRIPTION:A Live Band Experience Celebrating Taylor Swift \nTWO SHOWS: 2PM & 7PM \nLet’s Sing Taylor – A Live Band Experience – is the ultimate tribute to the music of Taylor Swift. We can show you incredible things\, including the most faithful and lively covers of Queen Taylor’s expansive and sacred catalog. Taking the country by storm\, we’re bringing the communal experience of celebrating Taylor’s music in a live setting to Swifties near and far.
URL:https://salemforallages.org/event/lets-sing-taylor-2/
ATTACH;FMTTYPE=image/jpeg:https://salemforallages.org/wp-content/uploads/2025/01/Lets-Sing-Taylor-Paramount-20240301_2768-scaled-2.jpg
END:VEVENT
BEGIN:VEVENT
DTSTART;TZID=America/New_York:20250119T140000
DTEND;TZID=America/New_York:20250119T160000
DTSTAMP:20260424T151629
CREATED:20250116T100006Z
LAST-MODIFIED:20250116T100006Z
UID:22212-1737295200-1737302400@salemforallages.org
SUMMARY:Cantos de mi Tierra
DESCRIPTION:MassOpera kicks off its 2025 Season with Cantos de mi Tierra\, an outreach concert celebrating Latin American culture. This concert features Latin American composers\, lyricists\, and performers\, and will be Sunday\, January 19th from 2:30PM-4PM (doors open at 2 PM)\, at the North Shore Community Development Coalition in Salem\, MA\, in partnership with its subsidiary\, the Punto Urban Art Museum\, a social justice public art program for the North Shore. \nMassOpera is proud to present an outreach concert featuring Latin American composers\, lyricists\, and performers at the North Shore Community Development Coalition in Salem\, MA\, in partnership with its subsidiary\, the Punto Urban Art Museum\, a social justice public art program for the North Shore. North Shore CDC works to improve the quality of life for residents in low-income\, North Shore neighborhoods through affordable housing\, economic development\, community engagement\, small business support\, and public art projects. Don’t miss this opportunity to experience the magic of Cantos de mi Tierra!
URL:https://salemforallages.org/event/cantos-de-mi-tierra/
ATTACH;FMTTYPE=image/jpeg:https://salemforallages.org/wp-content/uploads/2025/01/MassOpera-Cantos-de-mi-Tierra-for-Social.jpg
END:VEVENT
BEGIN:VEVENT
DTSTART;TZID=America/New_York:20250119T140000
DTEND;TZID=America/New_York:20250119T150000
DTSTAMP:20260424T151629
CREATED:20250110T100011Z
LAST-MODIFIED:20250110T100011Z
UID:22163-1737295200-1737298800@salemforallages.org
SUMMARY:Let’s Sing Taylor
DESCRIPTION:A Live Band Experience Celebrating Taylor Swift \nTWO SHOWS: 2PM & 7PM \nLet’s Sing Taylor – A Live Band Experience – is the ultimate tribute to the music of Taylor Swift. We can show you incredible things\, including the most faithful and lively covers of Queen Taylor’s expansive and sacred catalog. Taking the country by storm\, we’re bringing the communal experience of celebrating Taylor’s music in a live setting to Swifties near and far.
URL:https://salemforallages.org/event/lets-sing-taylor/
ATTACH;FMTTYPE=image/jpeg:https://salemforallages.org/wp-content/uploads/2025/01/Lets-Sing-Taylor-Paramount-20240301_2768-scaled-1.jpg
END:VEVENT
BEGIN:VEVENT
DTSTART;TZID=America/New_York:20250119T130000
DTEND;TZID=America/New_York:20250119T170000
DTSTAMP:20260424T151629
CREATED:20250107T100114Z
LAST-MODIFIED:20250107T100114Z
UID:22159-1737291600-1737306000@salemforallages.org
SUMMARY:Wicked Good Books Boozy Book Fair at Notch Brewing
DESCRIPTION:Wicked Good Books will be hosting a book fair at Notch Brewing. Grab a drink and browse a selection of books\, games\, and more. With Special Guest J.D. Scrimgeour\, Salem’s Poet Laureate.
URL:https://salemforallages.org/event/wicked-good-books-boozy-book-fair-at-notch-brewing-2/
ATTACH;FMTTYPE=image/jpeg:https://salemforallages.org/wp-content/uploads/2025/01/Notch-Brewing-scaled-1.jpg
END:VEVENT
BEGIN:VEVENT
DTSTART;TZID=America/New_York:20250119T113000
DTEND;TZID=America/New_York:20250119T153000
DTSTAMP:20260424T151629
CREATED:20250107T100107Z
LAST-MODIFIED:20250107T100107Z
UID:22154-1737286200-1737300600@salemforallages.org
SUMMARY:Magical Transformations
DESCRIPTION:Through our “Magical Transformations” children embrace their charms and express their individuality. Children can choose to transform into a “Witch” or “Wizard”!
URL:https://salemforallages.org/event/magical-transformations-228/
ATTACH;FMTTYPE=image/png:https://salemforallages.org/wp-content/uploads/2024/08/Transformations-1.png
END:VEVENT
BEGIN:VEVENT
DTSTART;TZID=America/New_York:20250119T113000
DTEND;TZID=America/New_York:20250119T150000
DTSTAMP:20260424T151629
CREATED:20250107T100110Z
LAST-MODIFIED:20250107T100110Z
UID:22157-1737286200-1737298800@salemforallages.org
SUMMARY:Potion Brewing Store Experience
DESCRIPTION:Make your visit to The Good Witch of Salem’s shop memorable by booking our in-store Potion Brewing Experience. This activity is led by our Witch Apprentices. \nActivities are recommended for children ages 3 and up. \n*One appointment slot for each child is required.*
URL:https://salemforallages.org/event/potion-brewing-store-experience-220/
ATTACH;FMTTYPE=image/jpeg:https://salemforallages.org/wp-content/uploads/2025/01/Potion-Brewing-Store-Experience-11.jpg
END:VEVENT
BEGIN:VEVENT
DTSTART;TZID=America/New_York:20250119T113000
DTEND;TZID=America/New_York:20250119T150000
DTSTAMP:20260424T151629
CREATED:20250107T100107Z
LAST-MODIFIED:20250107T100107Z
UID:22155-1737286200-1737298800@salemforallages.org
SUMMARY:Stop In For a Spell: DIY Potion Bar
DESCRIPTION:Fly in to The Good Witch and Stay for a Spell! Mix up your very own potion at our Potion Bar! \nDrop Ins begin at store opening and end 30 minutes before closing and are offered on a first come\, first serve basis. Purchase online or pay in store. \nDrop Ins may be unavailable during a birthday party or store event. Please call ahead\, or check our posted hours on Google. \nUnder age 4 may participate with the help of a supervising adult.
URL:https://salemforallages.org/event/stop-in-for-a-spell-diy-potion-bar-193/
ATTACH;FMTTYPE=image/jpeg:https://salemforallages.org/wp-content/uploads/2025/01/Stop-In-For-a-Spell-SQUARE-4.jpg
END:VEVENT
BEGIN:VEVENT
DTSTART;TZID=America/New_York:20250119T100000
DTEND;TZID=America/New_York:20250119T170000
DTSTAMP:20260424T151629
CREATED:20250107T100106Z
LAST-MODIFIED:20250107T100106Z
UID:22153-1737280800-1737306000@salemforallages.org
SUMMARY:Narwhal: Revealing an Arctic Legend at The PEM
DESCRIPTION:SALEM\, MA –  This fall\, the Peabody Essex Museum (PEM) invites visitors to dive deep into the world of narwhals. These unique ocean dwellers\, sometimes called the “unicorns of the sea\,” spend their lives in the Arctic waters of Canada\, Greenland\, Norway and Russia. Learn about their changing Arctic ecosystem through firsthand accounts of scientists and Inuit community members. Hear soundscapes of the Arctic\, including the evocative vocalizations of the narwhal\, and touch an 8-foot-long cast of a real narwhal tusk. \nOn view in The Dotty Brown Art & Nature Center\, this family-friendly\, interactive exhibition is part of PEM’s interdisciplinary Climate + Environment Initiative. Narwhal: Revealing an Arctic Legend includes contemporary Inuit sculptures and prints and a historic book from PEM’s Phillips Library collection. The exhibition is organized by the Smithsonian Institution Traveling Exhibition Service in collaboration with the Smithsonian’s National Museum of Natural History and is on view at PEM September 28\, 2024 through June 15\, 2025.
URL:https://salemforallages.org/event/narwhal-revealing-an-arctic-legend-at-the-pem-80/
ATTACH;FMTTYPE=image/png:https://salemforallages.org/wp-content/uploads/2024/09/Screen-Shot-2024-08-29-at-11.30.40-AM.png
END:VEVENT
BEGIN:VEVENT
DTSTART;TZID=America/New_York:20250119T100000
DTEND;TZID=America/New_York:20250119T110000
DTSTAMP:20260424T151629
CREATED:20250111T100015Z
LAST-MODIFIED:20250111T100015Z
UID:22171-1737280800-1737284400@salemforallages.org
SUMMARY:Adopt a Snowman
DESCRIPTION:Children will stuff their own snowman plush\, create accessories\, and learn about crystal magic! \nThis workshop is limited to 5 children\, pre-registration is required.
URL:https://salemforallages.org/event/adopt-a-snowman-2/
ATTACH;FMTTYPE=image/jpeg:https://salemforallages.org/wp-content/uploads/2025/01/Adopt-a-Snowman-Instagram.jpg
END:VEVENT
BEGIN:VEVENT
DTSTART;TZID=America/New_York:20250118T203000
DTEND;TZID=America/New_York:20250118T220000
DTSTAMP:20260424T151629
CREATED:20250107T100106Z
LAST-MODIFIED:20250107T100106Z
UID:22152-1737232200-1737237600@salemforallages.org
SUMMARY:Jimmy Dunn
DESCRIPTION:Jimmy Dunn is a stand-up comedian and actor from Boston\, who currently plays “Moose” on the Paramount+ reboot of the iconic sitcom FRASIER. He got his start in “show business” telling jokes in a bar in Gloucester\, Massachusetts\, where he was paid in beer and fried clams.
URL:https://salemforallages.org/event/jimmy-dunn-3/
ATTACH;FMTTYPE=image/jpeg:https://salemforallages.org/wp-content/uploads/2025/01/Jimmy-Dunn.jpg
END:VEVENT
BEGIN:VEVENT
DTSTART;TZID=America/New_York:20250118T200000
DTEND;TZID=America/New_York:20250118T210000
DTSTAMP:20260424T151629
CREATED:20250107T100103Z
LAST-MODIFIED:20250107T100103Z
UID:22150-1737230400-1737234000@salemforallages.org
SUMMARY:Muse: A Salute to Divas of Dance
DESCRIPTION:Join Jacyn\, Lauren\, Sheree\, and Ananda as they return to The Cabot for Muse: A Salute to Divas of Dance Music”. This will be an unforgettable night of high energy music and “girl power” backed by the “Muse House Band”!
URL:https://salemforallages.org/event/muse-a-salute-to-divas-of-dance/
ATTACH;FMTTYPE=image/jpeg:https://salemforallages.org/wp-content/uploads/2025/01/470693041_988796543278547_241474748228666555_n.jpg
END:VEVENT
BEGIN:VEVENT
DTSTART;TZID=America/New_York:20250118T180000
DTEND;TZID=America/New_York:20250118T193000
DTSTAMP:20260424T151629
CREATED:20250107T100103Z
LAST-MODIFIED:20250107T100103Z
UID:22149-1737223200-1737228600@salemforallages.org
SUMMARY:Jimmy Dunn
DESCRIPTION:Jimmy Dunn is a stand-up comedian and actor from Boston\, who currently plays “Moose” on the Paramount+ reboot of the iconic sitcom FRASIER. He got his start in “show business” telling jokes in a bar in Gloucester\, Massachusetts\, where he was paid in beer and fried clams.
URL:https://salemforallages.org/event/jimmy-dunn-2/
ATTACH;FMTTYPE=image/jpeg:https://salemforallages.org/wp-content/uploads/2025/01/Jimmy-Dunn.jpg
END:VEVENT
BEGIN:VEVENT
DTSTART;TZID=America/New_York:20250118T113000
DTEND;TZID=America/New_York:20250118T160000
DTSTAMP:20260424T151629
CREATED:20250107T100058Z
LAST-MODIFIED:20250107T100058Z
UID:22147-1737199800-1737216000@salemforallages.org
SUMMARY:Potion Brewing Store Experience
DESCRIPTION:Make your visit to The Good Witch of Salem’s shop memorable by booking our in-store Potion Brewing Experience. This activity is led by our Witch Apprentices. \nActivities are recommended for children ages 3 and up. \n*One appointment slot for each child is required.*
URL:https://salemforallages.org/event/potion-brewing-store-experience-219/
ATTACH;FMTTYPE=image/jpeg:https://salemforallages.org/wp-content/uploads/2025/01/Potion-Brewing-Store-Experience-10.jpg
END:VEVENT
BEGIN:VEVENT
DTSTART;TZID=America/New_York:20250118T113000
DTEND;TZID=America/New_York:20250118T160000
DTSTAMP:20260424T151629
CREATED:20250107T100057Z
LAST-MODIFIED:20250107T100057Z
UID:22146-1737199800-1737216000@salemforallages.org
SUMMARY:Magical Transformations
DESCRIPTION:Through our “Magical Transformations” children embrace their charms and express their individuality. Children can choose to transform into a “Witch” or “Wizard”!
URL:https://salemforallages.org/event/magical-transformations-227/
ATTACH;FMTTYPE=image/png:https://salemforallages.org/wp-content/uploads/2024/08/Transformations.png
END:VEVENT
BEGIN:VEVENT
DTSTART;TZID=America/New_York:20250118T100000
DTEND;TZID=America/New_York:20250118T170000
DTSTAMP:20260424T151629
CREATED:20250107T100053Z
LAST-MODIFIED:20250107T100053Z
UID:22143-1737194400-1737219600@salemforallages.org
SUMMARY:Narwhal: Revealing an Arctic Legend at The PEM
DESCRIPTION:SALEM\, MA –  This fall\, the Peabody Essex Museum (PEM) invites visitors to dive deep into the world of narwhals. These unique ocean dwellers\, sometimes called the “unicorns of the sea\,” spend their lives in the Arctic waters of Canada\, Greenland\, Norway and Russia. Learn about their changing Arctic ecosystem through firsthand accounts of scientists and Inuit community members. Hear soundscapes of the Arctic\, including the evocative vocalizations of the narwhal\, and touch an 8-foot-long cast of a real narwhal tusk. \nOn view in The Dotty Brown Art & Nature Center\, this family-friendly\, interactive exhibition is part of PEM’s interdisciplinary Climate + Environment Initiative. Narwhal: Revealing an Arctic Legend includes contemporary Inuit sculptures and prints and a historic book from PEM’s Phillips Library collection. The exhibition is organized by the Smithsonian Institution Traveling Exhibition Service in collaboration with the Smithsonian’s National Museum of Natural History and is on view at PEM September 28\, 2024 through June 15\, 2025.
URL:https://salemforallages.org/event/narwhal-revealing-an-arctic-legend-at-the-pem-79/
ATTACH;FMTTYPE=image/png:https://salemforallages.org/wp-content/uploads/2024/09/Screen-Shot-2024-08-29-at-11.30.40-AM.png
END:VEVENT
BEGIN:VEVENT
DTSTART;TZID=America/New_York:20250118T100000
DTEND;TZID=America/New_York:20250118T143000
DTSTAMP:20260424T151629
CREATED:20250107T100054Z
LAST-MODIFIED:20250107T100054Z
UID:22144-1737194400-1737210600@salemforallages.org
SUMMARY:The Good Witch of Salem’s Winter Solstice Spell
DESCRIPTION:Fly into The Good Witch and Stay for a Spell! Step into the DIY Good Witch of Salem’s Potion Bar\, where you can mix your very own magical potion creations!
URL:https://salemforallages.org/event/the-good-witch-of-salems-winter-solstice-spell/
ATTACH;FMTTYPE=image/png:https://salemforallages.org/wp-content/uploads/2025/01/Solsticespell.png
END:VEVENT
BEGIN:VEVENT
DTSTART;TZID=America/New_York:20250118T100000
DTEND;TZID=America/New_York:20250118T110000
DTSTAMP:20260424T151629
CREATED:20250111T100011Z
LAST-MODIFIED:20250111T100011Z
UID:22169-1737194400-1737198000@salemforallages.org
SUMMARY:Winter Witch Spa Day
DESCRIPTION:Let’s have a Spa Day! Join us for a little pampering and relaxation with our Witch Apprentices. Children will create their own “winter witch” magic with snowflake wishes\, potion making\, and shimmery nails and hair.\nThis workshop is limited to 8 children\, pre-registration is required. Under age 4 may attend with the help of a supervising adult.
URL:https://salemforallages.org/event/winter-witch-spa-day-6/
ATTACH;FMTTYPE=image/jpeg:https://salemforallages.org/wp-content/uploads/2025/01/FINAL-Winter-Witch-Spa-Day-FB.jpg
END:VEVENT
BEGIN:VEVENT
DTSTART;TZID=America/New_York:20250117T200000
DTEND;TZID=America/New_York:20250117T220000
DTSTAMP:20260424T151629
CREATED:20250107T100050Z
LAST-MODIFIED:20250107T100050Z
UID:22141-1737144000-1737151200@salemforallages.org
SUMMARY:An Evening With Branford Marsalis
DESCRIPTION:Saxophonist Branford Marsalis is one of the most influential and revered figures in contemporary music.
URL:https://salemforallages.org/event/an-evening-with-branford-marsalis/
ATTACH;FMTTYPE=image/jpeg:https://salemforallages.org/wp-content/uploads/2025/01/BMarsalis-By-Eric-Ryan-Anderson-scaled-1.jpg
END:VEVENT
BEGIN:VEVENT
DTSTART;TZID=America/New_York:20250117T200000
DTEND;TZID=America/New_York:20250117T213000
DTSTAMP:20260424T151629
CREATED:20250107T100048Z
LAST-MODIFIED:20250107T100048Z
UID:22139-1737144000-1737149400@salemforallages.org
SUMMARY:Jimmy Dunn
DESCRIPTION:Jimmy Dunn is a stand-up comedian and actor from Boston\, who currently plays “Moose” on the Paramount+ reboot of the iconic sitcom FRASIER. He got his start in “show business” telling jokes in a bar in Gloucester\, Massachusetts\, where he was paid in beer and fried clams.
URL:https://salemforallages.org/event/jimmy-dunn/
ATTACH;FMTTYPE=image/jpeg:https://salemforallages.org/wp-content/uploads/2025/01/Jimmy-Dunn.jpg
END:VEVENT
BEGIN:VEVENT
DTSTART;TZID=America/New_York:20250117T113000
DTEND;TZID=America/New_York:20250117T160000
DTSTAMP:20260424T151629
CREATED:20250107T100045Z
LAST-MODIFIED:20250107T100045Z
UID:22137-1737113400-1737129600@salemforallages.org
SUMMARY:Potion Brewing Store Experience
DESCRIPTION:Make your visit to The Good Witch of Salem’s shop memorable by booking our in-store Potion Brewing Experience. This activity is led by our Witch Apprentices. \nActivities are recommended for children ages 3 and up. \n*One appointment slot for each child is required.*
URL:https://salemforallages.org/event/potion-brewing-store-experience-218/
ATTACH;FMTTYPE=image/jpeg:https://salemforallages.org/wp-content/uploads/2025/01/Potion-Brewing-Store-Experience-9.jpg
END:VEVENT
BEGIN:VEVENT
DTSTART;TZID=America/New_York:20250117T113000
DTEND;TZID=America/New_York:20250117T160000
DTSTAMP:20260424T151629
CREATED:20250107T100044Z
LAST-MODIFIED:20250107T100044Z
UID:22136-1737113400-1737129600@salemforallages.org
SUMMARY:Magical Transformations
DESCRIPTION:Through our “Magical Transformations” children embrace their charms and express their individuality. Children can choose to transform into a “Witch” or “Wizard”!
URL:https://salemforallages.org/event/magical-transformations-226/
ATTACH;FMTTYPE=image/png:https://salemforallages.org/wp-content/uploads/2024/08/Transformations.png
END:VEVENT
BEGIN:VEVENT
DTSTART;TZID=America/New_York:20250117T100000
DTEND;TZID=America/New_York:20250117T170000
DTSTAMP:20260424T151629
CREATED:20250107T100044Z
LAST-MODIFIED:20250107T100044Z
UID:22135-1737108000-1737133200@salemforallages.org
SUMMARY:Narwhal: Revealing an Arctic Legend at The PEM
DESCRIPTION:SALEM\, MA –  This fall\, the Peabody Essex Museum (PEM) invites visitors to dive deep into the world of narwhals. These unique ocean dwellers\, sometimes called the “unicorns of the sea\,” spend their lives in the Arctic waters of Canada\, Greenland\, Norway and Russia. Learn about their changing Arctic ecosystem through firsthand accounts of scientists and Inuit community members. Hear soundscapes of the Arctic\, including the evocative vocalizations of the narwhal\, and touch an 8-foot-long cast of a real narwhal tusk. \nOn view in The Dotty Brown Art & Nature Center\, this family-friendly\, interactive exhibition is part of PEM’s interdisciplinary Climate + Environment Initiative. Narwhal: Revealing an Arctic Legend includes contemporary Inuit sculptures and prints and a historic book from PEM’s Phillips Library collection. The exhibition is organized by the Smithsonian Institution Traveling Exhibition Service in collaboration with the Smithsonian’s National Museum of Natural History and is on view at PEM September 28\, 2024 through June 15\, 2025.
URL:https://salemforallages.org/event/narwhal-revealing-an-arctic-legend-at-the-pem-78/
ATTACH;FMTTYPE=image/png:https://salemforallages.org/wp-content/uploads/2024/09/Screen-Shot-2024-08-29-at-11.30.40-AM.png
END:VEVENT
END:VCALENDAR