BEGIN:VCALENDAR
VERSION:2.0
PRODID:-//Salem for All Ages - ECPv6.15.18//NONSGML v1.0//EN
CALSCALE:GREGORIAN
METHOD:PUBLISH
X-ORIGINAL-URL:https://salemforallages.org
X-WR-CALDESC:Events for Salem for All Ages
REFRESH-INTERVAL;VALUE=DURATION:PT1H
X-Robots-Tag:noindex
X-PUBLISHED-TTL:PT1H
BEGIN:VTIMEZONE
TZID:America/New_York
BEGIN:DAYLIGHT
TZOFFSETFROM:-0500
TZOFFSETTO:-0400
TZNAME:EDT
DTSTART:20240310T070000
END:DAYLIGHT
BEGIN:STANDARD
TZOFFSETFROM:-0400
TZOFFSETTO:-0500
TZNAME:EST
DTSTART:20241103T060000
END:STANDARD
BEGIN:DAYLIGHT
TZOFFSETFROM:-0500
TZOFFSETTO:-0400
TZNAME:EDT
DTSTART:20250309T070000
END:DAYLIGHT
BEGIN:STANDARD
TZOFFSETFROM:-0400
TZOFFSETTO:-0500
TZNAME:EST
DTSTART:20251102T060000
END:STANDARD
BEGIN:DAYLIGHT
TZOFFSETFROM:-0500
TZOFFSETTO:-0400
TZNAME:EDT
DTSTART:20260308T070000
END:DAYLIGHT
BEGIN:STANDARD
TZOFFSETFROM:-0400
TZOFFSETTO:-0500
TZNAME:EST
DTSTART:20261101T060000
END:STANDARD
END:VTIMEZONE
BEGIN:VEVENT
DTSTART;TZID=America/New_York:20250628T113000
DTEND;TZID=America/New_York:20250628T160000
DTSTAMP:20260424T101610
CREATED:20250625T090016Z
LAST-MODIFIED:20250625T090016Z
UID:24280-1751110200-1751126400@salemforallages.org
SUMMARY:Magical Transformations
DESCRIPTION:Through our “Magical Transformations” children embrace their charms and express their individuality. Children can choose to transform into a “Witch” or “Wizard”!
URL:https://salemforallages.org/event/magical-transformations-378/
ATTACH;FMTTYPE=image/jpeg:https://salemforallages.org/wp-content/uploads/2025/06/Magicaltransformations-16.jpg
END:VEVENT
BEGIN:VEVENT
DTSTART;TZID=America/New_York:20250628T113000
DTEND;TZID=America/New_York:20250628T160000
DTSTAMP:20260424T101610
CREATED:20250625T090020Z
LAST-MODIFIED:20250625T090020Z
UID:24282-1751110200-1751126400@salemforallages.org
SUMMARY:Potion Brewing Store Experience
DESCRIPTION:Make your visit to The Good Witch of Salem’s shop memorable by booking our in-store Potion Brewing Experience. This activity is led by our Witch Apprentices. \nActivities are recommended for children ages 3 and up. \n*One appointment slot for each child is required.*
URL:https://salemforallages.org/event/potion-brewing-store-experience-371/
ATTACH;FMTTYPE=image/jpeg:https://salemforallages.org/wp-content/uploads/2025/06/Final-Potion-Master-1-1-11.jpg
END:VEVENT
BEGIN:VEVENT
DTSTART;TZID=America/New_York:20250628T120000
DTEND;TZID=America/New_York:20250628T133000
DTSTAMP:20260424T101610
CREATED:20250625T090029Z
LAST-MODIFIED:20250625T090029Z
UID:24287-1751112000-1751117400@salemforallages.org
SUMMARY:Craft Witch
DESCRIPTION:Craft Witch is a DIY crafting session with something for everyone! Choose from a wide array of options to create your very own one-of-a-kind craft. Whichever craft you decide to create\, you’ll be provided with all the materials\, tools\, and knowledge needed to let your creativity flourish. Unlike our broom making\, bookbinding\, and spelljar making workshops in which participants are being guided through the crafting process step-by step by an instructor\, the DIY nature of Craft Witch means that you can use the studio time however you wish. Check out the crafting options on our website!
URL:https://salemforallages.org/event/craft-witch-77/
ATTACH;FMTTYPE=image/jpeg:https://salemforallages.org/wp-content/uploads/2025/06/Image-from-iOS-scaled-14.jpg
END:VEVENT
BEGIN:VEVENT
DTSTART;TZID=America/New_York:20250628T132000
DTEND;TZID=America/New_York:20250629T140500
DTSTAMP:20260424T101610
CREATED:20250625T090032Z
LAST-MODIFIED:20250625T090032Z
UID:24289-1751116800-1751205900@salemforallages.org
SUMMARY:Women’s History Tour
DESCRIPTION:Date: June 28 and/or June 29 @ 1:20 pm – 2:05 pm \nCost: $30 \nFrom the Indigenous women who worked the land to our organization’s founder\, women have always been a part of the Turner-Ingersoll Mansion’s history\, but not always given the spotlight they deserve. The House of the Seven Gables has created a Women’s History Tour to focus\, in-depth\, on the many women who have lived and labored in the Mansion. \n\n\nWomen’s History Tour \n\n\n\n\nWomen’s History Tour
URL:https://salemforallages.org/event/womens-history-tour-12/
ATTACH;FMTTYPE=image/png:https://salemforallages.org/wp-content/uploads/2025/06/Screenshot-2025-05-20-162152.png
END:VEVENT
BEGIN:VEVENT
DTSTART;TZID=America/New_York:20250628T140000
DTEND;TZID=America/New_York:20250628T144500
DTSTAMP:20260424T101610
CREATED:20250626T090005Z
LAST-MODIFIED:20250626T090005Z
UID:24291-1751119200-1751121900@salemforallages.org
SUMMARY:The Making of a Witch — A Play in One Act
DESCRIPTION:Join us for the truth about Philip English based on our extensive research through our own church archives and historical documents from Salem. This work\, written by Rory O’Brien and edited by Marilynne Roach\, will be appreciated for its authenticity and power to convey the essence of the man who not only built a successful career in young Salem\, but also narrowly escaped the witch trials with his life and founded a church that still stands and serves today. \nAll proceeds benefit the ministries & historic preservation of St. Peter’s – San Pedro Episcopal Church. Tickets are non refundable.
URL:https://salemforallages.org/event/the-making-of-a-witch-a-play-in-one-act-10/
ATTACH;FMTTYPE=image/jpeg:https://salemforallages.org/wp-content/uploads/2025/06/Making-of-a-Witch-2-3-scaled-1.jpg
END:VEVENT
BEGIN:VEVENT
DTSTART;TZID=America/New_York:20250628T150000
DTEND;TZID=America/New_York:20250630T170000
DTSTAMP:20260424T101610
CREATED:20250626T090009Z
LAST-MODIFIED:20250626T090009Z
UID:24293-1751122800-1751302800@salemforallages.org
SUMMARY:Pride Turkey Wing Broommaking at The Witchery
DESCRIPTION:While this workshop may be easier if you’ve picked up some broom making skills from one of our besom broom making workshops\, no prior experience is necessary! Our knowledgeable instructors will guide you step by step through the process of making this form of handheld broom that has a unique and different look.
URL:https://salemforallages.org/event/pride-turkey-wing-broommaking-at-the-witchery-2/
ATTACH;FMTTYPE=image/jpeg:https://salemforallages.org/wp-content/uploads/2025/06/IMG_7086-scaled-2.jpeg
END:VEVENT
BEGIN:VEVENT
DTSTART;TZID=America/New_York:20250628T160000
DTEND;TZID=America/New_York:20250628T164500
DTSTAMP:20260424T101610
CREATED:20250626T090012Z
LAST-MODIFIED:20250626T090012Z
UID:24295-1751126400-1751129100@salemforallages.org
SUMMARY:The Making of a Witch — A Play in One Act
DESCRIPTION:Join us for the truth about Philip English based on our extensive research through our own church archives and historical documents from Salem. This work\, written by Rory O’Brien and edited by Marilynne Roach\, will be appreciated for its authenticity and power to convey the essence of the man who not only built a successful career in young Salem\, but also narrowly escaped the witch trials with his life and founded a church that still stands and serves today. \nAll proceeds benefit the ministries & historic preservation of St. Peter’s – San Pedro Episcopal Church. Tickets are non refundable.
URL:https://salemforallages.org/event/the-making-of-a-witch-a-play-in-one-act-11/
ATTACH;FMTTYPE=image/jpeg:https://salemforallages.org/wp-content/uploads/2025/06/Making-of-a-Witch-2-3-scaled-2.jpg
END:VEVENT
BEGIN:VEVENT
DTSTART;TZID=America/New_York:20250628T160000
DTEND;TZID=America/New_York:20250628T190000
DTSTAMP:20260424T101610
CREATED:20250626T090014Z
LAST-MODIFIED:20250626T090014Z
UID:24297-1751126400-1751137200@salemforallages.org
SUMMARY:Pride Party! DJ Jimmy Tilt\, Dr. Viola Voila and Hunter Down
DESCRIPTION:Pride is pouring into Salem! Join us with DJ Jimmy Tilt\, Dr. Viola Voila and Hunter Down for a night of fun and drag. Food will be offered by the Blue Ox throughout the event. \nCover charge: $5 \nA portion of our pride series sales will go to NAGLY!
URL:https://salemforallages.org/event/pride-party-dj-jimmy-tilt-dr-viola-voila-and-hunter-down/
ATTACH;FMTTYPE=image/jpeg:https://salemforallages.org/wp-content/uploads/2025/06/1.jpeg
END:VEVENT
BEGIN:VEVENT
DTSTART;TZID=America/New_York:20250628T210000
DTEND;TZID=America/New_York:20250628T233000
DTSTAMP:20260424T101610
CREATED:20250626T090018Z
LAST-MODIFIED:20250626T090018Z
UID:24299-1751144400-1751153400@salemforallages.org
SUMMARY:Beaver Fever Ladies Night!
DESCRIPTION:Join us at Bit Bar Salem for our annual Pre-Pride Ladies Night Dance Party! \nIf you ever cried to Tegan and Sara in the Home Depot parking lot in your Subaru\, then this is the night for you. \nBring your birks\, flannel\, and softball crew\, that U-Haul\, and dance the night away. \n(Disclaimer: We’re not actually sponsored by those companies… but spiritually\, they’re all aboard.)
URL:https://salemforallages.org/event/beaver-fever-ladies-night/
ATTACH;FMTTYPE=image/jpeg:https://salemforallages.org/wp-content/uploads/2025/06/510353079_1128706429276580_6416460752754032129_n.jpg
END:VEVENT
BEGIN:VEVENT
DTSTART;TZID=America/New_York:20250629T103000
DTEND;TZID=America/New_York:20250629T113000
DTSTAMP:20260424T101610
CREATED:20250626T090021Z
LAST-MODIFIED:20250626T090021Z
UID:24301-1751193000-1751196600@salemforallages.org
SUMMARY:Ride the Rainbow: Unicorn Trolley Adventure
DESCRIPTION:A unicorn is hiding all around Salem\, just waiting to be found by those who truly believe. Ride the rainbow\, believe in yourself\, and trust your feelings—magic is all around you!\nOur event begins with a story time reading of “There’s No Such Thing As…Unicorns” by Lucy Rowland inside The Good Witch of Salem’s shop. This wonderful tale gets us ready for our magical journey. Children will help The Good Witch of Salem brew a special potion to find the hidden unicorn. Once the potion is ready\, we’ll hop on the Salem Trolley and go on an exciting ride through the town!
URL:https://salemforallages.org/event/ride-the-rainbow-unicorn-trolley-adventure-8/
ATTACH;FMTTYPE=image/jpeg:https://salemforallages.org/wp-content/uploads/2025/06/FINAL-Unicorn-Trolley.jpg
END:VEVENT
BEGIN:VEVENT
DTSTART;TZID=America/New_York:20250629T110000
DTEND;TZID=America/New_York:20250629T140000
DTSTAMP:20260424T101610
CREATED:20250626T090028Z
LAST-MODIFIED:20250626T090028Z
UID:24305-1751194800-1751205600@salemforallages.org
SUMMARY:Mimosas with Madam Pride Edition
DESCRIPTION:WE’RE GOING TO CLOSE OUT OUR TWO-YEAR ANNIVERSARY\, AND PRIDE MONTH\, WITH THE NORTH SHORE’S BIGGEST MIMOSAS PARTY! \nJoin us for MIMOSAS WITH MADAM on Sunday\, June 29th\, at the Maritime Ballroom in the Salem Waterfront Hotel for the BIGGEST MIMOSAS DRAG BRUNCH! \nHosted by NORTH SHORE DIVA\, MADAM ZAPPLE! \nStarring ICONIC figures in New England Drag: \nAMANDA PLAYWITH * DOTTIE AVE * PATTY BOURRÉE \nWith extra special guests\, from RuPaul’s Drag Race\, MHI-YA IMAN LEPAIGE AND DARIENNE LAKE! \nMusic by one of our day one’s\, STEF ANYA!\nThis show is going to be one for the BOOKS. Get your tickets today! \nA portion of proceeds to benefit THE TREVOR PROJECT.
URL:https://salemforallages.org/event/mimosas-with-madam-pride-edition/
ATTACH;FMTTYPE=image/jpeg:https://salemforallages.org/wp-content/uploads/2025/06/Mimosasa2.jpg
END:VEVENT
BEGIN:VEVENT
DTSTART;TZID=America/New_York:20250629T110000
DTEND;TZID=America/New_York:20250629T160000
DTSTAMP:20260424T101610
CREATED:20250626T090031Z
LAST-MODIFIED:20250626T090031Z
UID:24307-1751194800-1751212800@salemforallages.org
SUMMARY:Hands on History
DESCRIPTION:Hands-on History\nJune 14-August 31 on Saturdays and Sundays\, 11:00 A.M. – 4:00 P.M.\n(Specific dates: June 14\, 15\, 21\, 22\, 28\, and 29. July 5\, 6\, 12. 13\, 19\, 20\, 26\, and 27. August 2\, 3\, 9\, 10. 16\, 17\, 23\, 24\, 30\, and 31.) \nJoin us for Hands-on History at The Gables! This summer\, we invite young (and young at heart!) guests to explore different elements of our history and legacy through hands-on activities. This program will run June 14-August 31 on Saturdays and Sundays\, 11:00 A.M. – 4:00 P.M. Hands-on History is included with your purchase of a Mansion Tour Package or Grounds Pass. We hope
URL:https://salemforallages.org/event/hands-on-history-50/
ATTACH;FMTTYPE=image/jpeg:https://salemforallages.org/wp-content/uploads/2025/06/SQUARE-House-of-seven-Gables-Salem-Academy-Charter-Visit-March-2016_0224-scaled-6.jpg
END:VEVENT
BEGIN:VEVENT
DTSTART;TZID=America/New_York:20250629T110000
DTEND;TZID=America/New_York:20250629T170000
DTSTAMP:20260424T101610
CREATED:20250626T090024Z
LAST-MODIFIED:20250626T090024Z
UID:24303-1751194800-1751216400@salemforallages.org
SUMMARY:Personal Rainbow Aura Photos
DESCRIPTION:What would the world become if everyone saw themselves as an energetic being? Each Personal Rainbow appointment comes with an instant-film aura photo and personalized reading of the colors and patterns. Bring a buddy at no extra charge to see your vibe as a dynamic duo! Book ahead as walk-ins fill up quickly\, appointments available Thursday-Monday.
URL:https://salemforallages.org/event/personal-rainbow-aura-photos-26/
ATTACH;FMTTYPE=image/jpeg:https://salemforallages.org/wp-content/uploads/2025/06/aura-photos-hauswitch-salem-2-3.jpg
END:VEVENT
BEGIN:VEVENT
DTSTART;TZID=America/New_York:20250629T113000
DTEND;TZID=America/New_York:20250629T150000
DTSTAMP:20260424T101610
CREATED:20250626T090039Z
LAST-MODIFIED:20250626T090039Z
UID:24311-1751196600-1751209200@salemforallages.org
SUMMARY:Stop In For a Spell: DIY Potion Bar
DESCRIPTION:Fly in to The Good Witch and Stay for a Spell! Mix up your very own potion at our Potion Bar! \nDrop Ins begin at store opening and end 30 minutes before closing and are offered on a first come\, first serve basis. Purchase online or pay in store. \nDrop Ins may be unavailable during a birthday party or store event. Please call ahead\, or check our posted hours on Google. \nUnder age 4 may participate with the help of a supervising adult.
URL:https://salemforallages.org/event/stop-in-for-a-spell-diy-potion-bar-251/
ATTACH;FMTTYPE=image/jpeg:https://salemforallages.org/wp-content/uploads/2025/06/Potion-Bar-2-8.jpg
END:VEVENT
BEGIN:VEVENT
DTSTART;TZID=America/New_York:20250629T113000
DTEND;TZID=America/New_York:20250629T150000
DTSTAMP:20260424T101610
CREATED:20250626T090043Z
LAST-MODIFIED:20250626T090043Z
UID:24313-1751196600-1751209200@salemforallages.org
SUMMARY:Potion Brewing Store Experience
DESCRIPTION:Make your visit to The Good Witch of Salem’s shop memorable by booking our in-store Potion Brewing Experience. This activity is led by our Witch Apprentices. \nActivities are recommended for children ages 3 and up. \n*One appointment slot for each child is required.*
URL:https://salemforallages.org/event/potion-brewing-store-experience-372/
ATTACH;FMTTYPE=image/jpeg:https://salemforallages.org/wp-content/uploads/2025/06/Final-Potion-Master-1-8.jpg
END:VEVENT
BEGIN:VEVENT
DTSTART;TZID=America/New_York:20250629T113000
DTEND;TZID=America/New_York:20250629T153000
DTSTAMP:20260424T101610
CREATED:20250626T090034Z
LAST-MODIFIED:20250626T090034Z
UID:24309-1751196600-1751211000@salemforallages.org
SUMMARY:Magical Transformations
DESCRIPTION:Through our “Magical Transformations” children embrace their charms and express their individuality. Children can choose to transform into a “Witch” or “Wizard”!
URL:https://salemforallages.org/event/magical-transformations-379/
ATTACH;FMTTYPE=image/jpeg:https://salemforallages.org/wp-content/uploads/2025/06/Magicaltransformations-17.jpg
END:VEVENT
BEGIN:VEVENT
DTSTART;TZID=America/New_York:20250629T140000
DTEND;TZID=America/New_York:20250629T160000
DTSTAMP:20260424T101610
CREATED:20250626T090046Z
LAST-MODIFIED:20250626T090046Z
UID:24315-1751205600-1751212800@salemforallages.org
SUMMARY:Diamonds Dine in w/ DJ Maxine Harrison
DESCRIPTION:Salem’s free Sunday Drag Brunch\, going 4 years strong at Gulu-Gulu Cafe. Hosted by Miz Diamond Wigfall and DJ Maxine Harrison! Featuring new guest performances every week. Please come and celebrate Sungay with us and bring all the good energy!
URL:https://salemforallages.org/event/diamonds-dine-in-w-dj-maxine-harrison-3/
ATTACH;FMTTYPE=image/jpeg:https://salemforallages.org/wp-content/uploads/2025/06/IMG_9935.jpg
END:VEVENT
BEGIN:VEVENT
DTSTART;TZID=America/New_York:20250629T150000
DTEND;TZID=America/New_York:20250629T170000
DTSTAMP:20260424T101610
CREATED:20250626T090047Z
LAST-MODIFIED:20250626T090047Z
UID:24316-1751209200-1751216400@salemforallages.org
SUMMARY:Nature Immersion & Dreamscapes in Ropes Mansion Garden
DESCRIPTION:$5 members; $10 nonmembers \nSlow down\, unplug and awaken your senses on a guided nature immersion in the Ropes Mansion Garden. The program will begin with a facilitated journey through the senses\, inviting rest and wandering. Then\, explore the colors and shapes you observe in the garden through watercolor “dreamscapes.” All the prompts\, ways of sharing and participating are optional and open to interpretation. Art supplies will be provided. \nNote: We will be sitting on the ground for a portion of this program. Please feel free to bring a mat\, towel or pillow. We recommend bringing sunscreen and a closed container of water.
URL:https://salemforallages.org/event/nature-immersion-dreamscapes-in-ropes-mansion-garden/
ATTACH;FMTTYPE=image/jpeg:https://salemforallages.org/wp-content/uploads/2025/06/events_NatureImmersionDreamscapes_RopesGarden_1600_HERO.jpg
END:VEVENT
BEGIN:VEVENT
DTSTART;TZID=America/New_York:20250629T180000
DTEND;TZID=America/New_York:20250629T200000
DTSTAMP:20260424T101610
CREATED:20250627T090005Z
LAST-MODIFIED:20250627T090005Z
UID:24318-1751220000-1751227200@salemforallages.org
SUMMARY:Sea Witch Ball Workshops
DESCRIPTION:Whether you’re visiting Salem with your witch family or just love (witch)crafting\, join The Sea Wych Salem for a magical experience in Witch City. The Sea Wych Salem will present the history and lore behind the witch ball\, and then guide you as you create your own to protect your home\, welcome in joy\, banish negativity\, or simply create a pretty souvenir for display in your home. These witch balls are further charged with ocean elements to boost your magic. Spend some time with us and bring home your own unique and uniquely crafted souvenir.
URL:https://salemforallages.org/event/sea-witch-ball-workshops-3/
ATTACH;FMTTYPE=image/jpeg:https://salemforallages.org/wp-content/uploads/2025/06/Screenshot-2025-04-26-152037-2.jpg
END:VEVENT
BEGIN:VEVENT
DTSTART;TZID=America/New_York:20250630T090000
DTEND;TZID=America/New_York:20250630T120000
DTSTAMP:20260424T101610
CREATED:20250627T090008Z
LAST-MODIFIED:20250627T090008Z
UID:24320-1751274000-1751284800@salemforallages.org
SUMMARY:Kids’ Summer Program at NSGS (10 years old & up)!
DESCRIPTION:Join us for a week of artistic enrichment and engagement at North Shore Glass School! For kids age 10+\, students will be welcomed at our glass studio at 16 Proctor Street for a week of glassblowing\, flameworking\, fused glass\, stained glass and sandblasting. Projects will include but are not limited to glassblowing paperweights and cups\, fused glass bowls and suncatchers\, flameworking pendants and small figurines\, stained glass window pieces and boxes and sandblasted cups and vases.
URL:https://salemforallages.org/event/kids-summer-program-at-nsgs-10-years-old-up-15/
ATTACH;FMTTYPE=image/jpeg:https://salemforallages.org/wp-content/uploads/2025/06/IMG_5288-scaled-15.jpg
END:VEVENT
BEGIN:VEVENT
DTSTART;TZID=America/New_York:20250630T090000
DTEND;TZID=America/New_York:20250630T120000
DTSTAMP:20260424T101610
CREATED:20250627T090012Z
LAST-MODIFIED:20250627T090012Z
UID:24322-1751274000-1751284800@salemforallages.org
SUMMARY:Junior Kids’ Glass Summer Program at Artist Row!
DESCRIPTION:For kids ages 7 to 10\, we welcome you at our new Artist Row studio in downtown Salem! Join us for a week of glass art exploration. In this program\, students will learn about the fine art of glass and work on thoughtfully constructed and age-appropriate projects in fused glass\, stained glass\, sandblasting\, sea glass sculpting\, and glass painting.
URL:https://salemforallages.org/event/junior-kids-glass-summer-program-at-artist-row-11/
ATTACH;FMTTYPE=image/jpeg:https://salemforallages.org/wp-content/uploads/2025/06/IMG_3862-scaled-11.jpg
END:VEVENT
BEGIN:VEVENT
DTSTART;TZID=America/New_York:20250630T113000
DTEND;TZID=America/New_York:20250630T160000
DTSTAMP:20260424T101610
CREATED:20250627T090015Z
LAST-MODIFIED:20250627T090015Z
UID:24324-1751283000-1751299200@salemforallages.org
SUMMARY:Magical Transformations
DESCRIPTION:Through our “Magical Transformations” children embrace their charms and express their individuality. Children can choose to transform into a “Witch” or “Wizard”!
URL:https://salemforallages.org/event/magical-transformations-380/
ATTACH;FMTTYPE=image/jpeg:https://salemforallages.org/wp-content/uploads/2025/06/Magicaltransformations-18.jpg
END:VEVENT
BEGIN:VEVENT
DTSTART;TZID=America/New_York:20250630T113000
DTEND;TZID=America/New_York:20250630T160000
DTSTAMP:20260424T101610
CREATED:20250627T090019Z
LAST-MODIFIED:20250627T090019Z
UID:24326-1751283000-1751299200@salemforallages.org
SUMMARY:Potion Brewing Store Experience
DESCRIPTION:Make your visit to The Good Witch of Salem’s shop memorable by booking our in-store Potion Brewing Experience. This activity is led by our Witch Apprentices. \nActivities are recommended for children ages 3 and up. \n*One appointment slot for each child is required.*
URL:https://salemforallages.org/event/potion-brewing-store-experience-373/
ATTACH;FMTTYPE=image/jpeg:https://salemforallages.org/wp-content/uploads/2025/06/Final-Potion-Master-1-1-12.jpg
END:VEVENT
BEGIN:VEVENT
DTSTART;TZID=America/New_York:20250630T120000
DTEND;TZID=America/New_York:20250630T160000
DTSTAMP:20260424T101610
CREATED:20250627T090022Z
LAST-MODIFIED:20250627T090022Z
UID:24328-1751284800-1751299200@salemforallages.org
SUMMARY:Personal Rainbow Aura Photos
DESCRIPTION:What would the world become if everyone saw themselves as an energetic being? Each Personal Rainbow appointment comes with an instant-film aura photo and personalized reading of the colors and patterns. Bring a buddy at no extra charge to see your vibe as a dynamic duo! Book ahead as walk-ins fill up quickly\, appointments available Thursday-Monday.
URL:https://salemforallages.org/event/personal-rainbow-aura-photos-27/
ATTACH;FMTTYPE=image/jpeg:https://salemforallages.org/wp-content/uploads/2025/06/aura-photos-hauswitch-salem-3-3.jpg
END:VEVENT
BEGIN:VEVENT
DTSTART;TZID=America/New_York:20250630T190000
DTEND;TZID=America/New_York:20250630T210000
DTSTAMP:20260424T101610
CREATED:20250627T090025Z
LAST-MODIFIED:20250627T090025Z
UID:24330-1751310000-1751317200@salemforallages.org
SUMMARY:Bingo with Great Gaucho
DESCRIPTION:Join us at the Taproom every Monday night for FREE BINGO with Greta Gaucho at 7:00 pm. \nDot it if ya got it for four rounds to win a Far From The Tree gift card and a prize from the fabulous prize basket. \nThe Far From the Tree taproom has an open food policy. (Bring your own food)
URL:https://salemforallages.org/event/bingo-with-great-gaucho-18/
ATTACH;FMTTYPE=image/jpeg:https://salemforallages.org/wp-content/uploads/2025/06/Add-a-subheading-3.jpg
END:VEVENT
BEGIN:VEVENT
DTSTART;TZID=America/New_York:20250630T190000
DTEND;TZID=America/New_York:20250630T213000
DTSTAMP:20260424T101610
CREATED:20250627T090028Z
LAST-MODIFIED:20250627T090028Z
UID:24332-1751310000-1751319000@salemforallages.org
SUMMARY:Jazz Dinner w/ Jordan Gravel
DESCRIPTION:Jordan Gravel takes up residency at the Gulu-Gulu Cafe twice a month\, come & check out his unique style of Jazz featuring a Hammond Organ!
URL:https://salemforallages.org/event/jazz-dinner-w-jordan-gravel-2/
ATTACH;FMTTYPE=image/jpeg:https://salemforallages.org/wp-content/uploads/2022/06/image1.jpg
END:VEVENT
BEGIN:VEVENT
DTSTART;TZID=America/New_York:20250701T090000
DTEND;TZID=America/New_York:20250701T120000
DTSTAMP:20260424T101610
CREATED:20250627T090029Z
LAST-MODIFIED:20250627T090029Z
UID:24333-1751360400-1751371200@salemforallages.org
SUMMARY:Kids’ Summer Program at NSGS (10 years old & up)!
DESCRIPTION:Join us for a week of artistic enrichment and engagement at North Shore Glass School! For kids age 10+\, students will be welcomed at our glass studio at 16 Proctor Street for a week of glassblowing\, flameworking\, fused glass\, stained glass and sandblasting. Projects will include but are not limited to glassblowing paperweights and cups\, fused glass bowls and suncatchers\, flameworking pendants and small figurines\, stained glass window pieces and boxes and sandblasted cups and vases.
URL:https://salemforallages.org/event/kids-summer-program-at-nsgs-10-years-old-up-16/
ATTACH;FMTTYPE=image/jpeg:https://salemforallages.org/wp-content/uploads/2025/06/IMG_5288-scaled-16.jpg
END:VEVENT
BEGIN:VEVENT
DTSTART;TZID=America/New_York:20250701T090000
DTEND;TZID=America/New_York:20250701T120000
DTSTAMP:20260424T101610
CREATED:20250627T090033Z
LAST-MODIFIED:20250627T090033Z
UID:24335-1751360400-1751371200@salemforallages.org
SUMMARY:Junior Kids’ Glass Summer Program at Artist Row!
DESCRIPTION:For kids ages 7 to 10\, we welcome you at our new Artist Row studio in downtown Salem! Join us for a week of glass art exploration. In this program\, students will learn about the fine art of glass and work on thoughtfully constructed and age-appropriate projects in fused glass\, stained glass\, sandblasting\, sea glass sculpting\, and glass painting.
URL:https://salemforallages.org/event/junior-kids-glass-summer-program-at-artist-row-12/
ATTACH;FMTTYPE=image/jpeg:https://salemforallages.org/wp-content/uploads/2025/06/IMG_3862-scaled-12.jpg
END:VEVENT
BEGIN:VEVENT
DTSTART;TZID=America/New_York:20250701T113000
DTEND;TZID=America/New_York:20250701T140000
DTSTAMP:20260424T101610
CREATED:20250628T090013Z
LAST-MODIFIED:20250628T090013Z
UID:24343-1751369400-1751378400@salemforallages.org
SUMMARY:The Good Witch of Salem’s USA Magic Potion
DESCRIPTION:Fly into The Good Witch and Stay for a Spell! Step into the DIY Good Witch of Salem’s Potion Bar\, where you can mix your very own magical potion creations! Choose your ingredients\, sprinkle in magical moondust\, add in your golden heart intentions\, and seal with a special charm to take home the enchantment!
URL:https://salemforallages.org/event/the-good-witch-of-salems-usa-magic-potion/
ATTACH;FMTTYPE=image/jpeg:https://salemforallages.org/wp-content/uploads/2025/06/USA-Magic-scaled-1.jpg
END:VEVENT
BEGIN:VEVENT
DTSTART;TZID=America/New_York:20250701T113000
DTEND;TZID=America/New_York:20250701T150000
DTSTAMP:20260424T101610
CREATED:20250628T090006Z
LAST-MODIFIED:20250628T090006Z
UID:24339-1751369400-1751382000@salemforallages.org
SUMMARY:Stop In For a Spell: DIY Potion Bar
DESCRIPTION:Fly in to The Good Witch and Stay for a Spell! Mix up your very own potion at our Potion Bar! \nDrop Ins begin at store opening and end 30 minutes before closing and are offered on a first come\, first serve basis. Purchase online or pay in store. \nDrop Ins may be unavailable during a birthday party or store event. Please call ahead\, or check our posted hours on Google. \nUnder age 4 may participate with the help of a supervising adult.
URL:https://salemforallages.org/event/stop-in-for-a-spell-diy-potion-bar-252/
ATTACH;FMTTYPE=image/jpeg:https://salemforallages.org/wp-content/uploads/2025/06/Potion-Bar-2-9.jpg
END:VEVENT
END:VCALENDAR