BEGIN:VCALENDAR
VERSION:2.0
PRODID:-//Salem for All Ages - ECPv6.15.18//NONSGML v1.0//EN
CALSCALE:GREGORIAN
METHOD:PUBLISH
X-ORIGINAL-URL:https://salemforallages.org
X-WR-CALDESC:Events for Salem for All Ages
REFRESH-INTERVAL;VALUE=DURATION:PT1H
X-Robots-Tag:noindex
X-PUBLISHED-TTL:PT1H
BEGIN:VTIMEZONE
TZID:America/New_York
BEGIN:DAYLIGHT
TZOFFSETFROM:-0500
TZOFFSETTO:-0400
TZNAME:EDT
DTSTART:20240310T070000
END:DAYLIGHT
BEGIN:STANDARD
TZOFFSETFROM:-0400
TZOFFSETTO:-0500
TZNAME:EST
DTSTART:20241103T060000
END:STANDARD
BEGIN:DAYLIGHT
TZOFFSETFROM:-0500
TZOFFSETTO:-0400
TZNAME:EDT
DTSTART:20250309T070000
END:DAYLIGHT
BEGIN:STANDARD
TZOFFSETFROM:-0400
TZOFFSETTO:-0500
TZNAME:EST
DTSTART:20251102T060000
END:STANDARD
BEGIN:DAYLIGHT
TZOFFSETFROM:-0500
TZOFFSETTO:-0400
TZNAME:EDT
DTSTART:20260308T070000
END:DAYLIGHT
BEGIN:STANDARD
TZOFFSETFROM:-0400
TZOFFSETTO:-0500
TZNAME:EST
DTSTART:20261101T060000
END:STANDARD
END:VTIMEZONE
BEGIN:VEVENT
DTSTART;TZID=America/New_York:20250626T113000
DTEND;TZID=America/New_York:20250626T160000
DTSTAMP:20260424T081835
CREATED:20250622T090024Z
LAST-MODIFIED:20250622T090024Z
UID:24224-1750937400-1750953600@salemforallages.org
SUMMARY:Potion Brewing Store Experience
DESCRIPTION:Make your visit to The Good Witch of Salem’s shop memorable by booking our in-store Potion Brewing Experience. This activity is led by our Witch Apprentices. \nActivities are recommended for children ages 3 and up. \n*One appointment slot for each child is required.*
URL:https://salemforallages.org/event/potion-brewing-store-experience-369/
ATTACH;FMTTYPE=image/jpeg:https://salemforallages.org/wp-content/uploads/2025/06/Final-Potion-Master-1-1-9.jpg
END:VEVENT
BEGIN:VEVENT
DTSTART;TZID=America/New_York:20250626T120000
DTEND;TZID=America/New_York:20250626T133000
DTSTAMP:20260424T081835
CREATED:20250622T090028Z
LAST-MODIFIED:20250622T090028Z
UID:24226-1750939200-1750944600@salemforallages.org
SUMMARY:Craft Witch
DESCRIPTION:Craft Witch is a DIY crafting session with something for everyone! Choose from a wide array of options to create your very own one-of-a-kind craft. Whichever craft you decide to create\, you’ll be provided with all the materials\, tools\, and knowledge needed to let your creativity flourish. Unlike our broom making\, bookbinding\, and spelljar making workshops in which participants are being guided through the crafting process step-by step by an instructor\, the DIY nature of Craft Witch means that you can use the studio time however you wish. Check out the crafting options on our website!
URL:https://salemforallages.org/event/craft-witch-75/
ATTACH;FMTTYPE=image/jpeg:https://salemforallages.org/wp-content/uploads/2025/06/Image-from-iOS-scaled-12.jpg
END:VEVENT
BEGIN:VEVENT
DTSTART;TZID=America/New_York:20250626T140000
DTEND;TZID=America/New_York:20250626T160000
DTSTAMP:20260424T081835
CREATED:20250622T090032Z
LAST-MODIFIED:20250622T090032Z
UID:24228-1750946400-1750953600@salemforallages.org
SUMMARY:Salem Discovery Paddle Tours
DESCRIPTION:Embark on a serene paddleboard or kayak journey along the enchanting coastlines of Salem and Beverly Harbors\, where each stroke of your paddle unveils narratives ranging from historic naval battles to the infamous witch trials\, echoing the vibrant past of what was once the world’s busiest trading port.
URL:https://salemforallages.org/event/salem-discovery-paddle-tours-9/
ATTACH;FMTTYPE=image/jpeg:https://salemforallages.org/wp-content/uploads/2025/06/IMG_0793-1-scaled-3.jpeg
END:VEVENT
BEGIN:VEVENT
DTSTART;TZID=America/New_York:20250626T150000
DTEND;TZID=America/New_York:20250626T190000
DTSTAMP:20260424T081835
CREATED:20250622T090035Z
LAST-MODIFIED:20250622T090035Z
UID:24230-1750950000-1750964400@salemforallages.org
SUMMARY:Salem Farmer’s Market
DESCRIPTION:Thursdays\, June 12th through October 9th\nThe Salem Farmers’ Market is a tradition that dates back to 1634. The Salem Farmers Market features local farms every Thursday from 3 p.m. to 7\np.m.
URL:https://salemforallages.org/event/salem-farmers-market-119/
ATTACH;FMTTYPE=image/jpeg:https://salemforallages.org/wp-content/uploads/2020/08/farmers-market.jpg
END:VEVENT
BEGIN:VEVENT
DTSTART;TZID=America/New_York:20250626T180000
DTEND;TZID=America/New_York:20250626T210000
DTSTAMP:20260424T081835
CREATED:20250622T090037Z
LAST-MODIFIED:20250622T090037Z
UID:24231-1750960800-1750971600@salemforallages.org
SUMMARY:Ledger’s Fourth Annual Luau
DESCRIPTION:It’s time for our favorite party of the year! Come party with us tiki style! Enjoy live music from the Redemption Band while sipping tropical drinks and enjoying tiki inspired snacks from Chef Daniel Gursha. Your ticket includes welcome cocktail on arrival\, food\, raffle ticket to win swag and prizes and gratuity. This Luau is a PARTY and sells out quickly – purchase your tickets early!
URL:https://salemforallages.org/event/ledgers-fourth-annual-luau/
ATTACH;FMTTYPE=image/jpeg:https://salemforallages.org/wp-content/uploads/2025/06/1FINAL2025.jpg
END:VEVENT
BEGIN:VEVENT
DTSTART;TZID=America/New_York:20250626T190000
DTEND;TZID=America/New_York:20250626T203000
DTSTAMP:20260424T081835
CREATED:20250622T090040Z
LAST-MODIFIED:20250622T090040Z
UID:24233-1750964400-1750969800@salemforallages.org
SUMMARY:PEM Create Night: Dream Vision Boards
DESCRIPTION:Know before you go\nIn-person event\nLocation: Main Atrium and Building Dreams Exhibition Gallery \n$10 members\, $20 nonmembers \nJoin us for an evening of mindful creativity that celebrates the recent opening of Jung Yeondoo: Building Dreams! Go on a curator-led tour of the exhibition and then bring your dreams to life by exploring a visual manifestation practice.
URL:https://salemforallages.org/event/pem-create-night-dream-vision-boards/
ATTACH;FMTTYPE=image/jpeg:https://salemforallages.org/wp-content/uploads/2025/06/Ev_CreateNightBuildingDreams_1600_SplitHero.jpg
END:VEVENT
BEGIN:VEVENT
DTSTART;TZID=America/New_York:20250626T193000
DTEND;TZID=America/New_York:20250626T213000
DTSTAMP:20260424T081835
CREATED:20250622T090043Z
LAST-MODIFIED:20250622T090043Z
UID:24235-1750966200-1750973400@salemforallages.org
SUMMARY:Mahi Summer Music Series
DESCRIPTION:Nothing beats music on the ocean. Live music every thursday on the Hannah Glover. Dance with friends and strangers under the stars with the best local bands on the North Shore\, a boat drink in hand\, and munching on a backyard favorite. 21+ cruise.
URL:https://salemforallages.org/event/mahi-summer-music-series-4/
ATTACH;FMTTYPE=image/jpeg:https://salemforallages.org/wp-content/uploads/2025/06/MUSIC-SERIES-POST-CARD-scaled-2.jpeg
END:VEVENT
BEGIN:VEVENT
DTSTART;TZID=America/New_York:20250626T193000
DTEND;TZID=America/New_York:20250626T233000
DTSTAMP:20260424T081835
CREATED:20250622T090047Z
LAST-MODIFIED:20250622T090047Z
UID:24237-1750966200-1750980600@salemforallages.org
SUMMARY:Open Mic
DESCRIPTION:Come join us for our weekly free Open Mic shindig every Thursday. Sign ups start at 7:30pm and the event starts at 8pm. Hope to see you here!
URL:https://salemforallages.org/event/open-mic-3/
ATTACH;FMTTYPE=image/jpeg:https://salemforallages.org/wp-content/uploads/2025/06/OpenMic-Twitter.jpg
END:VEVENT
BEGIN:VEVENT
DTSTART;TZID=America/New_York:20250627T090000
DTEND;TZID=America/New_York:20250627T103000
DTSTAMP:20260424T081835
CREATED:20250623T090016Z
LAST-MODIFIED:20250623T090016Z
UID:24244-1751014800-1751020200@salemforallages.org
SUMMARY:Family Paddle
DESCRIPTION:Create lasting memories with a family adventure on the water! Our Salem Family Paddles are designed for families of all ages\, combining easy paddling\, fun games\, and light instruction in a safe\, supportive setting. Explore Salem’s scenic harbor together while learning new skills and spotting seabirds\, boats\, and coastal landmarks. With experienced guides leading the way\, it’s the perfect way for families to connect with the natural and historical beauty of Salem.
URL:https://salemforallages.org/event/family-paddle-5/
ATTACH;FMTTYPE=image/jpeg:https://salemforallages.org/wp-content/uploads/2025/05/CoasttoCoast2022-224.jpg
END:VEVENT
BEGIN:VEVENT
DTSTART;TZID=America/New_York:20250627T090000
DTEND;TZID=America/New_York:20250627T120000
DTSTAMP:20260424T081835
CREATED:20250623T090005Z
LAST-MODIFIED:20250623T090005Z
UID:24238-1751014800-1751025600@salemforallages.org
SUMMARY:Kids’ Summer Program at NSGS (10 years old & up)!
DESCRIPTION:Join us for a week of artistic enrichment and engagement at North Shore Glass School! For kids age 10+\, students will be welcomed at our glass studio at 16 Proctor Street for a week of glassblowing\, flameworking\, fused glass\, stained glass and sandblasting. Projects will include but are not limited to glassblowing paperweights and cups\, fused glass bowls and suncatchers\, flameworking pendants and small figurines\, stained glass window pieces and boxes and sandblasted cups and vases.
URL:https://salemforallages.org/event/kids-summer-program-at-nsgs-10-years-old-up-14/
ATTACH;FMTTYPE=image/jpeg:https://salemforallages.org/wp-content/uploads/2025/06/IMG_5288-scaled-14.jpg
END:VEVENT
BEGIN:VEVENT
DTSTART;TZID=America/New_York:20250627T090000
DTEND;TZID=America/New_York:20250627T120000
DTSTAMP:20260424T081835
CREATED:20250623T090009Z
LAST-MODIFIED:20250623T090009Z
UID:24240-1751014800-1751025600@salemforallages.org
SUMMARY:Junior Kids’ Glass Summer Program at Artist Row!
DESCRIPTION:North Shore Glass School is thrilled to announce our new kid’s glass art program at Artist Row this summer. This program is for kids aged 7-10 years old. In this week-long program\, kids will enjoy projects in stained glass\, fused glass\, sandblasting\, glass art painting and sea glass sculpting.
URL:https://salemforallages.org/event/junior-kids-glass-summer-program-at-artist-row-10/
ATTACH;FMTTYPE=image/jpeg:https://salemforallages.org/wp-content/uploads/2025/06/IMG_3862-scaled-10.jpg
END:VEVENT
BEGIN:VEVENT
DTSTART;TZID=America/New_York:20250627T090000
DTEND;TZID=America/New_York:20250627T120000
DTSTAMP:20260424T081835
CREATED:20250623T090012Z
LAST-MODIFIED:20250623T090012Z
UID:24242-1751014800-1751025600@salemforallages.org
SUMMARY:Kids’ Glass Summer Program at Artist Row!
DESCRIPTION:North Shore Glass School is thrilled to announce a summer program for kids aged 7-10 years old at Artist Row. Our kids summer program will run weekly June through August from 9-12pm. In this summer workshop\, kids will be introduced to the fine arts of fused glass\, stained glass\, sandblasting\, glass painting and sea glass sculpting.
URL:https://salemforallages.org/event/kids-glass-summer-program-at-artist-row-10/
ATTACH;FMTTYPE=image/jpeg:https://salemforallages.org/wp-content/uploads/2025/06/IMG_3862-1-scaled-10.jpg
END:VEVENT
BEGIN:VEVENT
DTSTART;TZID=America/New_York:20250627T110000
DTEND;TZID=America/New_York:20250627T170000
DTSTAMP:20260424T081835
CREATED:20250623T090017Z
LAST-MODIFIED:20250623T090017Z
UID:24245-1751022000-1751043600@salemforallages.org
SUMMARY:Personal Rainbow Aura Photos
DESCRIPTION:What would the world become if everyone saw themselves as an energetic being? Each Personal Rainbow appointment comes with an instant-film aura photo and personalized reading of the colors and patterns. Bring a buddy at no extra charge to see your vibe as a dynamic duo! Book ahead as walk-ins fill up quickly\, appointments available Thursday-Monday.
URL:https://salemforallages.org/event/personal-rainbow-aura-photos-24/
ATTACH;FMTTYPE=image/jpeg:https://salemforallages.org/wp-content/uploads/2025/06/aura-photos-hauswitch-salem-5.jpg
END:VEVENT
BEGIN:VEVENT
DTSTART;TZID=America/New_York:20250627T113000
DTEND;TZID=America/New_York:20250627T160000
DTSTAMP:20260424T081835
CREATED:20250623T090021Z
LAST-MODIFIED:20250623T090021Z
UID:24247-1751023800-1751040000@salemforallages.org
SUMMARY:Magical Transformations
DESCRIPTION:Through our “Magical Transformations” children embrace their charms and express their individuality. Children can choose to transform into a “Witch” or “Wizard”!
URL:https://salemforallages.org/event/magical-transformations-377/
ATTACH;FMTTYPE=image/jpeg:https://salemforallages.org/wp-content/uploads/2025/06/Magicaltransformations-15.jpg
END:VEVENT
BEGIN:VEVENT
DTSTART;TZID=America/New_York:20250627T113000
DTEND;TZID=America/New_York:20250627T160000
DTSTAMP:20260424T081835
CREATED:20250623T090025Z
LAST-MODIFIED:20250623T090025Z
UID:24249-1751023800-1751040000@salemforallages.org
SUMMARY:Potion Brewing Store Experience
DESCRIPTION:Make your visit to The Good Witch of Salem’s shop memorable by booking our in-store Potion Brewing Experience. This activity is led by our Witch Apprentices. \nActivities are recommended for children ages 3 and up. \n*One appointment slot for each child is required.*
URL:https://salemforallages.org/event/potion-brewing-store-experience-370/
ATTACH;FMTTYPE=image/jpeg:https://salemforallages.org/wp-content/uploads/2025/06/Final-Potion-Master-1-1-10.jpg
END:VEVENT
BEGIN:VEVENT
DTSTART;TZID=America/New_York:20250627T120000
DTEND;TZID=America/New_York:20250627T133000
DTSTAMP:20260424T081835
CREATED:20250623T090029Z
LAST-MODIFIED:20250623T090029Z
UID:24251-1751025600-1751031000@salemforallages.org
SUMMARY:Craft Witch
DESCRIPTION:Craft Witch is a DIY crafting session with something for everyone! Choose from a wide array of options to create your very own one-of-a-kind craft. Whichever craft you decide to create\, you’ll be provided with all the materials\, tools\, and knowledge needed to let your creativity flourish. Unlike our broom making\, bookbinding\, and spelljar making workshops in which participants are being guided through the crafting process step-by step by an instructor\, the DIY nature of Craft Witch means that you can use the studio time however you wish. Check out the crafting options on our website!
URL:https://salemforallages.org/event/craft-witch-76/
ATTACH;FMTTYPE=image/jpeg:https://salemforallages.org/wp-content/uploads/2025/06/Image-from-iOS-scaled-13.jpg
END:VEVENT
BEGIN:VEVENT
DTSTART;TZID=America/New_York:20250627T170000
DTEND;TZID=America/New_York:20250627T170000
DTSTAMP:20260424T081835
CREATED:20250623T090032Z
LAST-MODIFIED:20250623T090032Z
UID:24253-1751043600-1751043600@salemforallages.org
SUMMARY:Pride Turkey Wing Broommaking at The Witchery
DESCRIPTION:While this workshop may be easier if you’ve picked up some broom making skills from one of our besom broom making workshops\, no prior experience is necessary! Our knowledgeable instructors will guide you step by step through the process of making this form of handheld broom that has a unique and different look.
URL:https://salemforallages.org/event/pride-turkey-wing-broommaking-at-the-witchery/
ATTACH;FMTTYPE=image/jpeg:https://salemforallages.org/wp-content/uploads/2025/06/IMG_7086-scaled-1.jpeg
END:VEVENT
BEGIN:VEVENT
DTSTART;TZID=America/New_York:20250627T184500
DTEND;TZID=America/New_York:20250627T201500
DTSTAMP:20260424T081835
CREATED:20250623T090036Z
LAST-MODIFIED:20250623T090036Z
UID:24255-1751049900-1751055300@salemforallages.org
SUMMARY:Sunset Kayak & Paddleboard Tour
DESCRIPTION:Enjoy a relaxing paddle tour along the coastline of Salem Neck as the sun sets over the Harbor. Tour launches from Salem Willows and is open to all levels of paddlers\, including beginners. Kayaks and paddle boards available. Age 18+
URL:https://salemforallages.org/event/sunset-kayak-paddleboard-tour-3/
ATTACH;FMTTYPE=image/jpeg:https://salemforallages.org/wp-content/uploads/2025/06/IMG_3074-scaled-3.jpeg
END:VEVENT
BEGIN:VEVENT
DTSTART;TZID=America/New_York:20250627T190000
DTEND;TZID=America/New_York:20250627T210000
DTSTAMP:20260424T081835
CREATED:20250624T090012Z
LAST-MODIFIED:20250624T090012Z
UID:24263-1751050800-1751058000@salemforallages.org
SUMMARY:Paint & Sip with Line Vine at Ray Adea’s
DESCRIPTION:Paint & Sip with Line Vine at Ray Adea’s Mediterranean & Jamaican Cuisine\nThe perfect activity to take your significant other or friend\, create some art all while enjoying a drink & an appetizer. \n  \nTo reserve your spot\, Zelle us: 973-964-9063 \nCall or text with any questions
URL:https://salemforallages.org/event/paint-sip-with-line-vine-at-ray-adeas/
ATTACH;FMTTYPE=image/jpeg:https://salemforallages.org/wp-content/uploads/2025/06/dd294663-b131-4e59-8b3f-31859d8ad296-e1749670776974.jpg
END:VEVENT
BEGIN:VEVENT
DTSTART;TZID=America/New_York:20250627T190000
DTEND;TZID=America/New_York:20250627T213000
DTSTAMP:20260424T081835
CREATED:20250624T090015Z
LAST-MODIFIED:20250624T090015Z
UID:24265-1751050800-1751059800@salemforallages.org
SUMMARY:Sea Witch Ball Workshops
DESCRIPTION:Whether you’re visiting Salem with your witch family or just love (witch)crafting\, join The Sea Wych Salem for a magical experience in Witch City. The Sea Wych Salem will present the history and lore behind the witch ball\, and then guide you as you create your own to protect your home\, welcome in joy\, banish negativity\, or simply create a pretty souvenir for display in your home. These witch balls are further charged with ocean elements to boost your magic. Spend some time with us and bring home your own unique and uniquely crafted souvenir.
URL:https://salemforallages.org/event/sea-witch-ball-workshops-2/
ATTACH;FMTTYPE=image/jpeg:https://salemforallages.org/wp-content/uploads/2025/06/Screenshot-2025-04-26-152037-1.jpg
END:VEVENT
BEGIN:VEVENT
DTSTART;TZID=America/New_York:20250627T190000
DTEND;TZID=America/New_York:20250627T220000
DTSTAMP:20260424T081835
CREATED:20250623T090040Z
LAST-MODIFIED:20250623T090040Z
UID:24257-1751050800-1751061600@salemforallages.org
SUMMARY:North Shore Pride Mahi Mahi Boat Cruise
DESCRIPTION:Join North Shore Pride and the North Shore LGBT Social Network for a fun night on the water featuring DJ Jimmy Tilt and the very talented Candace Pursusian! \nBoarding begins at 6:30PM and boat sails promptly at 7:00PM
URL:https://salemforallages.org/event/north-shore-pride-mahi-mahi-boat-cruise/
ATTACH;FMTTYPE=image/jpeg:https://salemforallages.org/wp-content/uploads/2025/06/94393199_4282085318484401_5820623444286373888_o-scaled-1.jpg
END:VEVENT
BEGIN:VEVENT
DTSTART;TZID=America/New_York:20250627T200000
DTEND;TZID=America/New_York:20250627T233000
DTSTAMP:20260424T081835
CREATED:20250624T090022Z
LAST-MODIFIED:20250624T090022Z
UID:24269-1751054400-1751067000@salemforallages.org
SUMMARY:Fierce Fridays hosted by Miz Diamond Wigfall
DESCRIPTION:Ru Paul drag race viewing 8pm\nPerformers go on 9pm\nMusic by Maxine Harrison \nFree! 21+
URL:https://salemforallages.org/event/fierce-fridays-hosted-by-miz-diamond-wigfall-4/
ATTACH;FMTTYPE=image/jpeg:https://salemforallages.org/wp-content/uploads/2025/06/Fierce-Friday-june-schedule.jpg
END:VEVENT
BEGIN:VEVENT
DTSTART;TZID=America/New_York:20250627T200000
DTEND;TZID=America/New_York:20250627T235900
DTSTAMP:20260424T081835
CREATED:20250624T090019Z
LAST-MODIFIED:20250624T090019Z
UID:24267-1751054400-1751068740@salemforallages.org
SUMMARY:PEM Pride: Rainbow Rager
DESCRIPTION:Know before you go\nIn-person event\nLocation: Main Atrium\n$35; $20 Salem residents \nGuests must be ages 18 and up\, with valid ID\, in order to attend. \nThis program includes amplified music\, live music (singing)\, participants dancing and jumping on a hard floor and flashing or strobing lights. \nFestive neon attire is encouraged\, but wide-brimmed hats and masks that fully cover the face are not permitted in the museum. No glitter\, please. \nTipping performers is encouraged; please come prepared. \nJoin us as we celebrate our cherished LGBTQIA+ community this Pride Month in partnership with Miz Diam
URL:https://salemforallages.org/event/pem-pride-rainbow-rager/
ATTACH;FMTTYPE=image/jpeg:https://salemforallages.org/wp-content/uploads/2025/06/Events_RainbowRager_1600_SplitHero.jpg
END:VEVENT
BEGIN:VEVENT
DTSTART;TZID=America/New_York:20250628T090000
DTEND;TZID=America/New_York:20250628T110000
DTSTAMP:20260424T081835
CREATED:20250624T090023Z
LAST-MODIFIED:20250624T090023Z
UID:24270-1751101200-1751108400@salemforallages.org
SUMMARY:Salem Discovery Paddle Tours
DESCRIPTION:Embark on a serene paddleboard or kayak journey along the enchanting coastlines of Salem and Beverly Harbors\, where each stroke of your paddle unveils narratives ranging from historic naval battles to the infamous witch trials\, echoing the vibrant past of what was once the world’s busiest trading port. Age 16+
URL:https://salemforallages.org/event/salem-discovery-paddle-tours-10/
ATTACH;FMTTYPE=image/jpeg:https://salemforallages.org/wp-content/uploads/2025/06/IMG_0793-scaled-4.jpeg
END:VEVENT
BEGIN:VEVENT
DTSTART;TZID=America/New_York:20250628T100000
DTEND;TZID=America/New_York:20250628T110000
DTSTAMP:20260424T081835
CREATED:20250624T090027Z
LAST-MODIFIED:20250624T090027Z
UID:24272-1751104800-1751108400@salemforallages.org
SUMMARY:Adopt a Rainbow Bear
DESCRIPTION:Hosted By: Witch Apprentices \nChildren will stuff their own rainbow bear plush\, create accessories\, set intentions\, and learn about crystal magic! \nThis workshop is limited to 8 children\, pre-registration is required. \nAll ages are welcome! Children age three (3) and up may be dropped off with a signed Consent Form. Any child under the age of three must have an adult alongside participating. We thank you for encouraging your child to take part in magical play!
URL:https://salemforallages.org/event/adopt-a-rainbow-bear-3/
ATTACH;FMTTYPE=image/jpeg:https://salemforallages.org/wp-content/uploads/2025/06/FINAL-Rainbow-Bear-2-2.jpg
END:VEVENT
BEGIN:VEVENT
DTSTART;TZID=America/New_York:20250628T110000
DTEND;TZID=America/New_York:20250628T160000
DTSTAMP:20260424T081835
CREATED:20250625T090006Z
LAST-MODIFIED:20250625T090006Z
UID:24274-1751108400-1751126400@salemforallages.org
SUMMARY:North Shore Pride Parade & Festival
DESCRIPTION:A day to celebrate Pride with local businesses\, faith groups\, and community organizations at the fifth annual North Shore Pride Parade and Festival. All are welcome to attend any activity during the day-long event celebrating unity in the community which includes the North Shore Pride Parade and Festival\, North Shore Pride Afterparty\, North Shore Pride Drag Brunch\, and North Shore Pride Interfaith service. \nParade Schedule:\nStarts at NOON at Shetland Park\, 27 Congress Street\, Salem\, MA 01970\nEnds at Salem Common\, N. Washington Square\, Salem\, MA 01970
URL:https://salemforallages.org/event/north-shore-pride-parade-festival-4/
ATTACH;FMTTYPE=image/jpeg:https://salemforallages.org/wp-content/uploads/2025/06/STD-2025-NSP.jpg
END:VEVENT
BEGIN:VEVENT
DTSTART;TZID=America/New_York:20250628T110000
DTEND;TZID=America/New_York:20250628T160000
DTSTAMP:20260424T081835
CREATED:20250625T090012Z
LAST-MODIFIED:20250625T090012Z
UID:24278-1751108400-1751126400@salemforallages.org
SUMMARY:Hands on History
DESCRIPTION:Hands-on History\nJune 14-August 31 on Saturdays and Sundays\, 11:00 A.M. – 4:00 P.M.\n(Specific dates: June 14\, 15\, 21\, 22\, 28\, and 29. July 5\, 6\, 12. 13\, 19\, 20\, 26\, and 27. August 2\, 3\, 9\, 10. 16\, 17\, 23\, 24\, 30\, and 31.) \nJoin us for Hands-on History at The Gables! This summer\, we invite young (and young at heart!) guests to explore different elements of our history and legacy through hands-on activities. This program will run June 14-August 31 on Saturdays and Sundays\, 11:00 A.M. – 4:00 P.M. Hands-on History is included with your purchase of a Mansion Tour Package or Grounds Pass. We hope
URL:https://salemforallages.org/event/hands-on-history-49/
ATTACH;FMTTYPE=image/jpeg:https://salemforallages.org/wp-content/uploads/2025/06/SQUARE-House-of-seven-Gables-Salem-Academy-Charter-Visit-March-2016_0224-scaled-5.jpg
END:VEVENT
BEGIN:VEVENT
DTSTART;TZID=America/New_York:20250628T110000
DTEND;TZID=America/New_York:20250628T170000
DTSTAMP:20260424T081835
CREATED:20250625T090009Z
LAST-MODIFIED:20250625T090009Z
UID:24276-1751108400-1751130000@salemforallages.org
SUMMARY:Personal Rainbow Aura Photos
DESCRIPTION:What would the world become if everyone saw themselves as an energetic being? Each Personal Rainbow appointment comes with an instant-film aura photo and personalized reading of the colors and patterns. Bring a buddy at no extra charge to see your vibe as a dynamic duo! Book ahead as walk-ins fill up quickly\, appointments available Thursday-Monday.
URL:https://salemforallages.org/event/personal-rainbow-aura-photos-25/
ATTACH;FMTTYPE=image/jpeg:https://salemforallages.org/wp-content/uploads/2025/06/aura-photos-hauswitch-salem-1-3.jpg
END:VEVENT
BEGIN:VEVENT
DTSTART;TZID=America/New_York:20250628T113000
DTEND;TZID=America/New_York:20250628T140000
DTSTAMP:20260424T081835
CREATED:20250625T090024Z
LAST-MODIFIED:20250625T090024Z
UID:24284-1751110200-1751119200@salemforallages.org
SUMMARY:The Good Witch of Salem’s Sunny Days Potion
DESCRIPTION:Fly into The Good Witch and Stay for a Spell! Step into the DIY Good Witch of Salem’s Potion Bar\, where you can mix your very own magical potion creations! Choose your ingredients\, sprinkle in magical moondust\, add in your golden heart intentions\, and seal with a special charm to take home the enchantment!
URL:https://salemforallages.org/event/the-good-witch-of-salems-sunny-days-potion-6/
ATTACH;FMTTYPE=image/jpeg:https://salemforallages.org/wp-content/uploads/2025/06/Sunny-Day-scaled-4.jpg
END:VEVENT
BEGIN:VEVENT
DTSTART;TZID=America/New_York:20250628T113000
DTEND;TZID=America/New_York:20250628T140000
DTSTAMP:20260424T081835
CREATED:20250625T090028Z
LAST-MODIFIED:20250625T090028Z
UID:24286-1751110200-1751119200@salemforallages.org
SUMMARY:Rainbow Broom Decorating
DESCRIPTION:Fly into The Good Witch and Stay for a Spell! Unleash your creativity at the Good Witch of Salem’s Broom Decorating Station\, where you can transform a broom into a magical masterpiece! Use enchanting tape\, colorful ribbons\, sparkling stickers\, and shimmering gems to create a broom that’s uniquely yours.
URL:https://salemforallages.org/event/rainbow-broom-decorating-9/
ATTACH;FMTTYPE=image/png:https://salemforallages.org/wp-content/uploads/2025/05/Rainbow-Broom-Decorating-1.png
END:VEVENT
END:VCALENDAR