BEGIN:VCALENDAR
VERSION:2.0
PRODID:-//Salem for All Ages - ECPv6.15.18//NONSGML v1.0//EN
CALSCALE:GREGORIAN
METHOD:PUBLISH
X-WR-CALNAME:Salem for All Ages
X-ORIGINAL-URL:https://salemforallages.org
X-WR-CALDESC:Events for Salem for All Ages
REFRESH-INTERVAL;VALUE=DURATION:PT1H
X-Robots-Tag:noindex
X-PUBLISHED-TTL:PT1H
BEGIN:VTIMEZONE
TZID:America/New_York
BEGIN:DAYLIGHT
TZOFFSETFROM:-0500
TZOFFSETTO:-0400
TZNAME:EDT
DTSTART:20240310T070000
END:DAYLIGHT
BEGIN:STANDARD
TZOFFSETFROM:-0400
TZOFFSETTO:-0500
TZNAME:EST
DTSTART:20241103T060000
END:STANDARD
BEGIN:DAYLIGHT
TZOFFSETFROM:-0500
TZOFFSETTO:-0400
TZNAME:EDT
DTSTART:20250309T070000
END:DAYLIGHT
BEGIN:STANDARD
TZOFFSETFROM:-0400
TZOFFSETTO:-0500
TZNAME:EST
DTSTART:20251102T060000
END:STANDARD
BEGIN:DAYLIGHT
TZOFFSETFROM:-0500
TZOFFSETTO:-0400
TZNAME:EDT
DTSTART:20260308T070000
END:DAYLIGHT
BEGIN:STANDARD
TZOFFSETFROM:-0400
TZOFFSETTO:-0500
TZNAME:EST
DTSTART:20261101T060000
END:STANDARD
END:VTIMEZONE
BEGIN:VEVENT
DTSTART;TZID=America/New_York:20250417T210000
DTEND;TZID=America/New_York:20250417T223000
DTSTAMP:20260422T225820
CREATED:20250414T090055Z
LAST-MODIFIED:20250414T090055Z
UID:23197-1744923600-1744929000@salemforallages.org
SUMMARY:Comedy and Magic of Eric Eaton
DESCRIPTION:Straight from the Hit TV Show MASTERS OF ILLUSION and MERLIN AWARD WINNER (Oscars of magic) for Outstanding Magic and Comedy\, Eric is bringing his quick wit COMEDY and mind blowing MAGIC for an Adults-Only Comedy Magic Show. Eric has performed all over the United States and can be seen on the hit TV Show Masters of Illusion. Eric has won a Merlin Award (Oscar’s of Magic) for Outstanding Comedy and Magic. Eric has had the opportunity to amaze celebrities such as; George Lopez\, Lou Ferrigno\, Russell Peters\, Desiigner\, and many more in which you can find on his social media platforms.
URL:https://salemforallages.org/event/comedy-and-magic-of-eric-eaton-2/
ATTACH;FMTTYPE=image/jpeg:https://salemforallages.org/wp-content/uploads/2025/04/Eric-Eaton-scaled-2.jpeg
END:VEVENT
BEGIN:VEVENT
DTSTART;TZID=America/New_York:20250417T183000
DTEND;TZID=America/New_York:20250417T213000
DTSTAMP:20260422T225820
CREATED:20250414T090049Z
LAST-MODIFIED:20250414T090049Z
UID:23193-1744914600-1744925400@salemforallages.org
SUMMARY:2nd Annual Adult Spelling Bee Benefitting Cinema Salem
DESCRIPTION:🐝 Get your spell on during our Second Annual Adult Spelling Bee\, hosted by Wicked Good Books as a fundraiser for Cinema Salem. \nParticipants will test their spelling mettle and demonstrate their orthographic skills. \n🏆 First Prize: A $50 gift card to Wicked Good Books and a $50 gift card to Cinema Salem and a trophy.\n🏆 Second Prize: A $25 gift card to Wicked Good Books and a $25 gift card to Cinema Salem and a trophy. \nContestant Tickets $25- https://www.eventbrite.com/e/adult-spelling-bee-contestant-registration-tickets-1267227584819 \nAudience Tickets $10-https://ticketing.useast.veezi.com
URL:https://salemforallages.org/event/2nd-annual-adult-spelling-bee-benefitting-cinema-salem/
ATTACH;FMTTYPE=image/jpeg:https://salemforallages.org/wp-content/uploads/2025/04/Adult_Spelling_Bee_Poster.jpg
END:VEVENT
BEGIN:VEVENT
DTSTART;TZID=America/New_York:20250417T183000
DTEND;TZID=America/New_York:20250417T200000
DTSTAMP:20260422T225820
CREATED:20250414T090051Z
LAST-MODIFIED:20250414T090051Z
UID:23195-1744914600-1744920000@salemforallages.org
SUMMARY:Comedy and Magic of Eric Eaton
DESCRIPTION:Straight from the Hit TV Show MASTERS OF ILLUSION and MERLIN AWARD WINNER (Oscars of magic) for Outstanding Magic and Comedy\, Eric is bringing his quick wit COMEDY and mind blowing MAGIC for an Adults-Only Comedy Magic Show. Eric has performed all over the United States and can be seen on the hit TV Show Masters of Illusion. Eric has won a Merlin Award (Oscar’s of Magic) for Outstanding Comedy and Magic. Eric has had the opportunity to amaze celebrities such as; George Lopez\, Lou Ferrigno\, Russell Peters\, Desiigner\, and many more in which you can find on his social media platforms.
URL:https://salemforallages.org/event/comedy-and-magic-of-eric-eaton/
ATTACH;FMTTYPE=image/jpeg:https://salemforallages.org/wp-content/uploads/2025/04/Eric-Eaton-scaled-1.jpeg
END:VEVENT
BEGIN:VEVENT
DTSTART;TZID=America/New_York:20250417T120000
DTEND;TZID=America/New_York:20250417T150000
DTSTAMP:20260422T225820
CREATED:20250414T090046Z
LAST-MODIFIED:20250414T090046Z
UID:23191-1744891200-1744902000@salemforallages.org
SUMMARY:Trash Transformed: Art and Sustainability
DESCRIPTION:The “Trash to Art” initiative\, a Collaborative Online International Learning (COIL) project between Salem State University in the United States and Tecnológico de Monterrey in Mexico\, exemplifies the transformative power of global shared learning. Guided by Professors Tereza Swanda and Francisco González Romo de Vivar\, this project engages students from diverse cultural backgrounds in repurposing discarded materials into meaningful artworks\, promoting a profound understanding of environmental sustainability and cross-cultural collaboration.
URL:https://salemforallages.org/event/trash-transformed-art-and-sustainability-14/
ATTACH;FMTTYPE=image/jpeg:https://salemforallages.org/wp-content/uploads/2025/04/TRASH-to-ART-Jacob-and-Gala-poster-postcard-scaled-9.jpeg
END:VEVENT
BEGIN:VEVENT
DTSTART;TZID=America/New_York:20250417T120000
DTEND;TZID=America/New_York:20250417T133000
DTSTAMP:20260422T225820
CREATED:20250414T090042Z
LAST-MODIFIED:20250414T090042Z
UID:23189-1744891200-1744896600@salemforallages.org
SUMMARY:Craft Witch
DESCRIPTION:Craft Witch is a DIY crafting session with something for everyone! Choose from a wide array of options to create your very own one-of-a-kind craft. Whichever craft you decide to create\, you’ll be provided with all the materials\, tools\, and knowledge needed to let your creativity flourish. Unlike our broom making\, bookbinding\, and spelljar making workshops in which participants are being guided through the crafting process step-by step by an instructor\, the DIY nature of Craft Witch means that you can use the studio time however you wish. Check out the crafting options on our website!
URL:https://salemforallages.org/event/craft-witch-34/
ATTACH;FMTTYPE=image/jpeg:https://salemforallages.org/wp-content/uploads/2025/04/Image-from-iOS-scaled-6.jpg
END:VEVENT
BEGIN:VEVENT
DTSTART;TZID=America/New_York:20250417T113000
DTEND;TZID=America/New_York:20250417T160000
DTSTAMP:20260422T225820
CREATED:20250414T090037Z
LAST-MODIFIED:20250414T090037Z
UID:23187-1744889400-1744905600@salemforallages.org
SUMMARY:Potion Brewing Store Experience
DESCRIPTION:Make your visit to The Good Witch of Salem’s shop memorable by booking our in-store Potion Brewing Experience. This activity is led by our Witch Apprentices. \nActivities are recommended for children ages 3 and up. \n*One appointment slot for each child is required.*
URL:https://salemforallages.org/event/potion-brewing-store-experience-296/
ATTACH;FMTTYPE=image/jpeg:https://salemforallages.org/wp-content/uploads/2025/04/Potion-Brewing-Store-Experience-10.jpg
END:VEVENT
BEGIN:VEVENT
DTSTART;TZID=America/New_York:20250417T113000
DTEND;TZID=America/New_York:20250417T160000
DTSTAMP:20260422T225820
CREATED:20250414T090036Z
LAST-MODIFIED:20250414T090036Z
UID:23186-1744889400-1744905600@salemforallages.org
SUMMARY:Magical Transformations
DESCRIPTION:Through our “Magical Transformations” children embrace their charms and express their individuality. Children can choose to transform into a “Witch” or “Wizard”!
URL:https://salemforallages.org/event/magical-transformations-304/
ATTACH;FMTTYPE=image/png:https://salemforallages.org/wp-content/uploads/2024/08/Transformations.png
END:VEVENT
BEGIN:VEVENT
DTSTART;TZID=America/New_York:20250417T100000
DTEND;TZID=America/New_York:20250417T160000
DTSTAMP:20260422T225820
CREATED:20250414T090036Z
LAST-MODIFIED:20250414T090036Z
UID:23185-1744884000-1744905600@salemforallages.org
SUMMARY:Leslie’s Retreat: Salem on the Brink of Revolution Exhibit
DESCRIPTION:This National Park Service exhibit will explore why Crown soldiers under Lt. Col. Alexander Leslie came to Salem on February 26\, 1775\, who were the major players in the event\, and how this event has been remembered and celebrated in Salem in the last 250 years. \nThis free exhibit will be on display from February 15th -April 27th at the Salem Armory Visitor Center\, 2 New Liberty Street\, Salem. \nThe Salem Armory Visitor Center is open Wednesday – Sunday\, 10 am – 4 pm.
URL:https://salemforallages.org/event/leslies-retreat-salem-on-the-brink-of-revolution-exhibit-44/
ATTACH;FMTTYPE=image/jpeg:https://salemforallages.org/wp-content/uploads/2025/02/1775_1782_Salem-Old-North-Bridge-Leslie-Retreat-800x600-1.jpg
END:VEVENT
BEGIN:VEVENT
DTSTART;TZID=America/New_York:20250416T190000
DTEND;TZID=America/New_York:20250416T200000
DTSTAMP:20260422T225820
CREATED:20250414T090033Z
LAST-MODIFIED:20250414T090033Z
UID:23183-1744830000-1744833600@salemforallages.org
SUMMARY:Salem’s Pre-Revolutionary Revolution
DESCRIPTION:A decade before 1776\, social and political changes in Salem paved the way for its Revolutionary and post-Revolutionary roles. Dr. Donna Seger\, professor of history at Salem State University and co-author of the forthcoming Salem’s Centuries. New Perspectives on the History of an Old American City\, leads us through some of the major clashes and contests. \nJoin Dr. Donna Seger and Historic New England’s Abigail Stewart\, for thrilling tales from Revolutionary Salem! \nAdvance tickets required. Please call 617-994-6678 for more information. The link will be included in the order confirmation.
URL:https://salemforallages.org/event/salems-pre-revolutionary-revolution/
ATTACH;FMTTYPE=image/jpeg:https://salemforallages.org/wp-content/uploads/2025/04/A-Political-Lesson-Library-of-Congress-002.jpg
END:VEVENT
BEGIN:VEVENT
DTSTART;TZID=America/New_York:20250416T120000
DTEND;TZID=America/New_York:20250416T150000
DTSTAMP:20260422T225820
CREATED:20250414T090029Z
LAST-MODIFIED:20250414T090029Z
UID:23181-1744804800-1744815600@salemforallages.org
SUMMARY:Trash Transformed: Art and Sustainability
DESCRIPTION:The “Trash to Art” initiative\, a Collaborative Online International Learning (COIL) project between Salem State University in the United States and Tecnológico de Monterrey in Mexico\, exemplifies the transformative power of global shared learning. Guided by Professors Tereza Swanda and Francisco González Romo de Vivar\, this project engages students from diverse cultural backgrounds in repurposing discarded materials into meaningful artworks\, promoting a profound understanding of environmental sustainability and cross-cultural collaboration.
URL:https://salemforallages.org/event/trash-transformed-art-and-sustainability-13/
ATTACH;FMTTYPE=image/jpeg:https://salemforallages.org/wp-content/uploads/2025/04/TRASH-to-ART-Jacob-and-Gala-poster-postcard-scaled-8.jpeg
END:VEVENT
BEGIN:VEVENT
DTSTART;TZID=America/New_York:20250416T120000
DTEND;TZID=America/New_York:20250416T133000
DTSTAMP:20260422T225820
CREATED:20250414T090025Z
LAST-MODIFIED:20250414T090025Z
UID:23179-1744804800-1744810200@salemforallages.org
SUMMARY:Craft Witch
DESCRIPTION:Craft Witch is a DIY crafting session with something for everyone! Choose from a wide array of options to create your very own one-of-a-kind craft. Whichever craft you decide to create\, you’ll be provided with all the materials\, tools\, and knowledge needed to let your creativity flourish. Unlike our broom making\, bookbinding\, and spelljar making workshops in which participants are being guided through the crafting process step-by step by an instructor\, the DIY nature of Craft Witch means that you can use the studio time however you wish. Check out the crafting options on our website!
URL:https://salemforallages.org/event/craft-witch-33/
ATTACH;FMTTYPE=image/jpeg:https://salemforallages.org/wp-content/uploads/2025/04/Image-from-iOS-scaled-5.jpg
END:VEVENT
BEGIN:VEVENT
DTSTART;TZID=America/New_York:20250416T113000
DTEND;TZID=America/New_York:20250416T153000
DTSTAMP:20260422T225820
CREATED:20250414T090017Z
LAST-MODIFIED:20250414T090017Z
UID:23174-1744803000-1744817400@salemforallages.org
SUMMARY:Magical Transformations
DESCRIPTION:Through our “Magical Transformations” children embrace their charms and express their individuality. Children can choose to transform into a “Witch” or “Wizard”!
URL:https://salemforallages.org/event/magical-transformations-303/
ATTACH;FMTTYPE=image/png:https://salemforallages.org/wp-content/uploads/2024/08/Transformations-1.png
END:VEVENT
BEGIN:VEVENT
DTSTART;TZID=America/New_York:20250416T113000
DTEND;TZID=America/New_York:20250416T150000
DTSTAMP:20260422T225820
CREATED:20250414T090021Z
LAST-MODIFIED:20250414T090021Z
UID:23177-1744803000-1744815600@salemforallages.org
SUMMARY:Potion Brewing Store Experience
DESCRIPTION:Make your visit to The Good Witch of Salem’s shop memorable by booking our in-store Potion Brewing Experience. This activity is led by our Witch Apprentices. \nActivities are recommended for children ages 3 and up. \n*One appointment slot for each child is required.*
URL:https://salemforallages.org/event/potion-brewing-store-experience-295/
ATTACH;FMTTYPE=image/jpeg:https://salemforallages.org/wp-content/uploads/2025/04/Potion-Brewing-Store-Experience-9.jpg
END:VEVENT
BEGIN:VEVENT
DTSTART;TZID=America/New_York:20250416T113000
DTEND;TZID=America/New_York:20250416T150000
DTSTAMP:20260422T225820
CREATED:20250414T090017Z
LAST-MODIFIED:20250414T090017Z
UID:23175-1744803000-1744815600@salemforallages.org
SUMMARY:Stop In For a Spell: DIY Potion Bar
DESCRIPTION:Fly in to The Good Witch and Stay for a Spell! Mix up your very own potion at our Potion Bar! \nDrop Ins begin at store opening and end 30 minutes before closing and are offered on a first come\, first serve basis. Purchase online or pay in store. \nDrop Ins may be unavailable during a birthday party or store event. Please call ahead\, or check our posted hours on Google. \nUnder age 4 may participate with the help of a supervising adult.
URL:https://salemforallages.org/event/stop-in-for-a-spell-diy-potion-bar-219/
ATTACH;FMTTYPE=image/jpeg:https://salemforallages.org/wp-content/uploads/2025/04/Stop-In-For-a-Spell-SQUARE-4.jpg
END:VEVENT
BEGIN:VEVENT
DTSTART;TZID=America/New_York:20250416T100000
DTEND;TZID=America/New_York:20250416T160000
DTSTAMP:20260422T225820
CREATED:20250414T090016Z
LAST-MODIFIED:20250414T090016Z
UID:23173-1744797600-1744819200@salemforallages.org
SUMMARY:Leslie’s Retreat: Salem on the Brink of Revolution Exhibit
DESCRIPTION:This National Park Service exhibit will explore why Crown soldiers under Lt. Col. Alexander Leslie came to Salem on February 26\, 1775\, who were the major players in the event\, and how this event has been remembered and celebrated in Salem in the last 250 years. \nThis free exhibit will be on display from February 15th -April 27th at the Salem Armory Visitor Center\, 2 New Liberty Street\, Salem. \nThe Salem Armory Visitor Center is open Wednesday – Sunday\, 10 am – 4 pm.
URL:https://salemforallages.org/event/leslies-retreat-salem-on-the-brink-of-revolution-exhibit-43/
ATTACH;FMTTYPE=image/jpeg:https://salemforallages.org/wp-content/uploads/2025/02/1775_1782_Salem-Old-North-Bridge-Leslie-Retreat-800x600-1.jpg
END:VEVENT
BEGIN:VEVENT
DTSTART;TZID=America/New_York:20250415T193000
DTEND;TZID=America/New_York:20250415T210000
DTSTAMP:20260422T225820
CREATED:20250414T090015Z
LAST-MODIFIED:20250414T090015Z
UID:23172-1744745400-1744750800@salemforallages.org
SUMMARY:Trivia Time
DESCRIPTION:General knowledge trivia every Tuesday at 7:30. Free to play. Win a Flying Saucer gift card!
URL:https://salemforallages.org/event/trivia-time-11/
ATTACH;FMTTYPE=image/jpeg:https://salemforallages.org/wp-content/uploads/2025/01/trivia-aframe-Medium.jpeg
END:VEVENT
BEGIN:VEVENT
DTSTART;TZID=America/New_York:20250415T120000
DTEND;TZID=America/New_York:20250415T150000
DTSTAMP:20260422T225820
CREATED:20250414T090012Z
LAST-MODIFIED:20250414T090012Z
UID:23170-1744718400-1744729200@salemforallages.org
SUMMARY:Trash Transformed: Art and Sustainability
DESCRIPTION:The “Trash to Art” initiative\, a Collaborative Online International Learning (COIL) project between Salem State University in the United States and Tecnológico de Monterrey in Mexico\, exemplifies the transformative power of global shared learning. Guided by Professors Tereza Swanda and Francisco González Romo de Vivar\, this project engages students from diverse cultural backgrounds in repurposing discarded materials into meaningful artworks\, promoting a profound understanding of environmental sustainability and cross-cultural collaboration.
URL:https://salemforallages.org/event/trash-transformed-art-and-sustainability-12/
ATTACH;FMTTYPE=image/jpeg:https://salemforallages.org/wp-content/uploads/2025/04/TRASH-to-ART-Jacob-and-Gala-poster-postcard-scaled-7.jpeg
END:VEVENT
BEGIN:VEVENT
DTSTART;TZID=America/New_York:20250415T113000
DTEND;TZID=America/New_York:20250415T153000
DTSTAMP:20260422T225820
CREATED:20250411T090030Z
LAST-MODIFIED:20250411T090030Z
UID:23165-1744716600-1744731000@salemforallages.org
SUMMARY:Magical Transformations
DESCRIPTION:Through our “Magical Transformations” children embrace their charms and express their individuality. Children can choose to transform into a “Witch” or “Wizard”!
URL:https://salemforallages.org/event/magical-transformations-302/
ATTACH;FMTTYPE=image/png:https://salemforallages.org/wp-content/uploads/2024/08/Transformations-1.png
END:VEVENT
BEGIN:VEVENT
DTSTART;TZID=America/New_York:20250415T113000
DTEND;TZID=America/New_York:20250415T150000
DTSTAMP:20260422T225820
CREATED:20250414T090008Z
LAST-MODIFIED:20250414T090008Z
UID:23168-1744716600-1744729200@salemforallages.org
SUMMARY:Potion Brewing Store Experience
DESCRIPTION:Make your visit to The Good Witch of Salem’s shop memorable by booking our in-store Potion Brewing Experience. This activity is led by our Witch Apprentices. \nActivities are recommended for children ages 3 and up. \n*One appointment slot for each child is required.*
URL:https://salemforallages.org/event/potion-brewing-store-experience-294/
ATTACH;FMTTYPE=image/jpeg:https://salemforallages.org/wp-content/uploads/2025/04/Potion-Brewing-Store-Experience-8.jpg
END:VEVENT
BEGIN:VEVENT
DTSTART;TZID=America/New_York:20250415T113000
DTEND;TZID=America/New_York:20250415T150000
DTSTAMP:20260422T225820
CREATED:20250411T090030Z
LAST-MODIFIED:20250411T090030Z
UID:23166-1744716600-1744729200@salemforallages.org
SUMMARY:Stop In For a Spell: DIY Potion Bar
DESCRIPTION:Fly in to The Good Witch and Stay for a Spell! Mix up your very own potion at our Potion Bar! \nDrop Ins begin at store opening and end 30 minutes before closing and are offered on a first come\, first serve basis. Purchase online or pay in store. \nDrop Ins may be unavailable during a birthday party or store event. Please call ahead\, or check our posted hours on Google. \nUnder age 4 may participate with the help of a supervising adult.
URL:https://salemforallages.org/event/stop-in-for-a-spell-diy-potion-bar-218/
ATTACH;FMTTYPE=image/jpeg:https://salemforallages.org/wp-content/uploads/2025/04/Stop-In-For-a-Spell-SQUARE-3.jpg
END:VEVENT
BEGIN:VEVENT
DTSTART;TZID=America/New_York:20250414T190000
DTEND;TZID=America/New_York:20250414T210000
DTSTAMP:20260422T225820
CREATED:20250411T090026Z
LAST-MODIFIED:20250411T090026Z
UID:23163-1744657200-1744664400@salemforallages.org
SUMMARY:Bingo with Great Gaucho
DESCRIPTION:Join us at the Taproom every Monday night for FREE BINGO with Greta Gaucho at 7:00 pm. \nDot it if ya got it for four rounds to win a Far From The Tree gift card and a prize from the fabulous prize basket. \nThe Far From the Tree taproom has an open food policy. (Bring your own food)
URL:https://salemforallages.org/event/bingo-with-great-gaucho-6/
ATTACH;FMTTYPE=image/jpeg:https://salemforallages.org/wp-content/uploads/2025/04/Add-a-subheading-1.jpg
END:VEVENT
BEGIN:VEVENT
DTSTART;TZID=America/New_York:20250414T120000
DTEND;TZID=America/New_York:20250414T150000
DTSTAMP:20260422T225820
CREATED:20250411T090022Z
LAST-MODIFIED:20250411T090022Z
UID:23161-1744632000-1744642800@salemforallages.org
SUMMARY:Trash Transformed: Art and Sustainability
DESCRIPTION:The “Trash to Art” initiative\, a Collaborative Online International Learning (COIL) project between Salem State University in the United States and Tecnológico de Monterrey in Mexico\, exemplifies the transformative power of global shared learning. Guided by Professors Tereza Swanda and Francisco González Romo de Vivar\, this project engages students from diverse cultural backgrounds in repurposing discarded materials into meaningful artworks\, promoting a profound understanding of environmental sustainability and cross-cultural collaboration.
URL:https://salemforallages.org/event/trash-transformed-art-and-sustainability-11/
ATTACH;FMTTYPE=image/jpeg:https://salemforallages.org/wp-content/uploads/2025/04/TRASH-to-ART-Jacob-and-Gala-poster-postcard-scaled-6.jpeg
END:VEVENT
BEGIN:VEVENT
DTSTART;TZID=America/New_York:20250414T113000
DTEND;TZID=America/New_York:20250414T160000
DTSTAMP:20260422T225820
CREATED:20250411T090017Z
LAST-MODIFIED:20250411T090017Z
UID:23159-1744630200-1744646400@salemforallages.org
SUMMARY:Potion Brewing Store Experience
DESCRIPTION:Make your visit to The Good Witch of Salem’s shop memorable by booking our in-store Potion Brewing Experience. This activity is led by our Witch Apprentices. \nActivities are recommended for children ages 3 and up. \n*One appointment slot for each child is required.*
URL:https://salemforallages.org/event/potion-brewing-store-experience-293/
ATTACH;FMTTYPE=image/jpeg:https://salemforallages.org/wp-content/uploads/2025/04/Potion-Brewing-Store-Experience-7.jpg
END:VEVENT
BEGIN:VEVENT
DTSTART;TZID=America/New_York:20250414T113000
DTEND;TZID=America/New_York:20250414T160000
DTSTAMP:20260422T225820
CREATED:20250411T090016Z
LAST-MODIFIED:20250411T090016Z
UID:23158-1744630200-1744646400@salemforallages.org
SUMMARY:Magical Transformations
DESCRIPTION:Through our “Magical Transformations” children embrace their charms and express their individuality. Children can choose to transform into a “Witch” or “Wizard”!
URL:https://salemforallages.org/event/magical-transformations-301/
ATTACH;FMTTYPE=image/png:https://salemforallages.org/wp-content/uploads/2024/08/Transformations.png
END:VEVENT
BEGIN:VEVENT
DTSTART;TZID=America/New_York:20250413T193000
DTEND;TZID=America/New_York:20250413T233000
DTSTAMP:20260422T225820
CREATED:20250411T090010Z
LAST-MODIFIED:20250411T090010Z
UID:23156-1744572600-1744587000@salemforallages.org
SUMMARY:The Grand Descent: Titanic Masquerade Weekend
DESCRIPTION:Enjoy a weekend celebration of the Edwardian era at the historic Hawthorne Hotel. Step onto the Titanic with a weekend of storytelling\, dinners\, tea and our Grand Descent Masquerade Ball. Overnight room packages with ball tickets available by calling 978.825.4322\, or purchase tickets (via eventbrite.com) to specific events.
URL:https://salemforallages.org/event/the-grand-descent-titanic-masquerade-weekend-3/
ATTACH;FMTTYPE=image/jpeg:https://salemforallages.org/wp-content/uploads/2025/04/Titanic-Graphic-Square-for-IG-3.jpg
END:VEVENT
BEGIN:VEVENT
DTSTART;TZID=America/New_York:20250413T190000
DTEND;TZID=America/New_York:20250413T210000
DTSTAMP:20260422T225820
CREATED:20250409T090026Z
LAST-MODIFIED:20250409T090026Z
UID:23137-1744570800-1744578000@salemforallages.org
SUMMARY:Tom Rush Club 47®
DESCRIPTION:Feat. Cheryl Wheeler\, Kenny White\, Monica Rizzio \nTom Rush is a gifted musician and performer\, whose shows offer a musical celebration… a journey into the tradition and spectrum of what music has been\, can be\, and will become.
URL:https://salemforallages.org/event/tom-rush-club-47/
ATTACH;FMTTYPE=image/jpeg:https://salemforallages.org/wp-content/uploads/2025/04/Tom-Rush-album-art-for-2-scaled-1.jpg
END:VEVENT
BEGIN:VEVENT
DTSTART;TZID=America/New_York:20250413T190000
DTEND;TZID=America/New_York:20250413T203000
DTSTAMP:20260422T225820
CREATED:20250409T090022Z
LAST-MODIFIED:20250409T090022Z
UID:23135-1744570800-1744576200@salemforallages.org
SUMMARY:Dick Kayin and PeeWee Vermin’s “Worst Show in Town”
DESCRIPTION:Step right up\, baddies\, degenerates\, and lovers of the truly tasteless! The Worst Show in Town is here to destroy your expectations\, offend your delicate sensibilities\, and leave you begging for more. Produced by the unhinged minds of Dick Kayin and Peewee Vermin\, this chaotic variety show brings together the most outrageous\, off-putting\, niche and absolutely electrifying drag and burlesque performers from the North Shore and Boston. If you like your entertainment weird\, wild\, and just a little bit wrong\, then congratulations—you’ve found your new favorite show.
URL:https://salemforallages.org/event/dick-kayin-and-peewee-vermins-worst-show-in-town/
ATTACH;FMTTYPE=image/jpeg:https://salemforallages.org/wp-content/uploads/2025/04/Worst-Show-in-Town.jpg
END:VEVENT
BEGIN:VEVENT
DTSTART;TZID=America/New_York:20250413T183000
DTEND;TZID=America/New_York:20250413T200000
DTSTAMP:20260422T225820
CREATED:20250410T090026Z
LAST-MODIFIED:20250410T090026Z
UID:23152-1744569000-1744574400@salemforallages.org
SUMMARY:Pink Moon Circle with Sarah-Frankie Carter
DESCRIPTION:Join us for a full moon circle to celebrate the Pink Moon with Salem witch Sarah-Frankie Carter! During this Pink Moon ritual\, we’ll focus on making our aspirations a reality. Each guest will select their own spell candle (handmade by Sarah-Frankie) and a crystal that we’ll charge with intention during the ritual. You’ll go home with your new crystal and candle\, as well as take-home instructions on how to use your new tools to manifest your dreams! \n6:30 pm to 8:00 pm on Sunday\, April 13th. Purchase your tickets! \nThis circle will be held at Stardust\, located at 29 Congress Street in Salem. Please arrive by 6:30 pm. \nSarah-Frankie Carter is a Salem Witch and Historian. She studied directly under Laurie Cabot and is a 2nd Degree High Priestess in the Cabot Kent Hermetic Temple. She moved to Salem in 2008 to pursue a degree in Theater Performance at Salem State University (then Salem State College). During her time at school she began to work in Salem tourism and felt a familiarity with historical events that she could not explain. This feeling led to a spiritual awakening and prompted her to research her family genealogy. She discovered that her family has been a part of the rich history of Salem with one of her ancestors signing the founding documents for the city in 1626. She opened her tour company Tours for Touring Tourists in 2013 and her store Stardust (Salem) in 2020. She has also been featured on the History Channel\, SyFy Channel\, The CW\, NBC Left Field\, and in numerous publications such as The New York Times\, Elle Magazine (Paris Edition)\, Ghosts of Salem: Haunts of the Witch City by Sam Baltrusis\, and others.
URL:https://salemforallages.org/event/pink-moon-circle-with-sarah-frankie-carter/
ATTACH;FMTTYPE=image/jpeg:https://salemforallages.org/wp-content/uploads/2025/04/3be4943c-e718-4c18-9e95-a53d79bc4acb.jpg
END:VEVENT
BEGIN:VEVENT
DTSTART;TZID=America/New_York:20250413T150000
DTEND;TZID=America/New_York:20250413T160000
DTSTAMP:20260422T225820
CREATED:20250410T090022Z
LAST-MODIFIED:20250410T090022Z
UID:23150-1744556400-1744560000@salemforallages.org
SUMMARY:Private Witch Hour Tour for Charity!
DESCRIPTION:This is a ticketed event only guests who pre-purchased tickets will be able to attend! \nWe have an exclusive tour of the famous Witch House for our fiber witches! The Witch House was the home of Judge Jonathan Corwin (1640-1718) and is one of the few structures you can visit in Salem with direct ties to the Witch Trials of 1692. This is a self-guided tour\, with tour guides available to answer your questions. \n50% of ticket sales will be donated to Knit the Rainbow.
URL:https://salemforallages.org/event/private-witch-hour-tour-for-charity/
ATTACH;FMTTYPE=image/jpeg:https://salemforallages.org/wp-content/uploads/2025/04/WitchHousemo1.jpg
END:VEVENT
BEGIN:VEVENT
DTSTART;TZID=America/New_York:20250413T140000
DTEND;TZID=America/New_York:20250413T160000
DTSTAMP:20260422T225820
CREATED:20250409T090021Z
LAST-MODIFIED:20250409T090021Z
UID:23133-1744552800-1744560000@salemforallages.org
SUMMARY:The Ukrainian Executed Renaissance Lecture
DESCRIPTION:Join us for a profound lecture exploring the Ukrainian Executed Renaissance movement\, a significant cultural and artistic phenomenon of the 1920s and 1930s\, characterized by its vibrant literary and artistic expression. This session will delve into the lives and works of key writers and poets who contributed to this rich period\, only to face tragic fates due to political repression. \nAll funds go to Dobro New England to support humanitarian aid to Ukraine.
URL:https://salemforallages.org/event/the-ukrainian-executed-renaissance-lecture/
ATTACH;FMTTYPE=image/jpeg:https://salemforallages.org/wp-content/uploads/2025/04/Petrytskiy.jpg
END:VEVENT
END:VCALENDAR