BEGIN:VCALENDAR
VERSION:2.0
PRODID:-//Salem for All Ages - ECPv6.15.18//NONSGML v1.0//EN
CALSCALE:GREGORIAN
METHOD:PUBLISH
X-ORIGINAL-URL:https://salemforallages.org
X-WR-CALDESC:Events for Salem for All Ages
REFRESH-INTERVAL;VALUE=DURATION:PT1H
X-Robots-Tag:noindex
X-PUBLISHED-TTL:PT1H
BEGIN:VTIMEZONE
TZID:America/New_York
BEGIN:DAYLIGHT
TZOFFSETFROM:-0500
TZOFFSETTO:-0400
TZNAME:EDT
DTSTART:20240310T070000
END:DAYLIGHT
BEGIN:STANDARD
TZOFFSETFROM:-0400
TZOFFSETTO:-0500
TZNAME:EST
DTSTART:20241103T060000
END:STANDARD
BEGIN:DAYLIGHT
TZOFFSETFROM:-0500
TZOFFSETTO:-0400
TZNAME:EDT
DTSTART:20250309T070000
END:DAYLIGHT
BEGIN:STANDARD
TZOFFSETFROM:-0400
TZOFFSETTO:-0500
TZNAME:EST
DTSTART:20251102T060000
END:STANDARD
BEGIN:DAYLIGHT
TZOFFSETFROM:-0500
TZOFFSETTO:-0400
TZNAME:EDT
DTSTART:20260308T070000
END:DAYLIGHT
BEGIN:STANDARD
TZOFFSETFROM:-0400
TZOFFSETTO:-0500
TZNAME:EST
DTSTART:20261101T060000
END:STANDARD
END:VTIMEZONE
BEGIN:VEVENT
DTSTART;TZID=America/New_York:20250611T183000
DTEND;TZID=America/New_York:20250611T193000
DTSTAMP:20260424T052123
CREATED:20250607T090017Z
LAST-MODIFIED:20250607T090017Z
UID:23920-1749666600-1749670200@salemforallages.org
SUMMARY:Full Moon Yoga
DESCRIPTION:Register at wildseawellness.com/practice \nDate: June 11 @ 6:30 pm – 7:30 pm \nCost: $20 \nWild Sea Wellness will be offering monthly yoga classes at The House of the Seven Gables throughout 2025. Be sure to check their website and calendar for details\, dates\, and links to register.\nThe next partnership is scheduled for June 11 at 6:30 P.M.
URL:https://salemforallages.org/event/full-moon-yoga-14/
ATTACH;FMTTYPE=image/png:https://salemforallages.org/wp-content/uploads/2025/06/Screenshot-2025-05-20-135036.png
END:VEVENT
BEGIN:VEVENT
DTSTART;TZID=America/New_York:20250611T200000
DTEND;TZID=America/New_York:20250611T210000
DTSTAMP:20260424T052123
CREATED:20250610T090005Z
LAST-MODIFIED:20250610T090005Z
UID:23981-1749672000-1749675600@salemforallages.org
SUMMARY:Full Moon Circle
DESCRIPTION:Gather to release\, reflect\, and recharge under the energy of the Full Moon.\nBotanica of Salem\, 272 Essex street\, Salem MA.\nAdmission $10.00. Space limited.
URL:https://salemforallages.org/event/full-moon-circle-7/
ATTACH;FMTTYPE=image/jpeg:https://salemforallages.org/wp-content/uploads/2025/06/Blue-Illustrated-Moon-Good-Night-Instagram-Post.jpg
END:VEVENT
BEGIN:VEVENT
DTSTART;TZID=America/New_York:20250612T090000
DTEND;TZID=America/New_York:20250612T120000
DTSTAMP:20260424T052123
CREATED:20250607T090021Z
LAST-MODIFIED:20250607T090021Z
UID:23922-1749718800-1749729600@salemforallages.org
SUMMARY:Kids’ Summer Program at NSGS (10 years old & up)!
DESCRIPTION:Join us for a week of artistic enrichment and engagement at North Shore Glass School! For kids age 10+\, students will be welcomed at our glass studio at 16 Proctor Street for a week of glassblowing\, flameworking\, fused glass\, stained glass and sandblasting. Projects will include but are not limited to glassblowing paperweights and cups\, fused glass bowls and suncatchers\, flameworking pendants and small figurines\, stained glass window pieces and boxes and sandblasted cups and vases.
URL:https://salemforallages.org/event/kids-summer-program-at-nsgs-10-years-old-up-3/
ATTACH;FMTTYPE=image/jpeg:https://salemforallages.org/wp-content/uploads/2025/06/IMG_5288-scaled-3.jpg
END:VEVENT
BEGIN:VEVENT
DTSTART;TZID=America/New_York:20250612T113000
DTEND;TZID=America/New_York:20250612T160000
DTSTAMP:20260424T052123
CREATED:20250607T090024Z
LAST-MODIFIED:20250607T090024Z
UID:23924-1749727800-1749744000@salemforallages.org
SUMMARY:Magical Transformations
DESCRIPTION:Through our “Magical Transformations” children embrace their charms and express their individuality. Children can choose to transform into a “Witch” or “Wizard”!
URL:https://salemforallages.org/event/magical-transformations-362/
ATTACH;FMTTYPE=image/jpeg:https://salemforallages.org/wp-content/uploads/2025/06/Magicaltransformations.jpg
END:VEVENT
BEGIN:VEVENT
DTSTART;TZID=America/New_York:20250612T113000
DTEND;TZID=America/New_York:20250612T160000
DTSTAMP:20260424T052123
CREATED:20250607T090029Z
LAST-MODIFIED:20250607T090029Z
UID:23926-1749727800-1749744000@salemforallages.org
SUMMARY:Potion Brewing Store Experience
DESCRIPTION:Make your visit to The Good Witch of Salem’s shop memorable by booking our in-store Potion Brewing Experience. This activity is led by our Witch Apprentices. \nActivities are recommended for children ages 3 and up. \n*One appointment slot for each child is required.*
URL:https://salemforallages.org/event/potion-brewing-store-experience-355/
ATTACH;FMTTYPE=image/jpeg:https://salemforallages.org/wp-content/uploads/2025/06/Final-Potion-Master-1-1-1.jpg
END:VEVENT
BEGIN:VEVENT
DTSTART;TZID=America/New_York:20250612T120000
DTEND;TZID=America/New_York:20250612T133000
DTSTAMP:20260424T052123
CREATED:20250607T090032Z
LAST-MODIFIED:20250607T090032Z
UID:23928-1749729600-1749735000@salemforallages.org
SUMMARY:Craft Witch
DESCRIPTION:Craft Witch is a DIY crafting session with something for everyone! Choose from a wide array of options to create your very own one-of-a-kind craft. Whichever craft you decide to create\, you’ll be provided with all the materials\, tools\, and knowledge needed to let your creativity flourish. Unlike our broom making\, bookbinding\, and spelljar making workshops in which participants are being guided through the crafting process step-by step by an instructor\, the DIY nature of Craft Witch means that you can use the studio time however you wish. Check out the crafting options on our website!
URL:https://salemforallages.org/event/craft-witch-67/
ATTACH;FMTTYPE=image/jpeg:https://salemforallages.org/wp-content/uploads/2025/06/Image-from-iOS-scaled-4.jpg
END:VEVENT
BEGIN:VEVENT
DTSTART;TZID=America/New_York:20250612T140000
DTEND;TZID=America/New_York:20250612T160000
DTSTAMP:20260424T052123
CREATED:20250607T090037Z
LAST-MODIFIED:20250607T090037Z
UID:23930-1749736800-1749744000@salemforallages.org
SUMMARY:Salem Discovery Paddle Tours
DESCRIPTION:Embark on a serene paddleboard or kayak journey along the enchanting coastlines of Salem and Beverly Harbors\, where each stroke of your paddle unveils narratives ranging from historic naval battles to the infamous witch trials\, echoing the vibrant past of what was once the world’s busiest trading port.
URL:https://salemforallages.org/event/salem-discovery-paddle-tours-5/
ATTACH;FMTTYPE=image/jpeg:https://salemforallages.org/wp-content/uploads/2025/06/IMG_0793-1-scaled-1.jpeg
END:VEVENT
BEGIN:VEVENT
DTSTART;TZID=America/New_York:20250612T150000
DTEND;TZID=America/New_York:20250612T190000
DTSTAMP:20260424T052123
CREATED:20250607T090040Z
LAST-MODIFIED:20250607T090040Z
UID:23932-1749740400-1749754800@salemforallages.org
SUMMARY:Salem Farmer’s Market
DESCRIPTION:Thursdays\, June 12th through October 9th\nThe Salem Farmers’ Market is a tradition that dates back to 1634. The Salem Farmers Market features local farms every Thursday from 3 p.m. to 7\np.m.
URL:https://salemforallages.org/event/salem-farmers-market-117/
ATTACH;FMTTYPE=image/jpeg:https://salemforallages.org/wp-content/uploads/2020/08/farmers-market.jpg
END:VEVENT
BEGIN:VEVENT
DTSTART;TZID=America/New_York:20250612T193000
DTEND;TZID=America/New_York:20250612T213000
DTSTAMP:20260424T052123
CREATED:20250607T090041Z
LAST-MODIFIED:20250607T090041Z
UID:23933-1749756600-1749763800@salemforallages.org
SUMMARY:Mahi Summer Music Series
DESCRIPTION:Nothing beats music on the ocean. Live music every thursday on the Hannah Glover. Dance with friends and strangers under the stars with the best local bands on the North Shore\, a boat drink in hand\, and munching on a backyard favorite. 21+ cruise.
URL:https://salemforallages.org/event/mahi-summer-music-series-3/
ATTACH;FMTTYPE=image/jpeg:https://salemforallages.org/wp-content/uploads/2025/06/MUSIC-SERIES-POST-CARD-scaled-1.jpeg
END:VEVENT
BEGIN:VEVENT
DTSTART;TZID=America/New_York:20250612T193000
DTEND;TZID=America/New_York:20250612T233000
DTSTAMP:20260424T052123
CREATED:20250612T090005Z
LAST-MODIFIED:20250612T090005Z
UID:24002-1749756600-1749771000@salemforallages.org
SUMMARY:Open Mic
DESCRIPTION:Come join us for our weekly free Open Mic shindig every Thursday. Sign ups start at 7:30pm and the event starts at 8pm. Hope to see you here!
URL:https://salemforallages.org/event/open-mic/
ATTACH;FMTTYPE=image/jpeg:https://salemforallages.org/wp-content/uploads/2025/06/OpenMic-Twitter.jpg
END:VEVENT
BEGIN:VEVENT
DTSTART;TZID=America/New_York:20250612T200000
DTEND;TZID=America/New_York:20250612T200000
DTSTAMP:20260424T052123
CREATED:20250607T090046Z
LAST-MODIFIED:20250607T090046Z
UID:23935-1749758400-1749758400@salemforallages.org
SUMMARY:The Musical Box Performs Genesis Live
DESCRIPTION:50 years later\, THE MUSICAL BOX\, internationally renowned for its historical accuracy\, presents the original GENESIS LIVE performance in painstaking detail and offers an evening of time travel.
URL:https://salemforallages.org/event/the-musical-box-performs-genesis-live/
ATTACH;FMTTYPE=image/jpeg:https://salemforallages.org/wp-content/uploads/2025/06/Credit-Steve-Czubara-1-scaled-1.jpg
END:VEVENT
BEGIN:VEVENT
DTSTART;TZID=America/New_York:20250613T090000
DTEND;TZID=America/New_York:20250613T103000
DTSTAMP:20260424T052123
CREATED:20250608T090009Z
LAST-MODIFIED:20250608T090009Z
UID:23939-1749805200-1749810600@salemforallages.org
SUMMARY:Family Paddle
DESCRIPTION:Create lasting memories with a family adventure on the water! Our Salem Family Paddles are designed for families of all ages\, combining easy paddling\, fun games\, and light instruction in a safe\, supportive setting. Explore Salem’s scenic harbor together while learning new skills and spotting seabirds\, boats\, and coastal landmarks. With experienced guides leading the way\, it’s the perfect way for families to connect with the natural and historical beauty of Salem.
URL:https://salemforallages.org/event/family-paddle-3/
ATTACH;FMTTYPE=image/jpeg:https://salemforallages.org/wp-content/uploads/2025/05/CoasttoCoast2022-224.jpg
END:VEVENT
BEGIN:VEVENT
DTSTART;TZID=America/New_York:20250613T090000
DTEND;TZID=America/New_York:20250613T120000
DTSTAMP:20260424T052123
CREATED:20250608T090005Z
LAST-MODIFIED:20250608T090005Z
UID:23937-1749805200-1749816000@salemforallages.org
SUMMARY:Kids’ Summer Program at NSGS (10 years old & up)!
DESCRIPTION:Join us for a week of artistic enrichment and engagement at North Shore Glass School! For kids age 10+\, students will be welcomed at our glass studio at 16 Proctor Street for a week of glassblowing\, flameworking\, fused glass\, stained glass and sandblasting. Projects will include but are not limited to glassblowing paperweights and cups\, fused glass bowls and suncatchers\, flameworking pendants and small figurines\, stained glass window pieces and boxes and sandblasted cups and vases.
URL:https://salemforallages.org/event/kids-summer-program-at-nsgs-10-years-old-up-4/
ATTACH;FMTTYPE=image/jpeg:https://salemforallages.org/wp-content/uploads/2025/06/IMG_5288-scaled-4.jpg
END:VEVENT
BEGIN:VEVENT
DTSTART;TZID=America/New_York:20250613T110000
DTEND;TZID=America/New_York:20250613T123000
DTSTAMP:20260424T052123
CREATED:20250608T090009Z
LAST-MODIFIED:20250608T090009Z
UID:23940-1749812400-1749817800@salemforallages.org
SUMMARY:Revolution 250 Salem Tour
DESCRIPTION:Everyone knows Salem for the 1692 Witchcraft Trials\, but did you know that Salem made significant contributions to the American Revolution? The shot heard round the world almost happened here\, we were known for our Privateers (legal Pirates)\, who were the most successful against the British\, and British Governor General Thomas Gage encountered some of his biggest challenges to his authority in Salem. \nWe say that without Salem\, the United States may not be the same United States we know today.\nCome to Salem and learn the incredible role that our Patriots played in the start of our country.
URL:https://salemforallages.org/event/revolution-250-salem-tour-7/
ATTACH;FMTTYPE=image/png:https://salemforallages.org/wp-content/uploads/2025/04/Screen-Shot-2025-03-16-at-5.02.45-PM.png
END:VEVENT
BEGIN:VEVENT
DTSTART;TZID=America/New_York:20250613T110000
DTEND;TZID=America/New_York:20250613T170000
DTSTAMP:20260424T052123
CREATED:20250608T090010Z
LAST-MODIFIED:20250608T090010Z
UID:23941-1749812400-1749834000@salemforallages.org
SUMMARY:Personal Rainbow Aura Photos
DESCRIPTION:What would the world become if everyone saw themselves as an energetic being? Each Personal Rainbow appointment comes with an instant-film aura photo and personalized reading of the colors and patterns. Bring a buddy at no extra charge to see your vibe as a dynamic duo! Book ahead as walk-ins fill up quickly\, appointments available Thursday-Monday.
URL:https://salemforallages.org/event/personal-rainbow-aura-photos-16/
ATTACH;FMTTYPE=image/jpeg:https://salemforallages.org/wp-content/uploads/2025/06/aura-photos-hauswitch-salem.jpg
END:VEVENT
BEGIN:VEVENT
DTSTART;TZID=America/New_York:20250613T113000
DTEND;TZID=America/New_York:20250613T160000
DTSTAMP:20260424T052123
CREATED:20250608T090014Z
LAST-MODIFIED:20250608T090014Z
UID:23943-1749814200-1749830400@salemforallages.org
SUMMARY:Magical Transformations
DESCRIPTION:Through our “Magical Transformations” children embrace their charms and express their individuality. Children can choose to transform into a “Witch” or “Wizard”!
URL:https://salemforallages.org/event/magical-transformations-363/
ATTACH;FMTTYPE=image/jpeg:https://salemforallages.org/wp-content/uploads/2025/06/Magicaltransformations-1.jpg
END:VEVENT
BEGIN:VEVENT
DTSTART;TZID=America/New_York:20250613T113000
DTEND;TZID=America/New_York:20250613T160000
DTSTAMP:20260424T052123
CREATED:20250608T090018Z
LAST-MODIFIED:20250608T090018Z
UID:23945-1749814200-1749830400@salemforallages.org
SUMMARY:Potion Brewing Store Experience
DESCRIPTION:Make your visit to The Good Witch of Salem’s shop memorable by booking our in-store Potion Brewing Experience. This activity is led by our Witch Apprentices. \nActivities are recommended for children ages 3 and up. \n*One appointment slot for each child is required.*
URL:https://salemforallages.org/event/potion-brewing-store-experience-356/
ATTACH;FMTTYPE=image/jpeg:https://salemforallages.org/wp-content/uploads/2025/06/Final-Potion-Master-1-1-2.jpg
END:VEVENT
BEGIN:VEVENT
DTSTART;TZID=America/New_York:20250613T120000
DTEND;TZID=America/New_York:20250613T133000
DTSTAMP:20260424T052123
CREATED:20250608T090022Z
LAST-MODIFIED:20250608T090022Z
UID:23947-1749816000-1749821400@salemforallages.org
SUMMARY:Craft Witch
DESCRIPTION:Craft Witch is a DIY crafting session with something for everyone! Choose from a wide array of options to create your very own one-of-a-kind craft. Whichever craft you decide to create\, you’ll be provided with all the materials\, tools\, and knowledge needed to let your creativity flourish. Unlike our broom making\, bookbinding\, and spelljar making workshops in which participants are being guided through the crafting process step-by step by an instructor\, the DIY nature of Craft Witch means that you can use the studio time however you wish. Check out the crafting options on our website!
URL:https://salemforallages.org/event/craft-witch-68/
ATTACH;FMTTYPE=image/jpeg:https://salemforallages.org/wp-content/uploads/2025/06/Image-from-iOS-scaled-5.jpg
END:VEVENT
BEGIN:VEVENT
DTSTART;TZID=America/New_York:20250613T180000
DTEND;TZID=America/New_York:20250613T193000
DTSTAMP:20260424T052123
CREATED:20250608T090026Z
LAST-MODIFIED:20250608T090026Z
UID:23949-1749837600-1749843000@salemforallages.org
SUMMARY:Queens at the Castle
DESCRIPTION:Strictly 21 & Over. Join us for Queens at the Castle\, a high-energy\, laugh-out-loud evening hosted by one of Boston’s most iconic queens and featuring three of the region’s top drag performers. Your Host: Kris Knievil. Featuring: Alana Thicc\, Chanel the Angel\, & Stef Anya.
URL:https://salemforallages.org/event/queens-at-the-castle/
ATTACH;FMTTYPE=image/jpeg:https://salemforallages.org/wp-content/uploads/2025/06/HCM-Queens-At-The-Castle-Instagram-Final.jpg
END:VEVENT
BEGIN:VEVENT
DTSTART;TZID=America/New_York:20250613T180000
DTEND;TZID=America/New_York:20250613T210000
DTSTAMP:20260424T052123
CREATED:20250610T090009Z
LAST-MODIFIED:20250610T090009Z
UID:23983-1749837600-1749848400@salemforallages.org
SUMMARY:Baile En La Calle – Salem’s Newest Outdoor Salsa & Bachata Social
DESCRIPTION:🎉 Introducing Harborwalk Garden’s newest program – Baile en la Calle! Join us at Charlotte Forten Park with Greg Cole’s Dance and Drum for a FREE evening of dancing\, music and community vibes under the summer sky 💃🏽🕺🏽 \n✨ Whether you’re a dance pro or just looking to try something new\, come move with us in Salem’s newest waterfront outdoor public gathering space! \n🪘 6PM – Salsa & Bachata Dance Class\n🎶 7PM – Social Dancing \nBring your friends\, your energy\, and you!
URL:https://salemforallages.org/event/baile-en-la-calle-salems-newest-outdoor-salsa-bachata-social/
ATTACH;FMTTYPE=image/jpeg:https://salemforallages.org/wp-content/uploads/2025/06/Baile-En-La-Calle-6.6.25.jpg
END:VEVENT
BEGIN:VEVENT
DTSTART;TZID=America/New_York:20250613T190000
DTEND;TZID=America/New_York:20250613T210000
DTSTAMP:20260424T052123
CREATED:20250608T090030Z
LAST-MODIFIED:20250608T090030Z
UID:23951-1749841200-1749848400@salemforallages.org
SUMMARY:Evening of Glass at NSGS!
DESCRIPTION:Join us for a fun adult only evening of glass at North Shore Glass School. Participants will enjoy learning how to cut\, arrange and design glass to make a beautiful keepsake fused glass drape bowl\, they will also enjoy a glass art demonstration and some refreshing drinks.
URL:https://salemforallages.org/event/evening-of-glass-at-nsgs-4/
ATTACH;FMTTYPE=image/jpeg:https://salemforallages.org/wp-content/uploads/2025/06/IMG_0286-scaled-1.jpg
END:VEVENT
BEGIN:VEVENT
DTSTART;TZID=America/New_York:20250613T200000
DTEND;TZID=America/New_York:20250613T200000
DTSTAMP:20260424T052123
CREATED:20250608T090033Z
LAST-MODIFIED:20250608T090033Z
UID:23953-1749844800-1749844800@salemforallages.org
SUMMARY:Tower of Power
DESCRIPTION:For 55 years\, Tower of Power has delivered the best in funk and soul music. \n“We were a Soul band called The Motowns.” recalls Emilio Castillo. “Rocco was the bass player\, I was there\, and my brother was the drummer. I met “Doc” Kupka back in 1968\, and gave him an audition. He came in the band\, and we eventually changed our name to the Tower of Power.” The reason for the band name change was that they had a specific goal in mind.
URL:https://salemforallages.org/event/tower-of-power/
ATTACH;FMTTYPE=image/jpeg:https://salemforallages.org/wp-content/uploads/2025/06/C5D_4559-scaled-1.jpg
END:VEVENT
BEGIN:VEVENT
DTSTART;TZID=America/New_York:20250613T200000
DTEND;TZID=America/New_York:20250613T230000
DTSTAMP:20260424T052123
CREATED:20250612T090009Z
LAST-MODIFIED:20250612T090009Z
UID:24004-1749844800-1749855600@salemforallages.org
SUMMARY:Bellwire Band w/ Jake McKelvie & Dylan Patrick Ward
DESCRIPTION:Bellwire band returns with special guests Jake McKelvie & Dylan Patrick Ward! \nJoin us at the Gulu-Gulu Cafe Friday\, June 13th for this exciting free show!
URL:https://salemforallages.org/event/bellwire-band-w-jake-mckelvie-dylan-patrick-ward/
ATTACH;FMTTYPE=image/png:https://salemforallages.org/wp-content/uploads/2025/06/Screenshot2025-06-05195727.png
END:VEVENT
BEGIN:VEVENT
DTSTART;TZID=America/New_York:20250613T200000
DTEND;TZID=America/New_York:20250613T233000
DTSTAMP:20260424T052123
CREATED:20250608T090035Z
LAST-MODIFIED:20250608T090035Z
UID:23955-1749844800-1749857400@salemforallages.org
SUMMARY:Fierce Fridays hosted by Miz Diamond Wigfall
DESCRIPTION:Ru Paul drag race viewing 8pm\nPerformers go on 9pm\nMusic by Maxine Harrison \nFree! 21+
URL:https://salemforallages.org/event/fierce-fridays-hosted-by-miz-diamond-wigfall-2/
ATTACH;FMTTYPE=image/jpeg:https://salemforallages.org/wp-content/uploads/2025/06/Fierce-Friday-june-schedule.jpg
END:VEVENT
BEGIN:VEVENT
DTSTART;TZID=America/New_York:20250613T203000
DTEND;TZID=America/New_York:20250613T220000
DTSTAMP:20260424T052123
CREATED:20250608T090036Z
LAST-MODIFIED:20250608T090036Z
UID:23956-1749846600-1749852000@salemforallages.org
SUMMARY:Queens at the Castle
DESCRIPTION:Strictly 21 & Over. Join us for Queens at the Castle\, a high-energy\, laugh-out-loud evening hosted by one of Boston’s most iconic queens and featuring three of the region’s top drag performers. Your Host: Kris Knievil. Featuring: Alana Thicc\, Chanel the Angel\, & Stef Anya.
URL:https://salemforallages.org/event/queens-at-the-castle-2/
ATTACH;FMTTYPE=image/jpeg:https://salemforallages.org/wp-content/uploads/2025/06/HCM-Queens-At-The-Castle-Instagram-Final.jpg
END:VEVENT
BEGIN:VEVENT
DTSTART;VALUE=DATE:20250614
DTEND;VALUE=DATE:20250615
DTSTAMP:20260424T052123
CREATED:20250608T090036Z
LAST-MODIFIED:20250608T090036Z
UID:23957-1749859200-1749945599@salemforallages.org
SUMMARY:Fiesta en la Calle
DESCRIPTION:Fiesta en la Calle is North Shore CDC’s annual festival celebrating the vibrant culture of the Point neighborhood that includes live music\, dancing\, art\, and the premiere of a new collection of murals in the Punto Urban Art Museum by New England-based artists and Point residents. The annual Block Party celebrates the diverse community and culture of the people who live and work there.
URL:https://salemforallages.org/event/fiesta-en-la-calle-2/
ATTACH;FMTTYPE=image/jpeg:https://salemforallages.org/wp-content/uploads/2025/06/2023-09-30-NSCDC-Fiesta-DJQ-Media_1431-scaled-1-scaled-1.jpg
END:VEVENT
BEGIN:VEVENT
DTSTART;TZID=America/New_York:20250614T070000
DTEND;TZID=America/New_York:20250614T220000
DTSTAMP:20260424T052123
CREATED:20250608T090040Z
LAST-MODIFIED:20250608T090040Z
UID:23959-1749884400-1749938400@salemforallages.org
SUMMARY:Divas & Brews
DESCRIPTION:The first\, all live-singing Divas & Brews is happening at Couch Dog Brewing Company in Salem! \nHosted by NORTH SHORE DIVA\, MADAM ZAPPLE\, prepare to be mesmerized by the eclectic vocals from these queens! \nMADAM ZAPPLE\nThe hostest with the mostest\, who use to sing on cruise ships for a living. \nANDI VAN DYKE\nBoston’s crossdressing crooner and stand up comic. \nDARREN TASHINE\nProvidence’s Drag King with the Opera sounds. \nSHANIA TAINT\nProvidence’s comedy queen is going from the Kinky Boots stage to Salem\, MA!
URL:https://salemforallages.org/event/divas-brews/
ATTACH;FMTTYPE=image/jpeg:https://salemforallages.org/wp-content/uploads/2025/06/Divas.jpg
END:VEVENT
BEGIN:VEVENT
DTSTART;TZID=America/New_York:20250614T090000
DTEND;TZID=America/New_York:20250614T110000
DTSTAMP:20260424T052123
CREATED:20250609T090005Z
LAST-MODIFIED:20250609T090005Z
UID:23961-1749891600-1749898800@salemforallages.org
SUMMARY:Salem Discovery Paddle Tours
DESCRIPTION:Embark on a serene paddleboard or kayak journey along the enchanting coastlines of Salem and Beverly Harbors\, where each stroke of your paddle unveils narratives ranging from historic naval battles to the infamous witch trials\, echoing the vibrant past of what was once the world’s busiest trading port. Age 16+
URL:https://salemforallages.org/event/salem-discovery-paddle-tours-6/
ATTACH;FMTTYPE=image/jpeg:https://salemforallages.org/wp-content/uploads/2025/06/IMG_0793-scaled-2.jpeg
END:VEVENT
BEGIN:VEVENT
DTSTART;TZID=America/New_York:20250614T100000
DTEND;TZID=America/New_York:20250614T110000
DTSTAMP:20260424T052123
CREATED:20250609T090008Z
LAST-MODIFIED:20250609T090008Z
UID:23963-1749895200-1749898800@salemforallages.org
SUMMARY:Dinosaur Slime Potion
DESCRIPTION:Dinosaur Slime Potions June 14\, 2025\nWorkshop Time: 10:00AM – 11:00AM\nLocation: The Good Witch of Salem @ 2 North Street\, Salem MA 01970\nHosted By: Apprentice Witches \nChildren will create their own dinosaur themed slime creation. Students will get to take home their slime. Our magical employees will guide children in creating their own slime creations.\nThis workshop is limited to 8 children\, pre-registration is required. Under age 4 may attend with the help of a supervising adult.
URL:https://salemforallages.org/event/dinosaur-slime-potion-2/
ATTACH;FMTTYPE=image/png:https://salemforallages.org/wp-content/uploads/2025/06/Dinosaur-Slime-Potions-1.png
END:VEVENT
BEGIN:VEVENT
DTSTART;TZID=America/New_York:20250614T100000
DTEND;TZID=America/New_York:20250614T160000
DTSTAMP:20260424T052123
CREATED:20250609T090012Z
LAST-MODIFIED:20250609T090012Z
UID:23965-1749895200-1749916800@salemforallages.org
SUMMARY:Marine Quest
DESCRIPTION:The Massachusetts Division of Marine Fisheries invites the public to a free\, outdoor event at the Cat Cove Marine Laboratory to learn about the marine life in Massachusetts. Salem Sound Coastwatch will be hosting table with a touch tank\, fish prints\, and sharing information about our horseshoe crab research. This event will be rain or shine!
URL:https://salemforallages.org/event/marine-quest/
ATTACH;FMTTYPE=image/jpeg:https://salemforallages.org/wp-content/uploads/2025/06/Marine-Quest-Poster-scaled-1.jpg
END:VEVENT
END:VCALENDAR