BEGIN:VCALENDAR
VERSION:2.0
PRODID:-//Salem for All Ages - ECPv6.15.18//NONSGML v1.0//EN
CALSCALE:GREGORIAN
METHOD:PUBLISH
X-WR-CALNAME:Salem for All Ages
X-ORIGINAL-URL:https://salemforallages.org
X-WR-CALDESC:Events for Salem for All Ages
REFRESH-INTERVAL;VALUE=DURATION:PT1H
X-Robots-Tag:noindex
X-PUBLISHED-TTL:PT1H
BEGIN:VTIMEZONE
TZID:America/New_York
BEGIN:DAYLIGHT
TZOFFSETFROM:-0500
TZOFFSETTO:-0400
TZNAME:EDT
DTSTART:20220313T070000
END:DAYLIGHT
BEGIN:STANDARD
TZOFFSETFROM:-0400
TZOFFSETTO:-0500
TZNAME:EST
DTSTART:20221106T060000
END:STANDARD
BEGIN:DAYLIGHT
TZOFFSETFROM:-0500
TZOFFSETTO:-0400
TZNAME:EDT
DTSTART:20230312T070000
END:DAYLIGHT
BEGIN:STANDARD
TZOFFSETFROM:-0400
TZOFFSETTO:-0500
TZNAME:EST
DTSTART:20231105T060000
END:STANDARD
BEGIN:DAYLIGHT
TZOFFSETFROM:-0500
TZOFFSETTO:-0400
TZNAME:EDT
DTSTART:20240310T070000
END:DAYLIGHT
BEGIN:STANDARD
TZOFFSETFROM:-0400
TZOFFSETTO:-0500
TZNAME:EST
DTSTART:20241103T060000
END:STANDARD
END:VTIMEZONE
BEGIN:VEVENT
DTSTART;TZID=America/New_York:20231027T200000
DTEND;TZID=America/New_York:20231027T210000
DTSTAMP:20260423T193003
CREATED:20231023T090015Z
LAST-MODIFIED:20231023T090015Z
UID:16929-1698436800-1698440400@salemforallages.org
SUMMARY:Daemonologie: Sinew and Soul
DESCRIPTION:A generation born to war and horror comes of age. They refuse to repeat the past… It is 1794 and Americans lust after the bounties of their newfound freedom. Harvard Medical students\, eager to get ahead of their soft European counterparts\, will do anything to succeed. Chief among them is Jon\, driven to cure his dying sister. Please visit 7Gables.org/events for more information.
URL:https://salemforallages.org/event/daemonologie-sinew-and-soul-4/
ATTACH;FMTTYPE=image/jpeg:https://salemforallages.org/wp-content/uploads/2022/04/unnamed-2.jpg
END:VEVENT
BEGIN:VEVENT
DTSTART;TZID=America/New_York:20231027T193000
DTEND;TZID=America/New_York:20231027T203000
DTSTAMP:20260423T193003
CREATED:20231023T090011Z
LAST-MODIFIED:20231023T090011Z
UID:16926-1698435000-1698438600@salemforallages.org
SUMMARY:Strindberg’s The Ghost Sonata
DESCRIPTION:Bewitched by a woman’s beauty and drawn into a stranger’s sinister plans\, a student enters a mysterious house. There he finds a world where the food is poison\, the dead are alive and everything rots from the inside.  Let Salem State Theatre take you to a psychological netherworld between reality and illusion if you dare.
URL:https://salemforallages.org/event/strindbergs-the-ghost-sonata-4/
ATTACH;FMTTYPE=image/jpeg:https://salemforallages.org/wp-content/uploads/2023/10/The-Ghost-Sonata_WEB-scaled-4.jpg
END:VEVENT
BEGIN:VEVENT
DTSTART;TZID=America/New_York:20231027T190000
DTEND;TZID=America/New_York:20231027T210000
DTSTAMP:20260423T193003
CREATED:20231023T090010Z
LAST-MODIFIED:20231023T090010Z
UID:16925-1698433200-1698440400@salemforallages.org
SUMMARY:Friday Night Music with American Flatbread
DESCRIPTION:Join us for live music\, enjoy rock and country.
URL:https://salemforallages.org/event/friday-night-music-with-american-flatbread-21/
ATTACH;FMTTYPE=image/jpeg:https://salemforallages.org/wp-content/uploads/2023/06/American-Flatbread-.jpg
END:VEVENT
BEGIN:VEVENT
DTSTART;TZID=America/New_York:20231027T181500
DTEND;TZID=America/New_York:20231027T201500
DTSTAMP:20260423T193003
CREATED:20231023T090008Z
LAST-MODIFIED:20231023T090008Z
UID:16924-1698430500-1698437700@salemforallages.org
SUMMARY:Guilty! A Salem Witch Trial
DESCRIPTION:It’s 1692 in Salem\, and the audience is on trial for witchcraft! Hear testimony against you and plead your case. Will you be found guilty? Combo tickets with Gallows Hill Main Show. Show times 6:15 and 7:15. 
URL:https://salemforallages.org/event/guilty-a-salem-witch-trial-46/
ATTACH;FMTTYPE=image/jpeg:https://salemforallages.org/wp-content/uploads/2023/09/Guilty-Basic-6-2.jpg
END:VEVENT
BEGIN:VEVENT
DTSTART;TZID=America/New_York:20231027T180000
DTEND;TZID=America/New_York:20231027T200000
DTSTAMP:20260423T193003
CREATED:20231022T090027Z
LAST-MODIFIED:20231022T090027Z
UID:16922-1698429600-1698436800@salemforallages.org
SUMMARY:Lore by Candlelight
DESCRIPTION:Experience New England’s fantastical past by spending an evening in one of the oldest homes in Salem. You will be immersed in original rooms dimly lit by candles while experiencing New England’s history\, legends\, and lore that have been passed down for generations. Join us to explore the reality of our terrifying past. BYOB alcohol.
URL:https://salemforallages.org/event/lore-by-candlelight-23/
ATTACH;FMTTYPE=image/jpeg:https://salemforallages.org/wp-content/uploads/2023/10/Local-Lore-by-Candlelight-2-scaled-10.jpg
END:VEVENT
BEGIN:VEVENT
DTSTART;TZID=America/New_York:20231027T150000
DTEND;TZID=America/New_York:20231027T220000
DTSTAMP:20260423T193003
CREATED:20231022T090027Z
LAST-MODIFIED:20231022T090027Z
UID:16921-1698418800-1698444000@salemforallages.org
SUMMARY:Hollowed Harvest
DESCRIPTION:Experience Salem’s ONLY Jack-O’-Lantern festival at the Hollowed Harvest: Wicked Labyrinth! Salem’s beloved fall tradition brings hundreds of intricately carved Jack-O’-Lanterns to life in an all-ages walkthrough event.
URL:https://salemforallages.org/event/hollowed-harvest-23/
ATTACH;FMTTYPE=image/png:https://salemforallages.org/wp-content/uploads/2023/09/hollowed-harvest-hh.png
END:VEVENT
BEGIN:VEVENT
DTSTART;TZID=America/New_York:20231027T110000
DTEND;TZID=America/New_York:20231027T150000
DTSTAMP:20260423T193003
CREATED:20231022T090027Z
LAST-MODIFIED:20231022T090027Z
UID:16920-1698404400-1698418800@salemforallages.org
SUMMARY:Book a “Good Witch Transformation”
DESCRIPTION:Thank you for your interest in a “Good Witch” Transformation! \nThrough our transformations children unleash their own spellbinding charms and embrace their individuality. Children are invited to browse our collection of witch hats and dresses. Adorned with shimmering stars\, flowing capes\, and ribbons of enchantment\, these outfits are sure to celebrate their unique spirits. \nOur talented apprentices delicately apply a touch of stardust and add sprinkles of color that match your child’s vibrant personality. As they gaze upon their reflection\, their eyes light up with a newfound confidence and a sense of whimsical delight. They have become the magical beings they’ve always dreamt of\, casting spells and brewing potions in their imaginary world. Their laughter fills the air as they twirl and spin\, radiating with joy and wonder.
URL:https://salemforallages.org/event/book-a-good-witch-transformation-21/
END:VEVENT
BEGIN:VEVENT
DTSTART;TZID=America/New_York:20231027T100000
DTEND;TZID=America/New_York:20231027T200000
DTSTAMP:20260423T193003
CREATED:20231022T090026Z
LAST-MODIFIED:20231022T090026Z
UID:16918-1698400800-1698436800@salemforallages.org
SUMMARY:Hocus Pocus at Ropes Mansion
DESCRIPTION:Walk over to Ropes Mansion (318 Essex Street) – otherwise known as Allison’s house – to see the exterior decorated in the style of the classic Salem-based film Hocus Pocus.
URL:https://salemforallages.org/event/hocus-pocus-at-ropes-mansion-2/
ATTACH;FMTTYPE=image/jpeg:https://salemforallages.org/wp-content/uploads/2023/10/evEErie_lk_003a.jpg
END:VEVENT
BEGIN:VEVENT
DTSTART;TZID=America/New_York:20231027T100000
DTEND;TZID=America/New_York:20231027T170000
DTSTAMP:20260423T193003
CREATED:20231022T090026Z
LAST-MODIFIED:20231022T090026Z
UID:16919-1698400800-1698426000@salemforallages.org
SUMMARY:The Good Witch of Salem
DESCRIPTION:Attend one of our large events\, including Magical Tea Time 10/9\, Potion Party 10/22\, Costume Ball 10/22\, and Costume Parade. Book an in-store experience with plenty of family-friendly activities.
URL:https://salemforallages.org/event/the-good-witch-of-salem-27/
ATTACH;FMTTYPE=image/jpeg:https://salemforallages.org/wp-content/uploads/2023/09/Good-Witch-Basic-2.jpg
END:VEVENT
BEGIN:VEVENT
DTSTART;TZID=America/New_York:20231026T203000
DTEND;TZID=America/New_York:20231026T220000
DTSTAMP:20260423T193003
CREATED:20231022T090026Z
LAST-MODIFIED:20231022T090026Z
UID:16917-1698352200-1698357600@salemforallages.org
SUMMARY:After Hours Ghost Hunt
DESCRIPTION:Join Kimberly Bizjak of Paranormal Salem for Ghost Hunting! Use EMF detectors\, infrared thermometers\, audio recorders\, and more to collect evidence inside The Lost Museum! Combo tickets with Gallows Hill Main Show.
URL:https://salemforallages.org/event/after-hours-ghost-hunt-26/
ATTACH;FMTTYPE=image/jpeg:https://salemforallages.org/wp-content/uploads/2023/09/After-Hours-Ghost-Hunt-Basic.jpg
END:VEVENT
BEGIN:VEVENT
DTSTART;TZID=America/New_York:20231026T200000
DTEND;TZID=America/New_York:20231026T220000
DTSTAMP:20260423T193003
CREATED:20231022T090022Z
LAST-MODIFIED:20231022T090022Z
UID:16915-1698350400-1698357600@salemforallages.org
SUMMARY:The Zombies: Different Game Tour 23
DESCRIPTION:2019 Rock & Roll Hall of Fame Inductees The Zombies are back with their long-awaited new album\, Different Game (2023 – Cooking Vinyl Records). Different Game is the follow-up to the iconic British psychedelic pop legends’ 2015 Billboard-charting album\, Still Got That Hunger.
URL:https://salemforallages.org/event/the-zombies-different-game-tour-23/
ATTACH;FMTTYPE=image/jpeg:https://salemforallages.org/wp-content/uploads/2023/10/The_Zombies_ALEX_LAKE0902-scaled-1.jpg
END:VEVENT
BEGIN:VEVENT
DTSTART;TZID=America/New_York:20231026T200000
DTEND;TZID=America/New_York:20231026T210000
DTSTAMP:20260423T193003
CREATED:20231022T090022Z
LAST-MODIFIED:20231022T090022Z
UID:16914-1698350400-1698354000@salemforallages.org
SUMMARY:Daemonologie: Sinew and Soul
DESCRIPTION:A generation born to war and horror comes of age. They refuse to repeat the past… It is 1794 and Americans lust after the bounties of their newfound freedom. Harvard Medical students\, eager to get ahead of their soft European counterparts\, will do anything to succeed. Chief among them is Jon\, driven to cure his dying sister. Please visit 7Gables.org/events for more information.
URL:https://salemforallages.org/event/daemonologie-sinew-and-soul-3/
ATTACH;FMTTYPE=image/jpeg:https://salemforallages.org/wp-content/uploads/2022/04/unnamed-2.jpg
END:VEVENT
BEGIN:VEVENT
DTSTART;TZID=America/New_York:20231026T193000
DTEND;TZID=America/New_York:20231026T213000
DTSTAMP:20260423T193003
CREATED:20231022T090019Z
LAST-MODIFIED:20231022T090019Z
UID:16912-1698348600-1698355800@salemforallages.org
SUMMARY:Thursday night Summer Music Series on the Hannah Glover
DESCRIPTION:The Hannah Glover is back with another summer music series. Join Mahi Mahi cruises for a night out on the water with live music and drinks. Stay tuned for the lineup announcement.
URL:https://salemforallages.org/event/thursday-night-summer-music-series-on-the-hannah-glover-18/
ATTACH;FMTTYPE=image/jpeg:https://salemforallages.org/wp-content/uploads/2023/10/Gloverlitup-scaled-3.jpg
END:VEVENT
BEGIN:VEVENT
DTSTART;TZID=America/New_York:20231026T183000
DTEND;TZID=America/New_York:20231026T220000
DTSTAMP:20260423T193003
CREATED:20231022T090018Z
LAST-MODIFIED:20231022T090018Z
UID:16911-1698345000-1698357600@salemforallages.org
SUMMARY:Open-Mic Night
DESCRIPTION:Sing\, dance\, or simply witness local musical talent\, or simply witness the chaos of Gulu-Gulu’s open mic. \n  \nThe best open mic in the World\, on the North Shore\, in Salem! Come join the fun every Thursday night! Anything and everything are welcome. Sing\, Dance\, Hum\, Orate\, or simply witness the beautiful chaos that is the Gulu Gulu Open Mic Shindig. Sign-up at 7:30pm.
URL:https://salemforallages.org/event/open-mic-night-13/
ATTACH;FMTTYPE=image/jpeg:https://salemforallages.org/wp-content/uploads/2023/08/image-asset.jpg
END:VEVENT
BEGIN:VEVENT
DTSTART;TZID=America/New_York:20231026T181500
DTEND;TZID=America/New_York:20231026T201500
DTSTAMP:20260423T193003
CREATED:20231022T090018Z
LAST-MODIFIED:20231022T090018Z
UID:16910-1698344100-1698351300@salemforallages.org
SUMMARY:Guilty! A Salem Witch Trial
DESCRIPTION:It’s 1692 in Salem\, and the audience is on trial for witchcraft! Hear testimony against you and plead your case. Will you be found guilty? Combo tickets with Gallows Hill Main Show. Show times 6:15 and 7:15. 
URL:https://salemforallages.org/event/guilty-a-salem-witch-trial-45/
ATTACH;FMTTYPE=image/jpeg:https://salemforallages.org/wp-content/uploads/2023/09/Guilty-Basic-6-2.jpg
END:VEVENT
BEGIN:VEVENT
DTSTART;TZID=America/New_York:20231026T180000
DTEND;TZID=America/New_York:20231026T220000
DTSTAMP:20260423T193003
CREATED:20231022T090018Z
LAST-MODIFIED:20231022T090018Z
UID:16909-1698343200-1698357600@salemforallages.org
SUMMARY:Spiritualism Tours at Hammond Castle Museum
DESCRIPTION:Since its completion in 1929\, Hammond Castle Museum has attracted rumors and urban legends of supernatural association and occult happening. While most of these wild stories can be dismissed as pure fiction\, the building occupies a fascinating place within the broader historical context of the development of spiritualist and spiritualist-adjacent fields in American culture. The spiritualist movement enthralled America’s upper and middle classes during the late 19th and early 20th centuries. Both John Hays Hammond Jr. and his wife\, Irene\, were fascinated with wide-ranging topics including Astrology\, Divination\, Numerology\, Extrasensory Perception (ESP)\, and Mediumship.\n\nEvery Thursday evening in August\, September and October (and even a couple of Wednesday nights in October too) we offer Spiritualism Tours.  This specialty tour explores the history of American spiritualism\, with a particular focus on contextualizing the movement within broader contemporary cultural trends and discussing the Hammonds’ own complicated engagements with these cultural phenomena. From John Hays Hammond Jr.’s attempts to communicate with supernatural entities using a Faraday Cage\, to Irene Hammond’s work on a comprehensive survey of astrological signs; over the course of this approximately 55-minute fully-guided tour\, the dramatic gothic-inspired architecture of the building and night-time atmosphere will set the stage for a fun and informative seasonal experience unlike any other!\n\nMember benefits apply to Spiritualism Tour tickets. All proceeds from this program will support the restoration and preservation of Hammond Castle Museum.
URL:https://salemforallages.org/event/spiritualism-tours-at-hammond-castle-museum-6/
END:VEVENT
BEGIN:VEVENT
DTSTART;TZID=America/New_York:20231026T180000
DTEND;TZID=America/New_York:20231026T200000
DTSTAMP:20260423T193003
CREATED:20231022T090014Z
LAST-MODIFIED:20231022T090014Z
UID:16907-1698343200-1698350400@salemforallages.org
SUMMARY:Lore by Candlelight
DESCRIPTION:Experience New England’s fantastical past by spending an evening in one of the oldest homes in Salem. You will be immersed in original rooms dimly lit by candles while experiencing New England’s history\, legends\, and lore that have been passed down for generations. Join us to explore the reality of our terrifying past. BYOB alcohol.
URL:https://salemforallages.org/event/lore-by-candlelight-22/
ATTACH;FMTTYPE=image/jpeg:https://salemforallages.org/wp-content/uploads/2023/10/Local-Lore-by-Candlelight-2-scaled-9.jpg
END:VEVENT
BEGIN:VEVENT
DTSTART;TZID=America/New_York:20231026T180000
DTEND;TZID=America/New_York:20231026T190000
DTSTAMP:20260423T193003
CREATED:20231022T090014Z
LAST-MODIFIED:20231022T090014Z
UID:16906-1698343200-1698346800@salemforallages.org
SUMMARY:Spiritualism Tours of Hammond Castle Museum
DESCRIPTION:Since its completion in 1929\, Hammond Castle Museum has attracted rumors and urban legends of supernatural associations and occult happening. While most of these wild stories can be dismissed as pure fiction\, the building occupies a fascinating place within the broader historical context of the development of spiritualist and spiritualist-adjacent fields in American culture. The spiritualist movement enthralled America’s upper and middle classes during the late 19th and early 20th centuries. Both John Hays Hammond Jr. and his wife\, Irene\, were fascinated with wide-ranging topics including Astrology\, Divination\, Numerology\, Extrasensory Perception (ESP)\, and Mediumship. \nEvery Thursday evening in August\, September\, and October (and even a couple of Wednesday nights in October too) we offer Spiritualism Tours\, This specialty tour explores the history of American spiritualism\, with a particular focus on contextualizing the movement within broader contemporary cultural trends and discussing the Hammonds’ own complicated engagements with these cultural phenomena. From John Hays Hammond Jr.’s attempts to communicate with supernatural entities using a Faraday Cage\, to Irene Hammond’s work on a comprehensive survey of astrological signs; over the course of this approximately 55-minute fully-guided tour\, the dramatic gothic-inspired architecture of the building and night-time atmosphere will set the stage for a fun and informative seasonal experience unlike any other! \nCarry-In/Carry-Out Picnics: Guests may enjoy a carry-in/carry-out picnic on our seaside lawn before their tour on Thursday evenings in August! Reservations are $5 per party and start one hour prior to your ticketed evening tour. Reservations are required in advance.  Hammond Castle Museum members enjoy complimentary picnic reservations.
URL:https://salemforallages.org/event/spiritualism-tours-of-hammond-castle-museum-15/
ATTACH;FMTTYPE=image/jpeg:https://salemforallages.org/wp-content/uploads/2023/08/20200813_115337-1-1.jpg
END:VEVENT
BEGIN:VEVENT
DTSTART;TZID=America/New_York:20231026T170000
DTEND;TZID=America/New_York:20231026T210000
DTSTAMP:20260423T193003
CREATED:20231022T090014Z
LAST-MODIFIED:20231022T090014Z
UID:16905-1698339600-1698354000@salemforallages.org
SUMMARY:Hollowed Harvest
DESCRIPTION:Experience Salem’s ONLY Jack-O’-Lantern festival at the Hollowed Harvest: Wicked Labyrinth! Salem’s beloved fall tradition brings hundreds of intricately carved Jack-O’-Lanterns to life in an all-ages walkthrough event.
URL:https://salemforallages.org/event/hollowed-harvest-22/
ATTACH;FMTTYPE=image/png:https://salemforallages.org/wp-content/uploads/2023/09/hollowed-harvest-hh.png
END:VEVENT
BEGIN:VEVENT
DTSTART;TZID=America/New_York:20231026T100000
DTEND;TZID=America/New_York:20231031T220000
DTSTAMP:20260423T193003
CREATED:20231022T090010Z
LAST-MODIFIED:20231022T090010Z
UID:16902-1698314400-1698789600@salemforallages.org
SUMMARY:Hocus Pocus at Ropes Mansion
DESCRIPTION:Walk over to Ropes Mansion (318 Essex Street) – otherwise known as Allison’s house – to see the exterior decorated in the style of the classic Salem-based film Hocus Pocus.
URL:https://salemforallages.org/event/hocus-pocus-at-ropes-mansion/
ATTACH;FMTTYPE=image/jpeg:https://salemforallages.org/wp-content/uploads/2023/10/evEErie_lk_003a.jpg
END:VEVENT
BEGIN:VEVENT
DTSTART;TZID=America/New_York:20231026T100000
DTEND;TZID=America/New_York:20231026T170000
DTSTAMP:20260423T193003
CREATED:20231022T090014Z
LAST-MODIFIED:20231022T090014Z
UID:16904-1698314400-1698339600@salemforallages.org
SUMMARY:The Good Witch of Salem
DESCRIPTION:Attend one of our large events\, including Magical Tea Time 10/9\, Potion Party 10/22\, Costume Ball 10/22\, and Costume Parade. Book an in-store experience with plenty of family-friendly activities.
URL:https://salemforallages.org/event/the-good-witch-of-salem-26/
ATTACH;FMTTYPE=image/jpeg:https://salemforallages.org/wp-content/uploads/2023/09/Good-Witch-Basic-2.jpg
END:VEVENT
BEGIN:VEVENT
DTSTART;TZID=America/New_York:20231025T203000
DTEND;TZID=America/New_York:20231025T220000
DTSTAMP:20260423T193003
CREATED:20231022T090010Z
LAST-MODIFIED:20231022T090010Z
UID:16901-1698265800-1698271200@salemforallages.org
SUMMARY:After Hours Ghost Hunt
DESCRIPTION:Join Kimberly Bizjak of Paranormal Salem for Ghost Hunting! Use EMF detectors\, infrared thermometers\, audio recorders\, and more to collect evidence inside The Lost Museum! Combo tickets with Gallows Hill Main Show.
URL:https://salemforallages.org/event/after-hours-ghost-hunt-25/
ATTACH;FMTTYPE=image/jpeg:https://salemforallages.org/wp-content/uploads/2023/09/After-Hours-Ghost-Hunt-Basic.jpg
END:VEVENT
BEGIN:VEVENT
DTSTART;TZID=America/New_York:20231025T181500
DTEND;TZID=America/New_York:20231025T201500
DTSTAMP:20260423T193003
CREATED:20231022T090009Z
LAST-MODIFIED:20231022T090009Z
UID:16900-1698257700-1698264900@salemforallages.org
SUMMARY:Guilty! A Salem Witch Trial
DESCRIPTION:It’s 1692 in Salem\, and the audience is on trial for witchcraft! Hear testimony against you and plead your case. Will you be found guilty? Combo tickets with Gallows Hill Main Show. Show times 6:15 and 7:15. 
URL:https://salemforallages.org/event/guilty-a-salem-witch-trial-44/
ATTACH;FMTTYPE=image/jpeg:https://salemforallages.org/wp-content/uploads/2023/09/Guilty-Basic-6-2.jpg
END:VEVENT
BEGIN:VEVENT
DTSTART;TZID=America/New_York:20231025T180000
DTEND;TZID=America/New_York:20231025T220000
DTSTAMP:20260423T193003
CREATED:20231021T090013Z
LAST-MODIFIED:20231021T090013Z
UID:16899-1698256800-1698271200@salemforallages.org
SUMMARY:Spiritualism Tours at Hammond Castle Museum
DESCRIPTION:Since its completion in 1929\, Hammond Castle Museum has attracted rumors and urban legends of supernatural association and occult happening. While most of these wild stories can be dismissed as pure fiction\, the building occupies a fascinating place within the broader historical context of the development of spiritualist and spiritualist-adjacent fields in American culture. The spiritualist movement enthralled America’s upper and middle classes during the late 19th and early 20th centuries. Both John Hays Hammond Jr. and his wife\, Irene\, were fascinated with wide-ranging topics including Astrology\, Divination\, Numerology\, Extrasensory Perception (ESP)\, and Mediumship.\n\nEvery Thursday evening in August\, September and October (and even a couple of Wednesday nights in October too) we offer Spiritualism Tours.  This specialty tour explores the history of American spiritualism\, with a particular focus on contextualizing the movement within broader contemporary cultural trends and discussing the Hammonds’ own complicated engagements with these cultural phenomena. From John Hays Hammond Jr.’s attempts to communicate with supernatural entities using a Faraday Cage\, to Irene Hammond’s work on a comprehensive survey of astrological signs; over the course of this approximately 55-minute fully-guided tour\, the dramatic gothic-inspired architecture of the building and night-time atmosphere will set the stage for a fun and informative seasonal experience unlike any other!\n\nMember benefits apply to Spiritualism Tour tickets. All proceeds from this program will support the restoration and preservation of Hammond Castle Museum.
URL:https://salemforallages.org/event/spiritualism-tours-at-hammond-castle-museum-5/
END:VEVENT
BEGIN:VEVENT
DTSTART;TZID=America/New_York:20231025T180000
DTEND;TZID=America/New_York:20231025T210000
DTSTAMP:20260423T193003
CREATED:20231021T090012Z
LAST-MODIFIED:20231021T090012Z
UID:16898-1698256800-1698267600@salemforallages.org
SUMMARY:Spiritualism Tours of Hammond Castle Museum
DESCRIPTION:Since its completion in 1929\, Hammond Castle Museum has attracted rumors and urban legends of supernatural associations and occult happening. While most of these wild stories can be dismissed as pure fiction\, the building occupies a fascinating place within the broader historical context of the development of spiritualist and spiritualist-adjacent fields in American culture. The spiritualist movement enthralled America’s upper and middle classes during the late 19th and early 20th centuries. Both John Hays Hammond Jr. and his wife\, Irene\, were fascinated with wide-ranging topics including Astrology\, Divination\, Numerology\, Extrasensory Perception (ESP)\, and Mediumship. \nEvery Thursday evening in August\, September\, and October (and even a couple of Wednesday nights in October too) we offer Spiritualism Tours\, This specialty tour explores the history of American spiritualism\, with a particular focus on contextualizing the movement within broader contemporary cultural trends and discussing the Hammonds’ own complicated engagements with these cultural phenomena. From John Hays Hammond Jr.’s attempts to communicate with supernatural entities using a Faraday Cage\, to Irene Hammond’s work on a comprehensive survey of astrological signs; over the course of this approximately 55-minute fully-guided tour\, the dramatic gothic-inspired architecture of the building and night-time atmosphere will set the stage for a fun and informative seasonal experience unlike any other! \nCarry-In/Carry-Out Picnics: Guests may enjoy a carry-in/carry-out picnic on our seaside lawn before their tour on Thursday evenings in August! Reservations are $5 per party and start one hour prior to your ticketed evening tour. Reservations are required in advance.  Hammond Castle Museum members enjoy complimentary picnic reservations.
URL:https://salemforallages.org/event/spiritualism-tours-of-hammond-castle-museum-14/
ATTACH;FMTTYPE=image/jpeg:https://salemforallages.org/wp-content/uploads/2023/08/20200813_115337-1-1.jpg
END:VEVENT
BEGIN:VEVENT
DTSTART;TZID=America/New_York:20231025T180000
DTEND;TZID=America/New_York:20231025T200000
DTSTAMP:20260423T193003
CREATED:20231021T090012Z
LAST-MODIFIED:20231021T090012Z
UID:16897-1698256800-1698264000@salemforallages.org
SUMMARY:Bingo at Gulu-Gulu Cafe
DESCRIPTION:Stop by Gulu-Gulu Cafe for a fun trivia series that will excite and engage any audience! Quirky\, funny\, and free!
URL:https://salemforallages.org/event/bingo-at-gulu-gulu-cafe-13/
ATTACH;FMTTYPE=image/jpeg:https://salemforallages.org/wp-content/uploads/2023/08/BingoBoardNew.jpg
END:VEVENT
BEGIN:VEVENT
DTSTART;TZID=America/New_York:20231025T170000
DTEND;TZID=America/New_York:20231025T210000
DTSTAMP:20260423T193003
CREATED:20231021T090012Z
LAST-MODIFIED:20231021T090012Z
UID:16896-1698253200-1698267600@salemforallages.org
SUMMARY:Hollowed Harvest
DESCRIPTION:Experience Salem’s ONLY Jack-O’-Lantern festival at the Hollowed Harvest: Wicked Labyrinth! Salem’s beloved fall tradition brings hundreds of intricately carved Jack-O’-Lanterns to life in an all-ages walkthrough event.
URL:https://salemforallages.org/event/hollowed-harvest-21/
ATTACH;FMTTYPE=image/png:https://salemforallages.org/wp-content/uploads/2023/09/hollowed-harvest-hh.png
END:VEVENT
BEGIN:VEVENT
DTSTART;TZID=America/New_York:20231025T150000
DTEND;TZID=America/New_York:20231025T180000
DTSTAMP:20260423T193003
CREATED:20231021T090011Z
LAST-MODIFIED:20231021T090011Z
UID:16895-1698246000-1698256800@salemforallages.org
SUMMARY:Wicked Wednesdays at Phillips House
DESCRIPTION:Get wicked at Phillips House! This family-friendly drop-in event features historic games and fall crafts in the backyard. \nA family-themed tour of the house is included in your ticket. Tours are offered every half-hour. Last tour departs at 5:00 p.m. \nMember Family and Salem Residents $5; Nonmember Family $10.  Log in or join now to have your discount applied at checkout. \nPlease call 978-744-0440 for more information. \nSalem residents must call to receive a discount.
URL:https://salemforallages.org/event/wicked-wednesdays-at-phillips-house-3/
ATTACH;FMTTYPE=image/jpeg:https://salemforallages.org/wp-content/uploads/2023/10/Wicked-Wednesdays.jpg
END:VEVENT
BEGIN:VEVENT
DTSTART;TZID=America/New_York:20231025T100000
DTEND;TZID=America/New_York:20231025T170000
DTSTAMP:20260423T193003
CREATED:20231021T090011Z
LAST-MODIFIED:20231021T090011Z
UID:16894-1698228000-1698253200@salemforallages.org
SUMMARY:The Good Witch of Salem
DESCRIPTION:Attend one of our large events\, including Magical Tea Time 10/9\, Potion Party 10/22\, Costume Ball 10/22\, and Costume Parade. Book an in-store experience with plenty of family-friendly activities.
URL:https://salemforallages.org/event/the-good-witch-of-salem-25/
ATTACH;FMTTYPE=image/jpeg:https://salemforallages.org/wp-content/uploads/2023/09/Good-Witch-Basic-2.jpg
END:VEVENT
BEGIN:VEVENT
DTSTART;TZID=America/New_York:20231024T203000
DTEND;TZID=America/New_York:20231024T220000
DTSTAMP:20260423T193003
CREATED:20231021T090011Z
LAST-MODIFIED:20231021T090011Z
UID:16893-1698179400-1698184800@salemforallages.org
SUMMARY:After Hours Ghost Hunt
DESCRIPTION:Join Kimberly Bizjak of Paranormal Salem for Ghost Hunting! Use EMF detectors\, infrared thermometers\, audio recorders\, and more to collect evidence inside The Lost Museum! Combo tickets with Gallows Hill Main Show.
URL:https://salemforallages.org/event/after-hours-ghost-hunt-24/
ATTACH;FMTTYPE=image/jpeg:https://salemforallages.org/wp-content/uploads/2023/09/After-Hours-Ghost-Hunt-Basic.jpg
END:VEVENT
END:VCALENDAR