BEGIN:VCALENDAR
VERSION:2.0
PRODID:-//Salem for All Ages - ECPv6.15.18//NONSGML v1.0//EN
CALSCALE:GREGORIAN
METHOD:PUBLISH
X-WR-CALNAME:Salem for All Ages
X-ORIGINAL-URL:https://salemforallages.org
X-WR-CALDESC:Events for Salem for All Ages
REFRESH-INTERVAL;VALUE=DURATION:PT1H
X-Robots-Tag:noindex
X-PUBLISHED-TTL:PT1H
BEGIN:VTIMEZONE
TZID:America/New_York
BEGIN:DAYLIGHT
TZOFFSETFROM:-0500
TZOFFSETTO:-0400
TZNAME:EDT
DTSTART:20240310T070000
END:DAYLIGHT
BEGIN:STANDARD
TZOFFSETFROM:-0400
TZOFFSETTO:-0500
TZNAME:EST
DTSTART:20241103T060000
END:STANDARD
BEGIN:DAYLIGHT
TZOFFSETFROM:-0500
TZOFFSETTO:-0400
TZNAME:EDT
DTSTART:20250309T070000
END:DAYLIGHT
BEGIN:STANDARD
TZOFFSETFROM:-0400
TZOFFSETTO:-0500
TZNAME:EST
DTSTART:20251102T060000
END:STANDARD
BEGIN:DAYLIGHT
TZOFFSETFROM:-0500
TZOFFSETTO:-0400
TZNAME:EDT
DTSTART:20260308T070000
END:DAYLIGHT
BEGIN:STANDARD
TZOFFSETFROM:-0400
TZOFFSETTO:-0500
TZNAME:EST
DTSTART:20261101T060000
END:STANDARD
END:VTIMEZONE
BEGIN:VEVENT
DTSTART;TZID=America/New_York:20250618T113000
DTEND;TZID=America/New_York:20250618T150000
DTSTAMP:20260424T024147
CREATED:20250615T090009Z
LAST-MODIFIED:20250615T090009Z
UID:24062-1750246200-1750258800@salemforallages.org
SUMMARY:Potion Brewing Store Experience
DESCRIPTION:Make your visit to The Good Witch of Salem’s shop memorable by booking our in-store Potion Brewing Experience. This activity is led by our Witch Apprentices. \nActivities are recommended for children ages 3 and up. \n*One appointment slot for each child is required.*
URL:https://salemforallages.org/event/potion-brewing-store-experience-361/
ATTACH;FMTTYPE=image/jpeg:https://salemforallages.org/wp-content/uploads/2025/06/Final-Potion-Master-1-4.jpg
END:VEVENT
BEGIN:VEVENT
DTSTART;TZID=America/New_York:20250618T113000
DTEND;TZID=America/New_York:20250618T153000
DTSTAMP:20260424T024147
CREATED:20250614T090045Z
LAST-MODIFIED:20250614T090045Z
UID:24058-1750246200-1750260600@salemforallages.org
SUMMARY:Magical Transformations
DESCRIPTION:Through our “Magical Transformations” children embrace their charms and express their individuality. Children can choose to transform into a “Witch” or “Wizard”!
URL:https://salemforallages.org/event/magical-transformations-368/
ATTACH;FMTTYPE=image/jpeg:https://salemforallages.org/wp-content/uploads/2025/06/Magicaltransformations-6.jpg
END:VEVENT
BEGIN:VEVENT
DTSTART;TZID=America/New_York:20250618T120000
DTEND;TZID=America/New_York:20250618T133000
DTSTAMP:20260424T024147
CREATED:20250615T090012Z
LAST-MODIFIED:20250615T090012Z
UID:24064-1750248000-1750253400@salemforallages.org
SUMMARY:Craft Witch
DESCRIPTION:Craft Witch is a DIY crafting session with something for everyone! Choose from a wide array of options to create your very own one-of-a-kind craft. Whichever craft you decide to create\, you’ll be provided with all the materials\, tools\, and knowledge needed to let your creativity flourish. Unlike our broom making\, bookbinding\, and spelljar making workshops in which participants are being guided through the crafting process step-by step by an instructor\, the DIY nature of Craft Witch means that you can use the studio time however you wish. Check out the crafting options on our website!
URL:https://salemforallages.org/event/craft-witch-70/
ATTACH;FMTTYPE=image/jpeg:https://salemforallages.org/wp-content/uploads/2025/06/Image-from-iOS-scaled-7.jpg
END:VEVENT
BEGIN:VEVENT
DTSTART;TZID=America/New_York:20250618T180000
DTEND;TZID=America/New_York:20250618T200000
DTSTAMP:20260424T024147
CREATED:20250615T090016Z
LAST-MODIFIED:20250615T090016Z
UID:24066-1750269600-1750276800@salemforallages.org
SUMMARY:Free Bingo Night with Will Pottorff
DESCRIPTION:Come enjoy our weekly free Bingo hosted by the BINGO KING himself Will Pottorff!
URL:https://salemforallages.org/event/free-bingo-night-with-will-pottorff/
ATTACH;FMTTYPE=image/jpeg:https://salemforallages.org/wp-content/uploads/2025/06/c05c7178-2c36-4e12-bd6d-606da89f8c00.jpg
END:VEVENT
BEGIN:VEVENT
DTSTART;TZID=America/New_York:20250619T090000
DTEND;TZID=America/New_York:20250619T120000
DTSTAMP:20260424T024147
CREATED:20250615T090019Z
LAST-MODIFIED:20250615T090019Z
UID:24068-1750323600-1750334400@salemforallages.org
SUMMARY:Kids’ Summer Program at NSGS (10 years old & up)!
DESCRIPTION:Join us for a week of artistic enrichment and engagement at North Shore Glass School! For kids age 10+\, students will be welcomed at our glass studio at 16 Proctor Street for a week of glassblowing\, flameworking\, fused glass\, stained glass and sandblasting. Projects will include but are not limited to glassblowing paperweights and cups\, fused glass bowls and suncatchers\, flameworking pendants and small figurines\, stained glass window pieces and boxes and sandblasted cups and vases.
URL:https://salemforallages.org/event/kids-summer-program-at-nsgs-10-years-old-up-8/
ATTACH;FMTTYPE=image/jpeg:https://salemforallages.org/wp-content/uploads/2025/06/IMG_5288-scaled-8.jpg
END:VEVENT
BEGIN:VEVENT
DTSTART;TZID=America/New_York:20250619T090000
DTEND;TZID=America/New_York:20250619T120000
DTSTAMP:20260424T024147
CREATED:20250615T090023Z
LAST-MODIFIED:20250615T090023Z
UID:24070-1750323600-1750334400@salemforallages.org
SUMMARY:Junior Kids’ Glass Summer Program at Artist Row!
DESCRIPTION:North Shore Glass School is thrilled to announce our new kid’s glass art program at Artist Row this summer. This program is for kids aged 7-10 years old. In this week-long program\, kids will enjoy projects in stained glass\, fused glass\, sandblasting\, glass art painting and sea glass sculpting.
URL:https://salemforallages.org/event/junior-kids-glass-summer-program-at-artist-row-4/
ATTACH;FMTTYPE=image/jpeg:https://salemforallages.org/wp-content/uploads/2025/06/IMG_3862-scaled-4.jpg
END:VEVENT
BEGIN:VEVENT
DTSTART;TZID=America/New_York:20250619T090000
DTEND;TZID=America/New_York:20250619T120000
DTSTAMP:20260424T024147
CREATED:20250615T090027Z
LAST-MODIFIED:20250615T090027Z
UID:24072-1750323600-1750334400@salemforallages.org
SUMMARY:Kids’ Glass Summer Program at Artist Row!
DESCRIPTION:North Shore Glass School is thrilled to announce a summer program for kids aged 7-10 years old at Artist Row. Our kids summer program will run weekly June through August from 9-12pm. In this summer workshop\, kids will be introduced to the fine arts of fused glass\, stained glass\, sandblasting\, glass painting and sea glass sculpting.
URL:https://salemforallages.org/event/kids-glass-summer-program-at-artist-row-4/
ATTACH;FMTTYPE=image/jpeg:https://salemforallages.org/wp-content/uploads/2025/06/IMG_3862-1-scaled-4.jpg
END:VEVENT
BEGIN:VEVENT
DTSTART;TZID=America/New_York:20250619T100000
DTEND;TZID=America/New_York:20250619T110000
DTSTAMP:20260424T024147
CREATED:20250615T090031Z
LAST-MODIFIED:20250615T090031Z
UID:24074-1750327200-1750330800@salemforallages.org
SUMMARY:Adopt a Rainbow Bear
DESCRIPTION:Hosted By: Witch Apprentices \nChildren will stuff their own rainbow bear plush\, create accessories\, set intentions\, and learn about crystal magic! \nThis workshop is limited to 8 children\, pre-registration is required. \nAll ages are welcome! Children age three (3) and up may be dropped off with a signed Consent Form. Any child under the age of three must have an adult alongside participating. We thank you for encouraging your child to take part in magical play!
URL:https://salemforallages.org/event/adopt-a-rainbow-bear/
ATTACH;FMTTYPE=image/jpeg:https://salemforallages.org/wp-content/uploads/2025/06/FINAL-Rainbow-Bear-2.jpg
END:VEVENT
BEGIN:VEVENT
DTSTART;TZID=America/New_York:20250619T100000
DTEND;TZID=America/New_York:20250619T110000
DTSTAMP:20260424T024147
CREATED:20250615T090036Z
LAST-MODIFIED:20250615T090036Z
UID:24076-1750327200-1750330800@salemforallages.org
SUMMARY:Adopt a Rainbow Bear
DESCRIPTION:Workshop Time: 10:00AM – 11:00AM\nLocation: The Good Witch of Salem @ 2 North Street\, Salem MA 01970\nHosted By: Witch Apprentices \nChildren will stuff their own rainbow bear plush\, create accessories\, set intentions\, and learn about crystal magic! \nThis workshop is limited to 8 children\, pre-registration is required. \nAll ages are welcome! Children age three (3) and up may be dropped off with a signed Consent Form. Any child under the age of three must have an adult alongside participating. We thank you for encouraging your child to take part in magical play
URL:https://salemforallages.org/event/adopt-a-rainbow-bear-2/
ATTACH;FMTTYPE=image/jpeg:https://salemforallages.org/wp-content/uploads/2025/06/FINAL-Rainbow-Bear-2-1.jpg
END:VEVENT
BEGIN:VEVENT
DTSTART;TZID=America/New_York:20250619T110000
DTEND;TZID=America/New_York:20250619T160000
DTSTAMP:20260424T024147
CREATED:20250615T090041Z
LAST-MODIFIED:20250615T090041Z
UID:24078-1750330800-1750348800@salemforallages.org
SUMMARY:Juneteenth Jam
DESCRIPTION:The City of Salem is excited to invite all community members to this year’s Juneteenth Celebration\, taking place on June 19th at Charlotte Forten Park. This significant event\, known as the Juneteenth Jam\, will commence at noon and is an inclusive\, free community event celebrating freedom and unity.
URL:https://salemforallages.org/event/juneteenth-jam/
ATTACH;FMTTYPE=image/jpeg:https://salemforallages.org/wp-content/uploads/2025/06/Juneteenth-Salem-2022-Flag-Raising-scaled-2-scaled-1.jpg
END:VEVENT
BEGIN:VEVENT
DTSTART;TZID=America/New_York:20250619T113000
DTEND;TZID=America/New_York:20250619T140000
DTSTAMP:20260424T024147
CREATED:20250615T090052Z
LAST-MODIFIED:20250615T090052Z
UID:24084-1750332600-1750341600@salemforallages.org
SUMMARY:The Good Witch of Salem’s Bee Beautiful Potion
DESCRIPTION:Fly into The Good Witch and Stay for a Spell! Step into the DIY Good Witch of Salem’s Potion Bar\, where you can mix your very own magical potion creations! Choose your ingredients\, sprinkle in magical moondust\, add in your golden heart intentions\, and seal with a special charm to take home the enchantment!
URL:https://salemforallages.org/event/the-good-witch-of-salems-bee-beautiful-potion-2/
ATTACH;FMTTYPE=image/jpeg:https://salemforallages.org/wp-content/uploads/2025/06/Bee-Beautiful-scaled-2.jpg
END:VEVENT
BEGIN:VEVENT
DTSTART;TZID=America/New_York:20250619T113000
DTEND;TZID=America/New_York:20250619T160000
DTSTAMP:20260424T024147
CREATED:20250615T090044Z
LAST-MODIFIED:20250615T090044Z
UID:24080-1750332600-1750348800@salemforallages.org
SUMMARY:Magical Transformations
DESCRIPTION:Through our “Magical Transformations” children embrace their charms and express their individuality. Children can choose to transform into a “Witch” or “Wizard”!
URL:https://salemforallages.org/event/magical-transformations-369/
ATTACH;FMTTYPE=image/jpeg:https://salemforallages.org/wp-content/uploads/2025/06/Magicaltransformations-7.jpg
END:VEVENT
BEGIN:VEVENT
DTSTART;TZID=America/New_York:20250619T113000
DTEND;TZID=America/New_York:20250619T160000
DTSTAMP:20260424T024147
CREATED:20250615T090048Z
LAST-MODIFIED:20250615T090048Z
UID:24082-1750332600-1750348800@salemforallages.org
SUMMARY:Potion Brewing Store Experience
DESCRIPTION:Make your visit to The Good Witch of Salem’s shop memorable by booking our in-store Potion Brewing Experience. This activity is led by our Witch Apprentices. \nActivities are recommended for children ages 3 and up. \n*One appointment slot for each child is required.*
URL:https://salemforallages.org/event/potion-brewing-store-experience-362/
ATTACH;FMTTYPE=image/jpeg:https://salemforallages.org/wp-content/uploads/2025/06/Final-Potion-Master-1-1-5.jpg
END:VEVENT
BEGIN:VEVENT
DTSTART;TZID=America/New_York:20250619T120000
DTEND;TZID=America/New_York:20250619T133000
DTSTAMP:20260424T024147
CREATED:20250615T090056Z
LAST-MODIFIED:20250615T090056Z
UID:24086-1750334400-1750339800@salemforallages.org
SUMMARY:Craft Witch
DESCRIPTION:Craft Witch is a DIY crafting session with something for everyone! Choose from a wide array of options to create your very own one-of-a-kind craft. Whichever craft you decide to create\, you’ll be provided with all the materials\, tools\, and knowledge needed to let your creativity flourish. Unlike our broom making\, bookbinding\, and spelljar making workshops in which participants are being guided through the crafting process step-by step by an instructor\, the DIY nature of Craft Witch means that you can use the studio time however you wish. Check out the crafting options on our website!
URL:https://salemforallages.org/event/craft-witch-71/
ATTACH;FMTTYPE=image/jpeg:https://salemforallages.org/wp-content/uploads/2025/06/Image-from-iOS-scaled-8.jpg
END:VEVENT
BEGIN:VEVENT
DTSTART;TZID=America/New_York:20250619T140000
DTEND;TZID=America/New_York:20250619T160000
DTSTAMP:20260424T024147
CREATED:20250615T090059Z
LAST-MODIFIED:20250615T090059Z
UID:24088-1750341600-1750348800@salemforallages.org
SUMMARY:Salem Discovery Paddle Tours
DESCRIPTION:Embark on a serene paddleboard or kayak journey along the enchanting coastlines of Salem and Beverly Harbors\, where each stroke of your paddle unveils narratives ranging from historic naval battles to the infamous witch trials\, echoing the vibrant past of what was once the world’s busiest trading port.
URL:https://salemforallages.org/event/salem-discovery-paddle-tours-7/
ATTACH;FMTTYPE=image/jpeg:https://salemforallages.org/wp-content/uploads/2025/06/IMG_0793-1-scaled-2.jpeg
END:VEVENT
BEGIN:VEVENT
DTSTART;TZID=America/New_York:20250619T150000
DTEND;TZID=America/New_York:20250619T190000
DTSTAMP:20260424T024147
CREATED:20250615T090102Z
LAST-MODIFIED:20250615T090102Z
UID:24090-1750345200-1750359600@salemforallages.org
SUMMARY:Salem Farmer’s Market
DESCRIPTION:Thursdays\, June 12th through October 9th\nThe Salem Farmers’ Market is a tradition that dates back to 1634. The Salem Farmers Market features local farms every Thursday from 3 p.m. to 7\np.m.
URL:https://salemforallages.org/event/salem-farmers-market-118/
ATTACH;FMTTYPE=image/jpeg:https://salemforallages.org/wp-content/uploads/2020/08/farmers-market.jpg
END:VEVENT
BEGIN:VEVENT
DTSTART;TZID=America/New_York:20250619T193000
DTEND;TZID=America/New_York:20250619T233000
DTSTAMP:20260424T024147
CREATED:20250615T090103Z
LAST-MODIFIED:20250615T090103Z
UID:24091-1750361400-1750375800@salemforallages.org
SUMMARY:Open Mic
DESCRIPTION:Come join us for our weekly free Open Mic shindig every Thursday. Sign ups start at 7:30pm and the event starts at 8pm. Hope to see you here!
URL:https://salemforallages.org/event/open-mic-2/
ATTACH;FMTTYPE=image/jpeg:https://salemforallages.org/wp-content/uploads/2025/06/OpenMic-Twitter.jpg
END:VEVENT
BEGIN:VEVENT
DTSTART;TZID=America/New_York:20250620T090000
DTEND;TZID=America/New_York:20250620T103000
DTSTAMP:20260424T024147
CREATED:20250616T090009Z
LAST-MODIFIED:20250616T090009Z
UID:24098-1750410000-1750415400@salemforallages.org
SUMMARY:Family Paddle
DESCRIPTION:Create lasting memories with a family adventure on the water! Our Salem Family Paddles are designed for families of all ages\, combining easy paddling\, fun games\, and light instruction in a safe\, supportive setting. Explore Salem’s scenic harbor together while learning new skills and spotting seabirds\, boats\, and coastal landmarks. With experienced guides leading the way\, it’s the perfect way for families to connect with the natural and historical beauty of Salem.
URL:https://salemforallages.org/event/family-paddle-4/
ATTACH;FMTTYPE=image/jpeg:https://salemforallages.org/wp-content/uploads/2025/05/CoasttoCoast2022-224.jpg
END:VEVENT
BEGIN:VEVENT
DTSTART;TZID=America/New_York:20250620T090000
DTEND;TZID=America/New_York:20250620T120000
DTSTAMP:20260424T024147
CREATED:20250615T090104Z
LAST-MODIFIED:20250615T090104Z
UID:24092-1750410000-1750420800@salemforallages.org
SUMMARY:Kids’ Summer Program at NSGS (10 years old & up)!
DESCRIPTION:Join us for a week of artistic enrichment and engagement at North Shore Glass School! For kids age 10+\, students will be welcomed at our glass studio at 16 Proctor Street for a week of glassblowing\, flameworking\, fused glass\, stained glass and sandblasting. Projects will include but are not limited to glassblowing paperweights and cups\, fused glass bowls and suncatchers\, flameworking pendants and small figurines\, stained glass window pieces and boxes and sandblasted cups and vases.
URL:https://salemforallages.org/event/kids-summer-program-at-nsgs-10-years-old-up-9/
ATTACH;FMTTYPE=image/jpeg:https://salemforallages.org/wp-content/uploads/2025/06/IMG_5288-scaled-9.jpg
END:VEVENT
BEGIN:VEVENT
DTSTART;TZID=America/New_York:20250620T090000
DTEND;TZID=America/New_York:20250620T120000
DTSTAMP:20260424T024147
CREATED:20250615T090108Z
LAST-MODIFIED:20250615T090108Z
UID:24094-1750410000-1750420800@salemforallages.org
SUMMARY:Junior Kids’ Glass Summer Program at Artist Row!
DESCRIPTION:North Shore Glass School is thrilled to announce our new kid’s glass art program at Artist Row this summer. This program is for kids aged 7-10 years old. In this week-long program\, kids will enjoy projects in stained glass\, fused glass\, sandblasting\, glass art painting and sea glass sculpting.
URL:https://salemforallages.org/event/junior-kids-glass-summer-program-at-artist-row-5/
ATTACH;FMTTYPE=image/jpeg:https://salemforallages.org/wp-content/uploads/2025/06/IMG_3862-scaled-5.jpg
END:VEVENT
BEGIN:VEVENT
DTSTART;TZID=America/New_York:20250620T090000
DTEND;TZID=America/New_York:20250620T120000
DTSTAMP:20260424T024147
CREATED:20250616T090005Z
LAST-MODIFIED:20250616T090005Z
UID:24096-1750410000-1750420800@salemforallages.org
SUMMARY:Kids’ Glass Summer Program at Artist Row!
DESCRIPTION:North Shore Glass School is thrilled to announce a summer program for kids aged 7-10 years old at Artist Row. Our kids summer program will run weekly June through August from 9-12pm. In this summer workshop\, kids will be introduced to the fine arts of fused glass\, stained glass\, sandblasting\, glass painting and sea glass sculpting.
URL:https://salemforallages.org/event/kids-glass-summer-program-at-artist-row-5/
ATTACH;FMTTYPE=image/jpeg:https://salemforallages.org/wp-content/uploads/2025/06/IMG_3862-1-scaled-5.jpg
END:VEVENT
BEGIN:VEVENT
DTSTART;TZID=America/New_York:20250620T100000
DTEND;TZID=America/New_York:20250620T110000
DTSTAMP:20260424T024147
CREATED:20250616T090009Z
LAST-MODIFIED:20250616T090009Z
UID:24099-1750413600-1750417200@salemforallages.org
SUMMARY:Rainbow Spa Day
DESCRIPTION:Let’s have a Rainbow Spa Day! Join us for a little pampering and relaxation with our Witch Apprentices. Children will create their own rainbow potion and receive sparkly nails\, rainbow hair accessories\, and a touch of glitter with pink lips and rosy cheeks.
URL:https://salemforallages.org/event/rainbow-spa-day-5/
ATTACH;FMTTYPE=image/jpeg:https://salemforallages.org/wp-content/uploads/2025/06/FINAL-Rainbow-Spa-Party.jpg
END:VEVENT
BEGIN:VEVENT
DTSTART;TZID=America/New_York:20250620T110000
DTEND;TZID=America/New_York:20250620T133000
DTSTAMP:20260424T024147
CREATED:20250616T090015Z
LAST-MODIFIED:20250616T090015Z
UID:24101-1750417200-1750426200@salemforallages.org
SUMMARY:El Punto Resteraunt & Mural Tour
DESCRIPTION:Please join North Shore CDC for a tour of Salem’s vibrant\, historic Point neighborhood on Thursday\, May 22nd from 11:00 AM to 1:30 PM. Immerse yourself in the community on this walking mural tour of the Punto Urban Art Museum while you learn about local history\, art\, culture and restaurants. Attendees will sample a taste from each eatery highlighted! \nThe tour is free to attend\, but donations are welcome. We will begin at El Patio\, located behind 98 Lafayette Street in Salem. \nNEW Date – now on June 20th.
URL:https://salemforallages.org/event/el-punto-resteraunt-mural-tour-2/
ATTACH;FMTTYPE=image/jpeg:https://salemforallages.org/wp-content/uploads/2025/05/North-Shore-CDC-Tour.jpg
END:VEVENT
BEGIN:VEVENT
DTSTART;TZID=America/New_York:20250620T110000
DTEND;TZID=America/New_York:20250620T170000
DTSTAMP:20260424T024147
CREATED:20250616T090015Z
LAST-MODIFIED:20250616T090015Z
UID:24102-1750417200-1750438800@salemforallages.org
SUMMARY:Personal Rainbow Aura Photos
DESCRIPTION:What would the world become if everyone saw themselves as an energetic being? Each Personal Rainbow appointment comes with an instant-film aura photo and personalized reading of the colors and patterns. Bring a buddy at no extra charge to see your vibe as a dynamic duo! Book ahead as walk-ins fill up quickly\, appointments available Thursday-Monday.
URL:https://salemforallages.org/event/personal-rainbow-aura-photos-20/
ATTACH;FMTTYPE=image/jpeg:https://salemforallages.org/wp-content/uploads/2025/06/aura-photos-hauswitch-salem-4.jpg
END:VEVENT
BEGIN:VEVENT
DTSTART;TZID=America/New_York:20250620T113000
DTEND;TZID=America/New_York:20250620T140000
DTSTAMP:20260424T024147
CREATED:20250616T090026Z
LAST-MODIFIED:20250616T090026Z
UID:24108-1750419000-1750428000@salemforallages.org
SUMMARY:The Good Witch of Salem’s Sunny Days Potion
DESCRIPTION:Fly into The Good Witch and Stay for a Spell! Step into the DIY Good Witch of Salem’s Potion Bar\, where you can mix your very own magical potion creations! Choose your ingredients\, sprinkle in magical moondust\, add in your golden heart intentions\, and seal with a special charm to take home the enchantment!
URL:https://salemforallages.org/event/the-good-witch-of-salems-sunny-days-potion-5/
ATTACH;FMTTYPE=image/jpeg:https://salemforallages.org/wp-content/uploads/2025/06/Sunny-Day-scaled-3.jpg
END:VEVENT
BEGIN:VEVENT
DTSTART;TZID=America/New_York:20250620T113000
DTEND;TZID=America/New_York:20250620T160000
DTSTAMP:20260424T024147
CREATED:20250616T090019Z
LAST-MODIFIED:20250616T090019Z
UID:24104-1750419000-1750435200@salemforallages.org
SUMMARY:Magical Transformations
DESCRIPTION:Through our “Magical Transformations” children embrace their charms and express their individuality. Children can choose to transform into a “Witch” or “Wizard”!
URL:https://salemforallages.org/event/magical-transformations-370/
ATTACH;FMTTYPE=image/jpeg:https://salemforallages.org/wp-content/uploads/2025/06/Magicaltransformations-8.jpg
END:VEVENT
BEGIN:VEVENT
DTSTART;TZID=America/New_York:20250620T113000
DTEND;TZID=America/New_York:20250620T160000
DTSTAMP:20260424T024147
CREATED:20250616T090023Z
LAST-MODIFIED:20250616T090023Z
UID:24106-1750419000-1750435200@salemforallages.org
SUMMARY:Potion Brewing Store Experience
DESCRIPTION:Make your visit to The Good Witch of Salem’s shop memorable by booking our in-store Potion Brewing Experience. This activity is led by our Witch Apprentices. \nActivities are recommended for children ages 3 and up. \n*One appointment slot for each child is required.*
URL:https://salemforallages.org/event/potion-brewing-store-experience-363/
ATTACH;FMTTYPE=image/jpeg:https://salemforallages.org/wp-content/uploads/2025/06/Final-Potion-Master-1-1-6.jpg
END:VEVENT
BEGIN:VEVENT
DTSTART;TZID=America/New_York:20250620T120000
DTEND;TZID=America/New_York:20250620T133000
DTSTAMP:20260424T024147
CREATED:20250616T090030Z
LAST-MODIFIED:20250616T090030Z
UID:24110-1750420800-1750426200@salemforallages.org
SUMMARY:Craft Witch
DESCRIPTION:Craft Witch is a DIY crafting session with something for everyone! Choose from a wide array of options to create your very own one-of-a-kind craft. Whichever craft you decide to create\, you’ll be provided with all the materials\, tools\, and knowledge needed to let your creativity flourish. Unlike our broom making\, bookbinding\, and spelljar making workshops in which participants are being guided through the crafting process step-by step by an instructor\, the DIY nature of Craft Witch means that you can use the studio time however you wish. Check out the crafting options on our website!
URL:https://salemforallages.org/event/craft-witch-72/
ATTACH;FMTTYPE=image/jpeg:https://salemforallages.org/wp-content/uploads/2025/06/Image-from-iOS-scaled-9.jpg
END:VEVENT
BEGIN:VEVENT
DTSTART;TZID=America/New_York:20250620T180000
DTEND;TZID=America/New_York:20250620T200000
DTSTAMP:20260424T024147
CREATED:20250616T090033Z
LAST-MODIFIED:20250616T090033Z
UID:24112-1750442400-1750449600@salemforallages.org
SUMMARY:Punk Pianist Concert
DESCRIPTION:Join the Salem Art Gallery on June 20th or June 21st for an enchanting candlelit piano concert by Daniel Villasenor\, also known as The Punk Pianist. Experience an evening of beautiful melodies in an intimate gallery environment. The atmosphere will allow you to fully immerse yourself in the music while surrounded by inspiring artwork. Whether you are a seasoned concert-goer or new to live performances\, this event is sure to be a memorable experience.
URL:https://salemforallages.org/event/punk-pianist-concert/
ATTACH;FMTTYPE=image/png:https://salemforallages.org/wp-content/uploads/2025/06/Artboard-3-copy.png
END:VEVENT
BEGIN:VEVENT
DTSTART;TZID=America/New_York:20250620T184500
DTEND;TZID=America/New_York:20250620T201500
DTSTAMP:20260424T024147
CREATED:20250617T090009Z
LAST-MODIFIED:20250617T090009Z
UID:24116-1750445100-1750450500@salemforallages.org
SUMMARY:Sunset Kayak & Paddleboard Tour
DESCRIPTION:Enjoy a relaxing paddle tour along the coastline of Salem Neck as the sun sets over the Harbor. Tour launches from Salem Willows and is open to all levels of paddlers\, including beginners. Kayaks and paddle boards available. Age 18+
URL:https://salemforallages.org/event/sunset-kayak-paddleboard-tour-2/
ATTACH;FMTTYPE=image/jpeg:https://salemforallages.org/wp-content/uploads/2025/06/IMG_3074-scaled-2.jpeg
END:VEVENT
END:VCALENDAR