BEGIN:VCALENDAR
VERSION:2.0
PRODID:-//Salem for All Ages - ECPv6.15.18//NONSGML v1.0//EN
CALSCALE:GREGORIAN
METHOD:PUBLISH
X-WR-CALNAME:Salem for All Ages
X-ORIGINAL-URL:https://salemforallages.org
X-WR-CALDESC:Events for Salem for All Ages
REFRESH-INTERVAL;VALUE=DURATION:PT1H
X-Robots-Tag:noindex
X-PUBLISHED-TTL:PT1H
BEGIN:VTIMEZONE
TZID:America/New_York
BEGIN:DAYLIGHT
TZOFFSETFROM:-0500
TZOFFSETTO:-0400
TZNAME:EDT
DTSTART:20240310T070000
END:DAYLIGHT
BEGIN:STANDARD
TZOFFSETFROM:-0400
TZOFFSETTO:-0500
TZNAME:EST
DTSTART:20241103T060000
END:STANDARD
BEGIN:DAYLIGHT
TZOFFSETFROM:-0500
TZOFFSETTO:-0400
TZNAME:EDT
DTSTART:20250309T070000
END:DAYLIGHT
BEGIN:STANDARD
TZOFFSETFROM:-0400
TZOFFSETTO:-0500
TZNAME:EST
DTSTART:20251102T060000
END:STANDARD
BEGIN:DAYLIGHT
TZOFFSETFROM:-0500
TZOFFSETTO:-0400
TZNAME:EDT
DTSTART:20260308T070000
END:DAYLIGHT
BEGIN:STANDARD
TZOFFSETFROM:-0400
TZOFFSETTO:-0500
TZNAME:EST
DTSTART:20261101T060000
END:STANDARD
END:VTIMEZONE
BEGIN:VEVENT
DTSTART;TZID=America/New_York:20250220T140000
DTEND;TZID=America/New_York:20250220T150000
DTSTAMP:20260424T052041
CREATED:20250210T100014Z
LAST-MODIFIED:20250210T100014Z
UID:22418-1740060000-1740063600@salemforallages.org
SUMMARY:Dinosaur Slime Potion
DESCRIPTION:Children will create their own dinosaur themed slime creation. Students will get to take home their slime. Our magical employees will guide children in creating their own slime creations.
URL:https://salemforallages.org/event/dinosaur-slime-potion/
ATTACH;FMTTYPE=image/jpeg:https://salemforallages.org/wp-content/uploads/2025/02/Dinosaur-Slime-Potions-2.jpg
END:VEVENT
BEGIN:VEVENT
DTSTART;TZID=America/New_York:20250220T120000
DTEND;TZID=America/New_York:20250220T133000
DTSTAMP:20260424T052041
CREATED:20250220T100008Z
LAST-MODIFIED:20250220T100008Z
UID:22489-1740052800-1740058200@salemforallages.org
SUMMARY:Craft Witch
DESCRIPTION:Craft Witch is a DIY crafting session with something for everyone! Choose from a wide array of options to create your very own one-of-a-kind craft. Whichever craft you decide to create\, you’ll be provided with all the materials\, tools\, and knowledge needed to let your creativity flourish. Unlike our broom making\, bookbinding\, and spelljar making workshops in which participants are being guided through the crafting process step-by step by an instructor\, the DIY nature of Craft Witch means that you can use the studio time however you wish. Check out the crafting options on our website!
URL:https://salemforallages.org/event/craft-witch/
ATTACH;FMTTYPE=image/jpeg:https://salemforallages.org/wp-content/uploads/2025/02/Image-from-iOS-scaled-1.jpg
END:VEVENT
BEGIN:VEVENT
DTSTART;TZID=America/New_York:20250220T113000
DTEND;TZID=America/New_York:20250220T160000
DTSTAMP:20260424T052041
CREATED:20250210T100010Z
LAST-MODIFIED:20250210T100010Z
UID:22416-1740051000-1740067200@salemforallages.org
SUMMARY:Potion Brewing Store Experience
DESCRIPTION:Make your visit to The Good Witch of Salem’s shop memorable by booking our in-store Potion Brewing Experience. This activity is led by our Witch Apprentices. \nActivities are recommended for children ages 3 and up. \n*One appointment slot for each child is required.*
URL:https://salemforallages.org/event/potion-brewing-store-experience-242/
ATTACH;FMTTYPE=image/jpeg:https://salemforallages.org/wp-content/uploads/2025/02/Potion-Brewing-Store-Experience-5.jpg
END:VEVENT
BEGIN:VEVENT
DTSTART;TZID=America/New_York:20250220T113000
DTEND;TZID=America/New_York:20250220T160000
DTSTAMP:20260424T052041
CREATED:20250210T100009Z
LAST-MODIFIED:20250210T100009Z
UID:22415-1740051000-1740067200@salemforallages.org
SUMMARY:Magical Transformations
DESCRIPTION:Through our “Magical Transformations” children embrace their charms and express their individuality. Children can choose to transform into a “Witch” or “Wizard”!
URL:https://salemforallages.org/event/magical-transformations-250/
ATTACH;FMTTYPE=image/png:https://salemforallages.org/wp-content/uploads/2024/08/Transformations.png
END:VEVENT
BEGIN:VEVENT
DTSTART;TZID=America/New_York:20250220T100000
DTEND;TZID=America/New_York:20250220T160000
DTSTAMP:20260424T052041
CREATED:20250214T100007Z
LAST-MODIFIED:20250214T100007Z
UID:22446-1740045600-1740067200@salemforallages.org
SUMMARY:Revere Beach Stories: Photographs and Poems
DESCRIPTION:Poets Jennifer Martelli and Kevin Carey grew up in Revere in the 1960s and 70’s.They’ve both written extensively about this city and its three-mile beachfront. Stephenie Young\, a Somerville photographer\, originally from California was drawn to this local East Coast ocean and its unfamiliar culture during the pandemic. Thus began a long-term photo project about everyday life in the beach city. After a chance conversation over those photographs and a few poems\, this collaboration was born. \nFebruary 21 – 6-8 pm\nArtist Reception and Reading \nWinfisky Gallery hours: Monday – Friday\, 10am-4pm
URL:https://salemforallages.org/event/revere-beach-stories-photographs-and-poems-3/
END:VEVENT
BEGIN:VEVENT
DTSTART;TZID=America/New_York:20250220T100000
DTEND;TZID=America/New_York:20250220T160000
DTSTAMP:20260424T052041
CREATED:20250213T100022Z
LAST-MODIFIED:20250213T100022Z
UID:22440-1740045600-1740067200@salemforallages.org
SUMMARY:Kids Free Week at Hammond Castle Museum
DESCRIPTION:Discover\, Explore\, and Learn at Hammond Castle Museum this February School Vacation Week! \nLet your child’s imagination soar and join us as we welcome school-age children to explore the home and innovative legacy of one of America’s most prolific inventors\, John Hays Hammond Jr. Dive into the world of science\, technology\, and creativity with self-guided tours that allow visitors to move through the Museum’s galleries at their own pace. \nLittle ones can embark on an animal-themed adventure designed to keep them engaged throughout the Museum. Older kids will love engaging with our digital panel!
URL:https://salemforallages.org/event/kids-free-week-at-hammond-castle-museum-4/
ATTACH;FMTTYPE=image/jpeg:https://salemforallages.org/wp-content/uploads/2025/02/We-are-closed-notes-templates-13-3-scaled-4.jpg
END:VEVENT
BEGIN:VEVENT
DTSTART;TZID=America/New_York:20250220T100000
DTEND;TZID=America/New_York:20250220T160000
DTSTAMP:20260424T052041
CREATED:20250210T100006Z
LAST-MODIFIED:20250210T100006Z
UID:22412-1740045600-1740067200@salemforallages.org
SUMMARY:Leslie’s Retreat: Salem on the Brink of Revolution Exhibit
DESCRIPTION:This National Park Service exhibit will explore why Crown soldiers under Lt. Col. Alexander Leslie came to Salem on February 26\, 1775\, who were the major players in the event\, and how this event has been remembered and celebrated in Salem in the last 250 years. \nThis free exhibit will be on display from February 15th -April 27th at the Salem Armory Visitor Center\, 2 New Liberty Street\, Salem. \nThe Salem Armory Visitor Center is open Wednesday – Sunday\, 10 am – 4 pm.
URL:https://salemforallages.org/event/leslies-retreat-salem-on-the-brink-of-revolution-exhibit-4/
ATTACH;FMTTYPE=image/jpeg:https://salemforallages.org/wp-content/uploads/2025/02/1775_1782_Salem-Old-North-Bridge-Leslie-Retreat-800x600-1.jpg
END:VEVENT
BEGIN:VEVENT
DTSTART;TZID=America/New_York:20250220T100000
DTEND;TZID=America/New_York:20250220T110000
DTSTAMP:20260424T052041
CREATED:20250210T100006Z
LAST-MODIFIED:20250210T100006Z
UID:22413-1740045600-1740049200@salemforallages.org
SUMMARY:Hands-on History with Historic Beverly
DESCRIPTION:This Black History Month\, join Krystina Yeager of Historic Beverly at the Salem Armory Visitor Center to hear stories about the lives of local Black residents in Essex County based on new research that’s been uncovered. Through engaging hands-on activities\, we will explore parts of 18th century Black history\, culture\, and daily life that are often overlooked. Come feel fabric samples\, play period games\, and even learn how to do the minuet! \nThis 45-minute program is free\, family-friendly\, and open to all ages but geared towards kids 7+. \nRegistration is strongly encouraged\, space is limited.
URL:https://salemforallages.org/event/hands-on-history-with-historic-beverly/
ATTACH;FMTTYPE=image/jpeg:https://salemforallages.org/wp-content/uploads/2025/02/Hands-on-History-with-Historic-Beverly-Feb-2025-scaled-1.jpg
END:VEVENT
BEGIN:VEVENT
DTSTART;TZID=America/New_York:20250220T100000
DTEND;TZID=America/New_York:20250220T110000
DTSTAMP:20260424T052041
CREATED:20250209T100035Z
LAST-MODIFIED:20250209T100035Z
UID:22410-1740045600-1740049200@salemforallages.org
SUMMARY:Arctic Slime
DESCRIPTION:Children will create their own arctic themed slime creation. Students will get to take home their slime. Our magical employees will guide children in creating their own slime creations.
URL:https://salemforallages.org/event/arctic-slime-3/
ATTACH;FMTTYPE=image/jpeg:https://salemforallages.org/wp-content/uploads/2025/02/Arctic-Slime-Potion-2.jpg
END:VEVENT
BEGIN:VEVENT
DTSTART;TZID=America/New_York:20250219T100000
DTEND;TZID=America/New_York:20250219T160000
DTSTAMP:20260424T052041
CREATED:20250214T100007Z
LAST-MODIFIED:20250214T100007Z
UID:22445-1739959200-1739980800@salemforallages.org
SUMMARY:Revere Beach Stories: Photographs and Poems
DESCRIPTION:Poets Jennifer Martelli and Kevin Carey grew up in Revere in the 1960s and 70’s.They’ve both written extensively about this city and its three-mile beachfront. Stephenie Young\, a Somerville photographer\, originally from California was drawn to this local East Coast ocean and its unfamiliar culture during the pandemic. Thus began a long-term photo project about everyday life in the beach city. After a chance conversation over those photographs and a few poems\, this collaboration was born. \nFebruary 21 – 6-8 pm\nArtist Reception and Reading \nWinfisky Gallery hours: Monday – Friday\, 10am-4pm
URL:https://salemforallages.org/event/revere-beach-stories-photographs-and-poems-2/
END:VEVENT
BEGIN:VEVENT
DTSTART;TZID=America/New_York:20250219T100000
DTEND;TZID=America/New_York:20250219T160000
DTSTAMP:20260424T052041
CREATED:20250213T100015Z
LAST-MODIFIED:20250213T100015Z
UID:22436-1739959200-1739980800@salemforallages.org
SUMMARY:Kids Free Week at Hammond Castle Museum
DESCRIPTION:Discover\, Explore\, and Learn at Hammond Castle Museum this February School Vacation Week! \nLet your child’s imagination soar and join us as we welcome school-age children to explore the home and innovative legacy of one of America’s most prolific inventors\, John Hays Hammond Jr. Dive into the world of science\, technology\, and creativity with self-guided tours that allow visitors to move through the Museum’s galleries at their own pace. \nLittle ones can embark on an animal-themed adventure designed to keep them engaged throughout the Museum. Older kids will love engaging with our digital panel!
URL:https://salemforallages.org/event/kids-free-week-at-hammond-castle-museum-3/
ATTACH;FMTTYPE=image/jpeg:https://salemforallages.org/wp-content/uploads/2025/02/We-are-closed-notes-templates-13-3-scaled-3.jpg
END:VEVENT
BEGIN:VEVENT
DTSTART;TZID=America/New_York:20250219T100000
DTEND;TZID=America/New_York:20250219T160000
DTSTAMP:20260424T052041
CREATED:20250209T100031Z
LAST-MODIFIED:20250209T100031Z
UID:22407-1739959200-1739980800@salemforallages.org
SUMMARY:Leslie’s Retreat: Salem on the Brink of Revolution Exhibit
DESCRIPTION:This National Park Service exhibit will explore why Crown soldiers under Lt. Col. Alexander Leslie came to Salem on February 26\, 1775\, who were the major players in the event\, and how this event has been remembered and celebrated in Salem in the last 250 years. \nThis free exhibit will be on display from February 15th -April 27th at the Salem Armory Visitor Center\, 2 New Liberty Street\, Salem. \nThe Salem Armory Visitor Center is open Wednesday – Sunday\, 10 am – 4 pm.
URL:https://salemforallages.org/event/leslies-retreat-salem-on-the-brink-of-revolution-exhibit-3/
ATTACH;FMTTYPE=image/jpeg:https://salemforallages.org/wp-content/uploads/2025/02/1775_1782_Salem-Old-North-Bridge-Leslie-Retreat-800x600-1.jpg
END:VEVENT
BEGIN:VEVENT
DTSTART;TZID=America/New_York:20250219T100000
DTEND;TZID=America/New_York:20250219T123000
DTSTAMP:20260424T052041
CREATED:20250213T100018Z
LAST-MODIFIED:20250213T100018Z
UID:22438-1739959200-1739968200@salemforallages.org
SUMMARY:The History of Medieval Arms & Armor & Self-Guided Tours of
DESCRIPTION:Join Curatorial Director John Leysath for a presentation on the history and engineering of medieval European armaments. On display will be a selection of replica helmets\, armor pieces\, and weaponry from the medieval to Renaissance periods. \nThis hour-long presentation will explore the evolution of armor and weapons throughout the Middle Ages\, as well as the science behind their construction and use. It will include a discussion about the career paths of knights and blacksmiths and a demonstration of how their equipment was cleaned and maintained.
URL:https://salemforallages.org/event/the-history-of-medieval-arms-armor-self-guided-tours-of/
ATTACH;FMTTYPE=image/jpeg:https://salemforallages.org/wp-content/uploads/2025/02/Self-Guided-Tours-Veevart-4-1-scaled-1.jpg
END:VEVENT
BEGIN:VEVENT
DTSTART;TZID=America/New_York:20250219T100000
DTEND;TZID=America/New_York:20250219T110000
DTSTAMP:20260424T052041
CREATED:20250209T100031Z
LAST-MODIFIED:20250209T100031Z
UID:22408-1739959200-1739962800@salemforallages.org
SUMMARY:Magic Mirrors and Affirmations
DESCRIPTION:Hosted By: The Good Witch of Salem\nJoin The Good Witch of Salem for a magical crafting experience where you’ll create your own enchanted mirror of self-love. Decorate your mirror with sparkling gems\, vibrant colors\, and magical details as you infuse it with positive energy. Complete the experience by reciting heartfelt affirmations to reflect your inner beauty and empower your spirit!
URL:https://salemforallages.org/event/magic-mirrors-and-affirmations/
ATTACH;FMTTYPE=image/jpeg:https://salemforallages.org/wp-content/uploads/2025/02/Magic-Mirror-2.jpg
END:VEVENT
BEGIN:VEVENT
DTSTART;TZID=America/New_York:20250218T193000
DTEND;TZID=America/New_York:20250218T210000
DTSTAMP:20260424T052041
CREATED:20250209T100031Z
LAST-MODIFIED:20250209T100031Z
UID:22406-1739907000-1739912400@salemforallages.org
SUMMARY:Trivia Time
DESCRIPTION:General knowledge trivia every Tuesday at 7:30. Free to play. Win a Flying Saucer gift card!
URL:https://salemforallages.org/event/trivia-time-3/
ATTACH;FMTTYPE=image/jpeg:https://salemforallages.org/wp-content/uploads/2025/01/trivia-aframe-Medium.jpeg
END:VEVENT
BEGIN:VEVENT
DTSTART;TZID=America/New_York:20250218T140000
DTEND;TZID=America/New_York:20250218T150000
DTSTAMP:20260424T052041
CREATED:20250209T100025Z
LAST-MODIFIED:20250209T100025Z
UID:22404-1739887200-1739890800@salemforallages.org
SUMMARY:Adopt a Snowman
DESCRIPTION:Children will stuff their own snowman plush\, create accessories\, and learn about crystal magic! \nThis workshop is limited to 5 children\, pre-registration is required. \nAll ages are welcome! Children age three (3) and up may be dropped off with a signed Consent Form. Any child under the age of three must have an adult alongside participating. We thank you for encouraging your child to take part in magical play!
URL:https://salemforallages.org/event/adopt-a-snowman-3/
ATTACH;FMTTYPE=image/jpeg:https://salemforallages.org/wp-content/uploads/2025/02/Adopt-a-Snowman-Instagram-1.jpg
END:VEVENT
BEGIN:VEVENT
DTSTART;TZID=America/New_York:20250218T100000
DTEND;TZID=America/New_York:20250218T160000
DTSTAMP:20260424T052041
CREATED:20250214T100006Z
LAST-MODIFIED:20250214T100006Z
UID:22444-1739872800-1739894400@salemforallages.org
SUMMARY:Revere Beach Stories: Photographs and Poems
DESCRIPTION:Poets Jennifer Martelli and Kevin Carey grew up in Revere in the 1960s and 70’s.They’ve both written extensively about this city and its three-mile beachfront. Stephenie Young\, a Somerville photographer\, originally from California was drawn to this local East Coast ocean and its unfamiliar culture during the pandemic. Thus began a long-term photo project about everyday life in the beach city. After a chance conversation over those photographs and a few poems\, this collaboration was born. \nFebruary 21 – 6-8 pm\nArtist Reception and Reading \nWinfisky Gallery hours: Monday – Friday\, 10am-4pm
URL:https://salemforallages.org/event/revere-beach-stories-photographs-and-poems/
END:VEVENT
BEGIN:VEVENT
DTSTART;TZID=America/New_York:20250218T100000
DTEND;TZID=America/New_York:20250218T160000
DTSTAMP:20260424T052041
CREATED:20250213T100011Z
LAST-MODIFIED:20250213T100011Z
UID:22434-1739872800-1739894400@salemforallages.org
SUMMARY:Kids Free Week at Hammond Castle Museum
DESCRIPTION:Discover\, Explore\, and Learn at Hammond Castle Museum this February School Vacation Week! \nLet your child’s imagination soar and join us as we welcome school-age children to explore the home and innovative legacy of one of America’s most prolific inventors\, John Hays Hammond Jr. Dive into the world of science\, technology\, and creativity with self-guided tours that allow visitors to move through the Museum’s galleries at their own pace. \nLittle ones can embark on an animal-themed adventure designed to keep them engaged throughout the Museum. Older kids will love engaging with our digital panel!
URL:https://salemforallages.org/event/kids-free-week-at-hammond-castle-museum-2/
ATTACH;FMTTYPE=image/jpeg:https://salemforallages.org/wp-content/uploads/2025/02/We-are-closed-notes-templates-13-3-scaled-2.jpg
END:VEVENT
BEGIN:VEVENT
DTSTART;TZID=America/New_York:20250218T100000
DTEND;TZID=America/New_York:20250218T110000
DTSTAMP:20260424T052041
CREATED:20250209T100020Z
LAST-MODIFIED:20250209T100020Z
UID:22402-1739872800-1739876400@salemforallages.org
SUMMARY:Puppy Love Adoption with The Good Witch of Salem
DESCRIPTION:Let’s celebrate Love at a “Puppy Love Adoption Party”! Children will stuff their own 16 inch puppy plush\, create accessories\, and learn about crystal magic!
URL:https://salemforallages.org/event/puppy-love-adoption-with-the-good-witch-of-salem/
ATTACH;FMTTYPE=image/jpeg:https://salemforallages.org/wp-content/uploads/2025/02/Puppy-Love-2.jpg
END:VEVENT
BEGIN:VEVENT
DTSTART;TZID=America/New_York:20250217T113000
DTEND;TZID=America/New_York:20250217T160000
DTSTAMP:20260424T052041
CREATED:20250209T100017Z
LAST-MODIFIED:20250209T100017Z
UID:22400-1739791800-1739808000@salemforallages.org
SUMMARY:Potion Brewing Store Experience
DESCRIPTION:Make your visit to The Good Witch of Salem’s shop memorable by booking our in-store Potion Brewing Experience. This activity is led by our Witch Apprentices. \nActivities are recommended for children ages 3 and up. \n*One appointment slot for each child is required.*
URL:https://salemforallages.org/event/potion-brewing-store-experience-241/
ATTACH;FMTTYPE=image/jpeg:https://salemforallages.org/wp-content/uploads/2025/02/Potion-Brewing-Store-Experience-4.jpg
END:VEVENT
BEGIN:VEVENT
DTSTART;TZID=America/New_York:20250217T113000
DTEND;TZID=America/New_York:20250217T160000
DTSTAMP:20260424T052041
CREATED:20250209T100016Z
LAST-MODIFIED:20250209T100016Z
UID:22399-1739791800-1739808000@salemforallages.org
SUMMARY:Magical Transformations
DESCRIPTION:Through our “Magical Transformations” children embrace their charms and express their individuality. Children can choose to transform into a “Witch” or “Wizard”!
URL:https://salemforallages.org/event/magical-transformations-249/
ATTACH;FMTTYPE=image/png:https://salemforallages.org/wp-content/uploads/2024/08/Transformations.png
END:VEVENT
BEGIN:VEVENT
DTSTART;TZID=America/New_York:20250217T100000
DTEND;TZID=America/New_York:20250217T160000
DTSTAMP:20260424T052041
CREATED:20250213T100007Z
LAST-MODIFIED:20250213T100007Z
UID:22432-1739786400-1739808000@salemforallages.org
SUMMARY:Kids Free Week at Hammond Castle Museum
DESCRIPTION:Discover\, Explore\, and Learn at Hammond Castle Museum this February School Vacation Week! \nLet your child’s imagination soar and join us as we welcome school-age children to explore the home and innovative legacy of one of America’s most prolific inventors\, John Hays Hammond Jr. Dive into the world of science\, technology\, and creativity with self-guided tours that allow visitors to move through the Museum’s galleries at their own pace. \nLittle ones can embark on an animal-themed adventure designed to keep them engaged throughout the Museum. Older kids will love engaging with our digital panel!
URL:https://salemforallages.org/event/kids-free-week-at-hammond-castle-museum/
ATTACH;FMTTYPE=image/jpeg:https://salemforallages.org/wp-content/uploads/2025/02/We-are-closed-notes-templates-13-3-scaled-1.jpg
END:VEVENT
BEGIN:VEVENT
DTSTART;TZID=America/New_York:20250217T100000
DTEND;TZID=America/New_York:20250217T110000
DTSTAMP:20260424T052041
CREATED:20250209T100010Z
LAST-MODIFIED:20250209T100010Z
UID:22397-1739786400-1739790000@salemforallages.org
SUMMARY:Adopt a Panda
DESCRIPTION:Children will stuff their own panda plush\, create accessories\, set intentions\, and learn about crystal magic!
URL:https://salemforallages.org/event/adopt-a-panda-3/
ATTACH;FMTTYPE=image/jpeg:https://salemforallages.org/wp-content/uploads/2025/02/Adopt-a-Panda-February-.jpg
END:VEVENT
BEGIN:VEVENT
DTSTART;TZID=America/New_York:20250216T160000
DTEND;TZID=America/New_York:20250216T170000
DTSTAMP:20260424T052041
CREATED:20250209T100006Z
LAST-MODIFIED:20250209T100006Z
UID:22395-1739721600-1739725200@salemforallages.org
SUMMARY:Love Songs of the Great American Songbook w/ Alexandra Grace
DESCRIPTION:Music lovers\, join us for a cozy Sunday afternoon concert to round out the Salem So Sweet weekend! Alexandra Grace will fill the Salem Athenaeum reading room with the romantic melodies of jazz and popular standards from the Great American Songbook. Her renditions of “Misty” by Erroll Garner and “In A Sentimental Mood” by Duke Ellington will enchant and warm even the coldest hearts in winter. A skilled keyboardist and award-winning composer\, she will warm your heart with music!\n$20 Members | $25 General | Card to Culture\nMore: www.salemathenaeum.net
URL:https://salemforallages.org/event/love-songs-of-the-great-american-songbook-w-alexandra-grace-2/
ATTACH;FMTTYPE=image/jpeg:https://salemforallages.org/wp-content/uploads/2025/02/Grace-A_DSCF4853_darker-scaled-2.jpg
END:VEVENT
BEGIN:VEVENT
DTSTART;TZID=America/New_York:20250216T140000
DTEND;TZID=America/New_York:20250216T160000
DTSTAMP:20260424T052041
CREATED:20250208T100023Z
LAST-MODIFIED:20250208T100023Z
UID:22393-1739714400-1739721600@salemforallages.org
SUMMARY:Love Stories in the History of Ukrainian Art
DESCRIPTION:Join us for an enchanting lecture exploring the theme of love in Ukrainian art throughout history. From passionate romances to deep emotional connections\, this session will delve into how love has influenced and inspired some of the most significant artworks and artists in Ukraine. During this lecture\, we will discuss notable love stories that have shaped the art scene in Ukraine\, uncovering the personal and societal narratives behind the masterpieces. We’ll also examine how these themes continue to resonate in contemporary Ukrainian art. All funds go to Dobro New England.
URL:https://salemforallages.org/event/love-stories-in-the-history-of-ukrainian-art/
ATTACH;FMTTYPE=image/jpeg:https://salemforallages.org/wp-content/uploads/2025/02/Vsevolod-Maksymovych.-A-Kiss-1913.jpg
END:VEVENT
BEGIN:VEVENT
DTSTART;TZID=America/New_York:20250216T130000
DTEND;TZID=America/New_York:20250216T170000
DTSTAMP:20260424T052041
CREATED:20250208T100020Z
LAST-MODIFIED:20250208T100020Z
UID:22391-1739710800-1739725200@salemforallages.org
SUMMARY:Wicked Good Books Boozy Book Fair at Notch Brewing
DESCRIPTION:Wicked Good Books will be hosting a book fair at Notch Brewing. Grab a drink and browse a selection of books\, games\, and more.
URL:https://salemforallages.org/event/wicked-good-books-boozy-book-fair-at-notch-brewing-3/
ATTACH;FMTTYPE=image/jpeg:https://salemforallages.org/wp-content/uploads/2025/02/Notch-Brewing-1-scaled-1.jpg
END:VEVENT
BEGIN:VEVENT
DTSTART;TZID=America/New_York:20250216T113000
DTEND;TZID=America/New_York:20250216T153000
DTSTAMP:20260424T052041
CREATED:20250208T100011Z
LAST-MODIFIED:20250208T100011Z
UID:22386-1739705400-1739719800@salemforallages.org
SUMMARY:Magical Transformations
DESCRIPTION:Through our “Magical Transformations” children embrace their charms and express their individuality. Children can choose to transform into a “Witch” or “Wizard”!
URL:https://salemforallages.org/event/magical-transformations-248/
ATTACH;FMTTYPE=image/png:https://salemforallages.org/wp-content/uploads/2024/08/Transformations-1.png
END:VEVENT
BEGIN:VEVENT
DTSTART;TZID=America/New_York:20250216T113000
DTEND;TZID=America/New_York:20250216T150000
DTSTAMP:20260424T052041
CREATED:20250208T100016Z
LAST-MODIFIED:20250208T100016Z
UID:22389-1739705400-1739718000@salemforallages.org
SUMMARY:Potion Brewing Store Experience
DESCRIPTION:Make your visit to The Good Witch of Salem’s shop memorable by booking our in-store Potion Brewing Experience. This activity is led by our Witch Apprentices. \nActivities are recommended for children ages 3 and up. \n*One appointment slot for each child is required.*
URL:https://salemforallages.org/event/potion-brewing-store-experience-240/
ATTACH;FMTTYPE=image/jpeg:https://salemforallages.org/wp-content/uploads/2025/02/Potion-Brewing-Store-Experience-3.jpg
END:VEVENT
BEGIN:VEVENT
DTSTART;TZID=America/New_York:20250216T113000
DTEND;TZID=America/New_York:20250216T150000
DTSTAMP:20260424T052041
CREATED:20250208T100012Z
LAST-MODIFIED:20250208T100012Z
UID:22387-1739705400-1739718000@salemforallages.org
SUMMARY:Stop In For a Spell: DIY Potion Bar
DESCRIPTION:Fly in to The Good Witch and Stay for a Spell! Mix up your very own potion at our Potion Bar! \nDrop Ins begin at store opening and end 30 minutes before closing and are offered on a first come\, first serve basis. Purchase online or pay in store. \nDrop Ins may be unavailable during a birthday party or store event. Please call ahead\, or check our posted hours on Google. \nUnder age 4 may participate with the help of a supervising adult.
URL:https://salemforallages.org/event/stop-in-for-a-spell-diy-potion-bar-197/
ATTACH;FMTTYPE=image/jpeg:https://salemforallages.org/wp-content/uploads/2025/02/Stop-In-For-a-Spell-SQUARE.jpg
END:VEVENT
BEGIN:VEVENT
DTSTART;TZID=America/New_York:20250216T100000
DTEND;TZID=America/New_York:20250216T160000
DTSTAMP:20260424T052041
CREATED:20250208T100011Z
LAST-MODIFIED:20250208T100011Z
UID:22385-1739700000-1739721600@salemforallages.org
SUMMARY:Leslie’s Retreat: Salem on the Brink of Revolution Exhibit
DESCRIPTION:This National Park Service exhibit will explore why Crown soldiers under Lt. Col. Alexander Leslie came to Salem on February 26\, 1775\, who were the major players in the event\, and how this event has been remembered and celebrated in Salem in the last 250 years. \nThis free exhibit will be on display from February 15th -April 27th at the Salem Armory Visitor Center\, 2 New Liberty Street\, Salem. \nThe Salem Armory Visitor Center is open Wednesday – Sunday\, 10 am – 4 pm.
URL:https://salemforallages.org/event/leslies-retreat-salem-on-the-brink-of-revolution-exhibit-2/
ATTACH;FMTTYPE=image/jpeg:https://salemforallages.org/wp-content/uploads/2025/02/1775_1782_Salem-Old-North-Bridge-Leslie-Retreat-800x600-1.jpg
END:VEVENT
END:VCALENDAR