BEGIN:VCALENDAR
VERSION:2.0
PRODID:-//Salem for All Ages - ECPv6.15.18//NONSGML v1.0//EN
CALSCALE:GREGORIAN
METHOD:PUBLISH
X-WR-CALNAME:Salem for All Ages
X-ORIGINAL-URL:https://salemforallages.org
X-WR-CALDESC:Events for Salem for All Ages
REFRESH-INTERVAL;VALUE=DURATION:PT1H
X-Robots-Tag:noindex
X-PUBLISHED-TTL:PT1H
BEGIN:VTIMEZONE
TZID:America/New_York
BEGIN:DAYLIGHT
TZOFFSETFROM:-0500
TZOFFSETTO:-0400
TZNAME:EDT
DTSTART:20220313T070000
END:DAYLIGHT
BEGIN:STANDARD
TZOFFSETFROM:-0400
TZOFFSETTO:-0500
TZNAME:EST
DTSTART:20221106T060000
END:STANDARD
BEGIN:DAYLIGHT
TZOFFSETFROM:-0500
TZOFFSETTO:-0400
TZNAME:EDT
DTSTART:20230312T070000
END:DAYLIGHT
BEGIN:STANDARD
TZOFFSETFROM:-0400
TZOFFSETTO:-0500
TZNAME:EST
DTSTART:20231105T060000
END:STANDARD
BEGIN:DAYLIGHT
TZOFFSETFROM:-0500
TZOFFSETTO:-0400
TZNAME:EDT
DTSTART:20240310T070000
END:DAYLIGHT
BEGIN:STANDARD
TZOFFSETFROM:-0400
TZOFFSETTO:-0500
TZNAME:EST
DTSTART:20241103T060000
END:STANDARD
END:VTIMEZONE
BEGIN:VEVENT
DTSTART;TZID=America/New_York:20231029T150000
DTEND;TZID=America/New_York:20231029T170000
DTSTAMP:20260423T170648
CREATED:20231027T090008Z
LAST-MODIFIED:20231027T090008Z
UID:16970-1698591600-1698598800@salemforallages.org
SUMMARY:Wonderful Self-Care Cafe
DESCRIPTION:Join us to relax\, have a cup of coffee or tea + conversations
URL:https://salemforallages.org/event/wonderful-self-care-cafe-25/
ATTACH;FMTTYPE=image/jpeg:https://salemforallages.org/wp-content/uploads/2023/05/01.jpg
END:VEVENT
BEGIN:VEVENT
DTSTART;TZID=America/New_York:20231029T143000
DTEND;TZID=America/New_York:20231029T160000
DTSTAMP:20260423T170648
CREATED:20231026T090019Z
LAST-MODIFIED:20231026T090019Z
UID:16969-1698589800-1698595200@salemforallages.org
SUMMARY:October Crystal Magic Workshop with a Salem Witch in Salem\, Massachusetts
DESCRIPTION:If you’ve acquired a collection of stones (or you’re well on your way to one\, or you’d like to be)\, but you’re not entirely sure how to get the most benefit from them\, this workshop will help you understand all the ways to work with crystals and stones for protection\, healing\, love\, success\, stress relief\, and other common concerns. Sandra Mariah Wright\, co-author of Awakening the Crystals\, will show you methods for choosing\, cleansing\, “waking up\,” and working with a wide array of earth’s treasures. If you’d like to bring crystals with you\, go for it. If you don’t have any yet\, there will be an opportunity to shop the Gallows Hill Witchery collection before or after the class. This is an intimate\, accessible setting. Seating is EXTREMELY limited.
URL:https://salemforallages.org/event/october-crystal-magic-workshop-with-a-salem-witch-in-salem-massachusetts-5/
ATTACH;FMTTYPE=image/jpeg:https://salemforallages.org/wp-content/uploads/2023/09/https___cdn.evbuc_.com_images_594506249_315979052018_1_original.jpg
END:VEVENT
BEGIN:VEVENT
DTSTART;TZID=America/New_York:20231029T140000
DTEND;TZID=America/New_York:20231029T150000
DTSTAMP:20260423T170648
CREATED:20231026T090014Z
LAST-MODIFIED:20231026T090014Z
UID:16967-1698588000-1698591600@salemforallages.org
SUMMARY:Strindberg’s The Ghost Sonata
DESCRIPTION:Bewitched by a woman’s beauty and drawn into a stranger’s sinister plans\, a student enters a mysterious house. There he finds a world where the food is poison\, the dead are alive and everything rots from the inside.  Let Salem State Theatre take you to a psychological netherworld between reality and illusion if you dare.
URL:https://salemforallages.org/event/strindbergs-the-ghost-sonata-6/
ATTACH;FMTTYPE=image/jpeg:https://salemforallages.org/wp-content/uploads/2023/10/The-Ghost-Sonata_WEB-scaled-6.jpg
END:VEVENT
BEGIN:VEVENT
DTSTART;TZID=America/New_York:20231029T140000
DTEND;TZID=America/New_York:20231029T150000
DTSTAMP:20260423T170648
CREATED:20231026T090011Z
LAST-MODIFIED:20231026T090011Z
UID:16965-1698588000-1698591600@salemforallages.org
SUMMARY:Sundays on Salem Common: Dance Party
DESCRIPTION:Don your costumes and your dancing shoes! \nFrom 2pm to 3pm the “Good Witch of Salem” is hosting a Halloween Dance Party. Come learn a “Thriller” dance! \n“The Good Witch of Salem” will also be on-site for book signings and photos. \nOur pop-up tent will be open for shopping from 12pm to 3pm.
URL:https://salemforallages.org/event/sundays-on-salem-common-dance-party/
ATTACH;FMTTYPE=image/jpeg:https://salemforallages.org/wp-content/uploads/2023/10/Sundays-in-October-2023-SQUARE-3.jpg
END:VEVENT
BEGIN:VEVENT
DTSTART;TZID=America/New_York:20231029T100000
DTEND;TZID=America/New_York:20231029T200000
DTSTAMP:20260423T170648
CREATED:20231026T090009Z
LAST-MODIFIED:20231026T090009Z
UID:16962-1698573600-1698609600@salemforallages.org
SUMMARY:Hocus Pocus at Ropes Mansion
DESCRIPTION:Walk over to Ropes Mansion (318 Essex Street) – otherwise known as Allison’s house – to see the exterior decorated in the style of the classic Salem-based film Hocus Pocus.
URL:https://salemforallages.org/event/hocus-pocus-at-ropes-mansion-4/
ATTACH;FMTTYPE=image/jpeg:https://salemforallages.org/wp-content/uploads/2023/10/evEErie_lk_003a.jpg
END:VEVENT
BEGIN:VEVENT
DTSTART;TZID=America/New_York:20231029T100000
DTEND;TZID=America/New_York:20231029T180000
DTSTAMP:20260423T170648
CREATED:20231026T090010Z
LAST-MODIFIED:20231026T090010Z
UID:16964-1698573600-1698602400@salemforallages.org
SUMMARY:Haunted Happenings Marketplace
DESCRIPTION:The main event returns to Salem Common! Your favorite vendors\, performances\, mural pop-up photo stations\, street performers\, and much more. \nDerby Square: Saturdays 10 AM-8PM and Sundays 10 AM-6 PM \nSeptember 30\, October 1\, 7\, 8\, 9\, 14\, 15\, 21\, 22\, 28\, 29 \n  \nForten Park: Saturdays 10 AM-8PM and Sundays 10 AM-6 PM \nSeptember 30\, October 1\, 7\, 8\, 9\, 14\, 15\, 21\, 22\, 28\, 29
URL:https://salemforallages.org/event/haunted-happenings-marketplace-31/
ATTACH;FMTTYPE=image/jpeg:https://salemforallages.org/wp-content/uploads/2021/08/Haunted-Happenings-Marketplace.jpg
END:VEVENT
BEGIN:VEVENT
DTSTART;TZID=America/New_York:20231029T100000
DTEND;TZID=America/New_York:20231029T170000
DTSTAMP:20260423T170648
CREATED:20231026T090010Z
LAST-MODIFIED:20231026T090010Z
UID:16963-1698573600-1698598800@salemforallages.org
SUMMARY:The Good Witch of Salem
DESCRIPTION:Attend one of our large events\, including Magical Tea Time 10/9\, Potion Party 10/22\, Costume Ball 10/22\, and Costume Parade. Book an in-store experience with plenty of family-friendly activities.
URL:https://salemforallages.org/event/the-good-witch-of-salem-29/
ATTACH;FMTTYPE=image/jpeg:https://salemforallages.org/wp-content/uploads/2023/09/Good-Witch-Basic-2.jpg
END:VEVENT
BEGIN:VEVENT
DTSTART;TZID=America/New_York:20231029T100000
DTEND;TZID=America/New_York:20231029T140000
DTSTAMP:20260423T170648
CREATED:20231026T090009Z
LAST-MODIFIED:20231026T090009Z
UID:16961-1698573600-1698588000@salemforallages.org
SUMMARY:Book a “Good Witch Transformation”
DESCRIPTION:Thank you for your interest in a “Good Witch” Transformation! \nThrough our transformations children unleash their own spellbinding charms and embrace their individuality. Children are invited to browse our collection of witch hats and dresses. Adorned with shimmering stars\, flowing capes\, and ribbons of enchantment\, these outfits are sure to celebrate their unique spirits. \nOur talented apprentices delicately apply a touch of stardust and add sprinkles of color that match your child’s vibrant personality. As they gaze upon their reflection\, their eyes light up with a newfound confidence and a sense of whimsical delight. They have become the magical beings they’ve always dreamt of\, casting spells and brewing potions in their imaginary world. Their laughter fills the air as they twirl and spin\, radiating with joy and wonder.
URL:https://salemforallages.org/event/book-a-good-witch-transformation-23/
END:VEVENT
BEGIN:VEVENT
DTSTART;TZID=America/New_York:20231028T203000
DTEND;TZID=America/New_York:20231028T235900
DTSTAMP:20260423T170648
CREATED:20231025T090027Z
LAST-MODIFIED:20231025T090027Z
UID:16958-1698525000-1698537540@salemforallages.org
SUMMARY:Heavens v Hell Ball
DESCRIPTION:The most sought after Halloween Party in Salem! Don’t miss Colonial Hall’s Heaven and Hell Ball. This premier event will be an evening of food\, fun\, dancing and celebrating the Halloween season! \nSwag bags will be given away to the first 100 guests who arrive at the parrty! \nPassed Hors d’oeuvres 9:00PM-10:30PM. \nComplimentary theme drink! \nPrizes will be awarded for theme costumes with a $2000 cash prize being awarded for Best Costume\nPhoto booth to get the best shot of your costume!\nGet your tickets early\, this event always sells out! \nPlease note that the Heaven & Hell Ball is a combined party exclusively in Colonial Hall. \nNo arrivals after 10:30PM.
URL:https://salemforallages.org/event/heavens-v-hell-ball/
ATTACH;FMTTYPE=image/jpeg:https://salemforallages.org/wp-content/uploads/2023/10/halloween-ball-heaven-vs-hell.jpg
END:VEVENT
BEGIN:VEVENT
DTSTART;TZID=America/New_York:20231028T203000
DTEND;TZID=America/New_York:20231028T220000
DTSTAMP:20260423T170648
CREATED:20231026T090008Z
LAST-MODIFIED:20231026T090008Z
UID:16960-1698525000-1698530400@salemforallages.org
SUMMARY:After Hours Ghost Hunt
DESCRIPTION:Join Kimberly Bizjak of Paranormal Salem for Ghost Hunting! Use EMF detectors\, infrared thermometers\, audio recorders\, and more to collect evidence inside The Lost Museum! Combo tickets with Gallows Hill Main Show.
URL:https://salemforallages.org/event/after-hours-ghost-hunt-28/
ATTACH;FMTTYPE=image/jpeg:https://salemforallages.org/wp-content/uploads/2023/09/After-Hours-Ghost-Hunt-Basic.jpg
END:VEVENT
BEGIN:VEVENT
DTSTART;TZID=America/New_York:20231028T200000
DTEND;TZID=America/New_York:20231028T235900
DTSTAMP:20260423T170648
CREATED:20231025T090017Z
LAST-MODIFIED:20231025T090017Z
UID:16953-1698523200-1698537540@salemforallages.org
SUMMARY:Wicked Night on The Wharf Presents: HOLLYWOOD HORROR NIGHT
DESCRIPTION:Step onto the blood-red carpet\, Rise out of the graves and join Hollywood’s finest for one night only and a chance to win an Oscar for Best Costume of the Night! Wicked Night on The Wharf Presents Hollywood Horror Night and encourages guests to dress up as their favorite Hollywood Star Dead or Alive! You may wish to follow our theme or select a costume unrelated. All Costumes are welcome however\, no weapons or fake weapons are allowed on property. If unsure if your costume is appropriate please contact the hotel. \nFeaturing Director of Scare-O-Moanies BORAH! & Costume Contest hosted by Billy Costa from Kiss 108! Costume Contest Categories Include: Best Original Costume Design\, Best Group or Cast\, Best Makeup & Hair Styling\, Best Red Carpet Couple\, Best Hollywood Horror Theme and more! \nLive Entertainment provided by The Last American Rock Band: WICKED Rock N’ Roll AND Magic Land Entertainment: DJ Jonathan Santarelli. \nEnjoy Stationed Hors D’oeuvres\, Cash Bar & More! \nTickets are $175\, No refunds. 21+ ID required to enter. \nAny questions email or call Courtney at chamilton@salemwaterfronthotel.com or call 978-619-1115
URL:https://salemforallages.org/event/wicked-night-on-the-wharf-presents-hollywood-horror-night/
ATTACH;FMTTYPE=image/jpeg:https://salemforallages.org/wp-content/uploads/2023/10/https___cdn.evbuc_.com_images_554471979_575712637641_1_original.jpg
END:VEVENT
BEGIN:VEVENT
DTSTART;TZID=America/New_York:20231028T200000
DTEND;TZID=America/New_York:20231028T220000
DTSTAMP:20260423T170648
CREATED:20231025T090023Z
LAST-MODIFIED:20231025T090023Z
UID:16956-1698523200-1698530400@salemforallages.org
SUMMARY:Who’s Bad? Thriller Night
DESCRIPTION:Who’s Bad can only be described as a jaw-dropping\, musical must-see. As the longest-running Michael Jackson tribute band\, and the only one to predate his untimely passing\, Who’s Bad has sold out nearly 50 venues in the United Kingdom including London’s O2 where the King of Pop was slated to end his career.
URL:https://salemforallages.org/event/whos-bad-thriller-night/
ATTACH;FMTTYPE=image/jpeg:https://salemforallages.org/wp-content/uploads/2023/10/WHOSBADPROMO-scaled-1.jpg
END:VEVENT
BEGIN:VEVENT
DTSTART;TZID=America/New_York:20231028T200000
DTEND;TZID=America/New_York:20231028T213000
DTSTAMP:20260423T170648
CREATED:20231025T090017Z
LAST-MODIFIED:20231025T090017Z
UID:16952-1698523200-1698528600@salemforallages.org
SUMMARY:Moon Witch: A Ritual Theatre Experience
DESCRIPTION:Immerse yourself in the mysteries! Drawing inspiration from the mythological Three Fates\, Moon Witch weaves together folk magic and moon lore to explore the human experience. Featuring original music\, theatre\, spoken word\, and ritual space to honor the dead.
URL:https://salemforallages.org/event/moon-witch-a-ritual-theatre-experience-4/
END:VEVENT
BEGIN:VEVENT
DTSTART;TZID=America/New_York:20231028T200000
DTEND;TZID=America/New_York:20231028T210000
DTSTAMP:20260423T170648
CREATED:20231025T090023Z
LAST-MODIFIED:20231025T090023Z
UID:16955-1698523200-1698526800@salemforallages.org
SUMMARY:Daemonologie: Sinew and Soul
DESCRIPTION:A generation born to war and horror comes of age. They refuse to repeat the past… It is 1794 and Americans lust after the bounties of their newfound freedom. Harvard Medical students\, eager to get ahead of their soft European counterparts\, will do anything to succeed. Chief among them is Jon\, driven to cure his dying sister. Please visit 7Gables.org/events for more information.
URL:https://salemforallages.org/event/daemonologie-sinew-and-soul-5/
ATTACH;FMTTYPE=image/jpeg:https://salemforallages.org/wp-content/uploads/2022/04/unnamed-2.jpg
END:VEVENT
BEGIN:VEVENT
DTSTART;TZID=America/New_York:20231028T193000
DTEND;TZID=America/New_York:20231028T213000
DTSTAMP:20260423T170648
CREATED:20231025T090010Z
LAST-MODIFIED:20231025T090010Z
UID:16948-1698521400-1698528600@salemforallages.org
SUMMARY:Nosferatu: Silent Movie with Live Organ Accompaniment
DESCRIPTION:The mood is dark and the organist masterful for this showing of the original “Dracula” (bats included)!  This cavernous Gothic building is the perfect venue for the Haunted Grace Silent Movie Series\, accompanied by live organ.
URL:https://salemforallages.org/event/nosferatu-silent-movie-with-live-organ-accompaniment/
ATTACH;FMTTYPE=image/jpeg:https://salemforallages.org/wp-content/uploads/2023/10/nosferatuhauntedhappenings.jpg-copy.jpg
END:VEVENT
BEGIN:VEVENT
DTSTART;TZID=America/New_York:20231028T193000
DTEND;TZID=America/New_York:20231028T203000
DTSTAMP:20260423T170648
CREATED:20231025T090013Z
LAST-MODIFIED:20231025T090013Z
UID:16950-1698521400-1698525000@salemforallages.org
SUMMARY:Strindberg’s The Ghost Sonata
DESCRIPTION:Bewitched by a woman’s beauty and drawn into a stranger’s sinister plans\, a student enters a mysterious house. There he finds a world where the food is poison\, the dead are alive and everything rots from the inside.  Let Salem State Theatre take you to a psychological netherworld between reality and illusion if you dare.
URL:https://salemforallages.org/event/strindbergs-the-ghost-sonata-5/
ATTACH;FMTTYPE=image/jpeg:https://salemforallages.org/wp-content/uploads/2023/10/The-Ghost-Sonata_WEB-scaled-5.jpg
END:VEVENT
BEGIN:VEVENT
DTSTART;TZID=America/New_York:20231028T190000
DTEND;TZID=America/New_York:20231028T235900
DTSTAMP:20260423T170648
CREATED:20231024T090012Z
LAST-MODIFIED:20231024T090012Z
UID:16946-1698519600-1698537540@salemforallages.org
SUMMARY:Hawthorne Hotel Halloween Ball – Come Out and Play: Toys That Terrify
DESCRIPTION:Welcome to the most chilling and talked-about event of the season – the Hawthorne Hotel’s Halloween Ball: Come Out and Play: Toys That Terrify. The event\, introduced in 1990 and hosted by the Hawthorne\, features music\, a costume contest\, stationed hors d’oeuvres and cash bars across three floors. DJ Stamz opens and Joe Bermudez headlines\, playing music across all genres. Dance\, people-watch\, take selfies in front of our photo backdrops and enjoy being part of the premier bucket-list Halloween event in New England\, where the world of toys takes a twisted turn. \nBefore purchasing your ticket\, please know that tickets are non-refundable. This is a 21+ event. All tickets must be purchased via Eventbrite. Tickets are NOT available at the hotel. \nLink to: https://hawthornehotelhalloweenball.eventbrite.com
URL:https://salemforallages.org/event/hawthorne-hotel-halloween-ball-come-out-and-play-toys-that-terrify/
ATTACH;FMTTYPE=image/jpeg:https://salemforallages.org/wp-content/uploads/2023/10/https___cdn.evbuc_.com_images_526505469_144142955783_1_original.jpg
END:VEVENT
BEGIN:VEVENT
DTSTART;TZID=America/New_York:20231028T181500
DTEND;TZID=America/New_York:20231028T201500
DTSTAMP:20260423T170648
CREATED:20231024T090012Z
LAST-MODIFIED:20231024T090012Z
UID:16945-1698516900-1698524100@salemforallages.org
SUMMARY:Guilty! A Salem Witch Trial
DESCRIPTION:It’s 1692 in Salem\, and the audience is on trial for witchcraft! Hear testimony against you and plead your case. Will you be found guilty? Combo tickets with Gallows Hill Main Show. Show times 6:15 and 7:15. 
URL:https://salemforallages.org/event/guilty-a-salem-witch-trial-47/
ATTACH;FMTTYPE=image/jpeg:https://salemforallages.org/wp-content/uploads/2023/09/Guilty-Basic-6-2.jpg
END:VEVENT
BEGIN:VEVENT
DTSTART;TZID=America/New_York:20231028T180000
DTEND;TZID=America/New_York:20231028T200000
DTSTAMP:20260423T170648
CREATED:20231024T090008Z
LAST-MODIFIED:20231024T090008Z
UID:16943-1698516000-1698523200@salemforallages.org
SUMMARY:Lore by Candlelight
DESCRIPTION:Experience New England’s fantastical past by spending an evening in one of the oldest homes in Salem. You will be immersed in original rooms dimly lit by candles while experiencing New England’s history\, legends\, and lore that have been passed down for generations. Join us to explore the reality of our terrifying past. BYOB alcohol.
URL:https://salemforallages.org/event/lore-by-candlelight-24/
ATTACH;FMTTYPE=image/jpeg:https://salemforallages.org/wp-content/uploads/2023/10/Local-Lore-by-Candlelight-2-scaled-11.jpg
END:VEVENT
BEGIN:VEVENT
DTSTART;TZID=America/New_York:20231028T150000
DTEND;TZID=America/New_York:20231028T220000
DTSTAMP:20260423T170648
CREATED:20231024T090008Z
LAST-MODIFIED:20231024T090008Z
UID:16942-1698505200-1698530400@salemforallages.org
SUMMARY:Hollowed Harvest
DESCRIPTION:Experience Salem’s ONLY Jack-O’-Lantern festival at the Hollowed Harvest: Wicked Labyrinth! Salem’s beloved fall tradition brings hundreds of intricately carved Jack-O’-Lanterns to life in an all-ages walkthrough event.
URL:https://salemforallages.org/event/hollowed-harvest-24/
ATTACH;FMTTYPE=image/png:https://salemforallages.org/wp-content/uploads/2023/09/hollowed-harvest-hh.png
END:VEVENT
BEGIN:VEVENT
DTSTART;TZID=America/New_York:20231028T103000
DTEND;TZID=America/New_York:20231028T123000
DTSTAMP:20260423T170648
CREATED:20231024T090007Z
LAST-MODIFIED:20231024T090007Z
UID:16941-1698489000-1698496200@salemforallages.org
SUMMARY:Process Art Mornings
DESCRIPTION:Informal in-process art making
URL:https://salemforallages.org/event/process-art-mornings-25/
ATTACH;FMTTYPE=image/jpeg:https://salemforallages.org/wp-content/uploads/2023/05/01.jpg
END:VEVENT
BEGIN:VEVENT
DTSTART;TZID=America/New_York:20231028T100000
DTEND;TZID=America/New_York:20231028T200000
DTSTAMP:20260423T170648
CREATED:20231024T090006Z
LAST-MODIFIED:20231024T090006Z
UID:16940-1698487200-1698523200@salemforallages.org
SUMMARY:Haunted Happenings Marketplace
DESCRIPTION:The main event returns to Salem Common! Your favorite vendors\, performances\, mural pop-up photo stations\, street performers\, and much more. \nDerby Square: Saturdays 10 AM-8PM and Sundays 10 AM-6 PM \nSeptember 30\, October 1\, 7\, 8\, 9\, 14\, 15\, 21\, 22\, 28\, 29 \n  \nForten Park: Saturdays 10 AM-8PM and Sundays 10 AM-6 PM \nSeptember 30\, October 1\, 7\, 8\, 9\, 14\, 15\, 21\, 22\, 28\, 29
URL:https://salemforallages.org/event/haunted-happenings-marketplace-30/
ATTACH;FMTTYPE=image/jpeg:https://salemforallages.org/wp-content/uploads/2021/08/Haunted-Happenings-Marketplace.jpg
END:VEVENT
BEGIN:VEVENT
DTSTART;TZID=America/New_York:20231028T100000
DTEND;TZID=America/New_York:20231028T200000
DTSTAMP:20260423T170648
CREATED:20231023T090021Z
LAST-MODIFIED:20231023T090021Z
UID:16937-1698487200-1698523200@salemforallages.org
SUMMARY:Hocus Pocus at Ropes Mansion
DESCRIPTION:Walk over to Ropes Mansion (318 Essex Street) – otherwise known as Allison’s house – to see the exterior decorated in the style of the classic Salem-based film Hocus Pocus.
URL:https://salemforallages.org/event/hocus-pocus-at-ropes-mansion-3/
ATTACH;FMTTYPE=image/jpeg:https://salemforallages.org/wp-content/uploads/2023/10/evEErie_lk_003a.jpg
END:VEVENT
BEGIN:VEVENT
DTSTART;TZID=America/New_York:20231028T100000
DTEND;TZID=America/New_York:20231028T170000
DTSTAMP:20260423T170648
CREATED:20231023T090021Z
LAST-MODIFIED:20231023T090021Z
UID:16938-1698487200-1698512400@salemforallages.org
SUMMARY:The Good Witch of Salem
DESCRIPTION:Attend one of our large events\, including Magical Tea Time 10/9\, Potion Party 10/22\, Costume Ball 10/22\, and Costume Parade. Book an in-store experience with plenty of family-friendly activities.
URL:https://salemforallages.org/event/the-good-witch-of-salem-28/
ATTACH;FMTTYPE=image/jpeg:https://salemforallages.org/wp-content/uploads/2023/09/Good-Witch-Basic-2.jpg
END:VEVENT
BEGIN:VEVENT
DTSTART;TZID=America/New_York:20231028T100000
DTEND;TZID=America/New_York:20231028T140000
DTSTAMP:20260423T170648
CREATED:20231023T090021Z
LAST-MODIFIED:20231023T090021Z
UID:16936-1698487200-1698501600@salemforallages.org
SUMMARY:Book a “Good Witch Transformation”
DESCRIPTION:Thank you for your interest in a “Good Witch” Transformation! \nThrough our transformations children unleash their own spellbinding charms and embrace their individuality. Children are invited to browse our collection of witch hats and dresses. Adorned with shimmering stars\, flowing capes\, and ribbons of enchantment\, these outfits are sure to celebrate their unique spirits. \nOur talented apprentices delicately apply a touch of stardust and add sprinkles of color that match your child’s vibrant personality. As they gaze upon their reflection\, their eyes light up with a newfound confidence and a sense of whimsical delight. They have become the magical beings they’ve always dreamt of\, casting spells and brewing potions in their imaginary world. Their laughter fills the air as they twirl and spin\, radiating with joy and wonder.
URL:https://salemforallages.org/event/book-a-good-witch-transformation-22/
END:VEVENT
BEGIN:VEVENT
DTSTART;TZID=America/New_York:20231028T080000
DTEND;TZID=America/New_York:20231028T170000
DTSTAMP:20260423T170648
CREATED:20231023T090020Z
LAST-MODIFIED:20231023T090020Z
UID:16935-1698480000-1698512400@salemforallages.org
SUMMARY:Book a “Good Witch Magical Transformation”
DESCRIPTION:Children\, tweens\, teens\, and adults are all welcome to participate in our “Good Witch Transformations”! \nThrough our transformations children unleash their own spellbinding charms and embrace their individuality. Children are invited to browse our collection of witch hats and dresses. Adorned with shimmering stars\, flowing capes\, and ribbons of enchantment\, these outfits are sure to celebrate their unique spirits. \nOur talented apprentices delicately apply a touch of stardust and add sprinkles of color that match your child’s vibrant personality. As they gaze upon their reflection\, their eyes light up with a newfound confidence and a sense of whimsical delight. They have become the magical beings they’ve always dreamt of\, casting spells and brewing potions in their imaginary world. Their laughter fills the air as they twirl and spin\, radiating with joy and wonder.
URL:https://salemforallages.org/event/book-a-good-witch-magical-transformation-6/
ATTACH;FMTTYPE=image/jpeg:https://salemforallages.org/wp-content/uploads/2023/08/magical-transoformations-.jpg
END:VEVENT
BEGIN:VEVENT
DTSTART;TZID=America/New_York:20231027T213000
DTEND;TZID=America/New_York:20231027T233000
DTSTAMP:20260423T170648
CREATED:20231023T090019Z
LAST-MODIFIED:20231023T090019Z
UID:16933-1698442200-1698449400@salemforallages.org
SUMMARY:The Cabinet of Dr. Caligari: Silent Movie with Live Organ Accompaniment
DESCRIPTION:The Cabinet of Dr. Caligari (1920) \nSpend the evening with an insane hypnotist\, as he uses a sleepwalker to commit grisly murders!  This cavernous Gothic building is the perfect venue for the Haunted Grace Silent Movie Series\, accompanied by live organ.
URL:https://salemforallages.org/event/the-cabinet-of-dr-caligari-silent-movie-with-live-organ-accompaniment-2/
ATTACH;FMTTYPE=image/webp:https://salemforallages.org/wp-content/uploads/2023/10/The-Cabinet-of-Dr-Caligari-1.webp
END:VEVENT
BEGIN:VEVENT
DTSTART;TZID=America/New_York:20231027T203000
DTEND;TZID=America/New_York:20231027T220000
DTSTAMP:20260423T170648
CREATED:20231023T090019Z
LAST-MODIFIED:20231023T090019Z
UID:16932-1698438600-1698444000@salemforallages.org
SUMMARY:After Hours Ghost Hunt
DESCRIPTION:Join Kimberly Bizjak of Paranormal Salem for Ghost Hunting! Use EMF detectors\, infrared thermometers\, audio recorders\, and more to collect evidence inside The Lost Museum! Combo tickets with Gallows Hill Main Show.
URL:https://salemforallages.org/event/after-hours-ghost-hunt-27/
ATTACH;FMTTYPE=image/jpeg:https://salemforallages.org/wp-content/uploads/2023/09/After-Hours-Ghost-Hunt-Basic.jpg
END:VEVENT
BEGIN:VEVENT
DTSTART;TZID=America/New_York:20231027T200000
DTEND;TZID=America/New_York:20231027T230000
DTSTAMP:20260423T170648
CREATED:20231023T090014Z
LAST-MODIFIED:20231023T090014Z
UID:16928-1698436800-1698447600@salemforallages.org
SUMMARY:Friday Night Music with Gulu-Gulu Cafe
DESCRIPTION:Join Gulu-Gulu Cafe Friday nights for their live music series. Bands and musicians range from acoustic guitar\, jazz standards\, saxophones\, trios\, and more! Support live musicians and listen to live music!
URL:https://salemforallages.org/event/friday-night-music-with-gulu-gulu-cafe-13/
ATTACH;FMTTYPE=image/jpeg:https://salemforallages.org/wp-content/uploads/2023/08/38864120_1780760032044977_6011049327684747264_n.jpg
END:VEVENT
BEGIN:VEVENT
DTSTART;TZID=America/New_York:20231027T200000
DTEND;TZID=America/New_York:20231027T220000
DTSTAMP:20260423T170648
CREATED:20231023T090015Z
LAST-MODIFIED:20231023T090015Z
UID:16930-1698436800-1698444000@salemforallages.org
SUMMARY:Face2Face
DESCRIPTION:Come celebrate the two greatest “PIANO MEN” of our generation with David Clark as BILLY JOEL and Jeff Scott as ELTON JOHN! This stunningly accurate “Face 2 Face” Tribute show will feature hits like “Crocodile Rock”\, “I’m Still Standing”\, “You May Be Right”\, “Piano Man” and much more!
URL:https://salemforallages.org/event/face2face/
ATTACH;FMTTYPE=image/jpeg:https://salemforallages.org/wp-content/uploads/2023/10/F2F-Cabot-Facebook-IG.jpg
END:VEVENT
END:VCALENDAR