BEGIN:VCALENDAR
VERSION:2.0
PRODID:-//Salem for All Ages - ECPv6.15.18//NONSGML v1.0//EN
CALSCALE:GREGORIAN
METHOD:PUBLISH
X-ORIGINAL-URL:https://salemforallages.org
X-WR-CALDESC:Events for Salem for All Ages
REFRESH-INTERVAL;VALUE=DURATION:PT1H
X-Robots-Tag:noindex
X-PUBLISHED-TTL:PT1H
BEGIN:VTIMEZONE
TZID:America/New_York
BEGIN:DAYLIGHT
TZOFFSETFROM:-0500
TZOFFSETTO:-0400
TZNAME:EDT
DTSTART:20230312T070000
END:DAYLIGHT
BEGIN:STANDARD
TZOFFSETFROM:-0400
TZOFFSETTO:-0500
TZNAME:EST
DTSTART:20231105T060000
END:STANDARD
BEGIN:DAYLIGHT
TZOFFSETFROM:-0500
TZOFFSETTO:-0400
TZNAME:EDT
DTSTART:20240310T070000
END:DAYLIGHT
BEGIN:STANDARD
TZOFFSETFROM:-0400
TZOFFSETTO:-0500
TZNAME:EST
DTSTART:20241103T060000
END:STANDARD
BEGIN:DAYLIGHT
TZOFFSETFROM:-0500
TZOFFSETTO:-0400
TZNAME:EDT
DTSTART:20250309T070000
END:DAYLIGHT
BEGIN:STANDARD
TZOFFSETFROM:-0400
TZOFFSETTO:-0500
TZNAME:EST
DTSTART:20251102T060000
END:STANDARD
END:VTIMEZONE
BEGIN:VEVENT
DTSTART;TZID=America/New_York:20240414T100000
DTEND;TZID=America/New_York:20240414T140000
DTSTAMP:20260423T153129
CREATED:20240405T090009Z
LAST-MODIFIED:20240405T090009Z
UID:18308-1713088800-1713103200@salemforallages.org
SUMMARY:Book a “Good Witch Transformation”
DESCRIPTION:Thank you for your interest in a “Good Witch” Transformation! \nThrough our transformations children unleash their own spellbinding charms and embrace their individuality. Children are invited to browse our collection of witch hats and dresses. Adorned with shimmering stars\, flowing capes\, and ribbons of enchantment\, these outfits are sure to celebrate their unique spirits. \nOur talented apprentices delicately apply a touch of stardust and add sprinkles of color that match your child’s vibrant personality. As they gaze upon their reflection\, their eyes light up with a newfound confidence and a sense of whimsical delight. They have become the magical beings they’ve always dreamt of\, casting spells and brewing potions in their imaginary world. Their laughter fills the air as they twirl and spin\, radiating with joy and wonder.
URL:https://salemforallages.org/event/book-a-good-witch-transformation-97/
END:VEVENT
BEGIN:VEVENT
DTSTART;TZID=America/New_York:20240414T120000
DTEND;TZID=America/New_York:20240414T150000
DTSTAMP:20260423T153129
CREATED:20240406T090017Z
LAST-MODIFIED:20240406T090017Z
UID:18319-1713096000-1713106800@salemforallages.org
SUMMARY:Drop In: Potion Brewing
DESCRIPTION:Calling all witches and wizards! Join a Witch Apprentice in testing your “Potion Master” skills by brewing up a magical potion of your own. Come in anytime between 12:00PM – 3:00PM. Activity length is approx. 20 minutes. \nUnder age 4 may attend with the help of a supervising adult.
URL:https://salemforallages.org/event/drop-in-potion-brewing/
ATTACH;FMTTYPE=image/jpeg:https://salemforallages.org/wp-content/uploads/2024/04/Drop-in-Fairy-Potion-Brewing.jpg
END:VEVENT
BEGIN:VEVENT
DTSTART;TZID=America/New_York:20240414T120000
DTEND;TZID=America/New_York:20240414T180000
DTSTAMP:20260423T153129
CREATED:20240410T090022Z
LAST-MODIFIED:20240410T090022Z
UID:18371-1713096000-1713117600@salemforallages.org
SUMMARY:Our Time On Earth – 18th Annual PEM Inspirational Exhibition
DESCRIPTION:Inspired by PEM – Our Time on Earth:  Our 18th Annual PEM Inspirational Exhibition invites artists to take inspiration from the PEM exhibition “Our Time on Earth\, on view at the Peabody Essex Museum through June 9\, 2024.  From the PEM\, “Part of PEM’s Climate + Environment Initiative\, this traveling exhibition from the Barbican Centre in London celebrates the power of global creativity to transform the conversation around the climate emergency.” \n\nReception: Friday\, April 12\, 2024\, 6:00-8:00 PM\nExhibition Dates: April 13 – May 18\, 2024\n\nWe challenged our artists to really consider the materials used in pieces created for this exhibit – think about the environmental and climate impacts we make when we create our arts\, and ways that we can lift the conversation around climate change and collapse.  \n“This exhibition invites us to imagine ways that art\, design and science together can help us envision a positive future for our planet\,” said Jane Winchell\, the Sarah Fraser Robbins Director of PEM’s Dotty Brown Art & Nature Center. \nLocal artists submitted artwork for this exhibition that explores the themes of our harmonious coexistence with science\, nature\, sustainability\, and the world around us. \nOpen Saturdays and Sundays from 12:00 – 6:00 p.m. \nSalem Arts Association Galleries\, 159 Derby Street\, Salem MA 01970
URL:https://salemforallages.org/event/our-time-on-earth-18th-annual-pem-inspirational-exhibition-2/
ATTACH;FMTTYPE=image/png:https://salemforallages.org/wp-content/uploads/2024/04/Inspired-by-PEM-2024.png
END:VEVENT
BEGIN:VEVENT
DTSTART;TZID=America/New_York:20240414T120000
DTEND;TZID=America/New_York:20240414T180000
DTSTAMP:20260423T153129
CREATED:20240410T090023Z
LAST-MODIFIED:20240410T090023Z
UID:18372-1713096000-1713117600@salemforallages.org
SUMMARY:Minimalism at Salem Arts Association
DESCRIPTION:A form of abstract art that came about in the 1950’s in the US and spread worldwide\, minimalism was best described as art with no subtext or\, “What you see is what you get.”  Salem Arts Association invited our artist members to present the essence of their expression\, to strip down their creative process to concepts that represent a world of simplicity where less is more\, and to explore and play with the idea that art doesn’t necessarily have to represent a deep thought or evoke emotion – sometimes\, it can just… be.
URL:https://salemforallages.org/event/minimalism-at-salem-arts-association-2/
ATTACH;FMTTYPE=image/png:https://salemforallages.org/wp-content/uploads/2024/04/SAA-Minimalism-2024.png
END:VEVENT
BEGIN:VEVENT
DTSTART;TZID=America/New_York:20240414T140000
DTEND;TZID=America/New_York:20240414T160000
DTSTAMP:20260423T153129
CREATED:20240405T090011Z
LAST-MODIFIED:20240405T090011Z
UID:18310-1713103200-1713110400@salemforallages.org
SUMMARY:DIAMOND’S DINE-IN DRAG BRUNCH!
DESCRIPTION:Come on down for Diamond’s Dine-In Drag Brunch! This is a weekly event with local Drag Queen Miz Diamond Wigfall! Someone will be her guest. Be ready for numbers\, games\, drag\, and mimosas all afternoon.
URL:https://salemforallages.org/event/diamonds-dine-in-drag-brunch-37/
ATTACH;FMTTYPE=image/jpeg:https://salemforallages.org/wp-content/uploads/2023/08/Diamond_DineIn_Final-11x171-1.jpg
END:VEVENT
BEGIN:VEVENT
DTSTART;TZID=America/New_York:20240414T140000
DTEND;TZID=America/New_York:20240414T160000
DTSTAMP:20260423T153129
CREATED:20240405T090011Z
LAST-MODIFIED:20240405T090011Z
UID:18311-1713103200-1713110400@salemforallages.org
SUMMARY:Grains of Identity: Bread and Wheat in Ukrainian Art History
DESCRIPTION:In this two part lecture series\, Oleksandra Kovalchuk\, the Director of Development of the Odesa Fine Arts Museum\, delves into Ukraine’s rich artistic heritage\, symbolic traditions\, and the remarkable resilience displayed in times of the full scale invasion by the Russian Federation. From the courageous efforts of museums during the war to the cultural significance of bread in traditional and modern art\, these lectures provide a comprehensive insight into the spirit and identity of Ukrainian people and history. \nThis lecture delves into the symbolic and cultural significance of bread and wheat in Ukrainian art and identity. We will explore how these elements have been deeply interwoven into the fabric of Ukrainian history\, from traditional folk art to modern artistic expressions. Join us to discover how bread and wheat go beyond just being food\, showing the strength and spirit of the Ukrainian people. \nAll funds go to Dobro New England to support humanitarian aid to Ukraine.
URL:https://salemforallages.org/event/grains-of-identity-bread-and-wheat-in-ukrainian-art-history/
END:VEVENT
BEGIN:VEVENT
DTSTART;TZID=America/New_York:20240414T150000
DTEND;TZID=America/New_York:20240414T200000
DTSTAMP:20260423T153129
CREATED:20240410T090023Z
LAST-MODIFIED:20240410T090023Z
UID:18373-1713106800-1713124800@salemforallages.org
SUMMARY:Groove Fest at Long Boards
DESCRIPTION:GROOVE FEST\nWelcome to Groove Fest where the heartbeat of Boston’s North Shore syncs w/ the rhythm of your soul. Join us in the mission of supporting music education for children.\n“Instrumental Impact” is a non-profit organization spearheaded by Brian Cogger. Their dedication ensures that the next generation has the chance to discover the enchantment of music.\n\nDoors 2pm\, Show promptly @ 3pm.\n\nLine up:\nQWILL –\nQwill is the solo project of Salem MA based singer/songwriter\, multi-instrumentalist\, and producer Jesse Joseph. His music is a soulful fusion of roots\, and indie folk\, woven with electronic elements to create music with a heartbeat.\n\nGravel Rhodes –\nGravel Rhodes Trio is a jazz funk ensemble featuring Jordan Gravel on fender rhodes\, key bass & clavinet. Gravel performs frequently with The Gravel Project\, as well as his own hammond organ trio Jorgan. Joining Gravel is saxophone extraordinaire Henley Douglas who is an integral part of the NS music scene\, performing with bands in the area including HDRnB\, Brass Fed Nation\, and Krewe de Groove. Andrew Jones will be holding down the rhythm section on drums\, and the fantastic Hannah Smalltree will be the featured vocalist.\n\nMica’s Groove Train\nMica’s Groove Train is an exciting neo-soul band making waves in the music industry. Strong will and determination pushed Mica’s Groove Train forward\, but raw talent has kept these musicians strong and alive. Mica’s Groove Train prides themselves on a beautiful\, versatile sound. Founder\, Yamica Peterson is a rising indie artist whose performance and writing captures fresh grooves filled with tasty hooks and tells her story of living life as a Mother and an artist.\nPlease join SOSS Records Groove Fest and be part of something truly special.
URL:https://salemforallages.org/event/groove-fest-at-long-boards/
ATTACH;FMTTYPE=image/jpeg:https://salemforallages.org/wp-content/uploads/2024/04/433541518_957412432764710_6218885950053492356_n-scaled-1.jpg
END:VEVENT
BEGIN:VEVENT
DTSTART;TZID=America/New_York:20240414T163000
DTEND;TZID=America/New_York:20240414T183000
DTSTAMP:20260423T153129
CREATED:20240406T090018Z
LAST-MODIFIED:20240406T090018Z
UID:18321-1713112200-1713119400@salemforallages.org
SUMMARY:Murder Through A New Lens: The Anniversary of the Joseph White Murder
DESCRIPTION:“Murder Through a New Lens” is a limited engagement combination walking tour and photography workshop offered on April 6\, 7\, 13\, and 14. Join one of our local tour guides and a local photographer for a fascinating exploration of Salem’s most notorious murder. The death of aged sea Captain Joseph White in 1830 was not just a personal tragedy to the families involved. It was a sign of the times that Salem’s identity as a wealthy and successful seaport was sinking into the horizon. The story of the murder became an international sensation and influenced authors Edgar Allen Poe and Nathaniel Hawthorne. Bring your camera or your camera phone.
URL:https://salemforallages.org/event/murder-through-a-new-lens-the-anniversary-of-the-joseph-white-murder-4/
ATTACH;FMTTYPE=image/jpeg:https://salemforallages.org/wp-content/uploads/2024/04/Website-event-image-ratio.jpg
END:VEVENT
BEGIN:VEVENT
DTSTART;TZID=America/New_York:20240415T100000
DTEND;TZID=America/New_York:20240415T110000
DTSTAMP:20260423T153129
CREATED:20240406T090022Z
LAST-MODIFIED:20240406T090022Z
UID:18326-1713175200-1713178800@salemforallages.org
SUMMARY:Adopt a Dino with The Good Witch of Salem
DESCRIPTION:Children will stuff their own dinosaur plush\, create accessories\, and learn about crystal magic! \nThis workshop is limited to 8 children\, pre-registration is required. Under age 4 may attend with the help of a supervising adult.
URL:https://salemforallages.org/event/adopt-a-dino-with-the-good-witch-of-salem/
ATTACH;FMTTYPE=image/jpeg:https://salemforallages.org/wp-content/uploads/2024/04/adopt-a-dino.jpg
END:VEVENT
BEGIN:VEVENT
DTSTART;TZID=America/New_York:20240415T100000
DTEND;TZID=America/New_York:20240415T113000
DTSTAMP:20260423T153129
CREATED:20240406T090024Z
LAST-MODIFIED:20240406T090024Z
UID:18328-1713175200-1713180600@salemforallages.org
SUMMARY:Fairy Magic with The Good Witch
DESCRIPTION:Let’s celebrate Spring by decorating our own “Fairy House”! Children will use paint\, gems\, stickers and glue to decorate a house. They will also learn about Rainbow Crystal Magic. \nThis workshop is limited to 8 children\, pre-registration is required. Under age 4 may attend with the help of a supervising adult.
URL:https://salemforallages.org/event/fairy-magic-with-the-good-witch/
ATTACH;FMTTYPE=image/jpeg:https://salemforallages.org/wp-content/uploads/2024/04/Fairy-Magic.jpg
END:VEVENT
BEGIN:VEVENT
DTSTART;TZID=America/New_York:20240415T100000
DTEND;TZID=America/New_York:20240415T170000
DTSTAMP:20260423T153129
CREATED:20240406T090019Z
LAST-MODIFIED:20240406T090019Z
UID:18322-1713175200-1713200400@salemforallages.org
SUMMARY:Celebrating Yin Yu Tang
DESCRIPTION:Join us as we continue to celebrate the 20th anniversary of the cultural exchange project that brought Yin Yu Tang to PEM! For this school vacation week\, travel across the world without leaving Salem by learning traditional Chinese paper cutting with local guest artist Zhonghe (Elena) Li on Monday\, Thursday and Friday afternoons. Join us for film screenings in Morse Auditorium on Friday\, and challenge yourself all three days with a museum-wide dragon scavenger hunt!
URL:https://salemforallages.org/event/celebrating-yin-yu-tang/
ATTACH;FMTTYPE=image/jpeg:https://salemforallages.org/wp-content/uploads/2024/04/Ev_AprilSVA_YYT_1600_SplitHero.jpg
END:VEVENT
BEGIN:VEVENT
DTSTART;TZID=America/New_York:20240415T100000
DTEND;TZID=America/New_York:20240415T170000
DTSTAMP:20260423T153129
CREATED:20240406T090021Z
LAST-MODIFIED:20240406T090021Z
UID:18324-1713175200-1713200400@salemforallages.org
SUMMARY:Dragon Quest at the PEM
DESCRIPTION:Learn about dragons in art and tradition around the world in a scavenger hunt that takes you across the museum. See if you can find all nine dragons — if you find them\, a prize awaits you! Stop by the Information desk to pick up your dragon activity booklet.
URL:https://salemforallages.org/event/dragon-quest-at-the-pem/
ATTACH;FMTTYPE=image/jpeg:https://salemforallages.org/wp-content/uploads/2024/04/Salem_MA_PeabodyEssexMuseum.jpg
END:VEVENT
BEGIN:VEVENT
DTSTART;TZID=America/New_York:20240415T120000
DTEND;TZID=America/New_York:20240415T140000
DTSTAMP:20260423T153129
CREATED:20240407T090009Z
LAST-MODIFIED:20240407T090009Z
UID:18330-1713182400-1713189600@salemforallages.org
SUMMARY:Pinhole Cameras with Patricia Scialo
DESCRIPTION:Program will be held at Old Town Hall and is open to the public during April school vacation week\, made possible through a mini-grant from the city of Salem. Explore a walk-in camera display\, create paper view-cameras\, learn\, and have fun! \n 
URL:https://salemforallages.org/event/pinhole-cameras-with-patricia-scialo/
ATTACH;FMTTYPE=image/jpeg:https://salemforallages.org/wp-content/uploads/2024/04/April.jpg
END:VEVENT
BEGIN:VEVENT
DTSTART;TZID=America/New_York:20240415T120000
DTEND;TZID=America/New_York:20240415T150000
DTSTAMP:20260423T153129
CREATED:20240407T090012Z
LAST-MODIFIED:20240407T090012Z
UID:18332-1713182400-1713193200@salemforallages.org
SUMMARY:Drop In: Potion Brewing
DESCRIPTION:Calling all witches and wizards! Join a Witch Apprentice in testing your “Potion Master” skills by brewing up a magical potion of your own. Come in anytime between 12:00PM – 3:00PM. Activity length is approx. 20 minutes. \nUnder age 4 may attend with the help of a supervising adult.
URL:https://salemforallages.org/event/drop-in-potion-brewing-2/
ATTACH;FMTTYPE=image/jpeg:https://salemforallages.org/wp-content/uploads/2024/04/Drop-In-Fairy-Potions.jpg
END:VEVENT
BEGIN:VEVENT
DTSTART;TZID=America/New_York:20240415T130000
DTEND;TZID=America/New_York:20240415T140000
DTSTAMP:20260423T153129
CREATED:20240407T090014Z
LAST-MODIFIED:20240407T090014Z
UID:18334-1713186000-1713189600@salemforallages.org
SUMMARY:Traditional Chinese Paper Cutting with Zhonghe (Elena) Li
DESCRIPTION:Same-day tickets are required for this timed workshop; capacity is limited. Tickets are available at the Information desk.\nSpring has arrived! Frogs and ducks are appearing in neighborhood ponds. Chipmunks and rabbits are peeking out of their burrows and birds are building nests. Join artist Zhonghe (Elena) Li for a spring-themed lesson in Chinese paper cutting. She will show you basic skills using scissors\, and you will create along with her and tell your own stories!
URL:https://salemforallages.org/event/traditional-chinese-paper-cutting-with-zhonghe-elena-li/
ATTACH;FMTTYPE=image/jpeg:https://salemforallages.org/wp-content/uploads/2024/04/Salem_MA-Peabody-Essex-Museum-Atrium-Courtesy-Peabody-Essex-Museum.jpg
END:VEVENT
BEGIN:VEVENT
DTSTART;TZID=America/New_York:20240416T080000
DTEND;TZID=America/New_York:20240416T170000
DTSTAMP:20260423T153129
CREATED:20240411T090010Z
LAST-MODIFIED:20240411T090010Z
UID:18375-1713254400-1713286800@salemforallages.org
SUMMARY:Trivia Tuesdays with Gulu Gulu Cafe
DESCRIPTION: Unleash Your Inner Genius Every Tuesday at Trivia Night! \n\nThink you’re smart? Prove it under the glow of our Tuesday night trivia spotlight! \n Join us for a brain-teasing adventure into general knowledge every week\, where the pursuit of trivia supremacy is as hot as our fresh-out-of-the-oven pizzas! \n\n Compete for fantastic prizes\, bragging rights\, and the satisfaction of knowing you’re part of the smartest crowd in town.\n\n Challenge your friends\, colleagues\, or even that know-it-all neighbor. The more\, the merrier! \n\n Every Tuesday\, the ultimate trivia showdown awaits. Mark your calendars and get ready for an evening of laughter\, learning\, and delicious rewards.\n\nDon’t miss out on the excitement! Grab a slice\, grab a seat\, and let the battle of the brains begin. Trivia Night – where knowledge meets a good time!
URL:https://salemforallages.org/event/trivia-tuesdays-with-gulu-gulu-cafe/
ATTACH;FMTTYPE=image/jpeg:https://salemforallages.org/wp-content/uploads/2024/04/432416873_901456205312795_7465705002384209082_n.jpg
END:VEVENT
BEGIN:VEVENT
DTSTART;TZID=America/New_York:20240416T110000
DTEND;TZID=America/New_York:20240416T170000
DTSTAMP:20260423T153129
CREATED:20240407T090015Z
LAST-MODIFIED:20240407T090015Z
UID:18336-1713265200-1713286800@salemforallages.org
SUMMARY:Teatime Tuesdays with the Satanic Temple
DESCRIPTION:Join us every Tuesday during gallery hours for complementary tea with admission to the gallery.
URL:https://salemforallages.org/event/teatime-tuesdays-with-the-satanic-temple-47/
ATTACH;FMTTYPE=image/jpeg:https://salemforallages.org/wp-content/uploads/2023/05/satanic-tea-art-gallery.jpg
END:VEVENT
BEGIN:VEVENT
DTSTART;TZID=America/New_York:20240416T130000
DTEND;TZID=America/New_York:20240416T160000
DTSTAMP:20260423T153129
CREATED:20240407T090016Z
LAST-MODIFIED:20240407T090016Z
UID:18337-1713272400-1713283200@salemforallages.org
SUMMARY:Pinhole Cameras with Patricia Scialo
DESCRIPTION:Program will be held at Old Town Hall and is open to the public during April school vacation week\, made possible through a mini-grant from the city of Salem. Explore a walk-in camera display\, create paper view-cameras\, learn\, and have fun! \n 
URL:https://salemforallages.org/event/pinhole-cameras-with-patricia-scialo-2/
ATTACH;FMTTYPE=image/jpeg:https://salemforallages.org/wp-content/uploads/2024/04/April.jpg
END:VEVENT
BEGIN:VEVENT
DTSTART;TZID=America/New_York:20240416T140000
DTEND;TZID=America/New_York:20240416T150000
DTSTAMP:20260423T153129
CREATED:20240408T090008Z
LAST-MODIFIED:20240408T090008Z
UID:18338-1713276000-1713279600@salemforallages.org
SUMMARY:Fairy Spa Day
DESCRIPTION:Let’s have a Spa Day! Join us for a little pampering and relaxation with our Witch Apprentices. Children will create their own potion\, nails painted\, fancy hair extensions\, and a touch of glitter. \nThis workshop is limited to 8 children\, pre-registration is required.
URL:https://salemforallages.org/event/fairy-spa-day-3/
ATTACH;FMTTYPE=image/jpeg:https://salemforallages.org/wp-content/uploads/2024/04/Fairy-Spa-Day-16.jpg
END:VEVENT
BEGIN:VEVENT
DTSTART;TZID=America/New_York:20240416T140000
DTEND;TZID=America/New_York:20240416T150000
DTSTAMP:20260423T153129
CREATED:20240408T090012Z
LAST-MODIFIED:20240408T090012Z
UID:18340-1713276000-1713279600@salemforallages.org
SUMMARY:Fairy Spa Day
DESCRIPTION:Let’s have a Spa Day! Join us for a little pampering and relaxation with our Witch Apprentices. Children will create their own potion\, painted nails\, fancy hair extensions\, and a touch of glitter. \nThis workshop is limited to 8 children\, pre-registration is required.
URL:https://salemforallages.org/event/fairy-spa-day-4/
ATTACH;FMTTYPE=image/jpeg:https://salemforallages.org/wp-content/uploads/2024/04/Fairy-Spa-Day-16-1.jpg
END:VEVENT
BEGIN:VEVENT
DTSTART;TZID=America/New_York:20240416T180000
DTEND;TZID=America/New_York:20240416T193000
DTSTAMP:20260423T153129
CREATED:20240413T090012Z
LAST-MODIFIED:20240413T090012Z
UID:18381-1713290400-1713295800@salemforallages.org
SUMMARY:Eric Pape and Civic Theatre of Cape Ann\, by Leslie Bartlett
DESCRIPTION:Step into the vibrant world of outdoor summer theatre on Cape Ann with our upcoming lecture\, a perfect complement to the expanded art exhibit featuring the multitalented Eric Pape. Pape\, the visionary behind the 1909 Outdoor Pageant at Stage Fort Park\, not only set the stage but became a model for future productions in the region. His collaboration and close friendship with Percy MacKaye infused the pageant with artistic intention and grandeur\, leaving a lasting impact on the cultural landscape of Gloucester\, Rockport\, and Lanesville. Join us as local historian\, Leslie Bartlett delves into the rich history and artistic legacy of Eric Pape\, exploring how his innovative approach continues to inspire outdoor performances to this day. After the program\, attendees may explore the Gertrude Cawein  Eric Pape fine art exhibit and self-guided tours of the Museum. \n\n\n\n 
URL:https://salemforallages.org/event/eric-pape-and-civic-theatre-of-cape-ann-by-leslie-bartlett/
ATTACH;FMTTYPE=image/jpeg:https://salemforallages.org/wp-content/uploads/2024/04/Hammond-Castle-announcement-e1679942811150-300x297-1.jpg
END:VEVENT
BEGIN:VEVENT
DTSTART;TZID=America/New_York:20240416T180000
DTEND;TZID=America/New_York:20240416T200000
DTSTAMP:20260423T153129
CREATED:20240409T090013Z
LAST-MODIFIED:20240409T090013Z
UID:18357-1713290400-1713297600@salemforallages.org
SUMMARY:Jambalaya Horn’s at Turner’s Seafood
DESCRIPTION:Join Turner’s Seafood Salem and Jambalaya Horn’s Live at their downtown location. Enjoy an evening of music and great culinary creations.
URL:https://salemforallages.org/event/jambalaya-horns-at-turners-seafood/
ATTACH;FMTTYPE=image/jpeg:https://salemforallages.org/wp-content/uploads/2024/04/Turners-Seafood-Events.jpg
END:VEVENT
BEGIN:VEVENT
DTSTART;TZID=America/New_York:20240417T100000
DTEND;TZID=America/New_York:20240417T110000
DTSTAMP:20260423T153129
CREATED:20240408T090014Z
LAST-MODIFIED:20240408T090014Z
UID:18342-1713348000-1713351600@salemforallages.org
SUMMARY:Fairy Spa Day
DESCRIPTION:Let’s have a Spa Day! Join us for a little pampering and relaxation with our Witch Apprentices. Children will create their own potion\, painted nails\, fancy hair extensions\, and a touch of glitter. \nThis workshop is limited to 8 children\, pre-registration is required.
URL:https://salemforallages.org/event/fairy-spa-day-5/
ATTACH;FMTTYPE=image/jpeg:https://salemforallages.org/wp-content/uploads/2024/04/Fairy-Spa-Day-17.jpg
END:VEVENT
BEGIN:VEVENT
DTSTART;TZID=America/New_York:20240417T120000
DTEND;TZID=America/New_York:20240417T150000
DTSTAMP:20260423T153129
CREATED:20240408T090016Z
LAST-MODIFIED:20240408T090016Z
UID:18344-1713355200-1713366000@salemforallages.org
SUMMARY:Drop In: Potion Brewing
DESCRIPTION:Calling all witches and wizards! Join a Witch Apprentice in testing your “Potion Master” skills by brewing up a magical potion of your own. Come in anytime between 12:00PM – 3:00PM. Activity length is approx. 20 minutes. \nUnder age 4 may attend with the help of a supervising adult.
URL:https://salemforallages.org/event/drop-in-potion-brewing-3/
ATTACH;FMTTYPE=image/jpeg:https://salemforallages.org/wp-content/uploads/2024/04/Drop-in-Fairy-Potion-Brewing-1.jpg
END:VEVENT
BEGIN:VEVENT
DTSTART;TZID=America/New_York:20240417T130000
DTEND;TZID=America/New_York:20240417T160000
DTSTAMP:20260423T153129
CREATED:20240408T090017Z
LAST-MODIFIED:20240408T090017Z
UID:18346-1713358800-1713369600@salemforallages.org
SUMMARY:Pinhole Cameras with Patricia Scialo
DESCRIPTION:Program will be held at Old Town Hall and is open to the public during April school vacation week\, made possible through a mini-grant from the city of Salem. Explore a walk-in camera display\, create paper view-cameras\, learn\, and have fun! \n 
URL:https://salemforallages.org/event/pinhole-cameras-with-patricia-scialo-3/
ATTACH;FMTTYPE=image/jpeg:https://salemforallages.org/wp-content/uploads/2024/04/April.jpg
END:VEVENT
BEGIN:VEVENT
DTSTART;TZID=America/New_York:20240417T180000
DTEND;TZID=America/New_York:20240417T200000
DTSTAMP:20260423T153129
CREATED:20240408T090018Z
LAST-MODIFIED:20240408T090018Z
UID:18347-1713376800-1713384000@salemforallages.org
SUMMARY:Bingo at Gulu-Gulu Cafe
DESCRIPTION:Stop by Gulu-Gulu Cafe for a fun trivia series that will excite and engage any audience! Quirky\, funny\, and free!
URL:https://salemforallages.org/event/bingo-at-gulu-gulu-cafe-38/
ATTACH;FMTTYPE=image/jpeg:https://salemforallages.org/wp-content/uploads/2023/08/BingoBoardNew.jpg
END:VEVENT
BEGIN:VEVENT
DTSTART;TZID=America/New_York:20240417T183000
DTEND;TZID=America/New_York:20240417T193000
DTSTAMP:20260423T153129
CREATED:20240408T090018Z
LAST-MODIFIED:20240408T090018Z
UID:18348-1713378600-1713382200@salemforallages.org
SUMMARY:Irish Session at East Regiment Beer Co
DESCRIPTION:Hosted by Bob Strom\, enjoy a night of traditional folk music with a Celtic twist. Grab your fiddle or any other instrument and get ready to dance! \nBob and Jen play together regularly north-of-Boston at sessions\, Irish Pubs and local festivals. Though Jen began as mainly a contra-dance fiddler\, she is now a serious Irish fiddler as well as a singer of traditional songs from the British Isles\, American ballads and contemporary folk songs\, backed-up by Bob’s tasteful guitar work.
URL:https://salemforallages.org/event/irish-session-at-east-regiment-beer-co-7/
ATTACH;FMTTYPE=image/jpeg:https://salemforallages.org/wp-content/uploads/2023/10/IrishSession.jpg
END:VEVENT
BEGIN:VEVENT
DTSTART;TZID=America/New_York:20240417T183000
DTEND;TZID=America/New_York:20240417T203000
DTSTAMP:20260423T153129
CREATED:20240408T090018Z
LAST-MODIFIED:20240408T090018Z
UID:18349-1713378600-1713385800@salemforallages.org
SUMMARY:SKEEBALL NIGHT at Notch Brewing
DESCRIPTION:Join us each Wednesday night for some beer and Skee Ball!
URL:https://salemforallages.org/event/skeeball-night-at-notch-brewing-10/
ATTACH;FMTTYPE=image/jpeg:https://salemforallages.org/wp-content/uploads/2024/02/SKEEBALLFLYER.jpg
END:VEVENT
BEGIN:VEVENT
DTSTART;TZID=America/New_York:20240417T183000
DTEND;TZID=America/New_York:20240417T203000
DTSTAMP:20260423T153129
CREATED:20240408T090019Z
LAST-MODIFIED:20240408T090019Z
UID:18350-1713378600-1713385800@salemforallages.org
SUMMARY:SATAN SIP ‘N PAINT
DESCRIPTION:Paint a Satanic scene while sipping adult beverages! 21+ event. No painting experience necessary! Instruction\, inspiration\, all art supplies\, refreshments\, snacks\, ice and cups provided. Just bring yourself and your favorite beverage! \nHosted by the talented Salem Art Gallery staff. \nTickets are $33 per person. Availability is limited.
URL:https://salemforallages.org/event/satan-sip-n-paint-4/
ATTACH;FMTTYPE=image/png:https://salemforallages.org/wp-content/uploads/2024/03/8f43122b-9ebc-4e6b-bb40-ff4d2d221137_482x676.png
END:VEVENT
BEGIN:VEVENT
DTSTART;TZID=America/New_York:20240417T190000
DTEND;TZID=America/New_York:20240417T210000
DTSTAMP:20260423T153129
CREATED:20240408T090019Z
LAST-MODIFIED:20240408T090019Z
UID:18351-1713380400-1713387600@salemforallages.org
SUMMARY:Small Batch Trivia With Geeks Who Drink
DESCRIPTION:Join us each Wednesday for 2 hours of general knowledge\, pop culture trivia hosted by our friends from Geeks Who Drink! Appropriate for all ages. Prizes for the top two teams! \nSeating starts at 6:45. As of now we are not taking reservations\, and seating is first-come\, first-served. We may implement a call-ahead waitlist or reservations in the future should interest allow.\nOrder minimum: $15 per person. \n*For those of you yearning for the return of Nerd Trivia\, we’re sorry to disappoint. We feel this format will include more people in the fun! We WILL be hosting themed trivia from time to time\, so look for those special events coming soon.
URL:https://salemforallages.org/event/small-batch-trivia-with-geeks-who-drink-12/
ATTACH;FMTTYPE=image/jpeg:https://salemforallages.org/wp-content/uploads/2024/01/419132312_863957225729360_4273940916293433697_n.jpg
END:VEVENT
END:VCALENDAR