BEGIN:VCALENDAR
VERSION:2.0
PRODID:-//Salem for All Ages - ECPv6.15.18//NONSGML v1.0//EN
CALSCALE:GREGORIAN
METHOD:PUBLISH
X-ORIGINAL-URL:https://salemforallages.org
X-WR-CALDESC:Events for Salem for All Ages
REFRESH-INTERVAL;VALUE=DURATION:PT1H
X-Robots-Tag:noindex
X-PUBLISHED-TTL:PT1H
BEGIN:VTIMEZONE
TZID:America/New_York
BEGIN:DAYLIGHT
TZOFFSETFROM:-0500
TZOFFSETTO:-0400
TZNAME:EDT
DTSTART:20230312T070000
END:DAYLIGHT
BEGIN:STANDARD
TZOFFSETFROM:-0400
TZOFFSETTO:-0500
TZNAME:EST
DTSTART:20231105T060000
END:STANDARD
BEGIN:DAYLIGHT
TZOFFSETFROM:-0500
TZOFFSETTO:-0400
TZNAME:EDT
DTSTART:20240310T070000
END:DAYLIGHT
BEGIN:STANDARD
TZOFFSETFROM:-0400
TZOFFSETTO:-0500
TZNAME:EST
DTSTART:20241103T060000
END:STANDARD
BEGIN:DAYLIGHT
TZOFFSETFROM:-0500
TZOFFSETTO:-0400
TZNAME:EDT
DTSTART:20250309T070000
END:DAYLIGHT
BEGIN:STANDARD
TZOFFSETFROM:-0400
TZOFFSETTO:-0500
TZNAME:EST
DTSTART:20251102T060000
END:STANDARD
END:VTIMEZONE
BEGIN:VEVENT
DTSTART;TZID=America/New_York:20240331T153000
DTEND;TZID=America/New_York:20240331T170000
DTSTAMP:20260423T133458
CREATED:20240324T090030Z
LAST-MODIFIED:20240324T090030Z
UID:18224-1711899000-1711904400@salemforallages.org
SUMMARY:Pub Singing
DESCRIPTION:Stop by East Regiment for a night filled with pub singing and really good beer!
URL:https://salemforallages.org/event/pub-singing/
ATTACH;FMTTYPE=image/jpeg:https://salemforallages.org/wp-content/uploads/2023/05/East-Regiment-Basic.jpg
END:VEVENT
BEGIN:VEVENT
DTSTART;TZID=America/New_York:20240331T160000
DTEND;TZID=America/New_York:20240331T190000
DTSTAMP:20260423T133458
CREATED:20240324T090031Z
LAST-MODIFIED:20240324T090031Z
UID:18225-1711900800-1711911600@salemforallages.org
SUMMARY:DIAMOND’S DINE-IN DRAG BRUNCH!
DESCRIPTION:Come on down for Diamond’s Dine-In Drag Brunch! This is a weekly event with local Drag Queen Miz Diamond Wigfall! Someone will be her guest. Be ready for numbers\, games\, drag\, and mimosas all afternoon.
URL:https://salemforallages.org/event/diamonds-dine-in-drag-brunch-35/
ATTACH;FMTTYPE=image/jpeg:https://salemforallages.org/wp-content/uploads/2023/08/Diamond_DineIn_Final-11x171-1.jpg
END:VEVENT
BEGIN:VEVENT
DTSTART;TZID=America/New_York:20240401T100000
DTEND;TZID=America/New_York:20240401T140000
DTSTAMP:20260423T133458
CREATED:20240324T090031Z
LAST-MODIFIED:20240324T090031Z
UID:18226-1711965600-1711980000@salemforallages.org
SUMMARY:Book a “Good Witch Transformation”
DESCRIPTION:Thank you for your interest in a “Good Witch” Transformation! \nThrough our transformations children unleash their own spellbinding charms and embrace their individuality. Children are invited to browse our collection of witch hats and dresses. Adorned with shimmering stars\, flowing capes\, and ribbons of enchantment\, these outfits are sure to celebrate their unique spirits. \nOur talented apprentices delicately apply a touch of stardust and add sprinkles of color that match your child’s vibrant personality. As they gaze upon their reflection\, their eyes light up with a newfound confidence and a sense of whimsical delight. They have become the magical beings they’ve always dreamt of\, casting spells and brewing potions in their imaginary world. Their laughter fills the air as they twirl and spin\, radiating with joy and wonder.
URL:https://salemforallages.org/event/book-a-good-witch-transformation-92/
END:VEVENT
BEGIN:VEVENT
DTSTART;TZID=America/New_York:20240402T110000
DTEND;TZID=America/New_York:20240402T170000
DTSTAMP:20260423T133458
CREATED:20240324T090031Z
LAST-MODIFIED:20240324T090031Z
UID:18227-1712055600-1712077200@salemforallages.org
SUMMARY:Teatime Tuesdays with the Satanic Temple
DESCRIPTION:Join us every Tuesday during gallery hours for complementary tea with admission to the gallery.
URL:https://salemforallages.org/event/teatime-tuesdays-with-the-satanic-temple-45/
ATTACH;FMTTYPE=image/jpeg:https://salemforallages.org/wp-content/uploads/2023/05/satanic-tea-art-gallery.jpg
END:VEVENT
BEGIN:VEVENT
DTSTART;TZID=America/New_York:20240403T150000
DTEND;TZID=America/New_York:20240403T150000
DTSTAMP:20260423T133458
CREATED:20240324T090032Z
LAST-MODIFIED:20240324T090032Z
UID:18228-1712156400-1712156400@salemforallages.org
SUMMARY:Let’s Sing Taylor at The Cabot
DESCRIPTION:Let’s Sing Taylor – A Live Band Experience – is the ultimate tribute to the music of Taylor Swift. We can show you incredible things\, including the most faithful and lively covers of Queen Taylor’s expansive and sacred catalog.
URL:https://salemforallages.org/event/lets-sing-taylor-at-the-cabot/
ATTACH;FMTTYPE=image/jpeg:https://salemforallages.org/wp-content/uploads/2024/03/Lets_Sing_Taylor_promo_photo.jpg-scaled-1.jpg
END:VEVENT
BEGIN:VEVENT
DTSTART;TZID=America/New_York:20240403T180000
DTEND;TZID=America/New_York:20240403T193000
DTSTAMP:20260423T133458
CREATED:20240327T090015Z
LAST-MODIFIED:20240327T090015Z
UID:18256-1712167200-1712172600@salemforallages.org
SUMMARY:SMALL BUSINESS MARKETING WORKSHOP
DESCRIPTION:Join us on Wednesday\, April 3rd from 6:00 to 7:30 PM at Espacio\, 105 Congress Street in Salem\, for a Marketing 101 workshop for small businesses and entrepreneurs. Learn about branding\, social media\, free resources\, and other digital tools to bring market your business to the right audience. Please come prepared to participate. This workshop is in English. Dinner will be provided to in-person attendees. \n \nFor more information\, contact Nina Lissarrague at nina@northshorecdc.org.
URL:https://salemforallages.org/event/small-business-marketing-workshop/
ATTACH;FMTTYPE=image/jpeg:https://salemforallages.org/wp-content/uploads/2024/03/IMG_5503.jpg
END:VEVENT
BEGIN:VEVENT
DTSTART;TZID=America/New_York:20240403T180000
DTEND;TZID=America/New_York:20240403T200000
DTSTAMP:20260423T133458
CREATED:20240324T090035Z
LAST-MODIFIED:20240324T090035Z
UID:18230-1712167200-1712174400@salemforallages.org
SUMMARY:Bingo at Gulu-Gulu Cafe
DESCRIPTION:Stop by Gulu-Gulu Cafe for a fun trivia series that will excite and engage any audience! Quirky\, funny\, and free!
URL:https://salemforallages.org/event/bingo-at-gulu-gulu-cafe-36/
ATTACH;FMTTYPE=image/jpeg:https://salemforallages.org/wp-content/uploads/2023/08/BingoBoardNew.jpg
END:VEVENT
BEGIN:VEVENT
DTSTART;TZID=America/New_York:20240403T183000
DTEND;TZID=America/New_York:20240403T193000
DTSTAMP:20260423T133458
CREATED:20240325T090010Z
LAST-MODIFIED:20240325T090010Z
UID:18231-1712169000-1712172600@salemforallages.org
SUMMARY:Irish Session at East Regiment Beer Co
DESCRIPTION:Hosted by Bob Strom\, enjoy a night of traditional folk music with a Celtic twist. Grab your fiddle or any other instrument and get ready to dance! \nBob and Jen play together regularly north-of-Boston at sessions\, Irish Pubs and local festivals. Though Jen began as mainly a contra-dance fiddler\, she is now a serious Irish fiddler as well as a singer of traditional songs from the British Isles\, American ballads and contemporary folk songs\, backed-up by Bob’s tasteful guitar work.
URL:https://salemforallages.org/event/irish-session-at-east-regiment-beer-co-6/
ATTACH;FMTTYPE=image/jpeg:https://salemforallages.org/wp-content/uploads/2023/10/IrishSession.jpg
END:VEVENT
BEGIN:VEVENT
DTSTART;TZID=America/New_York:20240403T183000
DTEND;TZID=America/New_York:20240403T203000
DTSTAMP:20260423T133459
CREATED:20240325T090010Z
LAST-MODIFIED:20240325T090010Z
UID:18232-1712169000-1712176200@salemforallages.org
SUMMARY:SKEEBALL NIGHT at Notch Brewing
DESCRIPTION:Join us each Wednesday night for some beer and Skee Ball!
URL:https://salemforallages.org/event/skeeball-night-at-notch-brewing-8/
ATTACH;FMTTYPE=image/jpeg:https://salemforallages.org/wp-content/uploads/2024/02/SKEEBALLFLYER.jpg
END:VEVENT
BEGIN:VEVENT
DTSTART;TZID=America/New_York:20240403T183000
DTEND;TZID=America/New_York:20240403T203000
DTSTAMP:20260423T133459
CREATED:20240327T090018Z
LAST-MODIFIED:20240327T090018Z
UID:18258-1712169000-1712176200@salemforallages.org
SUMMARY:SATAN SIP ‘N PAINT
DESCRIPTION:Paint a Satanic scene while sipping adult beverages! 21+ event. No painting experience necessary! Instruction\, inspiration\, all art supplies\, refreshments\, snacks\, ice and cups provided. Just bring yourself and your favorite beverage! \nHosted by the talented Salem Art Gallery staff. \nTickets are $33 per person. Availability is limited.
URL:https://salemforallages.org/event/satan-sip-n-paint-2/
ATTACH;FMTTYPE=image/png:https://salemforallages.org/wp-content/uploads/2024/03/8f43122b-9ebc-4e6b-bb40-ff4d2d221137_482x676.png
END:VEVENT
BEGIN:VEVENT
DTSTART;TZID=America/New_York:20240403T190000
DTEND;TZID=America/New_York:20240403T210000
DTSTAMP:20260423T133459
CREATED:20240325T090011Z
LAST-MODIFIED:20240325T090011Z
UID:18233-1712170800-1712178000@salemforallages.org
SUMMARY:Small Batch Trivia With Geeks Who Drink
DESCRIPTION:Join us each Wednesday for 2 hours of general knowledge\, pop culture trivia hosted by our friends from Geeks Who Drink! Appropriate for all ages. Prizes for the top two teams! \nSeating starts at 6:45. As of now we are not taking reservations\, and seating is first-come\, first-served. We may implement a call-ahead waitlist or reservations in the future should interest allow.\nOrder minimum: $15 per person. \n*For those of you yearning for the return of Nerd Trivia\, we’re sorry to disappoint. We feel this format will include more people in the fun! We WILL be hosting themed trivia from time to time\, so look for those special events coming soon.
URL:https://salemforallages.org/event/small-batch-trivia-with-geeks-who-drink-10/
ATTACH;FMTTYPE=image/jpeg:https://salemforallages.org/wp-content/uploads/2024/01/419132312_863957225729360_4273940916293433697_n.jpg
END:VEVENT
BEGIN:VEVENT
DTSTART;TZID=America/New_York:20240404T180000
DTEND;TZID=America/New_York:20240404T200000
DTSTAMP:20260423T133459
CREATED:20240326T090008Z
LAST-MODIFIED:20240326T090008Z
UID:18248-1712253600-1712260800@salemforallages.org
SUMMARY:Thursday Night Regiment Run Club
DESCRIPTION:Calling all runners! Are you ready to lace up your shoes\, hit the pavement\, and join a fantastic community of like-minded individuals? Look no further than the Thursday Night Regiment\, East Regiment Beer Company’s very own run club\, designed to bring together runners of all levels for an incredible weekly experience. Every Thursday at 6pm.
URL:https://salemforallages.org/event/thursday-night-regiment-run-club-13/
ATTACH;FMTTYPE=image/jpeg:https://salemforallages.org/wp-content/uploads/2024/01/417411302_18330583423099216_2490907441340422180_n.jpg
END:VEVENT
BEGIN:VEVENT
DTSTART;TZID=America/New_York:20240404T183000
DTEND;TZID=America/New_York:20240404T220000
DTSTAMP:20260423T133459
CREATED:20240325T090011Z
LAST-MODIFIED:20240325T090011Z
UID:18234-1712255400-1712268000@salemforallages.org
SUMMARY:Open-Mic Night
DESCRIPTION:Sing\, dance\, or simply witness local musical talent\, or simply witness the chaos of Gulu-Gulu’s open mic. \n  \nThe best open mic in the World\, on the North Shore\, in Salem! Come join the fun every Thursday night! Anything and everything are welcome. Sing\, Dance\, Hum\, Orate\, or simply witness the beautiful chaos that is the Gulu Gulu Open Mic Shindig. Sign-up at 7:30pm.
URL:https://salemforallages.org/event/open-mic-night-36/
ATTACH;FMTTYPE=image/jpeg:https://salemforallages.org/wp-content/uploads/2023/08/image-asset.jpg
END:VEVENT
BEGIN:VEVENT
DTSTART;TZID=America/New_York:20240404T190000
DTEND;TZID=America/New_York:20240404T190000
DTSTAMP:20260423T133459
CREATED:20240325T090012Z
LAST-MODIFIED:20240325T090012Z
UID:18235-1712257200-1712257200@salemforallages.org
SUMMARY:An Evening With Maureen Hancock (Medium) at The Cabot
DESCRIPTION:Join World Renowned\, Spirit Medium Maureen Hancock For An Evening Of Spirit Connections. This is the most unique family reunion ever witnessed. We laugh\, cry & celebrate memories of those we have lost and love. Maureen has spent decades demystifying the overwhelming subject matter of death. Maureen’s work has brought comfort\, hope and healing to the masses. She teaches students in her University\, workshops and retreats to flex their intuitive muscle\, and tap into messages from spirit.
URL:https://salemforallages.org/event/an-evening-with-maureen-hancock-medium-at-the-cabot/
ATTACH;FMTTYPE=image/jpeg:https://salemforallages.org/wp-content/uploads/2024/03/Postcards-from-Heaven-4.jpg
END:VEVENT
BEGIN:VEVENT
DTSTART;TZID=America/New_York:20240404T190000
DTEND;TZID=America/New_York:20240404T210000
DTSTAMP:20260423T133459
CREATED:20240325T090014Z
LAST-MODIFIED:20240325T090014Z
UID:18237-1712257200-1712264400@salemforallages.org
SUMMARY:Live Music at Salem VFW
DESCRIPTION:Join us for the best events in town! Whether you’re looking for live music\, sports viewing parties\, or local veteran events\, we’ve got you covered. Check out our upcoming events below and mark your calendars.
URL:https://salemforallages.org/event/live-music-at-salem-vfw-3/
ATTACH;FMTTYPE=image/png:https://salemforallages.org/wp-content/uploads/2024/03/VFW-live-music.png
END:VEVENT
BEGIN:VEVENT
DTSTART;TZID=America/New_York:20240405T100000
DTEND;TZID=America/New_York:20240405T160000
DTSTAMP:20260423T133459
CREATED:20240402T090010Z
LAST-MODIFIED:20240402T090010Z
UID:18294-1712311200-1712332800@salemforallages.org
SUMMARY:Opening Day at Hammond Castle
DESCRIPTION:Hammond Castle is open again for the 2024 Season. The Museum is open 10am – 4pm. On most days\, the last entrance for Self-Guided Tours is at 3:15 pm. The last Guided Tours begin at 3:00 pm. The Museum\, Museum Shop\, and grounds close sharply at 4:00 pm.
URL:https://salemforallages.org/event/opening-day-at-hammond-castle/
ATTACH;FMTTYPE=image/jpeg:https://salemforallages.org/wp-content/uploads/2024/04/Carin-Macn-16-x-9-fotor-2024031494244-1536x864-1.jpg
END:VEVENT
BEGIN:VEVENT
DTSTART;TZID=America/New_York:20240405T180000
DTEND;TZID=America/New_York:20240405T210000
DTSTAMP:20260423T133459
CREATED:20240326T090009Z
LAST-MODIFIED:20240326T090009Z
UID:18249-1712340000-1712350800@salemforallages.org
SUMMARY:Friday Night Music at East Regiment
DESCRIPTION:Enjoy refreshing beer and live music at East Regiment Beer Co! \n  \nApril 5th Two Drunk Nights \nApril 12th Delvis \nApril 19th Lee Harvey \nApril 26th Chance of Rain  \n 
URL:https://salemforallages.org/event/friday-night-music-at-east-regiment-35/
ATTACH;FMTTYPE=image/jpeg:https://salemforallages.org/wp-content/uploads/2024/01/Instagram-Images-2024-01-09T114006.140.jpg
END:VEVENT
BEGIN:VEVENT
DTSTART;TZID=America/New_York:20240405T200000
DTEND;TZID=America/New_York:20240405T230000
DTSTAMP:20260423T133459
CREATED:20240325T090014Z
LAST-MODIFIED:20240325T090014Z
UID:18238-1712347200-1712358000@salemforallages.org
SUMMARY:Friday Night Music with Gulu-Gulu Cafe
DESCRIPTION:Join Gulu-Gulu Cafe Friday nights for their live music series. Bands and musicians range from acoustic guitar\, jazz standards\, saxophones\, trios\, and more! Support live musicians and listen to live music!
URL:https://salemforallages.org/event/friday-night-music-with-gulu-gulu-cafe-36/
ATTACH;FMTTYPE=image/jpeg:https://salemforallages.org/wp-content/uploads/2023/08/38864120_1780760032044977_6011049327684747264_n.jpg
END:VEVENT
BEGIN:VEVENT
DTSTART;TZID=America/New_York:20240406T080000
DTEND;TZID=America/New_York:20240406T170000
DTSTAMP:20260423T133459
CREATED:20240325T090015Z
LAST-MODIFIED:20240325T090015Z
UID:18239-1712390400-1712422800@salemforallages.org
SUMMARY:Book a “Good Witch Magical Transformation”
DESCRIPTION:Children\, tweens\, teens\, and adults are all welcome to participate in our “Good Witch Transformations”! \nThrough our transformations children unleash their own spellbinding charms and embrace their individuality. Children are invited to browse our collection of witch hats and dresses. Adorned with shimmering stars\, flowing capes\, and ribbons of enchantment\, these outfits are sure to celebrate their unique spirits. \nOur talented apprentices delicately apply a touch of stardust and add sprinkles of color that match your child’s vibrant personality. As they gaze upon their reflection\, their eyes light up with a newfound confidence and a sense of whimsical delight. They have become the magical beings they’ve always dreamt of\, casting spells and brewing potions in their imaginary world. Their laughter fills the air as they twirl and spin\, radiating with joy and wonder.
URL:https://salemforallages.org/event/book-a-good-witch-magical-transformation-29/
ATTACH;FMTTYPE=image/jpeg:https://salemforallages.org/wp-content/uploads/2023/08/magical-transoformations-.jpg
END:VEVENT
BEGIN:VEVENT
DTSTART;TZID=America/New_York:20240406T100000
DTEND;TZID=America/New_York:20240406T140000
DTSTAMP:20260423T133459
CREATED:20240325T090015Z
LAST-MODIFIED:20240325T090015Z
UID:18240-1712397600-1712412000@salemforallages.org
SUMMARY:Book a “Good Witch Transformation”
DESCRIPTION:Thank you for your interest in a “Good Witch” Transformation! \nThrough our transformations children unleash their own spellbinding charms and embrace their individuality. Children are invited to browse our collection of witch hats and dresses. Adorned with shimmering stars\, flowing capes\, and ribbons of enchantment\, these outfits are sure to celebrate their unique spirits. \nOur talented apprentices delicately apply a touch of stardust and add sprinkles of color that match your child’s vibrant personality. As they gaze upon their reflection\, their eyes light up with a newfound confidence and a sense of whimsical delight. They have become the magical beings they’ve always dreamt of\, casting spells and brewing potions in their imaginary world. Their laughter fills the air as they twirl and spin\, radiating with joy and wonder.
URL:https://salemforallages.org/event/book-a-good-witch-transformation-93/
END:VEVENT
BEGIN:VEVENT
DTSTART;TZID=America/New_York:20240406T103000
DTEND;TZID=America/New_York:20240406T123000
DTSTAMP:20260423T133459
CREATED:20240325T090015Z
LAST-MODIFIED:20240325T090015Z
UID:18241-1712399400-1712406600@salemforallages.org
SUMMARY:Process Art Mornings
DESCRIPTION:Informal in-process art making
URL:https://salemforallages.org/event/process-art-mornings-48/
ATTACH;FMTTYPE=image/jpeg:https://salemforallages.org/wp-content/uploads/2023/05/01.jpg
END:VEVENT
BEGIN:VEVENT
DTSTART;TZID=America/New_York:20240406T131500
DTEND;TZID=America/New_York:20240406T141500
DTSTAMP:20260423T133459
CREATED:20240325T090016Z
LAST-MODIFIED:20240325T090016Z
UID:18242-1712409300-1712412900@salemforallages.org
SUMMARY:Women’s History Tour
DESCRIPTION:March is Women’s History Month\, and to celebrate we are offering our Women’s History Tour each Saturday of the month at 1:15 P.M.!\nFrom the Indigenous women who worked the land to our organization’s founder\, women have always been a part of the Turner-Ingersoll Mansion’s history\, but not always given the spotlight they deserve. The House of the Seven Gables has created a Women’s History Tour to focus\, in-depth\, on the many women who have lived and labored in the Mansion.
URL:https://salemforallages.org/event/womens-history-tour-6/
END:VEVENT
BEGIN:VEVENT
DTSTART;TZID=America/New_York:20240406T163000
DTEND;TZID=America/New_York:20240406T183000
DTSTAMP:20260423T133459
CREATED:20240404T090008Z
LAST-MODIFIED:20240404T090008Z
UID:18298-1712421000-1712428200@salemforallages.org
SUMMARY:Murder Through A New Lens: The Anniversary of the Joseph White Murder
DESCRIPTION:“Murder Through a New Lens” is a limited engagement combination walking tour and photography workshop offered on April 6\, 7\, 13\, and 14. Join one of our local tour guides and a local photographer for a fascinating exploration of Salem’s most notorious murder. The death of aged sea Captain Joseph White in 1830 was not just a personal tragedy to the families involved. It was a sign of the times that Salem’s identity as a wealthy and successful seaport was sinking into the horizon. The story of the murder became an international sensation and influenced authors Edgar Allen Poe and Nathaniel Hawthorne. Bring your camera or your camera phone.
URL:https://salemforallages.org/event/murder-through-a-new-lens-the-anniversary-of-the-joseph-white-murder/
ATTACH;FMTTYPE=image/jpeg:https://salemforallages.org/wp-content/uploads/2024/04/Website-event-image-ratio.jpg
END:VEVENT
BEGIN:VEVENT
DTSTART;TZID=America/New_York:20240406T183000
DTEND;TZID=America/New_York:20240406T200000
DTSTAMP:20260423T133459
CREATED:20240326T090010Z
LAST-MODIFIED:20240326T090010Z
UID:18250-1712428200-1712433600@salemforallages.org
SUMMARY:Dead to the Core April 6th Old Town Hall
DESCRIPTION:Join us for a night of music at Old Town Hall featuring North Shore’s Premiere Grateful Dead cover band\, Dead to the Core! \nTwo sets of music\, raffle item from Witch Dr & some of our finest beers! \nDoors at 6:30 \nMusic at 7 \nTICKETS ARE ALL WILL CALL \nYour name and ticket quantity will be added to our will call list once purchased.
URL:https://salemforallages.org/event/dead-to-the-core-april-6th-old-town-hall/
ATTACH;FMTTYPE=image/jpeg:https://salemforallages.org/wp-content/uploads/2024/03/DttCFINAL.jpg
END:VEVENT
BEGIN:VEVENT
DTSTART;TZID=America/New_York:20240406T200000
DTEND;TZID=America/New_York:20240406T200000
DTSTAMP:20260423T133459
CREATED:20240325T090016Z
LAST-MODIFIED:20240325T090016Z
UID:18243-1712433600-1712433600@salemforallages.org
SUMMARY:Al Di Meola at The Cabot
DESCRIPTION:Al Di Meola\, a bonafide living Guitar Legend inducted into the Gallery of Greats is among the top guitarists of our time. His ongoing fascination with complex rhythmic syncopation combined with provocative lyrical melodies and sophisticated harmony has been at the heart of his music throughout a celebrated career that has spanned four decades and earned him critical accolades.
URL:https://salemforallages.org/event/al-di-meola-at-the-cabot/
ATTACH;FMTTYPE=image/jpeg:https://salemforallages.org/wp-content/uploads/2024/03/ElecSWilkes-scaled-1.jpg
END:VEVENT
BEGIN:VEVENT
DTSTART;TZID=America/New_York:20240407T100000
DTEND;TZID=America/New_York:20240407T110000
DTSTAMP:20260423T133459
CREATED:20240406T090009Z
LAST-MODIFIED:20240406T090009Z
UID:18313-1712484000-1712487600@salemforallages.org
SUMMARY:Spring Spa Day
DESCRIPTION:Let’s have a Spa Day! Join us for a little pampering and relaxation with our Witch Apprentices. Children will create their own potion\, nails painted\, fancy hair extensions\, and a touch of glitter. \nThis workshop is limited to 8 children\, pre-registration is required.
URL:https://salemforallages.org/event/spring-spa-day/
ATTACH;FMTTYPE=image/jpeg:https://salemforallages.org/wp-content/uploads/2024/04/spring-spa-day.jpg
END:VEVENT
BEGIN:VEVENT
DTSTART;TZID=America/New_York:20240407T100000
DTEND;TZID=America/New_York:20240407T140000
DTSTAMP:20260423T133459
CREATED:20240325T090019Z
LAST-MODIFIED:20240325T090019Z
UID:18245-1712484000-1712498400@salemforallages.org
SUMMARY:Book a “Good Witch Transformation”
DESCRIPTION:Thank you for your interest in a “Good Witch” Transformation! \nThrough our transformations children unleash their own spellbinding charms and embrace their individuality. Children are invited to browse our collection of witch hats and dresses. Adorned with shimmering stars\, flowing capes\, and ribbons of enchantment\, these outfits are sure to celebrate their unique spirits. \nOur talented apprentices delicately apply a touch of stardust and add sprinkles of color that match your child’s vibrant personality. As they gaze upon their reflection\, their eyes light up with a newfound confidence and a sense of whimsical delight. They have become the magical beings they’ve always dreamt of\, casting spells and brewing potions in their imaginary world. Their laughter fills the air as they twirl and spin\, radiating with joy and wonder.
URL:https://salemforallages.org/event/book-a-good-witch-transformation-94/
END:VEVENT
BEGIN:VEVENT
DTSTART;TZID=America/New_York:20240407T130000
DTEND;TZID=America/New_York:20240407T140000
DTSTAMP:20260423T133459
CREATED:20240328T090008Z
LAST-MODIFIED:20240328T090008Z
UID:18259-1712494800-1712498400@salemforallages.org
SUMMARY:Sea Glass Tree Workshop at East Regiment Beer Co.
DESCRIPTION:Join us Sunday\, April 7th @1pm at East Regiment Beer Co. (30 Church St\, Salem MA) for a Sunday FUNday of creating your very own Sea Glass Tree! \nWe will help guide you through the process from start to finish. All supplies are included to make your tree with sea glass and the starfish for the top! Battery powered string lights come with your project. You are also welcome to bring your own items to add to your tree if you would like. These beautiful trees are 10″ tall with the star fish and there will be a variety of glass colors to choose from! \nThis registration will allow for one person to make one project. Please be sure if you are signing up with others to purchase your registration at the same time or same day! (ticket price does NOT include any beer – pints & flights are to be purchased separately at the event).
URL:https://salemforallages.org/event/sea-glass-tree-workshop-at-east-regiment-beer-co/
ATTACH;FMTTYPE=image/jpeg:https://salemforallages.org/wp-content/uploads/2024/03/EastRegimentSeaGlassTrees_1024x1024@2x.jpg
END:VEVENT
BEGIN:VEVENT
DTSTART;TZID=America/New_York:20240407T130000
DTEND;TZID=America/New_York:20240407T150000
DTSTAMP:20260423T133459
CREATED:20240325T090019Z
LAST-MODIFIED:20240325T090019Z
UID:18246-1712494800-1712502000@salemforallages.org
SUMMARY:A Tea for Caroline
DESCRIPTION:Please join us at The House of the Seven Gables on Sunday\, April 7th for a tea to celebrate Gables founder Caroline Emmerton’s birthday. Enjoy an afternoon tea service catered by Ferreira Foods Social Catering with teas provided by Jolie Tea Company and a short presentation on Caroline’s life by local historian Irene Axelrod. \n  \nAll proceeds from the event benefit The Gables’ Collections Fund and a series of conservation projects planned for paintings related to the women of The Gables. Last year\, we raised funds to restore Flight Into Egypt\, a Sophia Peabody Hawthorne painting believed to be from Caroline’s collection. The next painting to be preserved in the program is a portrait of Sophia by Joseph Alexander Ames\, painted several years before her marriage to Nathaniel Hawthorne. \n  \nCome and enjoy the spring gardens. After the program\, there is an option to take a tour of The Gables which will include a viewing of the conserved Flight into Egypt\, Sophia’s portrait\, and the newly opened Settlement Worker bedroom. \n  \nPlease register early as there is limited seating available. \n 
URL:https://salemforallages.org/event/a-tea-for-caroline-2/
ATTACH;FMTTYPE=image/jpeg:https://salemforallages.org/wp-content/uploads/2024/03/ATeaForCaroline-2024_1920x1080-1536x864-1.jpg
END:VEVENT
BEGIN:VEVENT
DTSTART;TZID=America/New_York:20240407T140000
DTEND;TZID=America/New_York:20240407T150000
DTSTAMP:20260423T133459
CREATED:20240406T090013Z
LAST-MODIFIED:20240406T090013Z
UID:18315-1712498400-1712502000@salemforallages.org
SUMMARY:Spring Potions
DESCRIPTION:Children will mix\, mash\, drop\, and stir their very own Spring themed potion. Our magical employees will guide children in creating their own magical creations.\n\nThis workshop is limited to 8 children\, pre-registration is required. Under age 4 may attend with the help of a supervising adult.
URL:https://salemforallages.org/event/spring-potions/
ATTACH;FMTTYPE=image/jpeg:https://salemforallages.org/wp-content/uploads/2024/04/Spring-Potions.jpg
END:VEVENT
END:VCALENDAR