BEGIN:VCALENDAR
VERSION:2.0
PRODID:-//Salem for All Ages - ECPv6.15.18//NONSGML v1.0//EN
CALSCALE:GREGORIAN
METHOD:PUBLISH
X-WR-CALNAME:Salem for All Ages
X-ORIGINAL-URL:https://salemforallages.org
X-WR-CALDESC:Events for Salem for All Ages
REFRESH-INTERVAL;VALUE=DURATION:PT1H
X-Robots-Tag:noindex
X-PUBLISHED-TTL:PT1H
BEGIN:VTIMEZONE
TZID:America/New_York
BEGIN:DAYLIGHT
TZOFFSETFROM:-0500
TZOFFSETTO:-0400
TZNAME:EDT
DTSTART:20240310T070000
END:DAYLIGHT
BEGIN:STANDARD
TZOFFSETFROM:-0400
TZOFFSETTO:-0500
TZNAME:EST
DTSTART:20241103T060000
END:STANDARD
BEGIN:DAYLIGHT
TZOFFSETFROM:-0500
TZOFFSETTO:-0400
TZNAME:EDT
DTSTART:20250309T070000
END:DAYLIGHT
BEGIN:STANDARD
TZOFFSETFROM:-0400
TZOFFSETTO:-0500
TZNAME:EST
DTSTART:20251102T060000
END:STANDARD
BEGIN:DAYLIGHT
TZOFFSETFROM:-0500
TZOFFSETTO:-0400
TZNAME:EDT
DTSTART:20260308T070000
END:DAYLIGHT
BEGIN:STANDARD
TZOFFSETFROM:-0400
TZOFFSETTO:-0500
TZNAME:EST
DTSTART:20261101T060000
END:STANDARD
END:VTIMEZONE
BEGIN:VEVENT
DTSTART;TZID=America/New_York:20250615T110000
DTEND;TZID=America/New_York:20250615T170000
DTSTAMP:20260424T004310
CREATED:20250611T090011Z
LAST-MODIFIED:20250611T090011Z
UID:23992-1749985200-1750006800@salemforallages.org
SUMMARY:Personal Rainbow Aura Photos
DESCRIPTION:What would the world become if everyone saw themselves as an energetic being? Each Personal Rainbow appointment comes with an instant-film aura photo and personalized reading of the colors and patterns. Bring a buddy at no extra charge to see your vibe as a dynamic duo! Book ahead as walk-ins fill up quickly\, appointments available Thursday-Monday.
URL:https://salemforallages.org/event/personal-rainbow-aura-photos-18/
ATTACH;FMTTYPE=image/jpeg:https://salemforallages.org/wp-content/uploads/2025/06/aura-photos-hauswitch-salem-2-1.jpg
END:VEVENT
BEGIN:VEVENT
DTSTART;TZID=America/New_York:20250615T113000
DTEND;TZID=America/New_York:20250615T140000
DTSTAMP:20260424T004310
CREATED:20250611T090027Z
LAST-MODIFIED:20250611T090027Z
UID:24000-1749987000-1749996000@salemforallages.org
SUMMARY:The Good Witch of Salem’s Sunny Days Potion
DESCRIPTION:Fly into The Good Witch and Stay for a Spell! Step into the DIY Good Witch of Salem’s Potion Bar\, where you can mix your very own magical potion creations! Choose your ingredients\, sprinkle in magical moondust\, add in your golden heart intentions\, and seal with a special charm to take home the enchantment!
URL:https://salemforallages.org/event/the-good-witch-of-salems-sunny-days-potion-4/
ATTACH;FMTTYPE=image/jpeg:https://salemforallages.org/wp-content/uploads/2025/06/Sunny-Day-scaled-2.jpg
END:VEVENT
BEGIN:VEVENT
DTSTART;TZID=America/New_York:20250615T113000
DTEND;TZID=America/New_York:20250615T140000
DTSTAMP:20260424T004310
CREATED:20250612T090025Z
LAST-MODIFIED:20250612T090025Z
UID:24012-1749987000-1749996000@salemforallages.org
SUMMARY:Rainbow Broom Decorating
DESCRIPTION:Fly into The Good Witch and Stay for a Spell! Unleash your creativity at the Good Witch of Salem’s Broom Decorating Station\, where you can transform a broom into a magical masterpiece! Use enchanting tape\, colorful ribbons\, sparkling stickers\, and shimmering gems to create a broom that’s uniquely yours.
URL:https://salemforallages.org/event/rainbow-broom-decorating-7/
ATTACH;FMTTYPE=image/png:https://salemforallages.org/wp-content/uploads/2025/05/Rainbow-Broom-Decorating-1.png
END:VEVENT
BEGIN:VEVENT
DTSTART;TZID=America/New_York:20250615T113000
DTEND;TZID=America/New_York:20250615T150000
DTSTAMP:20260424T004310
CREATED:20250611T090019Z
LAST-MODIFIED:20250611T090019Z
UID:23996-1749987000-1749999600@salemforallages.org
SUMMARY:Stop In For a Spell: DIY Potion Bar
DESCRIPTION:Fly in to The Good Witch and Stay for a Spell! Mix up your very own potion at our Potion Bar! \nDrop Ins begin at store opening and end 30 minutes before closing and are offered on a first come\, first serve basis. Purchase online or pay in store. \nDrop Ins may be unavailable during a birthday party or store event. Please call ahead\, or check our posted hours on Google. \nUnder age 4 may participate with the help of a supervising adult.
URL:https://salemforallages.org/event/stop-in-for-a-spell-diy-potion-bar-245/
ATTACH;FMTTYPE=image/jpeg:https://salemforallages.org/wp-content/uploads/2025/06/Potion-Bar-2-2.jpg
END:VEVENT
BEGIN:VEVENT
DTSTART;TZID=America/New_York:20250615T113000
DTEND;TZID=America/New_York:20250615T150000
DTSTAMP:20260424T004310
CREATED:20250611T090023Z
LAST-MODIFIED:20250611T090023Z
UID:23998-1749987000-1749999600@salemforallages.org
SUMMARY:Potion Brewing Store Experience
DESCRIPTION:Make your visit to The Good Witch of Salem’s shop memorable by booking our in-store Potion Brewing Experience. This activity is led by our Witch Apprentices. \nActivities are recommended for children ages 3 and up. \n*One appointment slot for each child is required.*
URL:https://salemforallages.org/event/potion-brewing-store-experience-358/
ATTACH;FMTTYPE=image/jpeg:https://salemforallages.org/wp-content/uploads/2025/06/Final-Potion-Master-1-2.jpg
END:VEVENT
BEGIN:VEVENT
DTSTART;TZID=America/New_York:20250615T113000
DTEND;TZID=America/New_York:20250615T153000
DTSTAMP:20260424T004310
CREATED:20250611T090015Z
LAST-MODIFIED:20250611T090015Z
UID:23994-1749987000-1750001400@salemforallages.org
SUMMARY:Magical Transformations
DESCRIPTION:Through our “Magical Transformations” children embrace their charms and express their individuality. Children can choose to transform into a “Witch” or “Wizard”!
URL:https://salemforallages.org/event/magical-transformations-365/
ATTACH;FMTTYPE=image/jpeg:https://salemforallages.org/wp-content/uploads/2025/06/Magicaltransformations-3.jpg
END:VEVENT
BEGIN:VEVENT
DTSTART;TZID=America/New_York:20250615T140000
DTEND;TZID=America/New_York:20250615T160000
DTSTAMP:20260424T004310
CREATED:20250612T090027Z
LAST-MODIFIED:20250612T090027Z
UID:24013-1749996000-1750003200@salemforallages.org
SUMMARY:Diamonds Dine in w/ DJ Maxine Harrison
DESCRIPTION:Salem’s free Sunday Drag Brunch\, going 4 years strong at Gulu-Gulu Cafe. Hosted by Miz Diamond Wigfall and DJ Maxine Harrison! Featuring new guest performances every week. Please come and celebrate Sungay with us and bring all the good energy!
URL:https://salemforallages.org/event/diamonds-dine-in-w-dj-maxine-harrison/
ATTACH;FMTTYPE=image/jpeg:https://salemforallages.org/wp-content/uploads/2025/06/IMG_9935.jpg
END:VEVENT
BEGIN:VEVENT
DTSTART;TZID=America/New_York:20250615T190000
DTEND;TZID=America/New_York:20250615T210000
DTSTAMP:20260424T004310
CREATED:20250613T090005Z
LAST-MODIFIED:20250613T090005Z
UID:24015-1750014000-1750021200@salemforallages.org
SUMMARY:Candle Magick Workshop
DESCRIPTION:Join Aura “the Lipstick Mystic” for a hands on spell candle workshop! Learn how to carve\, anoint and enchant your own candle to enhance different areas of your life. This session will leave you inspired and empowered to create more magical moments in your day to day practice! All materials included.
URL:https://salemforallages.org/event/candle-magick-workshop/
ATTACH;FMTTYPE=image/jpeg:https://salemforallages.org/wp-content/uploads/2025/06/candle-magick-sq.jpg
END:VEVENT
BEGIN:VEVENT
DTSTART;TZID=America/New_York:20250616T090000
DTEND;TZID=America/New_York:20250616T120000
DTSTAMP:20260424T004310
CREATED:20250613T090009Z
LAST-MODIFIED:20250613T090009Z
UID:24017-1750064400-1750075200@salemforallages.org
SUMMARY:Kids’ Summer Program at NSGS (10 years old & up)!
DESCRIPTION:Join us for a week of artistic enrichment and engagement at North Shore Glass School! For kids age 10+\, students will be welcomed at our glass studio at 16 Proctor Street for a week of glassblowing\, flameworking\, fused glass\, stained glass and sandblasting. Projects will include but are not limited to glassblowing paperweights and cups\, fused glass bowls and suncatchers\, flameworking pendants and small figurines\, stained glass window pieces and boxes and sandblasted cups and vases.
URL:https://salemforallages.org/event/kids-summer-program-at-nsgs-10-years-old-up-5/
ATTACH;FMTTYPE=image/jpeg:https://salemforallages.org/wp-content/uploads/2025/06/IMG_5288-scaled-5.jpg
END:VEVENT
BEGIN:VEVENT
DTSTART;TZID=America/New_York:20250616T090000
DTEND;TZID=America/New_York:20250616T120000
DTSTAMP:20260424T004310
CREATED:20250613T090013Z
LAST-MODIFIED:20250613T090013Z
UID:24019-1750064400-1750075200@salemforallages.org
SUMMARY:Junior Kids’ Glass Summer Program at Artist Row!
DESCRIPTION:North Shore Glass School is thrilled to announce our new kid’s glass art program at Artist Row this summer. This program is for kids aged 7-10 years old. In this week-long program\, kids will enjoy projects in stained glass\, fused glass\, sandblasting\, glass art painting and sea glass sculpting.
URL:https://salemforallages.org/event/junior-kids-glass-summer-program-at-artist-row/
ATTACH;FMTTYPE=image/jpeg:https://salemforallages.org/wp-content/uploads/2025/06/IMG_3862-scaled-1.jpg
END:VEVENT
BEGIN:VEVENT
DTSTART;TZID=America/New_York:20250616T090000
DTEND;TZID=America/New_York:20250616T120000
DTSTAMP:20260424T004310
CREATED:20250613T090016Z
LAST-MODIFIED:20250613T090016Z
UID:24021-1750064400-1750075200@salemforallages.org
SUMMARY:Kids’ Glass Summer Program at Artist Row!
DESCRIPTION:North Shore Glass School is thrilled to announce a summer program for kids aged 7-10 years old at Artist Row. Our kids summer program will run weekly June through August from 9-12pm. In this summer workshop\, kids will be introduced to the fine arts of fused glass\, stained glass\, sandblasting\, glass painting and sea glass sculpting.
URL:https://salemforallages.org/event/kids-glass-summer-program-at-artist-row/
ATTACH;FMTTYPE=image/jpeg:https://salemforallages.org/wp-content/uploads/2025/06/IMG_3862-1-scaled-1.jpg
END:VEVENT
BEGIN:VEVENT
DTSTART;TZID=America/New_York:20250616T113000
DTEND;TZID=America/New_York:20250616T160000
DTSTAMP:20260424T004310
CREATED:20250613T090019Z
LAST-MODIFIED:20250613T090019Z
UID:24023-1750073400-1750089600@salemforallages.org
SUMMARY:Magical Transformations
DESCRIPTION:Through our “Magical Transformations” children embrace their charms and express their individuality. Children can choose to transform into a “Witch” or “Wizard”!
URL:https://salemforallages.org/event/magical-transformations-366/
ATTACH;FMTTYPE=image/jpeg:https://salemforallages.org/wp-content/uploads/2025/06/Magicaltransformations-4.jpg
END:VEVENT
BEGIN:VEVENT
DTSTART;TZID=America/New_York:20250616T113000
DTEND;TZID=America/New_York:20250616T160000
DTSTAMP:20260424T004310
CREATED:20250613T090022Z
LAST-MODIFIED:20250613T090022Z
UID:24025-1750073400-1750089600@salemforallages.org
SUMMARY:Potion Brewing Store Experience
DESCRIPTION:Make your visit to The Good Witch of Salem’s shop memorable by booking our in-store Potion Brewing Experience. This activity is led by our Witch Apprentices. \nActivities are recommended for children ages 3 and up. \n*One appointment slot for each child is required.*
URL:https://salemforallages.org/event/potion-brewing-store-experience-359/
ATTACH;FMTTYPE=image/jpeg:https://salemforallages.org/wp-content/uploads/2025/06/Final-Potion-Master-1-1-4.jpg
END:VEVENT
BEGIN:VEVENT
DTSTART;TZID=America/New_York:20250616T120000
DTEND;TZID=America/New_York:20250616T160000
DTSTAMP:20260424T004310
CREATED:20250613T090026Z
LAST-MODIFIED:20250613T090026Z
UID:24027-1750075200-1750089600@salemforallages.org
SUMMARY:Personal Rainbow Aura Photos
DESCRIPTION:What would the world become if everyone saw themselves as an energetic being? Each Personal Rainbow appointment comes with an instant-film aura photo and personalized reading of the colors and patterns. Bring a buddy at no extra charge to see your vibe as a dynamic duo! Book ahead as walk-ins fill up quickly\, appointments available Thursday-Monday.
URL:https://salemforallages.org/event/personal-rainbow-aura-photos-19/
ATTACH;FMTTYPE=image/jpeg:https://salemforallages.org/wp-content/uploads/2025/06/aura-photos-hauswitch-salem-3-1.jpg
END:VEVENT
BEGIN:VEVENT
DTSTART;TZID=America/New_York:20250616T190000
DTEND;TZID=America/New_York:20250616T210000
DTSTAMP:20260424T004310
CREATED:20250613T090029Z
LAST-MODIFIED:20250613T090029Z
UID:24029-1750100400-1750107600@salemforallages.org
SUMMARY:Bingo with Great Gaucho
DESCRIPTION:Join us at the Taproom every Monday night for FREE BINGO with Greta Gaucho at 7:00 pm. \nDot it if ya got it for four rounds to win a Far From The Tree gift card and a prize from the fabulous prize basket. \nThe Far From the Tree taproom has an open food policy. (Bring your own food)
URL:https://salemforallages.org/event/bingo-with-great-gaucho-16/
ATTACH;FMTTYPE=image/jpeg:https://salemforallages.org/wp-content/uploads/2025/06/Add-a-subheading-1.jpg
END:VEVENT
BEGIN:VEVENT
DTSTART;TZID=America/New_York:20250617T090000
DTEND;TZID=America/New_York:20250617T120000
DTSTAMP:20260424T004310
CREATED:20250613T090032Z
LAST-MODIFIED:20250613T090032Z
UID:24031-1750150800-1750161600@salemforallages.org
SUMMARY:Kids’ Summer Program at NSGS (10 years old & up)!
DESCRIPTION:Join us for a week of artistic enrichment and engagement at North Shore Glass School! For kids age 10+\, students will be welcomed at our glass studio at 16 Proctor Street for a week of glassblowing\, flameworking\, fused glass\, stained glass and sandblasting. Projects will include but are not limited to glassblowing paperweights and cups\, fused glass bowls and suncatchers\, flameworking pendants and small figurines\, stained glass window pieces and boxes and sandblasted cups and vases.
URL:https://salemforallages.org/event/kids-summer-program-at-nsgs-10-years-old-up-6/
ATTACH;FMTTYPE=image/jpeg:https://salemforallages.org/wp-content/uploads/2025/06/IMG_5288-scaled-6.jpg
END:VEVENT
BEGIN:VEVENT
DTSTART;TZID=America/New_York:20250617T090000
DTEND;TZID=America/New_York:20250617T120000
DTSTAMP:20260424T004310
CREATED:20250614T090008Z
LAST-MODIFIED:20250614T090008Z
UID:24036-1750150800-1750161600@salemforallages.org
SUMMARY:Junior Kids’ Glass Summer Program at Artist Row!
DESCRIPTION:North Shore Glass School is thrilled to announce our new kid’s glass art program at Artist Row this summer. This program is for kids aged 7-10 years old. In this week-long program\, kids will enjoy projects in stained glass\, fused glass\, sandblasting\, glass art painting and sea glass sculpting.
URL:https://salemforallages.org/event/junior-kids-glass-summer-program-at-artist-row-2/
ATTACH;FMTTYPE=image/jpeg:https://salemforallages.org/wp-content/uploads/2025/06/IMG_3862-scaled-2.jpg
END:VEVENT
BEGIN:VEVENT
DTSTART;TZID=America/New_York:20250617T090000
DTEND;TZID=America/New_York:20250617T120000
DTSTAMP:20260424T004310
CREATED:20250614T090012Z
LAST-MODIFIED:20250614T090012Z
UID:24038-1750150800-1750161600@salemforallages.org
SUMMARY:Kids’ Glass Summer Program at Artist Row!
DESCRIPTION:North Shore Glass School is thrilled to announce a summer program for kids aged 7-10 years old at Artist Row. Our kids summer program will run weekly June through August from 9-12pm. In this summer workshop\, kids will be introduced to the fine arts of fused glass\, stained glass\, sandblasting\, glass painting and sea glass sculpting.
URL:https://salemforallages.org/event/kids-glass-summer-program-at-artist-row-2/
ATTACH;FMTTYPE=image/jpeg:https://salemforallages.org/wp-content/uploads/2025/06/IMG_3862-1-scaled-2.jpg
END:VEVENT
BEGIN:VEVENT
DTSTART;TZID=America/New_York:20250617T113000
DTEND;TZID=America/New_York:20250617T150000
DTSTAMP:20260424T004310
CREATED:20250614T090019Z
LAST-MODIFIED:20250614T090019Z
UID:24042-1750159800-1750172400@salemforallages.org
SUMMARY:Stop In For a Spell: DIY Potion Bar
DESCRIPTION:Fly in to The Good Witch and Stay for a Spell! Mix up your very own potion at our Potion Bar! \nDrop Ins begin at store opening and end 30 minutes before closing and are offered on a first come\, first serve basis. Purchase online or pay in store. \nDrop Ins may be unavailable during a birthday party or store event. Please call ahead\, or check our posted hours on Google. \nUnder age 4 may participate with the help of a supervising adult.
URL:https://salemforallages.org/event/stop-in-for-a-spell-diy-potion-bar-246/
ATTACH;FMTTYPE=image/jpeg:https://salemforallages.org/wp-content/uploads/2025/06/Potion-Bar-2-3.jpg
END:VEVENT
BEGIN:VEVENT
DTSTART;TZID=America/New_York:20250617T113000
DTEND;TZID=America/New_York:20250617T150000
DTSTAMP:20260424T004310
CREATED:20250614T090022Z
LAST-MODIFIED:20250614T090022Z
UID:24044-1750159800-1750172400@salemforallages.org
SUMMARY:Potion Brewing Store Experience
DESCRIPTION:Make your visit to The Good Witch of Salem’s shop memorable by booking our in-store Potion Brewing Experience. This activity is led by our Witch Apprentices. \nActivities are recommended for children ages 3 and up. \n*One appointment slot for each child is required.*
URL:https://salemforallages.org/event/potion-brewing-store-experience-360/
ATTACH;FMTTYPE=image/jpeg:https://salemforallages.org/wp-content/uploads/2025/06/Final-Potion-Master-1-3.jpg
END:VEVENT
BEGIN:VEVENT
DTSTART;TZID=America/New_York:20250617T113000
DTEND;TZID=America/New_York:20250617T153000
DTSTAMP:20260424T004310
CREATED:20250614T090016Z
LAST-MODIFIED:20250614T090016Z
UID:24040-1750159800-1750174200@salemforallages.org
SUMMARY:Magical Transformations
DESCRIPTION:Through our “Magical Transformations” children embrace their charms and express their individuality. Children can choose to transform into a “Witch” or “Wizard”!
URL:https://salemforallages.org/event/magical-transformations-367/
ATTACH;FMTTYPE=image/jpeg:https://salemforallages.org/wp-content/uploads/2025/06/Magicaltransformations-5.jpg
END:VEVENT
BEGIN:VEVENT
DTSTART;TZID=America/New_York:20250617T130000
DTEND;TZID=America/New_York:20250617T140000
DTSTAMP:20260424T004310
CREATED:20250614T090026Z
LAST-MODIFIED:20250614T090026Z
UID:24046-1750165200-1750168800@salemforallages.org
SUMMARY:Chronicles and Crafts in the Cove
DESCRIPTION:Date: June 17 @ 1:00 pm – 2:00 pm \nCost: Free \nStarting this summer\, The House of the Seven Gables is offering new family activities! \nJoin us on June 17 from 1-2 P.M. with your little ones (best for ages 0 – 6) for a fun-filled hour of reading and crafts in our Kids’ Cove play area. This month\, we will be reading The Patchwork Quilt by Valerie Flournoy and creating our own quilt patches (no sewing required). \nThis event is free\, but registration is required.
URL:https://salemforallages.org/event/chronicles-and-crafts-in-the-cove/
ATTACH;FMTTYPE=image/jpeg:https://salemforallages.org/wp-content/uploads/2025/06/Chronicles-and-Crafts-1920x1080-1.jpg
END:VEVENT
BEGIN:VEVENT
DTSTART;TZID=America/New_York:20250617T183000
DTEND;TZID=America/New_York:20250617T200000
DTSTAMP:20260424T004310
CREATED:20250617T090005Z
LAST-MODIFIED:20250617T090005Z
UID:24114-1750185000-1750190400@salemforallages.org
SUMMARY:PRIDE Candle Making with French Press Candle
DESCRIPTION:Save your spot for a candle making workshop with French Press Candle Co. Blend and pour your own signature soy candle in a souvenir Far From The Tree tulip cider glass. The workshop includes a drink ticket.
URL:https://salemforallages.org/event/pride-candle-making-with-french-press-candle/
ATTACH;FMTTYPE=image/jpeg:https://salemforallages.org/wp-content/uploads/2025/06/42C2A4DB-C496-4E3E-978C-FD267CF203E8.jpg
END:VEVENT
BEGIN:VEVENT
DTSTART;TZID=America/New_York:20250617T190000
DTEND;TZID=America/New_York:20250617T210000
DTSTAMP:20260424T004310
CREATED:20250614T090029Z
LAST-MODIFIED:20250614T090029Z
UID:24048-1750186800-1750194000@salemforallages.org
SUMMARY:Karaoke with Maxine Harrison
DESCRIPTION:Free Karaoke hosted by Queen Maxine Harrison at Gulu Gulu Cafe – every Tuesday night in June\, 7-9 pm.
URL:https://salemforallages.org/event/karaoke-with-maxine-harrison/
ATTACH;FMTTYPE=image/jpeg:https://salemforallages.org/wp-content/uploads/2025/06/Internati-2.jpg
END:VEVENT
BEGIN:VEVENT
DTSTART;TZID=America/New_York:20250617T193000
DTEND;TZID=America/New_York:20250617T210000
DTSTAMP:20260424T004310
CREATED:20250614T090033Z
LAST-MODIFIED:20250614T090033Z
UID:24050-1750188600-1750194000@salemforallages.org
SUMMARY:Trivia Time
DESCRIPTION:General knowledge trivia every Tuesday at 7:30. Free to play. Win a Flying Saucer gift card!
URL:https://salemforallages.org/event/trivia-time-20/
ATTACH;FMTTYPE=image/jpeg:https://salemforallages.org/wp-content/uploads/2025/01/trivia-aframe-Medium.jpeg
END:VEVENT
BEGIN:VEVENT
DTSTART;TZID=America/New_York:20250617T200000
DTEND;TZID=America/New_York:20250617T230000
DTSTAMP:20260424T004310
CREATED:20250614T090034Z
LAST-MODIFIED:20250614T090034Z
UID:24051-1750190400-1750201200@salemforallages.org
SUMMARY:Not Your Average Trivia
DESCRIPTION:Weekly themed trivia that isn’t like any other.
URL:https://salemforallages.org/event/not-your-average-trivia-2/
ATTACH;FMTTYPE=image/jpeg:https://salemforallages.org/wp-content/uploads/2025/06/IMG_1911.jpeg
END:VEVENT
BEGIN:VEVENT
DTSTART;TZID=America/New_York:20250618T090000
DTEND;TZID=America/New_York:20250618T120000
DTSTAMP:20260424T004310
CREATED:20250614T090034Z
LAST-MODIFIED:20250614T090034Z
UID:24052-1750237200-1750248000@salemforallages.org
SUMMARY:Kids’ Summer Program at NSGS (10 years old & up)!
DESCRIPTION:Join us for a week of artistic enrichment and engagement at North Shore Glass School! For kids age 10+\, students will be welcomed at our glass studio at 16 Proctor Street for a week of glassblowing\, flameworking\, fused glass\, stained glass and sandblasting. Projects will include but are not limited to glassblowing paperweights and cups\, fused glass bowls and suncatchers\, flameworking pendants and small figurines\, stained glass window pieces and boxes and sandblasted cups and vases.
URL:https://salemforallages.org/event/kids-summer-program-at-nsgs-10-years-old-up-7/
ATTACH;FMTTYPE=image/jpeg:https://salemforallages.org/wp-content/uploads/2025/06/IMG_5288-scaled-7.jpg
END:VEVENT
BEGIN:VEVENT
DTSTART;TZID=America/New_York:20250618T090000
DTEND;TZID=America/New_York:20250618T120000
DTSTAMP:20260424T004310
CREATED:20250614T090038Z
LAST-MODIFIED:20250614T090038Z
UID:24054-1750237200-1750248000@salemforallages.org
SUMMARY:Junior Kids’ Glass Summer Program at Artist Row!
DESCRIPTION:North Shore Glass School is thrilled to announce our new kid’s glass art program at Artist Row this summer. This program is for kids aged 7-10 years old. In this week-long program\, kids will enjoy projects in stained glass\, fused glass\, sandblasting\, glass art painting and sea glass sculpting.
URL:https://salemforallages.org/event/junior-kids-glass-summer-program-at-artist-row-3/
ATTACH;FMTTYPE=image/jpeg:https://salemforallages.org/wp-content/uploads/2025/06/IMG_3862-scaled-3.jpg
END:VEVENT
BEGIN:VEVENT
DTSTART;TZID=America/New_York:20250618T090000
DTEND;TZID=America/New_York:20250618T120000
DTSTAMP:20260424T004310
CREATED:20250614T090042Z
LAST-MODIFIED:20250614T090042Z
UID:24056-1750237200-1750248000@salemforallages.org
SUMMARY:Kids’ Glass Summer Program at Artist Row!
DESCRIPTION:North Shore Glass School is thrilled to announce a summer program for kids aged 7-10 years old at Artist Row. Our kids summer program will run weekly June through August from 9-12pm. In this summer workshop\, kids will be introduced to the fine arts of fused glass\, stained glass\, sandblasting\, glass painting and sea glass sculpting.
URL:https://salemforallages.org/event/kids-glass-summer-program-at-artist-row-3/
ATTACH;FMTTYPE=image/jpeg:https://salemforallages.org/wp-content/uploads/2025/06/IMG_3862-1-scaled-3.jpg
END:VEVENT
BEGIN:VEVENT
DTSTART;TZID=America/New_York:20250618T113000
DTEND;TZID=America/New_York:20250618T150000
DTSTAMP:20260424T004310
CREATED:20250615T090005Z
LAST-MODIFIED:20250615T090005Z
UID:24060-1750246200-1750258800@salemforallages.org
SUMMARY:Stop In For a Spell: DIY Potion Bar
DESCRIPTION:Fly in to The Good Witch and Stay for a Spell! Mix up your very own potion at our Potion Bar! \nDrop Ins begin at store opening and end 30 minutes before closing and are offered on a first come\, first serve basis. Purchase online or pay in store. \nDrop Ins may be unavailable during a birthday party or store event. Please call ahead\, or check our posted hours on Google. \nUnder age 4 may participate with the help of a supervising adult.
URL:https://salemforallages.org/event/stop-in-for-a-spell-diy-potion-bar-247/
ATTACH;FMTTYPE=image/jpeg:https://salemforallages.org/wp-content/uploads/2025/06/Potion-Bar-2-4.jpg
END:VEVENT
END:VCALENDAR