BEGIN:VCALENDAR
VERSION:2.0
PRODID:-//Salem for All Ages - ECPv6.15.18//NONSGML v1.0//EN
CALSCALE:GREGORIAN
METHOD:PUBLISH
X-ORIGINAL-URL:https://salemforallages.org
X-WR-CALDESC:Events for Salem for All Ages
REFRESH-INTERVAL;VALUE=DURATION:PT1H
X-Robots-Tag:noindex
X-PUBLISHED-TTL:PT1H
BEGIN:VTIMEZONE
TZID:America/New_York
BEGIN:DAYLIGHT
TZOFFSETFROM:-0500
TZOFFSETTO:-0400
TZNAME:EDT
DTSTART:20240310T070000
END:DAYLIGHT
BEGIN:STANDARD
TZOFFSETFROM:-0400
TZOFFSETTO:-0500
TZNAME:EST
DTSTART:20241103T060000
END:STANDARD
BEGIN:DAYLIGHT
TZOFFSETFROM:-0500
TZOFFSETTO:-0400
TZNAME:EDT
DTSTART:20250309T070000
END:DAYLIGHT
BEGIN:STANDARD
TZOFFSETFROM:-0400
TZOFFSETTO:-0500
TZNAME:EST
DTSTART:20251102T060000
END:STANDARD
BEGIN:DAYLIGHT
TZOFFSETFROM:-0500
TZOFFSETTO:-0400
TZNAME:EDT
DTSTART:20260308T070000
END:DAYLIGHT
BEGIN:STANDARD
TZOFFSETFROM:-0400
TZOFFSETTO:-0500
TZNAME:EST
DTSTART:20261101T060000
END:STANDARD
END:VTIMEZONE
BEGIN:VEVENT
DTSTART;TZID=America/New_York:20250613T113000
DTEND;TZID=America/New_York:20250613T160000
DTSTAMP:20260423T222602
CREATED:20250608T090018Z
LAST-MODIFIED:20250608T090018Z
UID:23945-1749814200-1749830400@salemforallages.org
SUMMARY:Potion Brewing Store Experience
DESCRIPTION:Make your visit to The Good Witch of Salem’s shop memorable by booking our in-store Potion Brewing Experience. This activity is led by our Witch Apprentices. \nActivities are recommended for children ages 3 and up. \n*One appointment slot for each child is required.*
URL:https://salemforallages.org/event/potion-brewing-store-experience-356/
ATTACH;FMTTYPE=image/jpeg:https://salemforallages.org/wp-content/uploads/2025/06/Final-Potion-Master-1-1-2.jpg
END:VEVENT
BEGIN:VEVENT
DTSTART;TZID=America/New_York:20250613T120000
DTEND;TZID=America/New_York:20250613T133000
DTSTAMP:20260423T222602
CREATED:20250608T090022Z
LAST-MODIFIED:20250608T090022Z
UID:23947-1749816000-1749821400@salemforallages.org
SUMMARY:Craft Witch
DESCRIPTION:Craft Witch is a DIY crafting session with something for everyone! Choose from a wide array of options to create your very own one-of-a-kind craft. Whichever craft you decide to create\, you’ll be provided with all the materials\, tools\, and knowledge needed to let your creativity flourish. Unlike our broom making\, bookbinding\, and spelljar making workshops in which participants are being guided through the crafting process step-by step by an instructor\, the DIY nature of Craft Witch means that you can use the studio time however you wish. Check out the crafting options on our website!
URL:https://salemforallages.org/event/craft-witch-68/
ATTACH;FMTTYPE=image/jpeg:https://salemforallages.org/wp-content/uploads/2025/06/Image-from-iOS-scaled-5.jpg
END:VEVENT
BEGIN:VEVENT
DTSTART;TZID=America/New_York:20250613T180000
DTEND;TZID=America/New_York:20250613T193000
DTSTAMP:20260423T222602
CREATED:20250608T090026Z
LAST-MODIFIED:20250608T090026Z
UID:23949-1749837600-1749843000@salemforallages.org
SUMMARY:Queens at the Castle
DESCRIPTION:Strictly 21 & Over. Join us for Queens at the Castle\, a high-energy\, laugh-out-loud evening hosted by one of Boston’s most iconic queens and featuring three of the region’s top drag performers. Your Host: Kris Knievil. Featuring: Alana Thicc\, Chanel the Angel\, & Stef Anya.
URL:https://salemforallages.org/event/queens-at-the-castle/
ATTACH;FMTTYPE=image/jpeg:https://salemforallages.org/wp-content/uploads/2025/06/HCM-Queens-At-The-Castle-Instagram-Final.jpg
END:VEVENT
BEGIN:VEVENT
DTSTART;TZID=America/New_York:20250613T180000
DTEND;TZID=America/New_York:20250613T210000
DTSTAMP:20260423T222602
CREATED:20250610T090009Z
LAST-MODIFIED:20250610T090009Z
UID:23983-1749837600-1749848400@salemforallages.org
SUMMARY:Baile En La Calle – Salem’s Newest Outdoor Salsa & Bachata Social
DESCRIPTION:🎉 Introducing Harborwalk Garden’s newest program – Baile en la Calle! Join us at Charlotte Forten Park with Greg Cole’s Dance and Drum for a FREE evening of dancing\, music and community vibes under the summer sky 💃🏽🕺🏽 \n✨ Whether you’re a dance pro or just looking to try something new\, come move with us in Salem’s newest waterfront outdoor public gathering space! \n🪘 6PM – Salsa & Bachata Dance Class\n🎶 7PM – Social Dancing \nBring your friends\, your energy\, and you!
URL:https://salemforallages.org/event/baile-en-la-calle-salems-newest-outdoor-salsa-bachata-social/
ATTACH;FMTTYPE=image/jpeg:https://salemforallages.org/wp-content/uploads/2025/06/Baile-En-La-Calle-6.6.25.jpg
END:VEVENT
BEGIN:VEVENT
DTSTART;TZID=America/New_York:20250613T190000
DTEND;TZID=America/New_York:20250613T210000
DTSTAMP:20260423T222602
CREATED:20250608T090030Z
LAST-MODIFIED:20250608T090030Z
UID:23951-1749841200-1749848400@salemforallages.org
SUMMARY:Evening of Glass at NSGS!
DESCRIPTION:Join us for a fun adult only evening of glass at North Shore Glass School. Participants will enjoy learning how to cut\, arrange and design glass to make a beautiful keepsake fused glass drape bowl\, they will also enjoy a glass art demonstration and some refreshing drinks.
URL:https://salemforallages.org/event/evening-of-glass-at-nsgs-4/
ATTACH;FMTTYPE=image/jpeg:https://salemforallages.org/wp-content/uploads/2025/06/IMG_0286-scaled-1.jpg
END:VEVENT
BEGIN:VEVENT
DTSTART;TZID=America/New_York:20250613T200000
DTEND;TZID=America/New_York:20250613T200000
DTSTAMP:20260423T222602
CREATED:20250608T090033Z
LAST-MODIFIED:20250608T090033Z
UID:23953-1749844800-1749844800@salemforallages.org
SUMMARY:Tower of Power
DESCRIPTION:For 55 years\, Tower of Power has delivered the best in funk and soul music. \n“We were a Soul band called The Motowns.” recalls Emilio Castillo. “Rocco was the bass player\, I was there\, and my brother was the drummer. I met “Doc” Kupka back in 1968\, and gave him an audition. He came in the band\, and we eventually changed our name to the Tower of Power.” The reason for the band name change was that they had a specific goal in mind.
URL:https://salemforallages.org/event/tower-of-power/
ATTACH;FMTTYPE=image/jpeg:https://salemforallages.org/wp-content/uploads/2025/06/C5D_4559-scaled-1.jpg
END:VEVENT
BEGIN:VEVENT
DTSTART;TZID=America/New_York:20250613T200000
DTEND;TZID=America/New_York:20250613T230000
DTSTAMP:20260423T222602
CREATED:20250612T090009Z
LAST-MODIFIED:20250612T090009Z
UID:24004-1749844800-1749855600@salemforallages.org
SUMMARY:Bellwire Band w/ Jake McKelvie & Dylan Patrick Ward
DESCRIPTION:Bellwire band returns with special guests Jake McKelvie & Dylan Patrick Ward! \nJoin us at the Gulu-Gulu Cafe Friday\, June 13th for this exciting free show!
URL:https://salemforallages.org/event/bellwire-band-w-jake-mckelvie-dylan-patrick-ward/
ATTACH;FMTTYPE=image/png:https://salemforallages.org/wp-content/uploads/2025/06/Screenshot2025-06-05195727.png
END:VEVENT
BEGIN:VEVENT
DTSTART;TZID=America/New_York:20250613T200000
DTEND;TZID=America/New_York:20250613T233000
DTSTAMP:20260423T222602
CREATED:20250608T090035Z
LAST-MODIFIED:20250608T090035Z
UID:23955-1749844800-1749857400@salemforallages.org
SUMMARY:Fierce Fridays hosted by Miz Diamond Wigfall
DESCRIPTION:Ru Paul drag race viewing 8pm\nPerformers go on 9pm\nMusic by Maxine Harrison \nFree! 21+
URL:https://salemforallages.org/event/fierce-fridays-hosted-by-miz-diamond-wigfall-2/
ATTACH;FMTTYPE=image/jpeg:https://salemforallages.org/wp-content/uploads/2025/06/Fierce-Friday-june-schedule.jpg
END:VEVENT
BEGIN:VEVENT
DTSTART;TZID=America/New_York:20250613T203000
DTEND;TZID=America/New_York:20250613T220000
DTSTAMP:20260423T222602
CREATED:20250608T090036Z
LAST-MODIFIED:20250608T090036Z
UID:23956-1749846600-1749852000@salemforallages.org
SUMMARY:Queens at the Castle
DESCRIPTION:Strictly 21 & Over. Join us for Queens at the Castle\, a high-energy\, laugh-out-loud evening hosted by one of Boston’s most iconic queens and featuring three of the region’s top drag performers. Your Host: Kris Knievil. Featuring: Alana Thicc\, Chanel the Angel\, & Stef Anya.
URL:https://salemforallages.org/event/queens-at-the-castle-2/
ATTACH;FMTTYPE=image/jpeg:https://salemforallages.org/wp-content/uploads/2025/06/HCM-Queens-At-The-Castle-Instagram-Final.jpg
END:VEVENT
BEGIN:VEVENT
DTSTART;VALUE=DATE:20250614
DTEND;VALUE=DATE:20250615
DTSTAMP:20260423T222602
CREATED:20250608T090036Z
LAST-MODIFIED:20250608T090036Z
UID:23957-1749859200-1749945599@salemforallages.org
SUMMARY:Fiesta en la Calle
DESCRIPTION:Fiesta en la Calle is North Shore CDC’s annual festival celebrating the vibrant culture of the Point neighborhood that includes live music\, dancing\, art\, and the premiere of a new collection of murals in the Punto Urban Art Museum by New England-based artists and Point residents. The annual Block Party celebrates the diverse community and culture of the people who live and work there.
URL:https://salemforallages.org/event/fiesta-en-la-calle-2/
ATTACH;FMTTYPE=image/jpeg:https://salemforallages.org/wp-content/uploads/2025/06/2023-09-30-NSCDC-Fiesta-DJQ-Media_1431-scaled-1-scaled-1.jpg
END:VEVENT
BEGIN:VEVENT
DTSTART;TZID=America/New_York:20250614T070000
DTEND;TZID=America/New_York:20250614T220000
DTSTAMP:20260423T222602
CREATED:20250608T090040Z
LAST-MODIFIED:20250608T090040Z
UID:23959-1749884400-1749938400@salemforallages.org
SUMMARY:Divas & Brews
DESCRIPTION:The first\, all live-singing Divas & Brews is happening at Couch Dog Brewing Company in Salem! \nHosted by NORTH SHORE DIVA\, MADAM ZAPPLE\, prepare to be mesmerized by the eclectic vocals from these queens! \nMADAM ZAPPLE\nThe hostest with the mostest\, who use to sing on cruise ships for a living. \nANDI VAN DYKE\nBoston’s crossdressing crooner and stand up comic. \nDARREN TASHINE\nProvidence’s Drag King with the Opera sounds. \nSHANIA TAINT\nProvidence’s comedy queen is going from the Kinky Boots stage to Salem\, MA!
URL:https://salemforallages.org/event/divas-brews/
ATTACH;FMTTYPE=image/jpeg:https://salemforallages.org/wp-content/uploads/2025/06/Divas.jpg
END:VEVENT
BEGIN:VEVENT
DTSTART;TZID=America/New_York:20250614T090000
DTEND;TZID=America/New_York:20250614T110000
DTSTAMP:20260423T222602
CREATED:20250609T090005Z
LAST-MODIFIED:20250609T090005Z
UID:23961-1749891600-1749898800@salemforallages.org
SUMMARY:Salem Discovery Paddle Tours
DESCRIPTION:Embark on a serene paddleboard or kayak journey along the enchanting coastlines of Salem and Beverly Harbors\, where each stroke of your paddle unveils narratives ranging from historic naval battles to the infamous witch trials\, echoing the vibrant past of what was once the world’s busiest trading port. Age 16+
URL:https://salemforallages.org/event/salem-discovery-paddle-tours-6/
ATTACH;FMTTYPE=image/jpeg:https://salemforallages.org/wp-content/uploads/2025/06/IMG_0793-scaled-2.jpeg
END:VEVENT
BEGIN:VEVENT
DTSTART;TZID=America/New_York:20250614T100000
DTEND;TZID=America/New_York:20250614T110000
DTSTAMP:20260423T222602
CREATED:20250609T090008Z
LAST-MODIFIED:20250609T090008Z
UID:23963-1749895200-1749898800@salemforallages.org
SUMMARY:Dinosaur Slime Potion
DESCRIPTION:Dinosaur Slime Potions June 14\, 2025\nWorkshop Time: 10:00AM – 11:00AM\nLocation: The Good Witch of Salem @ 2 North Street\, Salem MA 01970\nHosted By: Apprentice Witches \nChildren will create their own dinosaur themed slime creation. Students will get to take home their slime. Our magical employees will guide children in creating their own slime creations.\nThis workshop is limited to 8 children\, pre-registration is required. Under age 4 may attend with the help of a supervising adult.
URL:https://salemforallages.org/event/dinosaur-slime-potion-2/
ATTACH;FMTTYPE=image/png:https://salemforallages.org/wp-content/uploads/2025/06/Dinosaur-Slime-Potions-1.png
END:VEVENT
BEGIN:VEVENT
DTSTART;TZID=America/New_York:20250614T100000
DTEND;TZID=America/New_York:20250614T160000
DTSTAMP:20260423T222602
CREATED:20250609T090012Z
LAST-MODIFIED:20250609T090012Z
UID:23965-1749895200-1749916800@salemforallages.org
SUMMARY:Marine Quest
DESCRIPTION:The Massachusetts Division of Marine Fisheries invites the public to a free\, outdoor event at the Cat Cove Marine Laboratory to learn about the marine life in Massachusetts. Salem Sound Coastwatch will be hosting table with a touch tank\, fish prints\, and sharing information about our horseshoe crab research. This event will be rain or shine!
URL:https://salemforallages.org/event/marine-quest/
ATTACH;FMTTYPE=image/jpeg:https://salemforallages.org/wp-content/uploads/2025/06/Marine-Quest-Poster-scaled-1.jpg
END:VEVENT
BEGIN:VEVENT
DTSTART;TZID=America/New_York:20250614T110000
DTEND;TZID=America/New_York:20250614T123000
DTSTAMP:20260423T222602
CREATED:20250609T090015Z
LAST-MODIFIED:20250609T090015Z
UID:23967-1749898800-1749904200@salemforallages.org
SUMMARY:Revolution 250 Salem Tour
DESCRIPTION:Everyone knows Salem for the 1692 Witchcraft Trials\, but did you know that Salem made significant contributions to the American Revolution? The shot heard round the world almost happened here\, we were known for our Privateers (legal Pirates)\, who were the most successful against the British\, and British Governor General Thomas Gage encountered some of his biggest challenges to his authority in Salem. \nWe say that without Salem\, the United States may not be the same United States we know today.\nCome to Salem and learn the incredible role that our Patriots played in the start of our country.
URL:https://salemforallages.org/event/revolution-250-salem-tour-8/
ATTACH;FMTTYPE=image/png:https://salemforallages.org/wp-content/uploads/2025/04/Screen-Shot-2025-03-16-at-5.02.45-PM.png
END:VEVENT
BEGIN:VEVENT
DTSTART;TZID=America/New_York:20250614T110000
DTEND;TZID=America/New_York:20250614T160000
DTSTAMP:20260423T222602
CREATED:20250612T090014Z
LAST-MODIFIED:20250612T090014Z
UID:24006-1749898800-1749916800@salemforallages.org
SUMMARY:Hands on History
DESCRIPTION:Hands-on History\nJune 14-August 31 on Saturdays and Sundays\, 11:00 A.M. – 4:00 P.M.\n(Specific dates: June 14\, 15\, 21\, 22\, 28\, and 29. July 5\, 6\, 12. 13\, 19\, 20\, 26\, and 27. August 2\, 3\, 9\, 10. 16\, 17\, 23\, 24\, 30\, and 31.) \nJoin us for Hands-on History at The Gables! This summer\, we invite young (and young at heart!) guests to explore different elements of our history and legacy through hands-on activities. This program will run June 14-August 31 on Saturdays and Sundays\, 11:00 A.M. – 4:00 P.M. Hands-on History is included with your purchase of a Mansion Tour Package or Grounds Pass. We hope
URL:https://salemforallages.org/event/hands-on-history-45/
ATTACH;FMTTYPE=image/jpeg:https://salemforallages.org/wp-content/uploads/2025/06/SQUARE-House-of-seven-Gables-Salem-Academy-Charter-Visit-March-2016_0224-scaled-1.jpg
END:VEVENT
BEGIN:VEVENT
DTSTART;TZID=America/New_York:20250614T110000
DTEND;TZID=America/New_York:20250614T170000
DTSTAMP:20260423T222602
CREATED:20250609T090017Z
LAST-MODIFIED:20250609T090017Z
UID:23968-1749898800-1749920400@salemforallages.org
SUMMARY:Personal Rainbow Aura Photos
DESCRIPTION:What would the world become if everyone saw themselves as an energetic being? Each Personal Rainbow appointment comes with an instant-film aura photo and personalized reading of the colors and patterns. Bring a buddy at no extra charge to see your vibe as a dynamic duo! Book ahead as walk-ins fill up quickly\, appointments available Thursday-Monday.
URL:https://salemforallages.org/event/personal-rainbow-aura-photos-17/
ATTACH;FMTTYPE=image/jpeg:https://salemforallages.org/wp-content/uploads/2025/06/aura-photos-hauswitch-salem-1-1.jpg
END:VEVENT
BEGIN:VEVENT
DTSTART;TZID=America/New_York:20250614T113000
DTEND;TZID=America/New_York:20250614T140000
DTSTAMP:20260423T222602
CREATED:20250609T090029Z
LAST-MODIFIED:20250609T090029Z
UID:23974-1749900600-1749909600@salemforallages.org
SUMMARY:The Good Witch of Salem’s Bee Beautiful Potion
DESCRIPTION:Fly into The Good Witch and Stay for a Spell! Step into the DIY Good Witch of Salem’s Potion Bar\, where you can mix your very own magical potion creations! Choose your ingredients\, sprinkle in magical moondust\, add in your golden heart intentions\, and seal with a special charm to take home the enchantment!
URL:https://salemforallages.org/event/the-good-witch-of-salems-bee-beautiful-potion/
ATTACH;FMTTYPE=image/jpeg:https://salemforallages.org/wp-content/uploads/2025/06/Bee-Beautiful-scaled-1.jpg
END:VEVENT
BEGIN:VEVENT
DTSTART;TZID=America/New_York:20250614T113000
DTEND;TZID=America/New_York:20250614T140000
DTSTAMP:20260423T222602
CREATED:20250609T090033Z
LAST-MODIFIED:20250609T090033Z
UID:23976-1749900600-1749909600@salemforallages.org
SUMMARY:Rainbow Broom Decorating
DESCRIPTION:Fly into The Good Witch and Stay for a Spell! Unleash your creativity at the Good Witch of Salem’s Broom Decorating Station\, where you can transform a broom into a magical masterpiece! Use enchanting tape\, colorful ribbons\, sparkling stickers\, and shimmering gems to create a broom that’s uniquely yours.
URL:https://salemforallages.org/event/rainbow-broom-decorating-6/
ATTACH;FMTTYPE=image/png:https://salemforallages.org/wp-content/uploads/2025/05/Rainbow-Broom-Decorating-1.png
END:VEVENT
BEGIN:VEVENT
DTSTART;TZID=America/New_York:20250614T113000
DTEND;TZID=America/New_York:20250614T160000
DTSTAMP:20260423T222602
CREATED:20250609T090021Z
LAST-MODIFIED:20250609T090021Z
UID:23970-1749900600-1749916800@salemforallages.org
SUMMARY:Magical Transformations
DESCRIPTION:Through our “Magical Transformations” children embrace their charms and express their individuality. Children can choose to transform into a “Witch” or “Wizard”!
URL:https://salemforallages.org/event/magical-transformations-364/
ATTACH;FMTTYPE=image/jpeg:https://salemforallages.org/wp-content/uploads/2025/06/Magicaltransformations-2.jpg
END:VEVENT
BEGIN:VEVENT
DTSTART;TZID=America/New_York:20250614T113000
DTEND;TZID=America/New_York:20250614T160000
DTSTAMP:20260423T222602
CREATED:20250609T090025Z
LAST-MODIFIED:20250609T090025Z
UID:23972-1749900600-1749916800@salemforallages.org
SUMMARY:Potion Brewing Store Experience
DESCRIPTION:Make your visit to The Good Witch of Salem’s shop memorable by booking our in-store Potion Brewing Experience. This activity is led by our Witch Apprentices. \nActivities are recommended for children ages 3 and up. \n*One appointment slot for each child is required.*
URL:https://salemforallages.org/event/potion-brewing-store-experience-357/
ATTACH;FMTTYPE=image/jpeg:https://salemforallages.org/wp-content/uploads/2025/06/Final-Potion-Master-1-1-3.jpg
END:VEVENT
BEGIN:VEVENT
DTSTART;TZID=America/New_York:20250614T120000
DTEND;TZID=America/New_York:20250614T133000
DTSTAMP:20260423T222602
CREATED:20250609T090034Z
LAST-MODIFIED:20250609T090034Z
UID:23977-1749902400-1749907800@salemforallages.org
SUMMARY:Craft Witch
DESCRIPTION:Craft Witch is a DIY crafting session with something for everyone! Choose from a wide array of options to create your very own one-of-a-kind craft. Whichever craft you decide to create\, you’ll be provided with all the materials\, tools\, and knowledge needed to let your creativity flourish. Unlike our broom making\, bookbinding\, and spelljar making workshops in which participants are being guided through the crafting process step-by step by an instructor\, the DIY nature of Craft Witch means that you can use the studio time however you wish. Check out the crafting options on our website!
URL:https://salemforallages.org/event/craft-witch-69/
ATTACH;FMTTYPE=image/jpeg:https://salemforallages.org/wp-content/uploads/2025/06/Image-from-iOS-scaled-6.jpg
END:VEVENT
BEGIN:VEVENT
DTSTART;TZID=America/New_York:20250614T130000
DTEND;TZID=America/New_York:20250614T160000
DTSTAMP:20260423T222602
CREATED:20250614T090005Z
LAST-MODIFIED:20250614T090005Z
UID:24034-1749906000-1749916800@salemforallages.org
SUMMARY:World Wide Knit & Crochet in Public Day!
DESCRIPTION:Hosted by Circle of Stitches! Join us on Derby Wharf from 1 pm to 4 pm for World Wide Knit & Crochet in Public Day. Bring a project and a chair\, and hang out for the afternoon. We have raffle prizes donated by Circulo to be raffled off. Want to learn? We are offering free learn to knit and crochet lessons\, you just need to bring supplies. You can pick up supplies at Circle of Stitches just around the corner!
URL:https://salemforallages.org/event/world-wide-knit-crochet-in-public-day/
ATTACH;FMTTYPE=image/jpeg:https://salemforallages.org/wp-content/uploads/2025/06/wharf-scaled-1.jpg
END:VEVENT
BEGIN:VEVENT
DTSTART;TZID=America/New_York:20250614T140000
DTEND;TZID=America/New_York:20250614T160000
DTSTAMP:20260423T222602
CREATED:20250609T090038Z
LAST-MODIFIED:20250609T090038Z
UID:23979-1749909600-1749916800@salemforallages.org
SUMMARY:Hawthorne’s Footsteps: A Walking Tour
DESCRIPTION:With Vijay Joyce!\nDate: June 14 @ 2:00 pm – 4:00 pm \nCost: $50 \nTour Salem through the eyes of this city’s famous son\, Nathaniel Hawthorne. We’ll explore the physical world of the Gothic author by visiting many of the sites he frequented during his life here and discuss how the events tied to those locations influenced his life and legacy. \nTickets are $50 for the general public and $40 for Gables members.
URL:https://salemforallages.org/event/hawthornes-footsteps-a-walking-tour/
ATTACH;FMTTYPE=image/png:https://salemforallages.org/wp-content/uploads/2025/06/Screenshot-2025-05-20-143523.png
END:VEVENT
BEGIN:VEVENT
DTSTART;TZID=America/New_York:20250614T180000
DTEND;TZID=America/New_York:20250614T193000
DTSTAMP:20260423T222602
CREATED:20250610T090012Z
LAST-MODIFIED:20250610T090012Z
UID:23985-1749924000-1749929400@salemforallages.org
SUMMARY:Over The Rainbow Pride Drag Show
DESCRIPTION:Let’s celebrate Pride Month! Free\, all ages show on the Die With Your Boots On stage! Hosted by Miz Diamond Wigfall and featuring Andi van Dyke\, Arabella LaDessé\, PeeWee Vermin\, & Tasha Tektite. The show is free\, no tickets required\, but please tip the performers!
URL:https://salemforallages.org/event/over-the-rainbow-pride-drag-show/
ATTACH;FMTTYPE=image/jpeg:https://salemforallages.org/wp-content/uploads/2025/06/pridedragshow-031-scaled-1.jpg
END:VEVENT
BEGIN:VEVENT
DTSTART;TZID=America/New_York:20250614T190000
DTEND;TZID=America/New_York:20250614T210000
DTSTAMP:20260423T222602
CREATED:20250610T090017Z
LAST-MODIFIED:20250610T090017Z
UID:23987-1749927600-1749934800@salemforallages.org
SUMMARY:Gemini Jam
DESCRIPTION:You’re invited to a GEMINI JAM at HausWitch Home + Healing! \n$50 admission includes dual-flavor treats in honor of the cosmic Twins archetype\, bubbly drinks\, a deep dive on Gemini season vibes from Courtney of Twin Star Astrology\, a Gemini inspired group ritual\, and after hours shopping discount. We’ll also have a carefully curated vintage clothing pop up\, a soundtrack featuring artists who celebrate Gemini birthdays\, and all the vibes you could possibly ask for! \nThese events are fem forward\, non-binary and trans inclusive.
URL:https://salemforallages.org/event/gemini-jam/
ATTACH;FMTTYPE=image/jpeg:https://salemforallages.org/wp-content/uploads/2025/06/gemini-product.jpg
END:VEVENT
BEGIN:VEVENT
DTSTART;TZID=America/New_York:20250614T200000
DTEND;TZID=America/New_York:20250614T200000
DTSTAMP:20260423T222602
CREATED:20250611T090006Z
LAST-MODIFIED:20250611T090006Z
UID:23989-1749931200-1749931200@salemforallages.org
SUMMARY:Peter Rowan with Sam Grisman Project
DESCRIPTION:Playing music from Old & In The Way and more \nSam\, Peter\, & Band will be bringing the music of Jerry Garcia’s supergroup’s album Old & In The Way to the stage!
URL:https://salemforallages.org/event/peter-rowan-with-sam-grisman-project/
ATTACH;FMTTYPE=image/jpeg:https://salemforallages.org/wp-content/uploads/2025/06/sam-grismanpeter-rowan_credit-Jean-Frank_DSC0583-scaled-1.jpg
END:VEVENT
BEGIN:VEVENT
DTSTART;TZID=America/New_York:20250614T200000
DTEND;TZID=America/New_York:20250614T230000
DTSTAMP:20260423T222602
CREATED:20250612T090019Z
LAST-MODIFIED:20250612T090019Z
UID:24008-1749931200-1749942000@salemforallages.org
SUMMARY:Mike Hastings
DESCRIPTION:Singer/songwriter & troubadour extraordinaire Mike Hastings takes the stage at the Gulu-Gulu Cafe this Saturday\, June 14th for a night of soulful acoustic rhythms! \nNo cover!
URL:https://salemforallages.org/event/mike-hastings/
ATTACH;FMTTYPE=image/jpeg:https://salemforallages.org/wp-content/uploads/2025/06/Screenshot2025-06-07213607.jpg
END:VEVENT
BEGIN:VEVENT
DTSTART;TZID=America/New_York:20250615T110000
DTEND;TZID=America/New_York:20250615T123000
DTSTAMP:20260423T222602
CREATED:20250611T090010Z
LAST-MODIFIED:20250611T090010Z
UID:23991-1749985200-1749990600@salemforallages.org
SUMMARY:Revolution 250 Salem Tour
DESCRIPTION:Everyone knows Salem for the 1692 Witchcraft Trials\, but did you know that Salem made significant contributions to the American Revolution? The shot heard round the world almost happened here\, we were known for our Privateers (legal Pirates)\, who were the most successful against the British\, and British Governor General Thomas Gage encountered some of his biggest challenges to his authority in Salem. \nWe say that without Salem\, the United States may not be the same United States we know today.\nCome to Salem and learn the incredible role that our Patriots played in the start of our country.
URL:https://salemforallages.org/event/revolution-250-salem-tour-9/
ATTACH;FMTTYPE=image/png:https://salemforallages.org/wp-content/uploads/2025/04/Screen-Shot-2025-03-16-at-5.02.45-PM.png
END:VEVENT
BEGIN:VEVENT
DTSTART;TZID=America/New_York:20250615T110000
DTEND;TZID=America/New_York:20250615T160000
DTSTAMP:20260423T222602
CREATED:20250612T090022Z
LAST-MODIFIED:20250612T090022Z
UID:24010-1749985200-1750003200@salemforallages.org
SUMMARY:Hands on History
DESCRIPTION:Hands-on History\nJune 14-August 31 on Saturdays and Sundays\, 11:00 A.M. – 4:00 P.M.\n(Specific dates: June 14\, 15\, 21\, 22\, 28\, and 29. July 5\, 6\, 12. 13\, 19\, 20\, 26\, and 27. August 2\, 3\, 9\, 10. 16\, 17\, 23\, 24\, 30\, and 31.) \nJoin us for Hands-on History at The Gables! This summer\, we invite young (and young at heart!) guests to explore different elements of our history and legacy through hands-on activities. This program will run June 14-August 31 on Saturdays and Sundays\, 11:00 A.M. – 4:00 P.M. Hands-on History is included with your purchase of a Mansion Tour Package or Grounds Pass. We hope
URL:https://salemforallages.org/event/hands-on-history-46/
ATTACH;FMTTYPE=image/jpeg:https://salemforallages.org/wp-content/uploads/2025/06/SQUARE-House-of-seven-Gables-Salem-Academy-Charter-Visit-March-2016_0224-scaled-2.jpg
END:VEVENT
END:VCALENDAR