BEGIN:VCALENDAR
VERSION:2.0
PRODID:-//Salem for All Ages - ECPv6.15.18//NONSGML v1.0//EN
CALSCALE:GREGORIAN
METHOD:PUBLISH
X-WR-CALNAME:Salem for All Ages
X-ORIGINAL-URL:https://salemforallages.org
X-WR-CALDESC:Events for Salem for All Ages
REFRESH-INTERVAL;VALUE=DURATION:PT1H
X-Robots-Tag:noindex
X-PUBLISHED-TTL:PT1H
BEGIN:VTIMEZONE
TZID:America/New_York
BEGIN:DAYLIGHT
TZOFFSETFROM:-0500
TZOFFSETTO:-0400
TZNAME:EDT
DTSTART:20230312T070000
END:DAYLIGHT
BEGIN:STANDARD
TZOFFSETFROM:-0400
TZOFFSETTO:-0500
TZNAME:EST
DTSTART:20231105T060000
END:STANDARD
BEGIN:DAYLIGHT
TZOFFSETFROM:-0500
TZOFFSETTO:-0400
TZNAME:EDT
DTSTART:20240310T070000
END:DAYLIGHT
BEGIN:STANDARD
TZOFFSETFROM:-0400
TZOFFSETTO:-0500
TZNAME:EST
DTSTART:20241103T060000
END:STANDARD
BEGIN:DAYLIGHT
TZOFFSETFROM:-0500
TZOFFSETTO:-0400
TZNAME:EDT
DTSTART:20250309T070000
END:DAYLIGHT
BEGIN:STANDARD
TZOFFSETFROM:-0400
TZOFFSETTO:-0500
TZNAME:EST
DTSTART:20251102T060000
END:STANDARD
END:VTIMEZONE
BEGIN:VEVENT
DTSTART;TZID=America/New_York:20240326T200000
DTEND;TZID=America/New_York:20240326T220000
DTSTAMP:20260423T114419
CREATED:20240323T090010Z
LAST-MODIFIED:20240323T090010Z
UID:18187-1711483200-1711490400@salemforallages.org
SUMMARY:Hot Ones Challenge
DESCRIPTION:Join the team at BitBar for their Hot Ones challenge with trivia and spicy wings. $20 entry fee to attend.
URL:https://salemforallages.org/event/hot-ones-challenge/
ATTACH;FMTTYPE=image/jpeg:https://salemforallages.org/wp-content/uploads/2024/03/IMG_5512-1.jpeg
END:VEVENT
BEGIN:VEVENT
DTSTART;TZID=America/New_York:20240327T180000
DTEND;TZID=America/New_York:20240327T190000
DTSTAMP:20260423T114419
CREATED:20240323T090013Z
LAST-MODIFIED:20240323T090013Z
UID:18190-1711562400-1711566000@salemforallages.org
SUMMARY:WEDTALK: SAILING THROUGH TIME – UNVEILING THE HISTORY OF THE ADVENTURE SCHOONER
DESCRIPTION:Embark on a captivating journey through maritime history as we delve into the fascinating tale of The Schooner Adventure. Join us for an enlightening talk that will unveil the rich heritage and captivating stories woven into the fabric of this iconic vessel. \nFrom its humble beginnings to becoming a celebrated symbol of seafaring excellence\, this talk will explore the evolution of The Schooner Adventure\, highlighting key milestones\, significant voyages\, and the remarkable individuals who played pivotal roles in its legacy. \nWhether you’re a seasoned maritime enthusiast or a curious history buff\, this talk promises to provide a comprehensive and engaging overview of The Adventure Schooner’s storied past. Don’t miss this opportunity to connect with the maritime heritage that continues to inspire awe and admiration in sailors and history lovers alike.
URL:https://salemforallages.org/event/wedtalk-sailing-through-time-unveiling-the-history-of-the-adventure-schooner/
ATTACH;FMTTYPE=image/jpeg:https://salemforallages.org/wp-content/uploads/2024/03/WedtalkTheAdventure.jpg
END:VEVENT
BEGIN:VEVENT
DTSTART;TZID=America/New_York:20240327T180000
DTEND;TZID=America/New_York:20240327T190000
DTSTAMP:20260423T114419
CREATED:20240323T090016Z
LAST-MODIFIED:20240323T090016Z
UID:18192-1711562400-1711566000@salemforallages.org
SUMMARY:Wild Sea Wellness
DESCRIPTION:Wild Sea Wellness will be offering monthly yoga classes at The House of the Seven Gables throughout 2024. Be sure to check their website and calendar for details\, dates\, and links to register. \nThe next partnership is scheduled for March 27 at 6:00 p.m. in our spacious Holyoke Room in the Visitor Center.
URL:https://salemforallages.org/event/wild-sea-wellness/
END:VEVENT
BEGIN:VEVENT
DTSTART;TZID=America/New_York:20240327T180000
DTEND;TZID=America/New_York:20240327T200000
DTSTAMP:20260423T114419
CREATED:20240323T090013Z
LAST-MODIFIED:20240323T090013Z
UID:18189-1711562400-1711569600@salemforallages.org
SUMMARY:Bingo at Gulu-Gulu Cafe
DESCRIPTION:Stop by Gulu-Gulu Cafe for a fun trivia series that will excite and engage any audience! Quirky\, funny\, and free!
URL:https://salemforallages.org/event/bingo-at-gulu-gulu-cafe-35/
ATTACH;FMTTYPE=image/jpeg:https://salemforallages.org/wp-content/uploads/2023/08/BingoBoardNew.jpg
END:VEVENT
BEGIN:VEVENT
DTSTART;TZID=America/New_York:20240327T183000
DTEND;TZID=America/New_York:20240327T203000
DTSTAMP:20260423T114419
CREATED:20240323T090016Z
LAST-MODIFIED:20240323T090016Z
UID:18193-1711564200-1711571400@salemforallages.org
SUMMARY:SKEEBALL NIGHT at Notch Brewing
DESCRIPTION:Join us each Wednesday night for some beer and Skee Ball!
URL:https://salemforallages.org/event/skeeball-night-at-notch-brewing-7/
ATTACH;FMTTYPE=image/jpeg:https://salemforallages.org/wp-content/uploads/2024/02/SKEEBALLFLYER.jpg
END:VEVENT
BEGIN:VEVENT
DTSTART;TZID=America/New_York:20240327T183000
DTEND;TZID=America/New_York:20240327T203000
DTSTAMP:20260423T114419
CREATED:20240327T090008Z
LAST-MODIFIED:20240327T090008Z
UID:18252-1711564200-1711571400@salemforallages.org
SUMMARY:SATAN SIP ‘N PAINT
DESCRIPTION:Paint a Satanic scene while sipping adult beverages! 21+ event. No painting experience necessary! Instruction\, inspiration\, all art supplies\, refreshments\, snacks\, ice and cups provided. Just bring yourself and your favorite beverage! \nHosted by the talented Salem Art Gallery staff. \nTickets are $33 per person. Availability is limited.
URL:https://salemforallages.org/event/satan-sip-n-paint/
ATTACH;FMTTYPE=image/png:https://salemforallages.org/wp-content/uploads/2024/03/8f43122b-9ebc-4e6b-bb40-ff4d2d221137_482x676.png
END:VEVENT
BEGIN:VEVENT
DTSTART;TZID=America/New_York:20240327T190000
DTEND;TZID=America/New_York:20240327T210000
DTSTAMP:20260423T114419
CREATED:20240323T090016Z
LAST-MODIFIED:20240323T090016Z
UID:18194-1711566000-1711573200@salemforallages.org
SUMMARY:Small Batch Trivia With Geeks Who Drink
DESCRIPTION:Join us each Wednesday for 2 hours of general knowledge\, pop culture trivia hosted by our friends from Geeks Who Drink! Appropriate for all ages. Prizes for the top two teams! \nSeating starts at 6:45. As of now we are not taking reservations\, and seating is first-come\, first-served. We may implement a call-ahead waitlist or reservations in the future should interest allow.\nOrder minimum: $15 per person. \n*For those of you yearning for the return of Nerd Trivia\, we’re sorry to disappoint. We feel this format will include more people in the fun! We WILL be hosting themed trivia from time to time\, so look for those special events coming soon.
URL:https://salemforallages.org/event/small-batch-trivia-with-geeks-who-drink-9/
ATTACH;FMTTYPE=image/jpeg:https://salemforallages.org/wp-content/uploads/2024/01/419132312_863957225729360_4273940916293433697_n.jpg
END:VEVENT
BEGIN:VEVENT
DTSTART;TZID=America/New_York:20240328T110000
DTEND;TZID=America/New_York:20240328T123000
DTSTAMP:20260423T114419
CREATED:20240323T090016Z
LAST-MODIFIED:20240323T090016Z
UID:18195-1711623600-1711629000@salemforallages.org
SUMMARY:Geoffrey Kemp 2024 Hamilton Hall Speaker Series
DESCRIPTION:Geoffrey Kemp\, Director\, Regional Security Programs\, Center for the National Interest\, Washington\, D. C. \n“Reflections on 50 Years of Setbacks and Hopes”
URL:https://salemforallages.org/event/geoffrey-kemp-2024-hamilton-hall-speaker-series/
END:VEVENT
BEGIN:VEVENT
DTSTART;TZID=America/New_York:20240328T170000
DTEND;TZID=America/New_York:20240328T210000
DTSTAMP:20260423T114419
CREATED:20240323T090016Z
LAST-MODIFIED:20240323T090016Z
UID:18196-1711645200-1711659600@salemforallages.org
SUMMARY:Ski Tunes & Brewskis
DESCRIPTION:Winter is here! It’s time to start thinking about getting to the mountains hitting the slopes! \nEvery Thursday in December we will have Altitude Tuning onsite from 5-9pm tuning skis and snowboards. Some fresh wax and sharpening the edges\, Altitude Tuning will have your skis and boards ready for the slopes! \nWhy bring them into a shop and have them back in a couple of weeks when you can have them back the same day? Spots are limited each week so arrive early\, grab a beer\, some food\, watch some football and leave ready for ski season! \n$30 for skis \n$35 for snowboards
URL:https://salemforallages.org/event/ski-tunes-brewskis-14/
ATTACH;FMTTYPE=image/jpeg:https://salemforallages.org/wp-content/uploads/2024/01/406521326_18326410930099216_186554129472764993_n.jpg
END:VEVENT
BEGIN:VEVENT
DTSTART;TZID=America/New_York:20240328T180000
DTEND;TZID=America/New_York:20240328T200000
DTSTAMP:20260423T114419
CREATED:20240323T090017Z
LAST-MODIFIED:20240323T090017Z
UID:18197-1711648800-1711656000@salemforallages.org
SUMMARY:Thursday Night Regiment Run Club
DESCRIPTION:Calling all runners! Are you ready to lace up your shoes\, hit the pavement\, and join a fantastic community of like-minded individuals? Look no further than the Thursday Night Regiment\, East Regiment Beer Company’s very own run club\, designed to bring together runners of all levels for an incredible weekly experience. Every Thursday at 6pm.
URL:https://salemforallages.org/event/thursday-night-regiment-run-club-12/
ATTACH;FMTTYPE=image/jpeg:https://salemforallages.org/wp-content/uploads/2024/01/417411302_18330583423099216_2490907441340422180_n.jpg
END:VEVENT
BEGIN:VEVENT
DTSTART;TZID=America/New_York:20240328T180000
DTEND;TZID=America/New_York:20240328T210000
DTSTAMP:20260423T114419
CREATED:20240323T090017Z
LAST-MODIFIED:20240323T090017Z
UID:18198-1711648800-1711659600@salemforallages.org
SUMMARY:Mack Park Farm fundraiser Event
DESCRIPTION:The Mack Park Farm grows thousands of pounds of food each year that is donated to The Salem Pantry and given away at free farmer’s markets at Mack Park. Support the Mack Park Farm by dining at Howling Wolf on March 28th and 20% of the in-house dining proceeds will go towards growing healthy food for the Salem community.
URL:https://salemforallages.org/event/mack-park-farm-fundraiser-event/
ATTACH;FMTTYPE=image/jpeg:https://salemforallages.org/wp-content/uploads/2024/03/Mack-Park-Farm-fundraiser.jpg
END:VEVENT
BEGIN:VEVENT
DTSTART;TZID=America/New_York:20240328T183000
DTEND;TZID=America/New_York:20240328T220000
DTSTAMP:20260423T114419
CREATED:20240323T090020Z
LAST-MODIFIED:20240323T090020Z
UID:18200-1711650600-1711663200@salemforallages.org
SUMMARY:Open-Mic Night
DESCRIPTION:Sing\, dance\, or simply witness local musical talent\, or simply witness the chaos of Gulu-Gulu’s open mic. \n  \nThe best open mic in the World\, on the North Shore\, in Salem! Come join the fun every Thursday night! Anything and everything are welcome. Sing\, Dance\, Hum\, Orate\, or simply witness the beautiful chaos that is the Gulu Gulu Open Mic Shindig. Sign-up at 7:30pm.
URL:https://salemforallages.org/event/open-mic-night-35/
ATTACH;FMTTYPE=image/jpeg:https://salemforallages.org/wp-content/uploads/2023/08/image-asset.jpg
END:VEVENT
BEGIN:VEVENT
DTSTART;TZID=America/New_York:20240328T190000
DTEND;TZID=America/New_York:20240328T210000
DTSTAMP:20260423T114419
CREATED:20240323T090020Z
LAST-MODIFIED:20240323T090020Z
UID:18201-1711652400-1711659600@salemforallages.org
SUMMARY:Live Music at Salem VFW
DESCRIPTION:Join us for the best events in town! Whether you’re looking for live music\, sports viewing parties\, or local veteran events\, we’ve got you covered. Check out our upcoming events below and mark your calendars.
URL:https://salemforallages.org/event/live-music-at-salem-vfw-2/
ATTACH;FMTTYPE=image/png:https://salemforallages.org/wp-content/uploads/2024/03/VFW-live-music.png
END:VEVENT
BEGIN:VEVENT
DTSTART;TZID=America/New_York:20240328T200000
DTEND;TZID=America/New_York:20240328T220000
DTSTAMP:20260423T114419
CREATED:20240323T090021Z
LAST-MODIFIED:20240323T090021Z
UID:18202-1711656000-1711663200@salemforallages.org
SUMMARY:Black Violin
DESCRIPTION:VIP PACKAGE INCLUDES: \n\nInvitation to a private pre-show experience including:\nAccess to view a portion of soundcheck\nModerated Q&A\nPhoto opportunity with Kev and Wil\nVIP access to the merchandise booth and a 20% discount on any available item\nCommemorative VIP laminate\nEarly entry to the venue\n\nFor nearly two decades\, Black Violin has been merging string arrangements with modern beats and vocals and building bridges in communities along the way. Members Kev MarcusandWil Baptistefirst met in orchestra class at Dillard High School in Fort Lauderdale\, becoming classically trained on the violin and viola through their high school and college careers. Post-college\, they reconvened to produce beats for South Florida rappers\, and began building an audience in local clubs. They later went on to win Showtime at the Apollo in 2005\, and eventually sold out headline performances at venues across the country\, including a sold out two-night headline run at The Kennedy Center in 2018. NPR took note and declared “their music will keep classical music alive for the next generation.” Black Violin’s 2019 album release\, Take the Stairs\, earned a Grammy Award nomination for “Best Contemporary Instrumental Album”. The band also recently received their second ever Grammy Award nomination for the track “The Message” as Best Americana Performance\, in collaboration with The Blind Boys of Alabama.
URL:https://salemforallages.org/event/black-violin/
ATTACH;FMTTYPE=image/jpeg:https://salemforallages.org/wp-content/uploads/2024/03/event-page-graphics-2.jpg
END:VEVENT
BEGIN:VEVENT
DTSTART;TZID=America/New_York:20240329T150000
DTEND;TZID=America/New_York:20240329T170000
DTSTAMP:20260423T114419
CREATED:20240324T090009Z
LAST-MODIFIED:20240324T090009Z
UID:18204-1711724400-1711731600@salemforallages.org
SUMMARY:Vietnam War Veterans Day Celebration
DESCRIPTION:Dedication for Salem’s newest fire truck\, Ladder 1 with dedication to honor our veterans. \n 
URL:https://salemforallages.org/event/vietnam-war-veterans-day-celebration/
ATTACH;FMTTYPE=image/jpeg:https://salemforallages.org/wp-content/uploads/2024/03/image001-13.jpg
END:VEVENT
BEGIN:VEVENT
DTSTART;TZID=America/New_York:20240329T180000
DTEND;TZID=America/New_York:20240329T193000
DTSTAMP:20260423T114419
CREATED:20240324T090013Z
LAST-MODIFIED:20240324T090013Z
UID:18207-1711735200-1711740600@salemforallages.org
SUMMARY:EUDEMONIA
DESCRIPTION:The Salem Art Gallery Presents Eudemonia\, a series of movement based meditations focused on the mechanics and maintenance of the physical body. Mats and light refreshments will be provided.
URL:https://salemforallages.org/event/eudemonia-6/
END:VEVENT
BEGIN:VEVENT
DTSTART;TZID=America/New_York:20240329T180000
DTEND;TZID=America/New_York:20240329T210000
DTSTAMP:20260423T114419
CREATED:20240324T090012Z
LAST-MODIFIED:20240324T090012Z
UID:18206-1711735200-1711746000@salemforallages.org
SUMMARY:Friday Night Music at East Regiment
DESCRIPTION:Enjoy refreshing beer and live music at East Regiment Beer Co! \n  \nMarch 8th Judes and the Hutch  \nMarch 15th Dylan Moore \nMarch 22nd Stone Foundation  \nMarch 29th Tokyo Tramps \n 
URL:https://salemforallages.org/event/friday-night-music-at-east-regiment-34/
ATTACH;FMTTYPE=image/jpeg:https://salemforallages.org/wp-content/uploads/2024/01/Instagram-Images-2024-01-09T114006.140.jpg
END:VEVENT
BEGIN:VEVENT
DTSTART;TZID=America/New_York:20240329T200000
DTEND;TZID=America/New_York:20240329T200000
DTSTAMP:20260423T114419
CREATED:20240324T090013Z
LAST-MODIFIED:20240324T090013Z
UID:18209-1711742400-1711742400@salemforallages.org
SUMMARY:The Princess Bride: An Inconceivable Evening With Cary Elwes at The Cabot
DESCRIPTION:Join Cary Elwes (Westley) for a behind-the-scenes look at life on and off the set of the classic film\, The Princess Bride. After a screening of the iconic movie\, Elwes will engage in a moderated discussion revealing never before shared secrets and tales of inconceivable antics!
URL:https://salemforallages.org/event/the-princess-bride-an-inconceivable-evening-with-cary-elwes-at-the-cabot/
ATTACH;FMTTYPE=image/jpeg:https://salemforallages.org/wp-content/uploads/2024/03/princess-bride-cabot.jpg
END:VEVENT
BEGIN:VEVENT
DTSTART;TZID=America/New_York:20240329T200000
DTEND;TZID=America/New_York:20240329T230000
DTSTAMP:20260423T114419
CREATED:20240324T090013Z
LAST-MODIFIED:20240324T090013Z
UID:18208-1711742400-1711753200@salemforallages.org
SUMMARY:Friday Night Music with Gulu-Gulu Cafe
DESCRIPTION:Join Gulu-Gulu Cafe Friday nights for their live music series. Bands and musicians range from acoustic guitar\, jazz standards\, saxophones\, trios\, and more! Support live musicians and listen to live music!
URL:https://salemforallages.org/event/friday-night-music-with-gulu-gulu-cafe-35/
ATTACH;FMTTYPE=image/jpeg:https://salemforallages.org/wp-content/uploads/2023/08/38864120_1780760032044977_6011049327684747264_n.jpg
END:VEVENT
BEGIN:VEVENT
DTSTART;TZID=America/New_York:20240330T080000
DTEND;TZID=America/New_York:20240330T170000
DTSTAMP:20260423T114419
CREATED:20240324T090016Z
LAST-MODIFIED:20240324T090016Z
UID:18211-1711785600-1711818000@salemforallages.org
SUMMARY:Book a “Good Witch Magical Transformation”
DESCRIPTION:Children\, tweens\, teens\, and adults are all welcome to participate in our “Good Witch Transformations”! \nThrough our transformations children unleash their own spellbinding charms and embrace their individuality. Children are invited to browse our collection of witch hats and dresses. Adorned with shimmering stars\, flowing capes\, and ribbons of enchantment\, these outfits are sure to celebrate their unique spirits. \nOur talented apprentices delicately apply a touch of stardust and add sprinkles of color that match your child’s vibrant personality. As they gaze upon their reflection\, their eyes light up with a newfound confidence and a sense of whimsical delight. They have become the magical beings they’ve always dreamt of\, casting spells and brewing potions in their imaginary world. Their laughter fills the air as they twirl and spin\, radiating with joy and wonder.
URL:https://salemforallages.org/event/book-a-good-witch-magical-transformation-28/
ATTACH;FMTTYPE=image/jpeg:https://salemforallages.org/wp-content/uploads/2023/08/magical-transoformations-.jpg
END:VEVENT
BEGIN:VEVENT
DTSTART;TZID=America/New_York:20240330T100000
DTEND;TZID=America/New_York:20240330T140000
DTSTAMP:20260423T114419
CREATED:20240324T090017Z
LAST-MODIFIED:20240324T090017Z
UID:18212-1711792800-1711807200@salemforallages.org
SUMMARY:Book a “Good Witch Transformation”
DESCRIPTION:Thank you for your interest in a “Good Witch” Transformation! \nThrough our transformations children unleash their own spellbinding charms and embrace their individuality. Children are invited to browse our collection of witch hats and dresses. Adorned with shimmering stars\, flowing capes\, and ribbons of enchantment\, these outfits are sure to celebrate their unique spirits. \nOur talented apprentices delicately apply a touch of stardust and add sprinkles of color that match your child’s vibrant personality. As they gaze upon their reflection\, their eyes light up with a newfound confidence and a sense of whimsical delight. They have become the magical beings they’ve always dreamt of\, casting spells and brewing potions in their imaginary world. Their laughter fills the air as they twirl and spin\, radiating with joy and wonder.
URL:https://salemforallages.org/event/book-a-good-witch-transformation-90/
END:VEVENT
BEGIN:VEVENT
DTSTART;TZID=America/New_York:20240330T103000
DTEND;TZID=America/New_York:20240330T123000
DTSTAMP:20260423T114419
CREATED:20240324T090017Z
LAST-MODIFIED:20240324T090017Z
UID:18213-1711794600-1711801800@salemforallages.org
SUMMARY:Process Art Mornings
DESCRIPTION:Informal in-process art making
URL:https://salemforallages.org/event/process-art-mornings-47/
ATTACH;FMTTYPE=image/jpeg:https://salemforallages.org/wp-content/uploads/2023/05/01.jpg
END:VEVENT
BEGIN:VEVENT
DTSTART;TZID=America/New_York:20240330T130000
DTEND;TZID=America/New_York:20240330T150000
DTSTAMP:20260423T114419
CREATED:20240324T090017Z
LAST-MODIFIED:20240324T090017Z
UID:18214-1711803600-1711810800@salemforallages.org
SUMMARY:Our Time on Earth Climate Activations: Be the Change
DESCRIPTION:Engage in pop-up conversations with climate advocates\, researchers and community leaders inside the exhibition in the “Be the Change” zone on select Saturdays. Ask questions and hear about local and regional efforts to address climate change.
URL:https://salemforallages.org/event/our-time-on-earth-climate-activations-be-the-change-2/
ATTACH;FMTTYPE=image/jpeg:https://salemforallages.org/wp-content/uploads/2024/02/EvOurTimeonEarth_1600_hero.jpg
END:VEVENT
BEGIN:VEVENT
DTSTART;TZID=America/New_York:20240330T131500
DTEND;TZID=America/New_York:20240330T141500
DTSTAMP:20260423T114419
CREATED:20240324T090017Z
LAST-MODIFIED:20240324T090017Z
UID:18215-1711804500-1711808100@salemforallages.org
SUMMARY:Women’s History Tour
DESCRIPTION:March is Women’s History Month\, and to celebrate we are offering our Women’s History Tour each Saturday of the month at 1:15 P.M.!\nFrom the Indigenous women who worked the land to our organization’s founder\, women have always been a part of the Turner-Ingersoll Mansion’s history\, but not always given the spotlight they deserve. The House of the Seven Gables has created a Women’s History Tour to focus\, in-depth\, on the many women who have lived and labored in the Mansion.
URL:https://salemforallages.org/event/womens-history-tour-5/
END:VEVENT
BEGIN:VEVENT
DTSTART;TZID=America/New_York:20240330T180000
DTEND;TZID=America/New_York:20240330T210000
DTSTAMP:20260423T114419
CREATED:20240324T090017Z
LAST-MODIFIED:20240324T090017Z
UID:18216-1711821600-1711832400@salemforallages.org
SUMMARY:Reggae Night at East Regiment Beer Co.
DESCRIPTION:Featuring Live music from Dis-N-Dat Band. Award-winning reggae band featuring Trinidadian steel pan player Sista Dee and 4 time Grammy nominated ex Black Uhuru/sugar Minot drummer Rangotan.
URL:https://salemforallages.org/event/reggae-night-at-east-regiment-beer-co-3/
ATTACH;FMTTYPE=image/jpeg:https://salemforallages.org/wp-content/uploads/2024/03/ReggaeNightFB-scaled-1.jpg
END:VEVENT
BEGIN:VEVENT
DTSTART;TZID=America/New_York:20240330T200000
DTEND;TZID=America/New_York:20240330T200000
DTSTAMP:20260423T114419
CREATED:20240324T090020Z
LAST-MODIFIED:20240324T090020Z
UID:18218-1711828800-1711828800@salemforallages.org
SUMMARY:Shovels & Rope at The Cabot
DESCRIPTION:With Al Olender On Support. As the Brontë sister wrote\, “The ties that bind us to life are tougher than you imagine.” Shovels & Rope\, the musical duo of Michael Trent and Cary Ann Hearst\, embody that bond. Married for a decade\, their covenant extends to blood and beyond: as parents\, bandmates\, and creative collaborators who can now add the pursuits of festival curators\, film subjects\, and children’s book authors to that mighty list.
URL:https://salemforallages.org/event/shovels-rope-at-the-cabot/
ATTACH;FMTTYPE=image/jpeg:https://salemforallages.org/wp-content/uploads/2024/03/shovels-and-rope.jpg
END:VEVENT
BEGIN:VEVENT
DTSTART;TZID=America/New_York:20240331T070000
DTEND;TZID=America/New_York:20240331T130000
DTSTAMP:20260423T114419
CREATED:20240324T090027Z
LAST-MODIFIED:20240324T090027Z
UID:18220-1711868400-1711890000@salemforallages.org
SUMMARY:Easter Breakfast Buffet
DESCRIPTION:Celebrate Easter with a Delicious Breakfast at the Boston Marriott Peabody!\nIndulge in a breakfast buffet overflowing with savory options like baked ham\, omelets\, and all the breakfast classics\, or go for a sweet start with French toast\, muffins\, pastries\, and fresh fruit.\nDate: Sunday\, March 31st\nTime: 7:00 AM – 1:00 PM (Last seating at 12:30pm)\nAdults: $37\nChildren 3-12: $19\nChildren 2 and under: Free\nReservations are required. Call 978-977-6467 to book your spot today!\nWe look forward to celebrating Easter with you!\n\n\nServiced by Sophia’s Restaurant Team\n18 % Gratuity will be added to parties of 6+ and will be distributed entirely to the wait staff. Please\, let your server know of any dietary preference or food allergies we should be aware of in the preparation of your meal. Consuming raw or undercooked meats\, poultry\, seafood\, shellfish\, or eggs may increase your risk of food-borne illness: especially if you have certain medical conditions.
URL:https://salemforallages.org/event/easter-breakfast-buffet/
ATTACH;FMTTYPE=image/jpeg:https://salemforallages.org/wp-content/uploads/2024/03/431887573_715300654083728_3857571710832873874_n.jpg
END:VEVENT
BEGIN:VEVENT
DTSTART;TZID=America/New_York:20240331T100000
DTEND;TZID=America/New_York:20240331T140000
DTSTAMP:20260423T114419
CREATED:20240324T090030Z
LAST-MODIFIED:20240324T090030Z
UID:18222-1711879200-1711893600@salemforallages.org
SUMMARY:Book a “Good Witch Transformation”
DESCRIPTION:Thank you for your interest in a “Good Witch” Transformation! \nThrough our transformations children unleash their own spellbinding charms and embrace their individuality. Children are invited to browse our collection of witch hats and dresses. Adorned with shimmering stars\, flowing capes\, and ribbons of enchantment\, these outfits are sure to celebrate their unique spirits. \nOur talented apprentices delicately apply a touch of stardust and add sprinkles of color that match your child’s vibrant personality. As they gaze upon their reflection\, their eyes light up with a newfound confidence and a sense of whimsical delight. They have become the magical beings they’ve always dreamt of\, casting spells and brewing potions in their imaginary world. Their laughter fills the air as they twirl and spin\, radiating with joy and wonder.
URL:https://salemforallages.org/event/book-a-good-witch-transformation-91/
END:VEVENT
BEGIN:VEVENT
DTSTART;TZID=America/New_York:20240331T120000
DTEND;TZID=America/New_York:20240331T163000
DTSTAMP:20260423T114419
CREATED:20240324T090030Z
LAST-MODIFIED:20240324T090030Z
UID:18223-1711886400-1711902600@salemforallages.org
SUMMARY:BEELZEBUNNY FESTIVAL
DESCRIPTION:Join us for our first annual Beelzebunny Fest to celebrate the arrival of spring! This family-friendly event features snacks\, painting of eggs (the symbol of life and rebirth\,) and a variety of outdoor games. Enjoy our two Egg Hunts\, one for toddlers (0–4 years) and one for kids (5–7 years)\, with special prizes throughout the day. Please remember that a parent or guardian must supervise children at all times. This event is free\, and everyone is welcome!
URL:https://salemforallages.org/event/beelzebunny-festival/
END:VEVENT
BEGIN:VEVENT
DTSTART;TZID=America/New_York:20240331T120000
DTEND;TZID=America/New_York:20240331T170000
DTSTAMP:20260423T114419
CREATED:20240327T090012Z
LAST-MODIFIED:20240327T090012Z
UID:18254-1711886400-1711904400@salemforallages.org
SUMMARY:GOTHIC BABY
DESCRIPTION:Join the Salem Art Gallery on March 31st to meet content creator Reby Hardy. Well known for for her “Life of a Gothic Baby” series on TikTok\, Reby will be signing and selling her book of the same name “Life of a Gothic Baby” along with participating in meet and greet style photo opportunities. She will have a booth at the Salem Art Gallery’s Beelzebunny Festival which will feature a egg hunt and various field day style yard games. You dont wanna miss this!
URL:https://salemforallages.org/event/gothic-baby/
ATTACH;FMTTYPE=image/png:https://salemforallages.org/wp-content/uploads/2024/03/GOTHIC_BABY_PROMO_IMAGE_482x676.png
END:VEVENT
END:VCALENDAR