BEGIN:VCALENDAR
VERSION:2.0
PRODID:-//Salem for All Ages - ECPv6.15.18//NONSGML v1.0//EN
CALSCALE:GREGORIAN
METHOD:PUBLISH
X-WR-CALNAME:Salem for All Ages
X-ORIGINAL-URL:https://salemforallages.org
X-WR-CALDESC:Events for Salem for All Ages
REFRESH-INTERVAL;VALUE=DURATION:PT1H
X-Robots-Tag:noindex
X-PUBLISHED-TTL:PT1H
BEGIN:VTIMEZONE
TZID:America/New_York
BEGIN:DAYLIGHT
TZOFFSETFROM:-0500
TZOFFSETTO:-0400
TZNAME:EDT
DTSTART:20240310T070000
END:DAYLIGHT
BEGIN:STANDARD
TZOFFSETFROM:-0400
TZOFFSETTO:-0500
TZNAME:EST
DTSTART:20241103T060000
END:STANDARD
BEGIN:DAYLIGHT
TZOFFSETFROM:-0500
TZOFFSETTO:-0400
TZNAME:EDT
DTSTART:20250309T070000
END:DAYLIGHT
BEGIN:STANDARD
TZOFFSETFROM:-0400
TZOFFSETTO:-0500
TZNAME:EST
DTSTART:20251102T060000
END:STANDARD
BEGIN:DAYLIGHT
TZOFFSETFROM:-0500
TZOFFSETTO:-0400
TZNAME:EDT
DTSTART:20260308T070000
END:DAYLIGHT
BEGIN:STANDARD
TZOFFSETFROM:-0400
TZOFFSETTO:-0500
TZNAME:EST
DTSTART:20261101T060000
END:STANDARD
END:VTIMEZONE
BEGIN:VEVENT
DTSTART;TZID=America/New_York:20250304T113000
DTEND;TZID=America/New_York:20250304T150000
DTSTAMP:20260423T232535
CREATED:20250226T100009Z
LAST-MODIFIED:20250226T100009Z
UID:22579-1741087800-1741100400@salemforallages.org
SUMMARY:Potion Brewing Store Experience
DESCRIPTION:Make your visit to The Good Witch of Salem’s shop memorable by booking our in-store Potion Brewing Experience. This activity is led by our Witch Apprentices. \nActivities are recommended for children ages 3 and up. \n*One appointment slot for each child is required.*
URL:https://salemforallages.org/event/potion-brewing-store-experience-252/
ATTACH;FMTTYPE=image/jpeg:https://salemforallages.org/wp-content/uploads/2025/02/Potion-Brewing-Store-Experience-15.jpg
END:VEVENT
BEGIN:VEVENT
DTSTART;TZID=America/New_York:20250304T113000
DTEND;TZID=America/New_York:20250304T150000
DTSTAMP:20260423T232535
CREATED:20250225T100014Z
LAST-MODIFIED:20250225T100014Z
UID:22577-1741087800-1741100400@salemforallages.org
SUMMARY:Stop In For a Spell: DIY Potion Bar
DESCRIPTION:Fly in to The Good Witch and Stay for a Spell! Mix up your very own potion at our Potion Bar! \nDrop Ins begin at store opening and end 30 minutes before closing and are offered on a first come\, first serve basis. Purchase online or pay in store. \nDrop Ins may be unavailable during a birthday party or store event. Please call ahead\, or check our posted hours on Google. \nUnder age 4 may participate with the help of a supervising adult.
URL:https://salemforallages.org/event/stop-in-for-a-spell-diy-potion-bar-200/
ATTACH;FMTTYPE=image/jpeg:https://salemforallages.org/wp-content/uploads/2025/02/Stop-In-For-a-Spell-SQUARE-3.jpg
END:VEVENT
BEGIN:VEVENT
DTSTART;TZID=America/New_York:20250304T100000
DTEND;TZID=America/New_York:20250304T160000
DTSTAMP:20260423T232535
CREATED:20250225T100013Z
LAST-MODIFIED:20250225T100013Z
UID:22575-1741082400-1741104000@salemforallages.org
SUMMARY:Revere Beach Stories: Photographs and Poems
DESCRIPTION:Poets Jennifer Martelli and Kevin Carey grew up in Revere in the 1960s and 70’s.They’ve both written extensively about this city and its three-mile beachfront. Stephenie Young\, a Somerville photographer\, originally from California was drawn to this local East Coast ocean and its unfamiliar culture during the pandemic. Thus began a long-term photo project about everyday life in the beach city. After a chance conversation over those photographs and a few poems\, this collaboration was born. \nFebruary 21 – 6-8 pm\nArtist Reception and Reading \nWinfisky Gallery hours: Monday – Friday\, 10am-4pm
URL:https://salemforallages.org/event/revere-beach-stories-photographs-and-poems-11/
END:VEVENT
BEGIN:VEVENT
DTSTART;TZID=America/New_York:20250303T190000
DTEND;TZID=America/New_York:20250303T210000
DTSTAMP:20260423T232535
CREATED:20250224T100031Z
LAST-MODIFIED:20250224T100031Z
UID:22571-1741028400-1741035600@salemforallages.org
SUMMARY:Broadway Bar Open Mic Party: Mixed Up March!
DESCRIPTION:Broadway Bar Open Mic Party!!: “”Mixed Up March”” – Gender Bender Style! Join Thom Smoker and Lianne Goodwin as they host an evening of musical theater\, American Songbook\, and your favorites from the film and stage – all sung by YOU! Have you always wanted to perform a certain song but it’s written for a different voice type??? This is your chance to do it! We’re all fached up! Bring a friend and the sheet music to your favorite showtunes. Bonus points if your song connects with the month’s theme!\nOpen Sign Ups & Doors open at 6:15pm. \n 
URL:https://salemforallages.org/event/broadway-bar-open-mic-party-mixed-up-march/
ATTACH;FMTTYPE=image/jpeg:https://salemforallages.org/wp-content/uploads/2025/02/BB.jpg
END:VEVENT
BEGIN:VEVENT
DTSTART;TZID=America/New_York:20250303T160000
DTEND;TZID=America/New_York:20250303T190000
DTSTAMP:20260423T232535
CREATED:20250225T100008Z
LAST-MODIFIED:20250225T100008Z
UID:22573-1741017600-1741028400@salemforallages.org
SUMMARY:Northshore LGBT Social Network’s Tea Dance
DESCRIPTION:Northshore LGBTQ+ Social Network Mardi Gras Tea Dance \nLet the good times roll at the Northshore LGBTQ+ Social Network Mardi Gras Tea Dance! \nWhen: Sunday\, March 3rd\, 2025\, from 4:00 PM to 7:00 PM\nWhere: Bit Bar\, Salem\, MA \nGet ready to laissez les bons temps rouler and dance the afternoon away to the hottest beats\, sip on delicious cocktails\, and mingle with fellow members of the LGBTQ+ community. Don your most festive Mardi Gras attire\, bring your beads\, and prepare for an afternoon of revelry and celebration!
URL:https://salemforallages.org/event/northshore-lgbt-social-networks-tea-dance/
ATTACH;FMTTYPE=image/jpeg:https://salemforallages.org/wp-content/uploads/2025/02/Untitled-1-23.jpg
END:VEVENT
BEGIN:VEVENT
DTSTART;TZID=America/New_York:20250303T113000
DTEND;TZID=America/New_York:20250303T160000
DTSTAMP:20260423T232535
CREATED:20250224T100028Z
LAST-MODIFIED:20250224T100028Z
UID:22569-1741001400-1741017600@salemforallages.org
SUMMARY:Potion Brewing Store Experience
DESCRIPTION:Make your visit to The Good Witch of Salem’s shop memorable by booking our in-store Potion Brewing Experience. This activity is led by our Witch Apprentices. \nActivities are recommended for children ages 3 and up. \n*One appointment slot for each child is required.*
URL:https://salemforallages.org/event/potion-brewing-store-experience-251/
ATTACH;FMTTYPE=image/jpeg:https://salemforallages.org/wp-content/uploads/2025/02/Potion-Brewing-Store-Experience-14.jpg
END:VEVENT
BEGIN:VEVENT
DTSTART;TZID=America/New_York:20250303T113000
DTEND;TZID=America/New_York:20250303T160000
DTSTAMP:20260423T232535
CREATED:20250224T100027Z
LAST-MODIFIED:20250224T100027Z
UID:22568-1741001400-1741017600@salemforallages.org
SUMMARY:Magical Transformations
DESCRIPTION:Through our “Magical Transformations” children embrace their charms and express their individuality. Children can choose to transform into a “Witch” or “Wizard”!
URL:https://salemforallages.org/event/magical-transformations-259/
ATTACH;FMTTYPE=image/png:https://salemforallages.org/wp-content/uploads/2024/08/Transformations.png
END:VEVENT
BEGIN:VEVENT
DTSTART;TZID=America/New_York:20250303T100000
DTEND;TZID=America/New_York:20250303T160000
DTSTAMP:20260423T232535
CREATED:20250224T100027Z
LAST-MODIFIED:20250224T100027Z
UID:22567-1740996000-1741017600@salemforallages.org
SUMMARY:Revere Beach Stories: Photographs and Poems
DESCRIPTION:Poets Jennifer Martelli and Kevin Carey grew up in Revere in the 1960s and 70’s.They’ve both written extensively about this city and its three-mile beachfront. Stephenie Young\, a Somerville photographer\, originally from California was drawn to this local East Coast ocean and its unfamiliar culture during the pandemic. Thus began a long-term photo project about everyday life in the beach city. After a chance conversation over those photographs and a few poems\, this collaboration was born. \nFebruary 21 – 6-8 pm\nArtist Reception and Reading \nWinfisky Gallery hours: Monday – Friday\, 10am-4pm
URL:https://salemforallages.org/event/revere-beach-stories-photographs-and-poems-10/
END:VEVENT
BEGIN:VEVENT
DTSTART;TZID=America/New_York:20250302T160000
DTEND;TZID=America/New_York:20250302T180000
DTSTAMP:20260423T232535
CREATED:20250224T100023Z
LAST-MODIFIED:20250224T100023Z
UID:22565-1740931200-1740938400@salemforallages.org
SUMMARY:Folk Electric Painted Dreams: An Immersive Film\, Music & Art
DESCRIPTION:Painted Dreams\, an immersive extravaganza curated by husband-and-wife team Scott Moore and Erica Pisaturo\, calls to lovers of music\, art\, film\, and storytelling. Violinists Moore and Pisaturo will open with a dynamic set of original compositions and traditional fiddle tunes\, then take the audience on a guided tour of their hour-long experimental film and album-in-progress\, folk electric: wayfaring stranger. Echoes of folk\, rock\, and classical merge into a genre- bending\, multi-sensory adventure\, where characters and imagery trace an abstract narrative from the fiery to the woeful. \n 
URL:https://salemforallages.org/event/folk-electric-painted-dreams-an-immersive-film-music-art/
ATTACH;FMTTYPE=image/png:https://salemforallages.org/wp-content/uploads/2025/02/Folk-Electric.png
END:VEVENT
BEGIN:VEVENT
DTSTART;TZID=America/New_York:20250302T140000
DTEND;TZID=America/New_York:20250302T150000
DTSTAMP:20260423T232535
CREATED:20250228T100009Z
LAST-MODIFIED:20250228T100009Z
UID:22585-1740924000-1740927600@salemforallages.org
SUMMARY:PEM Presents Shayok Misha Chowdhury: RHEOLOGY
DESCRIPTION:Shayok Misha Chowdhury: RHEOLOGY\nKnow before you go\nIn-person event\nLocation: Morse Auditorium \nIncluded with admission\nPreregistration is required for this event. \nAward-winning playwright and director Shayok Misha Chowdhury will spend a week as an artist in residence at PEM\, developing his new play RHEOLOGY. This work is a performance memoir created with Chowdhury’s mother\, the physicist Bulbul Chakraborty. Her specialty is rheology\, the laws governing the malleability and movement of matter under force.
URL:https://salemforallages.org/event/pem-presents-shayok-misha-chowdhury-rheology/
ATTACH;FMTTYPE=image/jpeg:https://salemforallages.org/wp-content/uploads/2025/02/MishaChowdhury_EventHero_March2025-scaled-1.jpg
END:VEVENT
BEGIN:VEVENT
DTSTART;TZID=America/New_York:20250302T113000
DTEND;TZID=America/New_York:20250302T153000
DTSTAMP:20260423T232535
CREATED:20250223T100040Z
LAST-MODIFIED:20250223T100040Z
UID:22556-1740915000-1740929400@salemforallages.org
SUMMARY:Magical Transformations
DESCRIPTION:Through our “Magical Transformations” children embrace their charms and express their individuality. Children can choose to transform into a “Witch” or “Wizard”!
URL:https://salemforallages.org/event/magical-transformations-258/
ATTACH;FMTTYPE=image/png:https://salemforallages.org/wp-content/uploads/2024/08/Transformations-1.png
END:VEVENT
BEGIN:VEVENT
DTSTART;TZID=America/New_York:20250302T113000
DTEND;TZID=America/New_York:20250302T150000
DTSTAMP:20260423T232535
CREATED:20250224T100011Z
LAST-MODIFIED:20250224T100011Z
UID:22559-1740915000-1740927600@salemforallages.org
SUMMARY:Potion Brewing Store Experience
DESCRIPTION:Make your visit to The Good Witch of Salem’s shop memorable by booking our in-store Potion Brewing Experience. This activity is led by our Witch Apprentices. \nActivities are recommended for children ages 3 and up. \n*One appointment slot for each child is required.*
URL:https://salemforallages.org/event/potion-brewing-store-experience-250/
ATTACH;FMTTYPE=image/jpeg:https://salemforallages.org/wp-content/uploads/2025/02/Potion-Brewing-Store-Experience-13.jpg
END:VEVENT
BEGIN:VEVENT
DTSTART;TZID=America/New_York:20250302T113000
DTEND;TZID=America/New_York:20250302T150000
DTSTAMP:20260423T232535
CREATED:20250224T100007Z
LAST-MODIFIED:20250224T100007Z
UID:22557-1740915000-1740927600@salemforallages.org
SUMMARY:Stop In For a Spell: DIY Potion Bar
DESCRIPTION:Fly in to The Good Witch and Stay for a Spell! Mix up your very own potion at our Potion Bar! \nDrop Ins begin at store opening and end 30 minutes before closing and are offered on a first come\, first serve basis. Purchase online or pay in store. \nDrop Ins may be unavailable during a birthday party or store event. Please call ahead\, or check our posted hours on Google. \nUnder age 4 may participate with the help of a supervising adult.
URL:https://salemforallages.org/event/stop-in-for-a-spell-diy-potion-bar-199/
ATTACH;FMTTYPE=image/jpeg:https://salemforallages.org/wp-content/uploads/2025/02/Stop-In-For-a-Spell-SQUARE-2.jpg
END:VEVENT
BEGIN:VEVENT
DTSTART;TZID=America/New_York:20250302T113000
DTEND;TZID=America/New_York:20250302T143000
DTSTAMP:20260423T232535
CREATED:20250224T100015Z
LAST-MODIFIED:20250224T100015Z
UID:22561-1740915000-1740925800@salemforallages.org
SUMMARY:Rainbow Potions
DESCRIPTION:Fly into The Good Witch and Stay for a Spell! Step into the DIY Good Witch of Salem’s Potion Bar\, where you can mix your very own magical potion creations! Choose your ingredients\, sprinkle in magical moondust\, add in your golden heart intentions\, and seal with a special charm to take home the enchantment!
URL:https://salemforallages.org/event/rainbow-potions/
ATTACH;FMTTYPE=image/jpeg:https://salemforallages.org/wp-content/uploads/2025/02/Rainbow-BeamsFB-scaled-1.jpg
END:VEVENT
BEGIN:VEVENT
DTSTART;TZID=America/New_York:20250302T113000
DTEND;TZID=America/New_York:20250302T140000
DTSTAMP:20260423T232535
CREATED:20250224T100019Z
LAST-MODIFIED:20250224T100019Z
UID:22563-1740915000-1740924000@salemforallages.org
SUMMARY:Lots of Luck Potions
DESCRIPTION:Fly into The Good Witch and Stay for a Spell! Step into the DIY Good Witch of Salem’s Potion Bar\, where you can mix your very own magical potion creations! Choose your ingredients\, sprinkle in magical moondust\, add in your golden heart intentions\, and seal with a special charm to take home the enchantment!
URL:https://salemforallages.org/event/lots-of-luck-potions-2/
ATTACH;FMTTYPE=image/jpeg:https://salemforallages.org/wp-content/uploads/2025/02/Lots-of-Luck-scaled-2.jpg
END:VEVENT
BEGIN:VEVENT
DTSTART;TZID=America/New_York:20250302T100000
DTEND;TZID=America/New_York:20250302T160000
DTSTAMP:20260423T232535
CREATED:20250223T100039Z
LAST-MODIFIED:20250223T100039Z
UID:22555-1740909600-1740931200@salemforallages.org
SUMMARY:Leslie’s Retreat: Salem on the Brink of Revolution Exhibit
DESCRIPTION:This National Park Service exhibit will explore why Crown soldiers under Lt. Col. Alexander Leslie came to Salem on February 26\, 1775\, who were the major players in the event\, and how this event has been remembered and celebrated in Salem in the last 250 years. \nThis free exhibit will be on display from February 15th -April 27th at the Salem Armory Visitor Center\, 2 New Liberty Street\, Salem. \nThe Salem Armory Visitor Center is open Wednesday – Sunday\, 10 am – 4 pm.
URL:https://salemforallages.org/event/leslies-retreat-salem-on-the-brink-of-revolution-exhibit-12/
ATTACH;FMTTYPE=image/jpeg:https://salemforallages.org/wp-content/uploads/2025/02/1775_1782_Salem-Old-North-Bridge-Leslie-Retreat-800x600-1.jpg
END:VEVENT
BEGIN:VEVENT
DTSTART;TZID=America/New_York:20250301T203000
DTEND;TZID=America/New_York:20250301T223000
DTSTAMP:20260423T232535
CREATED:20250223T100039Z
LAST-MODIFIED:20250223T100039Z
UID:22554-1740861000-1740868200@salemforallages.org
SUMMARY:John Rudnitsky
DESCRIPTION:“Jon Rudnitsky can be seen in the upcoming film I LOVE YOU FOREVER with Cazzie David\, which premiered at this year’s SXSW to great reviews\, and this coming Christmas in both Netflix’s OUR LITTLE SECRET with Lindsay Lohan and Amazon’s THE RED ONE with Dwayne Johnson and JK Simmons.” \n 
URL:https://salemforallages.org/event/john-rudnitsky-3/
ATTACH;FMTTYPE=image/png:https://salemforallages.org/wp-content/uploads/2025/02/John-Rudnitsky.png
END:VEVENT
BEGIN:VEVENT
DTSTART;TZID=America/New_York:20250301T200000
DTEND;TZID=America/New_York:20250301T233000
DTSTAMP:20260423T232535
CREATED:20250223T100036Z
LAST-MODIFIED:20250223T100036Z
UID:22552-1740859200-1740871800@salemforallages.org
SUMMARY:Reggae Night
DESCRIPTION:A fun full night of live music food and drinks come out and enjoy the vibrant vibes of the island here in our own downtown Salem\n90 Lafayette St. Salem. @ Yours Truly Ray Adea’s Mediterranean and Jamaican Restaurant.
URL:https://salemforallages.org/event/reggae-night/
ATTACH;FMTTYPE=image/jpeg:https://salemforallages.org/wp-content/uploads/2025/02/IMG_20250218_090937_967.jpg
END:VEVENT
BEGIN:VEVENT
DTSTART;TZID=America/New_York:20250301T200000
DTEND;TZID=America/New_York:20250301T220000
DTSTAMP:20260423T232535
CREATED:20250223T100032Z
LAST-MODIFIED:20250223T100032Z
UID:22550-1740859200-1740866400@salemforallages.org
SUMMARY:Elvis Costello & Steve Nieve
DESCRIPTION:Elvis Costello and Steve Nieve have been cohorts and bandmates since 1977. \n“Costello is one of the world’s greatest songwriters\, up there with McCartney. You forget how many timeless songs he actually has until he plays them.” – Irish Independent \n“Nieve is astonishing\, like the ghost of George Gershwin being watched over by Philip Glass” – Irish Times
URL:https://salemforallages.org/event/elvis-costello-steve-nieve/
ATTACH;FMTTYPE=image/jpeg:https://salemforallages.org/wp-content/uploads/2025/02/Elvis-Costello-Steve-Nieve_2025_1080x1080.jpg
END:VEVENT
BEGIN:VEVENT
DTSTART;TZID=America/New_York:20250301T193000
DTEND;TZID=America/New_York:20250309T220000
DTSTAMP:20260423T232535
CREATED:20250223T100028Z
LAST-MODIFIED:20250223T100028Z
UID:22548-1740857400-1741557600@salemforallages.org
SUMMARY:Collective Rage: A Play in 5 Betties by Jen Silverman
DESCRIPTION:Betty is rich; Betty is lonely; Betty’s busy working on her truck; Betty wants to talk about love\, but Betty needs to hit something. And Betty keeps using a small hand mirror to stare into parts of herself she’s never examined. Five different women named Betty collide at the intersection of anger\, sex\, and the “thea-tah.” \nFor mature audiences only. \nFebruary 21\, 22\, and 28 and March 1\, 2025 at 7:30 pm\nFebruary 23 and March 2\, 2025 at 2:00pm
URL:https://salemforallages.org/event/collective-rage-a-play-in-5-betties-by-jen-silverman-4/
ATTACH;FMTTYPE=image/jpeg:https://salemforallages.org/wp-content/uploads/2025/02/IMG_4974-scaled-4.jpg
END:VEVENT
BEGIN:VEVENT
DTSTART;TZID=America/New_York:20250301T190000
DTEND;TZID=America/New_York:20250301T230000
DTSTAMP:20260423T232535
CREATED:20250223T100024Z
LAST-MODIFIED:20250223T100024Z
UID:22546-1740855600-1740870000@salemforallages.org
SUMMARY:Masquerade Ball of Dreams at Hammond Castle Museum
DESCRIPTION:Join us for an extraordinary evening of colorful costumes\, captivating music\, exquisite cuisine\, and dazzling live entertainment including a fire spinner\, juggler\, contortionist\, and stilt walker as well as a string quartet\, roving harpist and a DJ for dancing! Open bar serving Beer\, Wine\, Prosecco & a signature cocktail.
URL:https://salemforallages.org/event/masquerade-ball-of-dreams-at-hammond-castle-museum/
ATTACH;FMTTYPE=image/jpeg:https://salemforallages.org/wp-content/uploads/2025/02/HCM_Social_1920x1005_Ball-of-Dreams_202501226.jpg
END:VEVENT
BEGIN:VEVENT
DTSTART;TZID=America/New_York:20250301T180000
DTEND;TZID=America/New_York:20250301T200000
DTSTAMP:20260423T232535
CREATED:20250223T100024Z
LAST-MODIFIED:20250223T100024Z
UID:22545-1740852000-1740859200@salemforallages.org
SUMMARY:John Rudnitsky
DESCRIPTION:“Jon Rudnitsky can be seen in the upcoming film I LOVE YOU FOREVER with Cazzie David\, which premiered at this year’s SXSW to great reviews\, and this coming Christmas in both Netflix’s OUR LITTLE SECRET with Lindsay Lohan and Amazon’s THE RED ONE with Dwayne Johnson and JK Simmons.” \n 
URL:https://salemforallages.org/event/john-rudnitsky-2/
ATTACH;FMTTYPE=image/png:https://salemforallages.org/wp-content/uploads/2025/02/John-Rudnitsky.png
END:VEVENT
BEGIN:VEVENT
DTSTART;TZID=America/New_York:20250301T120000
DTEND;TZID=America/New_York:20250301T133000
DTSTAMP:20260423T232535
CREATED:20250223T100019Z
LAST-MODIFIED:20250223T100019Z
UID:22543-1740830400-1740835800@salemforallages.org
SUMMARY:Craft Witch
DESCRIPTION:Craft Witch is a DIY crafting session with something for everyone! Choose from a wide array of options to create your very own one-of-a-kind craft. Whichever craft you decide to create\, you’ll be provided with all the materials\, tools\, and knowledge needed to let your creativity flourish. Unlike our broom making\, bookbinding\, and spelljar making workshops in which participants are being guided through the crafting process step-by step by an instructor\, the DIY nature of Craft Witch means that you can use the studio time however you wish. Check out the crafting options on our website!
URL:https://salemforallages.org/event/craft-witch-7/
ATTACH;FMTTYPE=image/jpeg:https://salemforallages.org/wp-content/uploads/2025/02/Image-from-iOS-scaled-7.jpg
END:VEVENT
BEGIN:VEVENT
DTSTART;TZID=America/New_York:20250301T113000
DTEND;TZID=America/New_York:20250301T160000
DTSTAMP:20260423T232535
CREATED:20250223T100008Z
LAST-MODIFIED:20250223T100008Z
UID:22537-1740828600-1740844800@salemforallages.org
SUMMARY:Potion Brewing Store Experience
DESCRIPTION:Make your visit to The Good Witch of Salem’s shop memorable by booking our in-store Potion Brewing Experience. This activity is led by our Witch Apprentices. \nActivities are recommended for children ages 3 and up. \n*One appointment slot for each child is required.*
URL:https://salemforallages.org/event/potion-brewing-store-experience-249/
ATTACH;FMTTYPE=image/jpeg:https://salemforallages.org/wp-content/uploads/2025/02/Potion-Brewing-Store-Experience-12.jpg
END:VEVENT
BEGIN:VEVENT
DTSTART;TZID=America/New_York:20250301T113000
DTEND;TZID=America/New_York:20250301T160000
DTSTAMP:20260423T232535
CREATED:20250223T100007Z
LAST-MODIFIED:20250223T100007Z
UID:22536-1740828600-1740844800@salemforallages.org
SUMMARY:Magical Transformations
DESCRIPTION:Through our “Magical Transformations” children embrace their charms and express their individuality. Children can choose to transform into a “Witch” or “Wizard”!
URL:https://salemforallages.org/event/magical-transformations-257/
ATTACH;FMTTYPE=image/png:https://salemforallages.org/wp-content/uploads/2024/08/Transformations.png
END:VEVENT
BEGIN:VEVENT
DTSTART;TZID=America/New_York:20250301T113000
DTEND;TZID=America/New_York:20250301T140000
DTSTAMP:20260423T232535
CREATED:20250223T100016Z
LAST-MODIFIED:20250223T100016Z
UID:22541-1740828600-1740837600@salemforallages.org
SUMMARY:Rainbow Broom Decorating
DESCRIPTION:Fly into The Good Witch and Stay for a Spell! Unleash your creativity at the Good Witch of Salem’s Broom Decorating Station\, where you can transform a broom into a magical masterpiece! Use enchanting tape\, colorful ribbons\, sparkling stickers\, and shimmering gems to create a broom that’s uniquely yours.
URL:https://salemforallages.org/event/rainbow-broom-decorating/
ATTACH;FMTTYPE=image/png:https://salemforallages.org/wp-content/uploads/2025/02/Rainbow-Broom-Decorating.png
END:VEVENT
BEGIN:VEVENT
DTSTART;TZID=America/New_York:20250301T113000
DTEND;TZID=America/New_York:20250301T140000
DTSTAMP:20260423T232535
CREATED:20250223T100011Z
LAST-MODIFIED:20250223T100011Z
UID:22539-1740828600-1740837600@salemforallages.org
SUMMARY:Lots of Luck Potions
DESCRIPTION:Fly into The Good Witch and Stay for a Spell! Step into the DIY Good Witch of Salem’s Potion Bar\, where you can mix your very own magical potion creations! Choose your ingredients\, sprinkle in magical moondust\, add in your golden heart intentions\, and seal with a special charm to take home the enchantment!
URL:https://salemforallages.org/event/lots-of-luck-potions/
ATTACH;FMTTYPE=image/jpeg:https://salemforallages.org/wp-content/uploads/2025/02/Lots-of-Luck-scaled-1.jpg
END:VEVENT
BEGIN:VEVENT
DTSTART;TZID=America/New_York:20250301T100000
DTEND;TZID=America/New_York:20250301T160000
DTSTAMP:20260423T232535
CREATED:20250222T100050Z
LAST-MODIFIED:20250222T100050Z
UID:22531-1740823200-1740844800@salemforallages.org
SUMMARY:Leslie’s Retreat: Salem on the Brink of Revolution Exhibit
DESCRIPTION:This National Park Service exhibit will explore why Crown soldiers under Lt. Col. Alexander Leslie came to Salem on February 26\, 1775\, who were the major players in the event\, and how this event has been remembered and celebrated in Salem in the last 250 years. \nThis free exhibit will be on display from February 15th -April 27th at the Salem Armory Visitor Center\, 2 New Liberty Street\, Salem. \nThe Salem Armory Visitor Center is open Wednesday – Sunday\, 10 am – 4 pm.
URL:https://salemforallages.org/event/leslies-retreat-salem-on-the-brink-of-revolution-exhibit-11/
ATTACH;FMTTYPE=image/jpeg:https://salemforallages.org/wp-content/uploads/2025/02/1775_1782_Salem-Old-North-Bridge-Leslie-Retreat-800x600-1.jpg
END:VEVENT
BEGIN:VEVENT
DTSTART;TZID=America/New_York:20250301T100000
DTEND;TZID=America/New_York:20250301T110000
DTSTAMP:20260423T232535
CREATED:20250222T100055Z
LAST-MODIFIED:20250222T100055Z
UID:22534-1740823200-1740826800@salemforallages.org
SUMMARY:Rainbow Spa Day
DESCRIPTION:Let’s have a Spa Day! Join us for a little pampering and relaxation with our Witch Apprentices. Children will create their own rainbow potion and receive a sparkly nail manicure\, hair magic\, and a touch of glitter!
URL:https://salemforallages.org/event/rainbow-spa-day-2/
ATTACH;FMTTYPE=image/jpeg:https://salemforallages.org/wp-content/uploads/2025/02/FINAL-Leprechaun-Spa-Day-3_17-1.jpg
END:VEVENT
BEGIN:VEVENT
DTSTART;TZID=America/New_York:20250301T100000
DTEND;TZID=America/New_York:20250301T110000
DTSTAMP:20260423T232535
CREATED:20250222T100051Z
LAST-MODIFIED:20250222T100051Z
UID:22532-1740823200-1740826800@salemforallages.org
SUMMARY:Rainbow Spa Day
DESCRIPTION:Let’s have a Spa Day! Join us for a little pampering and relaxation with our Witch Apprentices. Children will create their own rainbow potion and receive a sparkly nail manicure\, hair magic\, and a touch of glitter!
URL:https://salemforallages.org/event/rainbow-spa-day/
ATTACH;FMTTYPE=image/jpeg:https://salemforallages.org/wp-content/uploads/2025/02/FINAL-Leprechaun-Spa-Day-3_17.jpg
END:VEVENT
END:VCALENDAR