BEGIN:VCALENDAR
VERSION:2.0
PRODID:-//Salem for All Ages - ECPv6.15.18//NONSGML v1.0//EN
CALSCALE:GREGORIAN
METHOD:PUBLISH
X-WR-CALNAME:Salem for All Ages
X-ORIGINAL-URL:https://salemforallages.org
X-WR-CALDESC:Events for Salem for All Ages
REFRESH-INTERVAL;VALUE=DURATION:PT1H
X-Robots-Tag:noindex
X-PUBLISHED-TTL:PT1H
BEGIN:VTIMEZONE
TZID:America/New_York
BEGIN:DAYLIGHT
TZOFFSETFROM:-0500
TZOFFSETTO:-0400
TZNAME:EDT
DTSTART:20240310T070000
END:DAYLIGHT
BEGIN:STANDARD
TZOFFSETFROM:-0400
TZOFFSETTO:-0500
TZNAME:EST
DTSTART:20241103T060000
END:STANDARD
BEGIN:DAYLIGHT
TZOFFSETFROM:-0500
TZOFFSETTO:-0400
TZNAME:EDT
DTSTART:20250309T070000
END:DAYLIGHT
BEGIN:STANDARD
TZOFFSETFROM:-0400
TZOFFSETTO:-0500
TZNAME:EST
DTSTART:20251102T060000
END:STANDARD
BEGIN:DAYLIGHT
TZOFFSETFROM:-0500
TZOFFSETTO:-0400
TZNAME:EDT
DTSTART:20260308T070000
END:DAYLIGHT
BEGIN:STANDARD
TZOFFSETFROM:-0400
TZOFFSETTO:-0500
TZNAME:EST
DTSTART:20261101T060000
END:STANDARD
END:VTIMEZONE
BEGIN:VEVENT
DTSTART;TZID=America/New_York:20250606T190000
DTEND;TZID=America/New_York:20250606T210000
DTSTAMP:20260423T183257
CREATED:20250601T090014Z
LAST-MODIFIED:20250601T090014Z
UID:23842-1749236400-1749243600@salemforallages.org
SUMMARY:DWYBO After Hours
DESCRIPTION:Shop in the Neon Glow of Die With Your Boots On After Hours! We’re turning up the music and turning down the lights for a party atmosphere\, Friday 6/6\, 7-9pm! Stop by before Vanta at Hallowed Ground!
URL:https://salemforallages.org/event/dwybo-after-hours/
ATTACH;FMTTYPE=image/jpeg:https://salemforallages.org/wp-content/uploads/2025/06/dwybo-after-hours-03-scaled-1.jpg
END:VEVENT
BEGIN:VEVENT
DTSTART;TZID=America/New_York:20250606T200000
DTEND;TZID=America/New_York:20250606T200000
DTSTAMP:20260423T183257
CREATED:20250601T090016Z
LAST-MODIFIED:20250601T090016Z
UID:23844-1749240000-1749240000@salemforallages.org
SUMMARY:Comedian Kristin Key
DESCRIPTION:Kristin Key is a nationally headlining\, queer\, musical comedian with sold-out shows nationwide. \nHer hilarious viral videos — including the iconic LESBIAN NATIONAL ANTHEM — have garnered over 92.2 million views from more than 590\,000+ dedicated followers across social media. Using comedy as a way to uplift her community and create safe spaces for comedy fans from all walks of life\, Kristin also donates to local nonprofits with every date on her 2024 Lesbian Army Tour. More than a fandom\, this is a movement!
URL:https://salemforallages.org/event/comedian-kristin-key/
ATTACH;FMTTYPE=image/jpeg:https://salemforallages.org/wp-content/uploads/2025/06/KKGuitar-e1748367237211.jpg
END:VEVENT
BEGIN:VEVENT
DTSTART;TZID=America/New_York:20250606T200000
DTEND;TZID=America/New_York:20250606T233000
DTSTAMP:20260423T183257
CREATED:20250604T090013Z
LAST-MODIFIED:20250604T090013Z
UID:23889-1749240000-1749252600@salemforallages.org
SUMMARY:Fierce Fridays hosted by Miz Diamond Wigfall
DESCRIPTION:Ru Paul drag race viewing 8pm\nPerformers go on 9pm\nMusic by Maxine Harrison \nFree! 21+
URL:https://salemforallages.org/event/fierce-fridays-hosted-by-miz-diamond-wigfall/
ATTACH;FMTTYPE=image/jpeg:https://salemforallages.org/wp-content/uploads/2025/06/Fierce-Friday-june-schedule.jpg
END:VEVENT
BEGIN:VEVENT
DTSTART;VALUE=DATE:20250607
DTEND;VALUE=DATE:20250608
DTSTAMP:20260423T183257
CREATED:20250601T090018Z
LAST-MODIFIED:20250601T090018Z
UID:23846-1749254400-1749340799@salemforallages.org
SUMMARY:Salem Arts Festival
DESCRIPTION:The 17th annual Salem Arts Festival returns June 6-8\, 2025\, transforming downtown Salem into a vibrant celebration of creativity and community. This free\, family-friendly event attracts over 7\,500 visitors annually and features a dynamic blend of visual and performing arts throughout Salem’s historic streets. \nWhat to Look Forward To\n\nOpening Night Celebration (Friday\, June 6\, 5:30-8:30 PM) – Join us at Old Town Hall for the festival kickoff featuring live performances\, gallery opening\, and the exciting Tiny Art Spree\nJuried Art Gallery – Explore carefully curated works from talented local and regional artists displayed in the historic Old Town Hall\nTiny Art Spree (Friday\, 7:00 PM) – Experience Salem’s most exhilarating art acquisition event! For just $20 per ticket\, participate in this referee-officiated art frenzy where you can take home original miniature artwork\nLive Mural Slam – Watch as selected artists transform blank 8′ × 4′ canvases into vibrant works of art throughout the festival weekend on Artists’ Row\nArtisan Marketplace – Browse and shop from over 40 local creators offering unique handcrafted items across various mediums\nMultiple Performance Stages – Enjoy live music\, dance\, and theatrical performances at venues throughout downtown Salem\n“Hissstory” Community Art Project – See the collaborative snake installation created from recycled vinyl banners\, celebrating Salem’s creative spirit and commitment to sustainability\nInteractive Art Experiences – Participate in hands-on activities suitable for visitors of all ages\nPop-up Art Exhibitions – Discover unexpected art displays hosted by local businesses throughout downtown\n\nThe Salem Arts Festival is produced by Salem Main Streets and Creative Collective\, with support from Festival Partner Peabody Essex Museum\, Title Sponsor Jenni Stuart Fine Jewelry\, and other community partners. \nFor complete festival information\, including performance schedules and participating artists\, visit www.salemartsfestival.com. \nJoin the conversation with #SAF2025 and #SAFTinyArt \nLet’s celebrate and strengthen our creative community together through this weekend of artistic exploration and connection!
URL:https://salemforallages.org/event/salem-arts-festival-12/
ATTACH;FMTTYPE=image/jpeg:https://salemforallages.org/wp-content/uploads/2025/05/Snapinst.app_474142839_18484521904061863_1245784756677335265_n_1080.jpg
END:VEVENT
BEGIN:VEVENT
DTSTART;TZID=America/New_York:20250607T090000
DTEND;TZID=America/New_York:20250607T110000
DTSTAMP:20260423T183257
CREATED:20250601T090019Z
LAST-MODIFIED:20250601T090019Z
UID:23847-1749286800-1749294000@salemforallages.org
SUMMARY:Salem Discovery Paddle Tours
DESCRIPTION:Embark on a serene paddleboard or kayak journey along the enchanting coastlines of Salem and Beverly Harbors\, where each stroke of your paddle unveils narratives ranging from historic naval battles to the infamous witch trials\, echoing the vibrant past of what was once the world’s busiest trading port. Age 16+
URL:https://salemforallages.org/event/salem-discovery-paddle-tours-4/
ATTACH;FMTTYPE=image/jpeg:https://salemforallages.org/wp-content/uploads/2025/06/IMG_0793-scaled-1.jpeg
END:VEVENT
BEGIN:VEVENT
DTSTART;TZID=America/New_York:20250607T100000
DTEND;TZID=America/New_York:20250607T110000
DTSTAMP:20260423T183257
CREATED:20250601T090023Z
LAST-MODIFIED:20250601T090023Z
UID:23849-1749290400-1749294000@salemforallages.org
SUMMARY:Mermaid Spa Day
DESCRIPTION:Workshop Time: 10:00AM – 11:00AM\nLocation: The Good Witch of Salem @ 2 North Street\, Salem MA 01970\nHosted By: Witch Apprentice \nLet’s have a Mermaid Spa Day! Join us for a little pampering and relaxation with our Witch Apprentices. Children will create their own mermaid potion and receive sparkly nails\, mermaid hair accessories\, and a touch of glitter with pink lips and rosy cheeks.  \nThis workshop is limited to 8 children\, pre-registration is required. Under age 4 may attend with the help of a supervising adult.
URL:https://salemforallages.org/event/mermaid-spa-day/
ATTACH;FMTTYPE=image/jpeg:https://salemforallages.org/wp-content/uploads/2025/06/FINAL-Mermaid-Spa-Day-2.jpg
END:VEVENT
BEGIN:VEVENT
DTSTART;TZID=America/New_York:20250607T110000
DTEND;TZID=America/New_York:20250607T150000
DTSTAMP:20260423T183257
CREATED:20250604T090016Z
LAST-MODIFIED:20250604T090016Z
UID:23891-1749294000-1749308400@salemforallages.org
SUMMARY:Salem Arts Festival at PEM
DESCRIPTION:Know before you go\nIn-person event\nLocation: In front of the Main Entrance on Essex Street | Garden Atrium \nFree \nCelebrate the Salem Arts Festival at PEM with a weekend of special events! \nOn Saturday\, June 7\, join us for free art making on Essex Street. We’ll be hosting the traveling art studio Creative Wanderings for mosaic making outside PEM’s front door. We’ll also be joined by Artists For Humanity\, a Boston-based organization that trains and employs teens in creative fields of work and aims to transform communities through creative expression.
URL:https://salemforallages.org/event/salem-arts-festival-at-pem/
ATTACH;FMTTYPE=image/jpeg:https://salemforallages.org/wp-content/uploads/2025/06/Salem-Arts.jpg
END:VEVENT
BEGIN:VEVENT
DTSTART;TZID=America/New_York:20250607T110000
DTEND;TZID=America/New_York:20250607T170000
DTSTAMP:20260423T183257
CREATED:20250601T090028Z
LAST-MODIFIED:20250601T090028Z
UID:23851-1749294000-1749315600@salemforallages.org
SUMMARY:Personal Rainbow Aura Photos
DESCRIPTION:What would the world become if everyone saw themselves as an energetic being? Each Personal Rainbow appointment comes with an instant-film aura photo and personalized reading of the colors and patterns. Bring a buddy at no extra charge to see your vibe as a dynamic duo! Book ahead as walk-ins fill up quickly\, appointments available Thursday-Monday.
URL:https://salemforallages.org/event/personal-rainbow-aura-photos-13/
ATTACH;FMTTYPE=image/jpeg:https://salemforallages.org/wp-content/uploads/2025/06/aura-photos-hauswitch-salem-1.jpg
END:VEVENT
BEGIN:VEVENT
DTSTART;TZID=America/New_York:20250607T110000
DTEND;TZID=America/New_York:20250607T170000
DTSTAMP:20260423T183257
CREATED:20250606T090005Z
LAST-MODIFIED:20250606T090005Z
UID:23902-1749294000-1749315600@salemforallages.org
SUMMARY:Historic New England Open House!
DESCRIPTION:On Saturday\, June 7\, all 38 of Historic New England’s historic sites across the region will be open and FREE to the public! Join us for a fun and fantastic day. In Salem\, the Phillips House and Gedney House will be open for tours. If you love architecture\, history\, fantastic stories\, great landscapes\, and art\, come visit us! There is so much to learn and explore.
URL:https://salemforallages.org/event/historic-new-england-open-house/
ATTACH;FMTTYPE=image/jpeg:https://salemforallages.org/wp-content/uploads/2025/06/front-side-view.jpg
END:VEVENT
BEGIN:VEVENT
DTSTART;TZID=America/New_York:20250607T113000
DTEND;TZID=America/New_York:20250607T140000
DTSTAMP:20260423T183257
CREATED:20250601T090036Z
LAST-MODIFIED:20250601T090036Z
UID:23856-1749295800-1749304800@salemforallages.org
SUMMARY:The Good Witch of Salem’s Sunny Days Potion
DESCRIPTION:Fly into The Good Witch and Stay for a Spell! Step into the DIY Good Witch of Salem’s Potion Bar\, where you can mix your very own magical potion creations! Choose your ingredients\, sprinkle in magical moondust\, add in your golden heart intentions\, and seal with a special charm to take home the enchantment!
URL:https://salemforallages.org/event/the-good-witch-of-salems-sunny-days-potion-3/
ATTACH;FMTTYPE=image/jpeg:https://salemforallages.org/wp-content/uploads/2025/06/Sunny-Day-scaled-1.jpg
END:VEVENT
BEGIN:VEVENT
DTSTART;TZID=America/New_York:20250607T113000
DTEND;TZID=America/New_York:20250607T140000
DTSTAMP:20260423T183257
CREATED:20250601T090040Z
LAST-MODIFIED:20250601T090040Z
UID:23858-1749295800-1749304800@salemforallages.org
SUMMARY:Rainbow Broom Decorating
DESCRIPTION:Fly into The Good Witch and Stay for a Spell! Unleash your creativity at the Good Witch of Salem’s Broom Decorating Station\, where you can transform a broom into a magical masterpiece! Use enchanting tape\, colorful ribbons\, sparkling stickers\, and shimmering gems to create a broom that’s uniquely yours.
URL:https://salemforallages.org/event/rainbow-broom-decorating-5/
ATTACH;FMTTYPE=image/png:https://salemforallages.org/wp-content/uploads/2025/05/Rainbow-Broom-Decorating-1.png
END:VEVENT
BEGIN:VEVENT
DTSTART;TZID=America/New_York:20250607T113000
DTEND;TZID=America/New_York:20250607T160000
DTSTAMP:20260423T183257
CREATED:20250601T090031Z
LAST-MODIFIED:20250601T090031Z
UID:23853-1749295800-1749312000@salemforallages.org
SUMMARY:Magical Transformations
DESCRIPTION:Through our “Magical Transformations” children embrace their charms and express their individuality. Children can choose to transform into a “Witch” or “Wizard”!
URL:https://salemforallages.org/event/magical-transformations-357/
ATTACH;FMTTYPE=image/png:https://salemforallages.org/wp-content/uploads/2024/08/Transformations.png
END:VEVENT
BEGIN:VEVENT
DTSTART;TZID=America/New_York:20250607T113000
DTEND;TZID=America/New_York:20250607T160000
DTSTAMP:20260423T183257
CREATED:20250601T090033Z
LAST-MODIFIED:20250601T090033Z
UID:23854-1749295800-1749312000@salemforallages.org
SUMMARY:Potion Brewing Store Experience
DESCRIPTION:Make your visit to The Good Witch of Salem’s shop memorable by booking our in-store Potion Brewing Experience. This activity is led by our Witch Apprentices. \nActivities are recommended for children ages 3 and up. \n*One appointment slot for each child is required.*
URL:https://salemforallages.org/event/potion-brewing-store-experience-350/
ATTACH;FMTTYPE=image/jpeg:https://salemforallages.org/wp-content/uploads/2025/06/Potion-Brewing-Store-Experience.jpg
END:VEVENT
BEGIN:VEVENT
DTSTART;TZID=America/New_York:20250607T120000
DTEND;TZID=America/New_York:20250607T133000
DTSTAMP:20260423T183257
CREATED:20250602T090005Z
LAST-MODIFIED:20250602T090005Z
UID:23859-1749297600-1749303000@salemforallages.org
SUMMARY:Craft Witch
DESCRIPTION:Craft Witch is a DIY crafting session with something for everyone! Choose from a wide array of options to create your very own one-of-a-kind craft. Whichever craft you decide to create\, you’ll be provided with all the materials\, tools\, and knowledge needed to let your creativity flourish. Unlike our broom making\, bookbinding\, and spelljar making workshops in which participants are being guided through the crafting process step-by step by an instructor\, the DIY nature of Craft Witch means that you can use the studio time however you wish. Check out the crafting options on our website!
URL:https://salemforallages.org/event/craft-witch-65/
ATTACH;FMTTYPE=image/jpeg:https://salemforallages.org/wp-content/uploads/2025/06/Image-from-iOS-scaled-2.jpg
END:VEVENT
BEGIN:VEVENT
DTSTART;TZID=America/New_York:20250607T120000
DTEND;TZID=America/New_York:20250607T220000
DTSTAMP:20260423T183257
CREATED:20250602T090009Z
LAST-MODIFIED:20250602T090009Z
UID:23861-1749297600-1749333600@salemforallages.org
SUMMARY:Notch Brewing XV Anniversary Weekend
DESCRIPTION:Celebrate Fifteen Years with Notch! \n🍺Beer Release:\nXV Anniversary Beer\nPitch Lined Desitka\nCzech Pale Lager \n– Limited amount of 1/2 Liter Bottles\n– Stichfass tappings all weekend\n– Lukr Pours \n🍺 XV Anniversary Glassware for sale!\n🥛 Mliko Specials\n🚙 Food Trucks & Food Specials
URL:https://salemforallages.org/event/notch-brewing-xv-anniversary-weekend-2/
ATTACH;FMTTYPE=image/jpeg:https://salemforallages.org/wp-content/uploads/2025/06/491438362_18503177044058622_2182213946896752524_n.jpg
END:VEVENT
BEGIN:VEVENT
DTSTART;TZID=America/New_York:20250607T140000
DTEND;TZID=America/New_York:20250607T150000
DTSTAMP:20260423T183257
CREATED:20250604T090021Z
LAST-MODIFIED:20250604T090021Z
UID:23893-1749304800-1749308400@salemforallages.org
SUMMARY:La Daniella: Gooey’s Toxic Aquatic Adventure
DESCRIPTION:Know before you go\nIn-person event\nLocation: Morse Auditorium \nIncluded with admission \nContains adult content. Recommended for ages 12 and up. \nJoin PEM Presents for a puppet musical about self-discovery\, friendship and late-stage capitalism. Gooey’s Toxic Aquatic Adventure is written and performed by La Daniella\, an AfroDominican/Nuyorican playwright\, actor and puppeteer from Brooklyn. \nIn a near apocalyptic New York City\, Gooey Pudín is an insecure mermaid from a sewage-filled creek in search of a better life and gainful employment at G’wond’rLand Theme Park. Along the way\, Gooey encounters
URL:https://salemforallages.org/event/la-daniella-gooeys-toxic-aquatic-adventure/
ATTACH;FMTTYPE=image/jpeg:https://salemforallages.org/wp-content/uploads/2025/06/events_PEMPresents_LaDaniella_1600_HERO.jpg
END:VEVENT
BEGIN:VEVENT
DTSTART;TZID=America/New_York:20250607T200000
DTEND;TZID=America/New_York:20250607T200000
DTSTAMP:20260423T183257
CREATED:20250602T090011Z
LAST-MODIFIED:20250602T090011Z
UID:23862-1749326400-1749326400@salemforallages.org
SUMMARY:Dylanology Live with Joan Osborne
DESCRIPTION:Special guests Anders Osborne\, Gail Ann Dorsey\, and Cindy Cashdollar with Will Bryant and Lee Falco \nIn 2017\, Grammy-nominated artist Joan Osborne released the critically acclaimed album\, Songs of Bob Dylan. \nHer artistic and soulful reinterpretations of the selection of Dylan songs was an eye-opening moment in an already celebrated career.
URL:https://salemforallages.org/event/dylanology-live-with-joan-osborne/
ATTACH;FMTTYPE=image/jpeg:https://salemforallages.org/wp-content/uploads/2025/06/joan-osborne.jpg
END:VEVENT
BEGIN:VEVENT
DTSTART;VALUE=DATE:20250608
DTEND;VALUE=DATE:20250609
DTSTAMP:20260423T183257
CREATED:20250602T090015Z
LAST-MODIFIED:20250602T090015Z
UID:23864-1749340800-1749427199@salemforallages.org
SUMMARY:Salem Arts Festival
DESCRIPTION:The 17th annual Salem Arts Festival returns June 6-8\, 2025\, transforming downtown Salem into a vibrant celebration of creativity and community. This free\, family-friendly event attracts over 7\,500 visitors annually and features a dynamic blend of visual and performing arts throughout Salem’s historic streets. \nWhat to Look Forward To\n\nOpening Night Celebration (Friday\, June 6\, 5:30-8:30 PM) – Join us at Old Town Hall for the festival kickoff featuring live performances\, gallery opening\, and the exciting Tiny Art Spree\nJuried Art Gallery – Explore carefully curated works from talented local and regional artists displayed in the historic Old Town Hall\nTiny Art Spree (Friday\, 7:00 PM) – Experience Salem’s most exhilarating art acquisition event! For just $20 per ticket\, participate in this referee-officiated art frenzy where you can take home original miniature artwork\nLive Mural Slam – Watch as selected artists transform blank 8′ × 4′ canvases into vibrant works of art throughout the festival weekend on Artists’ Row\nArtisan Marketplace – Browse and shop from over 40 local creators offering unique handcrafted items across various mediums\nMultiple Performance Stages – Enjoy live music\, dance\, and theatrical performances at venues throughout downtown Salem\n“Hissstory” Community Art Project – See the collaborative snake installation created from recycled vinyl banners\, celebrating Salem’s creative spirit and commitment to sustainability\nInteractive Art Experiences – Participate in hands-on activities suitable for visitors of all ages\nPop-up Art Exhibitions – Discover unexpected art displays hosted by local businesses throughout downtown\n\nThe Salem Arts Festival is produced by Salem Main Streets and Creative Collective\, with support from Festival Partner Peabody Essex Museum\, Title Sponsor Jenni Stuart Fine Jewelry\, and other community partners. \nFor complete festival information\, including performance schedules and participating artists\, visit www.salemartsfestival.com. \nJoin the conversation with #SAF2025 and #SAFTinyArt \nLet’s celebrate and strengthen our creative community together through this weekend of artistic exploration and connection!
URL:https://salemforallages.org/event/salem-arts-festival-13/
ATTACH;FMTTYPE=image/jpeg:https://salemforallages.org/wp-content/uploads/2025/05/Snapinst.app_474142839_18484521904061863_1245784756677335265_n_1080.jpg
END:VEVENT
BEGIN:VEVENT
DTSTART;TZID=America/New_York:20250608T110000
DTEND;TZID=America/New_York:20250608T150000
DTSTAMP:20260423T183257
CREATED:20250604T090025Z
LAST-MODIFIED:20250604T090025Z
UID:23895-1749380400-1749394800@salemforallages.org
SUMMARY:Salem Arts Festival at PEM
DESCRIPTION:Know before you go\nIn-person event\nLocation: In front of the Main Entrance on Essex Street | Garden Atrium \nFree \nCelebrate the Salem Arts Festival at PEM with a weekend of special events! \nOn Saturday\, June 7\, join us for free art making on Essex Street. We’ll be hosting the traveling art studio Creative Wanderings for mosaic making outside PEM’s front door. We’ll also be joined by Artists For Humanity\, a Boston-based organization that trains and employs teens in creative fields of work and aims to transform communities through creative expression.
URL:https://salemforallages.org/event/salem-arts-festival-at-pem-2/
ATTACH;FMTTYPE=image/jpeg:https://salemforallages.org/wp-content/uploads/2025/06/Salem-Arts.jpg
END:VEVENT
BEGIN:VEVENT
DTSTART;TZID=America/New_York:20250608T110000
DTEND;TZID=America/New_York:20250608T170000
DTSTAMP:20260423T183257
CREATED:20250602T090017Z
LAST-MODIFIED:20250602T090017Z
UID:23865-1749380400-1749402000@salemforallages.org
SUMMARY:Personal Rainbow Aura Photos
DESCRIPTION:What would the world become if everyone saw themselves as an energetic being? Each Personal Rainbow appointment comes with an instant-film aura photo and personalized reading of the colors and patterns. Bring a buddy at no extra charge to see your vibe as a dynamic duo! Book ahead as walk-ins fill up quickly\, appointments available Thursday-Monday.
URL:https://salemforallages.org/event/personal-rainbow-aura-photos-14/
ATTACH;FMTTYPE=image/jpeg:https://salemforallages.org/wp-content/uploads/2025/06/aura-photos-hauswitch-salem-2.jpg
END:VEVENT
BEGIN:VEVENT
DTSTART;TZID=America/New_York:20250608T113000
DTEND;TZID=America/New_York:20250608T140000
DTSTAMP:20260423T183257
CREATED:20250602T090030Z
LAST-MODIFIED:20250602T090030Z
UID:23872-1749382200-1749391200@salemforallages.org
SUMMARY:Rainbow Hat Decorating
DESCRIPTION:Stop In For a Spell: DIY Witch Hat Decorating \nFly into The Good Witch and Stay for a Spell! Design your own enchanting creation at the Good Witch of Salem’s Hat Decorating Station! Add ribbons\, tulle\, lace\, roses\, stickers\, and shimmering gems to craft a one-of-a-kind witch hat\, then complete your magical masterpiece with an inspiring affirmation card.
URL:https://salemforallages.org/event/rainbow-hat-decorating-4/
ATTACH;FMTTYPE=image/png:https://salemforallages.org/wp-content/uploads/2025/05/Rainbow-Hat-Decorating-1.png
END:VEVENT
BEGIN:VEVENT
DTSTART;TZID=America/New_York:20250608T113000
DTEND;TZID=America/New_York:20250608T140000
DTSTAMP:20260423T183257
CREATED:20250602T090031Z
LAST-MODIFIED:20250602T090031Z
UID:23873-1749382200-1749391200@salemforallages.org
SUMMARY:The Good Witch of Salem’s Rainbow Beam Potion
DESCRIPTION:Fly into The Good Witch and Stay for a Spell! Step into the DIY Good Witch of Salem’s Potion Bar\, where you can mix your very own magical potion creations! Choose your ingredients\, sprinkle in magical moondust\, add in your golden heart intentions\, and seal with a special charm to take home the enchantment!
URL:https://salemforallages.org/event/the-good-witch-of-salems-rainbow-beam-potion/
ATTACH;FMTTYPE=image/jpeg:https://salemforallages.org/wp-content/uploads/2025/06/Rainbow-Beams-scaled-1.jpg
END:VEVENT
BEGIN:VEVENT
DTSTART;TZID=America/New_York:20250608T113000
DTEND;TZID=America/New_York:20250608T150000
DTSTAMP:20260423T183257
CREATED:20250602T090022Z
LAST-MODIFIED:20250602T090022Z
UID:23868-1749382200-1749394800@salemforallages.org
SUMMARY:Stop In For a Spell: DIY Potion Bar
DESCRIPTION:Fly in to The Good Witch and Stay for a Spell! Mix up your very own potion at our Potion Bar! \nDrop Ins begin at store opening and end 30 minutes before closing and are offered on a first come\, first serve basis. Purchase online or pay in store. \nDrop Ins may be unavailable during a birthday party or store event. Please call ahead\, or check our posted hours on Google. \nUnder age 4 may participate with the help of a supervising adult.
URL:https://salemforallages.org/event/stop-in-for-a-spell-diy-potion-bar-242/
ATTACH;FMTTYPE=image/jpeg:https://salemforallages.org/wp-content/uploads/2025/06/Stop-In-For-a-Spell-SQUARE.jpg
END:VEVENT
BEGIN:VEVENT
DTSTART;TZID=America/New_York:20250608T113000
DTEND;TZID=America/New_York:20250608T150000
DTSTAMP:20260423T183257
CREATED:20250602T090026Z
LAST-MODIFIED:20250602T090026Z
UID:23870-1749382200-1749394800@salemforallages.org
SUMMARY:Potion Brewing Store Experience
DESCRIPTION:Make your visit to The Good Witch of Salem’s shop memorable by booking our in-store Potion Brewing Experience. This activity is led by our Witch Apprentices. \nActivities are recommended for children ages 3 and up. \n*One appointment slot for each child is required.*
URL:https://salemforallages.org/event/potion-brewing-store-experience-351/
ATTACH;FMTTYPE=image/jpeg:https://salemforallages.org/wp-content/uploads/2025/06/Potion-Brewing-Store-Experience-1.jpg
END:VEVENT
BEGIN:VEVENT
DTSTART;TZID=America/New_York:20250608T113000
DTEND;TZID=America/New_York:20250608T153000
DTSTAMP:20260423T183257
CREATED:20250602T090021Z
LAST-MODIFIED:20250602T090021Z
UID:23867-1749382200-1749396600@salemforallages.org
SUMMARY:Magical Transformations
DESCRIPTION:Through our “Magical Transformations” children embrace their charms and express their individuality. Children can choose to transform into a “Witch” or “Wizard”!
URL:https://salemforallages.org/event/magical-transformations-358/
ATTACH;FMTTYPE=image/png:https://salemforallages.org/wp-content/uploads/2024/08/Transformations-1.png
END:VEVENT
BEGIN:VEVENT
DTSTART;TZID=America/New_York:20250608T120000
DTEND;TZID=America/New_York:20250608T200000
DTSTAMP:20260423T183257
CREATED:20250602T090035Z
LAST-MODIFIED:20250602T090035Z
UID:23875-1749384000-1749412800@salemforallages.org
SUMMARY:Notch Brewing XV Anniversary Weekend
DESCRIPTION:Celebrate Fifteen Years with Notch! \n🍺Beer Release:\nXV Anniversary Beer\nPitch Lined Desitka\nCzech Pale Lager \n– Limited amount of 1/2 Liter Bottles\n– Stichfass tappings all weekend\n– Lukr Pours \n🍺 XV Anniversary Glassware for sale!\n🥛 Mliko Specials\n🚙 Food Trucks & Food Specials
URL:https://salemforallages.org/event/notch-brewing-xv-anniversary-weekend-3/
ATTACH;FMTTYPE=image/jpeg:https://salemforallages.org/wp-content/uploads/2025/06/491438362_18503177044058622_2182213946896752524_n.jpg
END:VEVENT
BEGIN:VEVENT
DTSTART;TZID=America/New_York:20250608T140000
DTEND;TZID=America/New_York:20250608T170000
DTSTAMP:20260423T183257
CREATED:20250602T090036Z
LAST-MODIFIED:20250602T090036Z
UID:23876-1749391200-1749402000@salemforallages.org
SUMMARY:Meet Rachel Bolton\, Author
DESCRIPTION:Wicked Good Books manager Rachel Bolton steps out from behind the checkout counter for her own author event!\nJoin us and chat with Rachel and pick up your signed copy (copies!) of The Women In Horror Anthology.\nOur in-house author is having quite the year. She won the Apex Magazine Reader’s Choice Award for Best Original Fiction.\nRachel is also a Bram Stoker Award Finalist in Superior Achievement in Short Fiction. Winners will be announced during the Annual Bram Stoker Awards Banquet held during StokerCon® 2025 in Stamford\, Connecticut on June 14th.
URL:https://salemforallages.org/event/meet-rachel-bolton-author/
ATTACH;FMTTYPE=image/jpeg:https://salemforallages.org/wp-content/uploads/2025/06/Rachel-Event.jpg
END:VEVENT
BEGIN:VEVENT
DTSTART;TZID=America/New_York:20250608T210000
DTEND;TZID=America/New_York:20250608T233000
DTSTAMP:20260423T183257
CREATED:20250604T090026Z
LAST-MODIFIED:20250604T090026Z
UID:23896-1749416400-1749425400@salemforallages.org
SUMMARY:Lip Sync Smackdown
DESCRIPTION:10 performers lip sync for their lives to win the non existent crown. $25/ per person\, 21+ event
URL:https://salemforallages.org/event/lip-sync-smackdown/
ATTACH;FMTTYPE=image/jpeg:https://salemforallages.org/wp-content/uploads/2025/06/Lip-Sync-Smackdown-2025-Instagram-Post.jpg
END:VEVENT
BEGIN:VEVENT
DTSTART;TZID=America/New_York:20250609T113000
DTEND;TZID=America/New_York:20250609T160000
DTSTAMP:20260423T183257
CREATED:20250603T090005Z
LAST-MODIFIED:20250603T090005Z
UID:23878-1749468600-1749484800@salemforallages.org
SUMMARY:Magical Transformations
DESCRIPTION:Through our “Magical Transformations” children embrace their charms and express their individuality. Children can choose to transform into a “Witch” or “Wizard”!
URL:https://salemforallages.org/event/magical-transformations-359/
ATTACH;FMTTYPE=image/png:https://salemforallages.org/wp-content/uploads/2024/08/Transformations.png
END:VEVENT
BEGIN:VEVENT
DTSTART;TZID=America/New_York:20250609T113000
DTEND;TZID=America/New_York:20250609T160000
DTSTAMP:20260423T183257
CREATED:20250603T090007Z
LAST-MODIFIED:20250603T090007Z
UID:23879-1749468600-1749484800@salemforallages.org
SUMMARY:Potion Brewing Store Experience
DESCRIPTION:Make your visit to The Good Witch of Salem’s shop memorable by booking our in-store Potion Brewing Experience. This activity is led by our Witch Apprentices. \nActivities are recommended for children ages 3 and up. \n*One appointment slot for each child is required.*
URL:https://salemforallages.org/event/potion-brewing-store-experience-352/
ATTACH;FMTTYPE=image/jpeg:https://salemforallages.org/wp-content/uploads/2025/06/Potion-Brewing-Store-Experience-2.jpg
END:VEVENT
END:VCALENDAR