BEGIN:VCALENDAR
VERSION:2.0
PRODID:-//Salem for All Ages - ECPv6.15.18//NONSGML v1.0//EN
CALSCALE:GREGORIAN
METHOD:PUBLISH
X-WR-CALNAME:Salem for All Ages
X-ORIGINAL-URL:https://salemforallages.org
X-WR-CALDESC:Events for Salem for All Ages
REFRESH-INTERVAL;VALUE=DURATION:PT1H
X-Robots-Tag:noindex
X-PUBLISHED-TTL:PT1H
BEGIN:VTIMEZONE
TZID:America/New_York
BEGIN:DAYLIGHT
TZOFFSETFROM:-0500
TZOFFSETTO:-0400
TZNAME:EDT
DTSTART:20240310T070000
END:DAYLIGHT
BEGIN:STANDARD
TZOFFSETFROM:-0400
TZOFFSETTO:-0500
TZNAME:EST
DTSTART:20241103T060000
END:STANDARD
BEGIN:DAYLIGHT
TZOFFSETFROM:-0500
TZOFFSETTO:-0400
TZNAME:EDT
DTSTART:20250309T070000
END:DAYLIGHT
BEGIN:STANDARD
TZOFFSETFROM:-0400
TZOFFSETTO:-0500
TZNAME:EST
DTSTART:20251102T060000
END:STANDARD
BEGIN:DAYLIGHT
TZOFFSETFROM:-0500
TZOFFSETTO:-0400
TZNAME:EDT
DTSTART:20260308T070000
END:DAYLIGHT
BEGIN:STANDARD
TZOFFSETFROM:-0400
TZOFFSETTO:-0500
TZNAME:EST
DTSTART:20261101T060000
END:STANDARD
END:VTIMEZONE
BEGIN:VEVENT
DTSTART;TZID=America/New_York:20250526T190000
DTEND;TZID=America/New_York:20250526T210000
DTSTAMP:20260423T185737
CREATED:20250518T090013Z
LAST-MODIFIED:20250518T090013Z
UID:23658-1748286000-1748293200@salemforallages.org
SUMMARY:Bingo with Great Gaucho
DESCRIPTION:Join us at the Taproom every Monday night for FREE BINGO with Greta Gaucho at 7:00 pm. \nDot it if ya got it for four rounds to win a Far From The Tree gift card and a prize from the fabulous prize basket. \nThe Far From the Tree taproom has an open food policy. (Bring your own food)
URL:https://salemforallages.org/event/bingo-with-great-gaucho-12/
ATTACH;FMTTYPE=image/jpeg:https://salemforallages.org/wp-content/uploads/2025/05/Add-a-subheading-2.jpg
END:VEVENT
BEGIN:VEVENT
DTSTART;TZID=America/New_York:20250526T190000
DTEND;TZID=America/New_York:20250526T210000
DTSTAMP:20260423T185737
CREATED:20250518T090018Z
LAST-MODIFIED:20250518T090018Z
UID:23660-1748286000-1748293200@salemforallages.org
SUMMARY:Improv Jam & Jelly
DESCRIPTION:Improv open hang and structured games for all levels.
URL:https://salemforallages.org/event/improv-jam-jelly-3/
ATTACH;FMTTYPE=image/png:https://salemforallages.org/wp-content/uploads/2025/04/Essex-Improv-1.png
END:VEVENT
BEGIN:VEVENT
DTSTART;TZID=America/New_York:20250527T113000
DTEND;TZID=America/New_York:20250527T150000
DTSTAMP:20260423T185737
CREATED:20250518T090019Z
LAST-MODIFIED:20250518T090019Z
UID:23662-1748345400-1748358000@salemforallages.org
SUMMARY:Stop In For a Spell: DIY Potion Bar
DESCRIPTION:Fly in to The Good Witch and Stay for a Spell! Mix up your very own potion at our Potion Bar! \nDrop Ins begin at store opening and end 30 minutes before closing and are offered on a first come\, first serve basis. Purchase online or pay in store. \nDrop Ins may be unavailable during a birthday party or store event. Please call ahead\, or check our posted hours on Google. \nUnder age 4 may participate with the help of a supervising adult.
URL:https://salemforallages.org/event/stop-in-for-a-spell-diy-potion-bar-236/
ATTACH;FMTTYPE=image/jpeg:https://salemforallages.org/wp-content/uploads/2025/05/Stop-In-For-a-Spell-SQUARE-8.jpg
END:VEVENT
BEGIN:VEVENT
DTSTART;TZID=America/New_York:20250527T113000
DTEND;TZID=America/New_York:20250527T150000
DTSTAMP:20260423T185737
CREATED:20250518T090022Z
LAST-MODIFIED:20250518T090022Z
UID:23664-1748345400-1748358000@salemforallages.org
SUMMARY:Potion Brewing Store Experience
DESCRIPTION:Make your visit to The Good Witch of Salem’s shop memorable by booking our in-store Potion Brewing Experience. This activity is led by our Witch Apprentices. \nActivities are recommended for children ages 3 and up. \n*One appointment slot for each child is required.*
URL:https://salemforallages.org/event/potion-brewing-store-experience-336/
ATTACH;FMTTYPE=image/jpeg:https://salemforallages.org/wp-content/uploads/2025/05/Potion-Brewing-Store-Experience-21.jpg
END:VEVENT
BEGIN:VEVENT
DTSTART;TZID=America/New_York:20250527T113000
DTEND;TZID=America/New_York:20250527T153000
DTSTAMP:20260423T185737
CREATED:20250518T090018Z
LAST-MODIFIED:20250518T090018Z
UID:23661-1748345400-1748359800@salemforallages.org
SUMMARY:Magical Transformations
DESCRIPTION:Through our “Magical Transformations” children embrace their charms and express their individuality. Children can choose to transform into a “Witch” or “Wizard”!
URL:https://salemforallages.org/event/magical-transformations-344/
ATTACH;FMTTYPE=image/png:https://salemforallages.org/wp-content/uploads/2024/08/Transformations-1.png
END:VEVENT
BEGIN:VEVENT
DTSTART;TZID=America/New_York:20250527T193000
DTEND;TZID=America/New_York:20250527T210000
DTSTAMP:20260423T185737
CREATED:20250518T090026Z
LAST-MODIFIED:20250518T090026Z
UID:23666-1748374200-1748379600@salemforallages.org
SUMMARY:Trivia Time
DESCRIPTION:General knowledge trivia every Tuesday at 7:30. Free to play. Win a Flying Saucer gift card!
URL:https://salemforallages.org/event/trivia-time-17/
ATTACH;FMTTYPE=image/jpeg:https://salemforallages.org/wp-content/uploads/2025/01/trivia-aframe-Medium.jpeg
END:VEVENT
BEGIN:VEVENT
DTSTART;TZID=America/New_York:20250528T113000
DTEND;TZID=America/New_York:20250528T150000
DTSTAMP:20260423T185737
CREATED:20250519T090011Z
LAST-MODIFIED:20250519T090011Z
UID:23668-1748431800-1748444400@salemforallages.org
SUMMARY:Stop In For a Spell: DIY Potion Bar
DESCRIPTION:Fly in to The Good Witch and Stay for a Spell! Mix up your very own potion at our Potion Bar! \nDrop Ins begin at store opening and end 30 minutes before closing and are offered on a first come\, first serve basis. Purchase online or pay in store. \nDrop Ins may be unavailable during a birthday party or store event. Please call ahead\, or check our posted hours on Google. \nUnder age 4 may participate with the help of a supervising adult.
URL:https://salemforallages.org/event/stop-in-for-a-spell-diy-potion-bar-237/
ATTACH;FMTTYPE=image/jpeg:https://salemforallages.org/wp-content/uploads/2025/05/Stop-In-For-a-Spell-SQUARE-9.jpg
END:VEVENT
BEGIN:VEVENT
DTSTART;TZID=America/New_York:20250528T113000
DTEND;TZID=America/New_York:20250528T150000
DTSTAMP:20260423T185737
CREATED:20250519T090014Z
LAST-MODIFIED:20250519T090014Z
UID:23670-1748431800-1748444400@salemforallages.org
SUMMARY:Potion Brewing Store Experience
DESCRIPTION:Make your visit to The Good Witch of Salem’s shop memorable by booking our in-store Potion Brewing Experience. This activity is led by our Witch Apprentices. \nActivities are recommended for children ages 3 and up. \n*One appointment slot for each child is required.*
URL:https://salemforallages.org/event/potion-brewing-store-experience-337/
ATTACH;FMTTYPE=image/jpeg:https://salemforallages.org/wp-content/uploads/2025/05/Potion-Brewing-Store-Experience-22.jpg
END:VEVENT
BEGIN:VEVENT
DTSTART;TZID=America/New_York:20250528T113000
DTEND;TZID=America/New_York:20250528T153000
DTSTAMP:20260423T185737
CREATED:20250519T090010Z
LAST-MODIFIED:20250519T090010Z
UID:23667-1748431800-1748446200@salemforallages.org
SUMMARY:Magical Transformations
DESCRIPTION:Through our “Magical Transformations” children embrace their charms and express their individuality. Children can choose to transform into a “Witch” or “Wizard”!
URL:https://salemforallages.org/event/magical-transformations-345/
ATTACH;FMTTYPE=image/png:https://salemforallages.org/wp-content/uploads/2024/08/Transformations-1.png
END:VEVENT
BEGIN:VEVENT
DTSTART;TZID=America/New_York:20250528T120000
DTEND;TZID=America/New_York:20250528T133000
DTSTAMP:20260423T185737
CREATED:20250519T090018Z
LAST-MODIFIED:20250519T090018Z
UID:23672-1748433600-1748439000@salemforallages.org
SUMMARY:Craft Witch
DESCRIPTION:Craft Witch is a DIY crafting session with something for everyone! Choose from a wide array of options to create your very own one-of-a-kind craft. Whichever craft you decide to create\, you’ll be provided with all the materials\, tools\, and knowledge needed to let your creativity flourish. Unlike our broom making\, bookbinding\, and spelljar making workshops in which participants are being guided through the crafting process step-by step by an instructor\, the DIY nature of Craft Witch means that you can use the studio time however you wish. Check out the crafting options on our website!
URL:https://salemforallages.org/event/craft-witch-57/
ATTACH;FMTTYPE=image/jpeg:https://salemforallages.org/wp-content/uploads/2025/05/Image-from-iOS-scaled-13.jpg
END:VEVENT
BEGIN:VEVENT
DTSTART;TZID=America/New_York:20250529T113000
DTEND;TZID=America/New_York:20250529T160000
DTSTAMP:20260423T185737
CREATED:20250519T090022Z
LAST-MODIFIED:20250519T090022Z
UID:23674-1748518200-1748534400@salemforallages.org
SUMMARY:Magical Transformations
DESCRIPTION:Through our “Magical Transformations” children embrace their charms and express their individuality. Children can choose to transform into a “Witch” or “Wizard”!
URL:https://salemforallages.org/event/magical-transformations-346/
ATTACH;FMTTYPE=image/png:https://salemforallages.org/wp-content/uploads/2024/08/Transformations.png
END:VEVENT
BEGIN:VEVENT
DTSTART;TZID=America/New_York:20250529T113000
DTEND;TZID=America/New_York:20250529T160000
DTSTAMP:20260423T185737
CREATED:20250519T090023Z
LAST-MODIFIED:20250519T090023Z
UID:23675-1748518200-1748534400@salemforallages.org
SUMMARY:Potion Brewing Store Experience
DESCRIPTION:Make your visit to The Good Witch of Salem’s shop memorable by booking our in-store Potion Brewing Experience. This activity is led by our Witch Apprentices. \nActivities are recommended for children ages 3 and up. \n*One appointment slot for each child is required.*
URL:https://salemforallages.org/event/potion-brewing-store-experience-338/
ATTACH;FMTTYPE=image/jpeg:https://salemforallages.org/wp-content/uploads/2025/05/Potion-Brewing-Store-Experience-23.jpg
END:VEVENT
BEGIN:VEVENT
DTSTART;TZID=America/New_York:20250529T120000
DTEND;TZID=America/New_York:20250529T133000
DTSTAMP:20260423T185737
CREATED:20250520T090027Z
LAST-MODIFIED:20250520T090027Z
UID:23685-1748520000-1748525400@salemforallages.org
SUMMARY:Craft Witch
DESCRIPTION:Craft Witch is a DIY crafting session with something for everyone! Choose from a wide array of options to create your very own one-of-a-kind craft. Whichever craft you decide to create\, you’ll be provided with all the materials\, tools\, and knowledge needed to let your creativity flourish. Unlike our broom making\, bookbinding\, and spelljar making workshops in which participants are being guided through the crafting process step-by step by an instructor\, the DIY nature of Craft Witch means that you can use the studio time however you wish. Check out the crafting options on our website!
URL:https://salemforallages.org/event/craft-witch-58/
ATTACH;FMTTYPE=image/jpeg:https://salemforallages.org/wp-content/uploads/2025/05/Image-from-iOS-scaled-14.jpg
END:VEVENT
BEGIN:VEVENT
DTSTART;TZID=America/New_York:20250529T170000
DTEND;TZID=America/New_York:20250529T190000
DTSTAMP:20260423T185737
CREATED:20250521T090009Z
LAST-MODIFIED:20250521T090009Z
UID:23687-1748538000-1748545200@salemforallages.org
SUMMARY:Wicked Good Poetry Salon
DESCRIPTION:Join us for an evening of poetry featuring authors from the Mass Poetry Festival! It’s free and there will be refreshments.
URL:https://salemforallages.org/event/wicked-good-poetry-salon-2/
ATTACH;FMTTYPE=image/jpeg:https://salemforallages.org/wp-content/uploads/2025/05/Wicked-Good-Poetry-Salon.jpg
END:VEVENT
BEGIN:VEVENT
DTSTART;TZID=America/New_York:20250529T180000
DTEND;TZID=America/New_York:20250529T190000
DTSTAMP:20260423T185737
CREATED:20250521T090012Z
LAST-MODIFIED:20250521T090012Z
UID:23689-1748541600-1748545200@salemforallages.org
SUMMARY:Nathaniel Hawthorne: America’s First Goth
DESCRIPTION:Long before black eyeliner and vampire aesthetics\, Nathaniel Hawthorne was wading through the fog of America’s moral and psychological darkness as he wandered the streets of Salem. Thomas O’Brien Vallor believes that Hawthorne’s brooding prose and obsession with the darker side of human nature earned him the title of America’s first goth.
URL:https://salemforallages.org/event/nathaniel-hawthorne-americas-first-goth-2/
ATTACH;FMTTYPE=image/jpeg:https://salemforallages.org/wp-content/uploads/2025/05/20240914_174751-scaled-1.jpg
END:VEVENT
BEGIN:VEVENT
DTSTART;TZID=America/New_York:20250529T193000
DTEND;TZID=America/New_York:20250529T213000
DTSTAMP:20260423T185737
CREATED:20250521T090016Z
LAST-MODIFIED:20250521T090016Z
UID:23691-1748547000-1748554200@salemforallages.org
SUMMARY:Mahi Summer Music Series
DESCRIPTION:Nothing beats music on the ocean. Live music every thursday on the Hannah Glover. Dance with friends and strangers under the stars with the best local bands on the North Shore\, a boat drink in hand\, and munching on a backyard favorite. 21+ cruise.
URL:https://salemforallages.org/event/mahi-summer-music-series/
ATTACH;FMTTYPE=image/jpeg:https://salemforallages.org/wp-content/uploads/2025/05/MUSIC-SERIES-POST-CARD-scaled-1.jpeg
END:VEVENT
BEGIN:VEVENT
DTSTART;TZID=America/New_York:20250530T090000
DTEND;TZID=America/New_York:20250530T103000
DTSTAMP:20260423T185737
CREATED:20250521T090021Z
LAST-MODIFIED:20250521T090021Z
UID:23693-1748595600-1748601000@salemforallages.org
SUMMARY:Family Paddle
DESCRIPTION:Create lasting memories with a family adventure on the water! Our Salem Family Paddles are designed for families of all ages\, combining easy paddling\, fun games\, and light instruction in a safe\, supportive setting. Explore Salem’s scenic harbor together while learning new skills and spotting seabirds\, boats\, and coastal landmarks. With experienced guides leading the way\, it’s the perfect way for families to connect with the natural and historical beauty of Salem.
URL:https://salemforallages.org/event/family-paddle/
ATTACH;FMTTYPE=image/jpeg:https://salemforallages.org/wp-content/uploads/2025/05/CoasttoCoast2022-224.jpg
END:VEVENT
BEGIN:VEVENT
DTSTART;TZID=America/New_York:20250530T100000
DTEND;TZID=America/New_York:20250530T220000
DTSTAMP:20260423T185737
CREATED:20250521T090024Z
LAST-MODIFIED:20250521T090024Z
UID:23695-1748599200-1748642400@salemforallages.org
SUMMARY:Massachusetts Poetry Festival
DESCRIPTION:The Massachusetts Poetry Festival is a biennial celebration of contemporary poetry held in Salem\, showcasing an all-star roster of poets from across the Commonwealth and beyond. The Festival features more than 100 poets and performers from across Massachusetts and beyond. There are headline readings\, workshops\, panels\, a small press fair\, multimedia events\, open mics\, and more.
URL:https://salemforallages.org/event/massachusetts-poetry-festival-2/
ATTACH;FMTTYPE=image/jpeg:https://salemforallages.org/wp-content/uploads/2025/03/MassPo-2023-Day1-FaePhoenixPhoto-229-800x533-1.jpg
END:VEVENT
BEGIN:VEVENT
DTSTART;TZID=America/New_York:20250530T110000
DTEND;TZID=America/New_York:20250530T170000
DTSTAMP:20260423T185737
CREATED:20250522T090009Z
LAST-MODIFIED:20250522T090009Z
UID:23696-1748602800-1748624400@salemforallages.org
SUMMARY:Personal Rainbow Aura Photos
DESCRIPTION:What would the world become if everyone saw themselves as an energetic being? Each Personal Rainbow appointment comes with an instant-film aura photo and personalized reading of the colors and patterns. Bring a buddy at no extra charge to see your vibe as a dynamic duo! Book ahead as walk-ins fill up quickly\, appointments available Thursday-Monday.
URL:https://salemforallages.org/event/personal-rainbow-aura-photos-5/
ATTACH;FMTTYPE=image/jpeg:https://salemforallages.org/wp-content/uploads/2025/05/aura-photos-hauswitch-salem-4.jpg
END:VEVENT
BEGIN:VEVENT
DTSTART;TZID=America/New_York:20250530T113000
DTEND;TZID=America/New_York:20250530T160000
DTSTAMP:20260423T185737
CREATED:20250522T090013Z
LAST-MODIFIED:20250522T090013Z
UID:23698-1748604600-1748620800@salemforallages.org
SUMMARY:Magical Transformations
DESCRIPTION:Through our “Magical Transformations” children embrace their charms and express their individuality. Children can choose to transform into a “Witch” or “Wizard”!
URL:https://salemforallages.org/event/magical-transformations-347/
ATTACH;FMTTYPE=image/png:https://salemforallages.org/wp-content/uploads/2024/08/Transformations.png
END:VEVENT
BEGIN:VEVENT
DTSTART;TZID=America/New_York:20250530T113000
DTEND;TZID=America/New_York:20250530T160000
DTSTAMP:20260423T185737
CREATED:20250522T090014Z
LAST-MODIFIED:20250522T090014Z
UID:23699-1748604600-1748620800@salemforallages.org
SUMMARY:Potion Brewing Store Experience
DESCRIPTION:Make your visit to The Good Witch of Salem’s shop memorable by booking our in-store Potion Brewing Experience. This activity is led by our Witch Apprentices. \nActivities are recommended for children ages 3 and up. \n*One appointment slot for each child is required.*
URL:https://salemforallages.org/event/potion-brewing-store-experience-339/
ATTACH;FMTTYPE=image/jpeg:https://salemforallages.org/wp-content/uploads/2025/05/Potion-Brewing-Store-Experience-24.jpg
END:VEVENT
BEGIN:VEVENT
DTSTART;TZID=America/New_York:20250530T120000
DTEND;TZID=America/New_York:20250530T133000
DTSTAMP:20260423T185737
CREATED:20250522T090017Z
LAST-MODIFIED:20250522T090017Z
UID:23701-1748606400-1748611800@salemforallages.org
SUMMARY:Craft Witch
DESCRIPTION:Craft Witch is a DIY crafting session with something for everyone! Choose from a wide array of options to create your very own one-of-a-kind craft. Whichever craft you decide to create\, you’ll be provided with all the materials\, tools\, and knowledge needed to let your creativity flourish. Unlike our broom making\, bookbinding\, and spelljar making workshops in which participants are being guided through the crafting process step-by step by an instructor\, the DIY nature of Craft Witch means that you can use the studio time however you wish. Check out the crafting options on our website!
URL:https://salemforallages.org/event/craft-witch-59/
ATTACH;FMTTYPE=image/jpeg:https://salemforallages.org/wp-content/uploads/2025/05/Image-from-iOS-scaled-15.jpg
END:VEVENT
BEGIN:VEVENT
DTSTART;TZID=America/New_York:20250530T200000
DTEND;TZID=America/New_York:20250530T220000
DTSTAMP:20260423T185737
CREATED:20250522T090022Z
LAST-MODIFIED:20250522T090022Z
UID:23703-1748635200-1748642400@salemforallages.org
SUMMARY:Thunder from Down Under
DESCRIPTION:Australia’s Thunder from Down Under returns for their Temptation Tour 2025 \nGet ready to experience an exhilarating and electrifying extravaganza as Thunder from Down Under\, the world-renowned Australian male revue\, announces its highly anticipated return in 2025 with their TEMPTATION TOUR. The sizzling hot international sensation is set to set the stage on fire with their captivating performances and infectious energy\, promising an unforgettable night of entertainment for fans across the country.
URL:https://salemforallages.org/event/thunder-from-down-under-2/
ATTACH;FMTTYPE=image/jpeg:https://salemforallages.org/wp-content/uploads/2025/05/Stage_Lineup_TFDU_25-scaled-1.jpg
END:VEVENT
BEGIN:VEVENT
DTSTART;TZID=America/New_York:20250531T090000
DTEND;TZID=America/New_York:20250531T110000
DTSTAMP:20260423T185737
CREATED:20250523T090007Z
LAST-MODIFIED:20250523T090007Z
UID:23705-1748682000-1748689200@salemforallages.org
SUMMARY:Salem Discovery Paddle Tours
DESCRIPTION:Embark on a serene paddleboard or kayak journey along the enchanting coastlines of Salem and Beverly Harbors\, where each stroke of your paddle unveils narratives ranging from historic naval battles to the infamous witch trials\, echoing the vibrant past of what was once the world’s busiest trading port. Age 16+
URL:https://salemforallages.org/event/salem-discovery-paddle-tours/
ATTACH;FMTTYPE=image/jpeg:https://salemforallages.org/wp-content/uploads/2025/05/IMG_0793-scaled-1.jpeg
END:VEVENT
BEGIN:VEVENT
DTSTART;TZID=America/New_York:20250531T090000
DTEND;TZID=America/New_York:20250531T110000
DTSTAMP:20260423T185737
CREATED:20250523T090007Z
LAST-MODIFIED:20250523T090007Z
UID:23706-1748682000-1748689200@salemforallages.org
SUMMARY:Salem Discovery Paddle Tours
DESCRIPTION:Embark on a serene paddleboard or kayak journey along the enchanting coastlines of Salem and Beverly Harbors\, where each stroke of your paddle unveils narratives ranging from historic naval battles to the infamous witch trials\, echoing the vibrant past of what was once the world’s busiest trading port. Age 16+
URL:https://salemforallages.org/event/salem-discovery-paddle-tours-2/
ATTACH;FMTTYPE=image/jpeg:https://salemforallages.org/wp-content/uploads/2025/05/IMG_0793-scaled-2.jpeg
END:VEVENT
BEGIN:VEVENT
DTSTART;TZID=America/New_York:20250531T100000
DTEND;TZID=America/New_York:20250531T110000
DTSTAMP:20260423T185737
CREATED:20250523T090011Z
LAST-MODIFIED:20250523T090011Z
UID:23709-1748685600-1748689200@salemforallages.org
SUMMARY:Spring Spa Day
DESCRIPTION:Let’s have a Spring Spa Day! Join us for a little pampering and relaxation with our Witch Apprentices. Children will create their own spring potion and receive sparkly nails\, floral hair accessories\, and a touch of glitter with pink lips and rosy cheeks.
URL:https://salemforallages.org/event/spring-spa-day-4/
ATTACH;FMTTYPE=image/jpeg:https://salemforallages.org/wp-content/uploads/2025/05/FINAL-Spring-Spa-Day-FB-1.jpg
END:VEVENT
BEGIN:VEVENT
DTSTART;TZID=America/New_York:20250531T100000
DTEND;TZID=America/New_York:20250531T110000
DTSTAMP:20260423T185737
CREATED:20250523T090011Z
LAST-MODIFIED:20250523T090011Z
UID:23710-1748685600-1748689200@salemforallages.org
SUMMARY:Spring Spa Day
DESCRIPTION:Let’s have a Spring Spa Day! Join us for a little pampering and relaxation with our Witch Apprentices. Children will create their own spring potion and receive sparkly nails\, floral hair accessories\, and a touch of glitter with pink lips and rosy cheeks.
URL:https://salemforallages.org/event/spring-spa-day-5/
ATTACH;FMTTYPE=image/jpeg:https://salemforallages.org/wp-content/uploads/2025/05/FINAL-Spring-Spa-Day-FB-1-1.jpg
END:VEVENT
BEGIN:VEVENT
DTSTART;TZID=America/New_York:20250531T100000
DTEND;TZID=America/New_York:20250531T220000
DTSTAMP:20260423T185737
CREATED:20250523T090015Z
LAST-MODIFIED:20250523T090015Z
UID:23713-1748685600-1748728800@salemforallages.org
SUMMARY:Massachusetts Poetry Festival
DESCRIPTION:The Massachusetts Poetry Festival is a biennial celebration of contemporary poetry held in Salem\, showcasing an all-star roster of poets from across the Commonwealth and beyond. The Festival features more than 100 poets and performers from across Massachusetts and beyond. There are headline readings\, workshops\, panels\, a small press fair\, multimedia events\, open mics\, and more.
URL:https://salemforallages.org/event/massachusetts-poetry-festival-3/
ATTACH;FMTTYPE=image/jpeg:https://salemforallages.org/wp-content/uploads/2025/03/MassPo-2023-Day1-FaePhoenixPhoto-229-800x533-1.jpg
END:VEVENT
BEGIN:VEVENT
DTSTART;TZID=America/New_York:20250531T100000
DTEND;TZID=America/New_York:20250531T220000
DTSTAMP:20260423T185737
CREATED:20250523T090015Z
LAST-MODIFIED:20250523T090015Z
UID:23715-1748685600-1748728800@salemforallages.org
SUMMARY:Massachusetts Poetry Festival
DESCRIPTION:The Massachusetts Poetry Festival is a biennial celebration of contemporary poetry held in Salem\, showcasing an all-star roster of poets from across the Commonwealth and beyond. The Festival features more than 100 poets and performers from across Massachusetts and beyond. There are headline readings\, workshops\, panels\, a small press fair\, multimedia events\, open mics\, and more.
URL:https://salemforallages.org/event/massachusetts-poetry-festival-4/
ATTACH;FMTTYPE=image/jpeg:https://salemforallages.org/wp-content/uploads/2025/03/MassPo-2023-Day1-FaePhoenixPhoto-229-800x533-1.jpg
END:VEVENT
BEGIN:VEVENT
DTSTART;TZID=America/New_York:20250531T110000
DTEND;TZID=America/New_York:20250531T170000
DTSTAMP:20260423T185737
CREATED:20250523T090015Z
LAST-MODIFIED:20250523T090015Z
UID:23714-1748689200-1748710800@salemforallages.org
SUMMARY:Personal Rainbow Aura Photos
DESCRIPTION:What would the world become if everyone saw themselves as an energetic being? Each Personal Rainbow appointment comes with an instant-film aura photo and personalized reading of the colors and patterns. Bring a buddy at no extra charge to see your vibe as a dynamic duo! Book ahead as walk-ins fill up quickly\, appointments available Thursday-Monday.
URL:https://salemforallages.org/event/personal-rainbow-aura-photos-6/
ATTACH;FMTTYPE=image/jpeg:https://salemforallages.org/wp-content/uploads/2025/05/aura-photos-hauswitch-salem-1-1.jpg
END:VEVENT
END:VCALENDAR