BEGIN:VCALENDAR
VERSION:2.0
PRODID:-//Salem for All Ages - ECPv6.15.18//NONSGML v1.0//EN
CALSCALE:GREGORIAN
METHOD:PUBLISH
X-WR-CALNAME:Salem for All Ages
X-ORIGINAL-URL:https://salemforallages.org
X-WR-CALDESC:Events for Salem for All Ages
REFRESH-INTERVAL;VALUE=DURATION:PT1H
X-Robots-Tag:noindex
X-PUBLISHED-TTL:PT1H
BEGIN:VTIMEZONE
TZID:America/New_York
BEGIN:DAYLIGHT
TZOFFSETFROM:-0500
TZOFFSETTO:-0400
TZNAME:EDT
DTSTART:20240310T070000
END:DAYLIGHT
BEGIN:STANDARD
TZOFFSETFROM:-0400
TZOFFSETTO:-0500
TZNAME:EST
DTSTART:20241103T060000
END:STANDARD
BEGIN:DAYLIGHT
TZOFFSETFROM:-0500
TZOFFSETTO:-0400
TZNAME:EDT
DTSTART:20250309T070000
END:DAYLIGHT
BEGIN:STANDARD
TZOFFSETFROM:-0400
TZOFFSETTO:-0500
TZNAME:EST
DTSTART:20251102T060000
END:STANDARD
BEGIN:DAYLIGHT
TZOFFSETFROM:-0500
TZOFFSETTO:-0400
TZNAME:EDT
DTSTART:20260308T070000
END:DAYLIGHT
BEGIN:STANDARD
TZOFFSETFROM:-0400
TZOFFSETTO:-0500
TZNAME:EST
DTSTART:20261101T060000
END:STANDARD
END:VTIMEZONE
BEGIN:VEVENT
DTSTART;TZID=America/New_York:20250308T113000
DTEND;TZID=America/New_York:20250308T140000
DTSTAMP:20260423T212752
CREATED:20250302T100054Z
LAST-MODIFIED:20250302T100054Z
UID:22632-1741433400-1741442400@salemforallages.org
SUMMARY:Lots of Luck Potions
DESCRIPTION:Fly into The Good Witch and Stay for a Spell! Step into the DIY Good Witch of Salem’s Potion Bar\, where you can mix your very own magical potion creations! Choose your ingredients\, sprinkle in magical moondust\, add in your golden heart intentions\, and seal with a special charm to take home the enchantment!
URL:https://salemforallages.org/event/lots-of-luck-potions-3/
ATTACH;FMTTYPE=image/jpeg:https://salemforallages.org/wp-content/uploads/2025/03/Lots-of-Luck-scaled-1.jpg
END:VEVENT
BEGIN:VEVENT
DTSTART;TZID=America/New_York:20250308T113000
DTEND;TZID=America/New_York:20250308T140000
DTSTAMP:20260423T212752
CREATED:20250302T100051Z
LAST-MODIFIED:20250302T100051Z
UID:22630-1741433400-1741442400@salemforallages.org
SUMMARY:Rainbow Potions
DESCRIPTION:Fly into The Good Witch and Stay for a Spell! Step into the DIY Good Witch of Salem’s Potion Bar\, where you can mix your very own magical potion creations! Choose your ingredients\, sprinkle in magical moondust\, add in your golden heart intentions\, and seal with a special charm to take home the enchantment!
URL:https://salemforallages.org/event/rainbow-potions-2/
ATTACH;FMTTYPE=image/jpeg:https://salemforallages.org/wp-content/uploads/2025/03/Rainbow-BeamsFB-scaled-1.jpg
END:VEVENT
BEGIN:VEVENT
DTSTART;TZID=America/New_York:20250308T103000
DTEND;TZID=America/New_York:20250308T120000
DTSTAMP:20260423T212752
CREATED:20250302T100041Z
LAST-MODIFIED:20250302T100041Z
UID:22625-1741429800-1741435200@salemforallages.org
SUMMARY:Kids at The Cabot: Alastair Moock and Friends
DESCRIPTION:Alastair Moock and Friends return to the Cabot with their unique brand of upbeat\, socially-conscious Americana music for all ages! Joining them for this special performance is the Teen Tour Choir of Boston City Singers from Dorchester\, MA. \nKids at The Cabot shows are best for toddler to early elementary age.
URL:https://salemforallages.org/event/kids-at-the-cabot-alastair-moock-and-friends/
ATTACH;FMTTYPE=image/jpeg:https://salemforallages.org/wp-content/uploads/2025/03/448324271_858210289686314_5489746870592317559_n-scaled-1.jpeg
END:VEVENT
BEGIN:VEVENT
DTSTART;TZID=America/New_York:20250308T100000
DTEND;TZID=America/New_York:20250308T160000
DTSTAMP:20260423T212752
CREATED:20250302T100035Z
LAST-MODIFIED:20250302T100035Z
UID:22622-1741428000-1741449600@salemforallages.org
SUMMARY:Leslie’s Retreat: Salem on the Brink of Revolution Exhibit
DESCRIPTION:This National Park Service exhibit will explore why Crown soldiers under Lt. Col. Alexander Leslie came to Salem on February 26\, 1775\, who were the major players in the event\, and how this event has been remembered and celebrated in Salem in the last 250 years. \nThis free exhibit will be on display from February 15th -April 27th at the Salem Armory Visitor Center\, 2 New Liberty Street\, Salem. \nThe Salem Armory Visitor Center is open Wednesday – Sunday\, 10 am – 4 pm.
URL:https://salemforallages.org/event/leslies-retreat-salem-on-the-brink-of-revolution-exhibit-16/
ATTACH;FMTTYPE=image/jpeg:https://salemforallages.org/wp-content/uploads/2025/02/1775_1782_Salem-Old-North-Bridge-Leslie-Retreat-800x600-1.jpg
END:VEVENT
BEGIN:VEVENT
DTSTART;TZID=America/New_York:20250308T100000
DTEND;TZID=America/New_York:20250308T110000
DTSTAMP:20260423T212752
CREATED:20250302T100036Z
LAST-MODIFIED:20250302T100036Z
UID:22623-1741428000-1741431600@salemforallages.org
SUMMARY:Leprechaun Spa Day
DESCRIPTION:Let’s have a Spa Day! Join us for a little pampering and relaxation with our Witch Apprentices. Children will create their own lucky potion and receive a sparkly nail manicure\, hair magic\, and a touch of glitter!
URL:https://salemforallages.org/event/leprechaun-spa-day/
ATTACH;FMTTYPE=image/jpeg:https://salemforallages.org/wp-content/uploads/2025/03/Lep-Spa-Day.jpg
END:VEVENT
BEGIN:VEVENT
DTSTART;TZID=America/New_York:20250307T203000
DTEND;TZID=America/New_York:20250307T220000
DTSTAMP:20260423T212752
CREATED:20250302T100031Z
LAST-MODIFIED:20250302T100031Z
UID:22620-1741379400-1741384800@salemforallages.org
SUMMARY:Friday Comedy Night at Ray’s
DESCRIPTION:Friday Comedy Night at Ray’s\nCome and hang! Fun comedy at your favorite local spot\nDonate to a hungry comic – be a sponsor and buy them a Jamaican patty or beer\n*Misha *Allie DF *Kaitlin *Chris L\nHosted: Jack Lombardo
URL:https://salemforallages.org/event/friday-comedy-night-at-rays/
ATTACH;FMTTYPE=image/jpeg:https://salemforallages.org/wp-content/uploads/2025/03/59121d46-f6ab-41fa-a0da-08be4dc5b519-scaled-1.jpg
END:VEVENT
BEGIN:VEVENT
DTSTART;TZID=America/New_York:20250307T200000
DTEND;TZID=America/New_York:20250307T220000
DTSTAMP:20260423T212752
CREATED:20250302T100025Z
LAST-MODIFIED:20250302T100025Z
UID:22618-1741377600-1741384800@salemforallages.org
SUMMARY:Jim Colliton
DESCRIPTION:Jim is a confused middle-age man who can spin soccer games\, school drop offs and lunches into his comedy material based around his life as a dad and husband. The material is perfect for any fundraiser/charity event needing a comedian. From raising money for youth sports to helping a family in need\, Jim’s every man’s life stories will bring down the house every time. Based out of Boston\, groups from all over the country have brought Jim in to provide funny\, clean comedy. \n 
URL:https://salemforallages.org/event/jim-colliton/
ATTACH;FMTTYPE=image/png:https://salemforallages.org/wp-content/uploads/2025/03/Jim-Collitonm.png
END:VEVENT
BEGIN:VEVENT
DTSTART;TZID=America/New_York:20250307T200000
DTEND;TZID=America/New_York:20250307T220000
DTSTAMP:20260423T212752
CREATED:20250302T100022Z
LAST-MODIFIED:20250302T100022Z
UID:22616-1741377600-1741384800@salemforallages.org
SUMMARY:Australian Bee Gees
DESCRIPTION:After 24 years and over 6\,500+ performances in over 55+ countries\, The Australian Bee Gees Show is the toast of Las Vegas. The show has been in residence at Excalibur Resort & Casino on the Las Vegas Strip since February 2011 and has been voted twice\, The Best Tribute Show in Las Vegas.
URL:https://salemforallages.org/event/australian-bee-gees/
ATTACH;FMTTYPE=image/jpeg:https://salemforallages.org/wp-content/uploads/2025/03/20130724_ABG_performanceAP162-scaled-1-scaled-1.jpg
END:VEVENT
BEGIN:VEVENT
DTSTART;TZID=America/New_York:20250307T120000
DTEND;TZID=America/New_York:20250307T133000
DTSTAMP:20260423T212752
CREATED:20250302T100018Z
LAST-MODIFIED:20250302T100018Z
UID:22614-1741348800-1741354200@salemforallages.org
SUMMARY:Craft Witch
DESCRIPTION:Craft Witch is a DIY crafting session with something for everyone! Choose from a wide array of options to create your very own one-of-a-kind craft. Whichever craft you decide to create\, you’ll be provided with all the materials\, tools\, and knowledge needed to let your creativity flourish. Unlike our broom making\, bookbinding\, and spelljar making workshops in which participants are being guided through the crafting process step-by step by an instructor\, the DIY nature of Craft Witch means that you can use the studio time however you wish. Check out the crafting options on our website!
URL:https://salemforallages.org/event/craft-witch-10/
ATTACH;FMTTYPE=image/jpeg:https://salemforallages.org/wp-content/uploads/2025/03/Image-from-iOS-scaled-2.jpg
END:VEVENT
BEGIN:VEVENT
DTSTART;TZID=America/New_York:20250307T113000
DTEND;TZID=America/New_York:20250307T160000
DTSTAMP:20260423T212752
CREATED:20250302T100008Z
LAST-MODIFIED:20250302T100008Z
UID:22612-1741347000-1741363200@salemforallages.org
SUMMARY:Potion Brewing Store Experience
DESCRIPTION:Make your visit to The Good Witch of Salem’s shop memorable by booking our in-store Potion Brewing Experience. This activity is led by our Witch Apprentices. \nActivities are recommended for children ages 3 and up. \n*One appointment slot for each child is required.*
URL:https://salemforallages.org/event/potion-brewing-store-experience-255/
ATTACH;FMTTYPE=image/jpeg:https://salemforallages.org/wp-content/uploads/2025/03/Potion-Brewing-Store-Experience-1.jpg
END:VEVENT
BEGIN:VEVENT
DTSTART;TZID=America/New_York:20250307T113000
DTEND;TZID=America/New_York:20250307T160000
DTSTAMP:20260423T212752
CREATED:20250301T100027Z
LAST-MODIFIED:20250301T100027Z
UID:22611-1741347000-1741363200@salemforallages.org
SUMMARY:Magical Transformations
DESCRIPTION:Through our “Magical Transformations” children embrace their charms and express their individuality. Children can choose to transform into a “Witch” or “Wizard”!
URL:https://salemforallages.org/event/magical-transformations-263/
ATTACH;FMTTYPE=image/png:https://salemforallages.org/wp-content/uploads/2024/08/Transformations.png
END:VEVENT
BEGIN:VEVENT
DTSTART;TZID=America/New_York:20250307T100000
DTEND;TZID=America/New_York:20250307T160000
DTSTAMP:20260423T212752
CREATED:20250301T100027Z
LAST-MODIFIED:20250301T100027Z
UID:22609-1741341600-1741363200@salemforallages.org
SUMMARY:Leslie’s Retreat: Salem on the Brink of Revolution Exhibit
DESCRIPTION:This National Park Service exhibit will explore why Crown soldiers under Lt. Col. Alexander Leslie came to Salem on February 26\, 1775\, who were the major players in the event\, and how this event has been remembered and celebrated in Salem in the last 250 years. \nThis free exhibit will be on display from February 15th -April 27th at the Salem Armory Visitor Center\, 2 New Liberty Street\, Salem. \nThe Salem Armory Visitor Center is open Wednesday – Sunday\, 10 am – 4 pm.
URL:https://salemforallages.org/event/leslies-retreat-salem-on-the-brink-of-revolution-exhibit-15/
ATTACH;FMTTYPE=image/jpeg:https://salemforallages.org/wp-content/uploads/2025/02/1775_1782_Salem-Old-North-Bridge-Leslie-Retreat-800x600-1.jpg
END:VEVENT
BEGIN:VEVENT
DTSTART;TZID=America/New_York:20250307T100000
DTEND;TZID=America/New_York:20250307T160000
DTSTAMP:20260423T212752
CREATED:20250301T100027Z
LAST-MODIFIED:20250301T100027Z
UID:22610-1741341600-1741363200@salemforallages.org
SUMMARY:Revere Beach Stories: Photographs and Poems
DESCRIPTION:Poets Jennifer Martelli and Kevin Carey grew up in Revere in the 1960s and 70’s.They’ve both written extensively about this city and its three-mile beachfront. Stephenie Young\, a Somerville photographer\, originally from California was drawn to this local East Coast ocean and its unfamiliar culture during the pandemic. Thus began a long-term photo project about everyday life in the beach city. After a chance conversation over those photographs and a few poems\, this collaboration was born. \nFebruary 21 – 6-8 pm\nArtist Reception and Reading \nWinfisky Gallery hours: Monday – Friday\, 10am-4pm
URL:https://salemforallages.org/event/revere-beach-stories-photographs-and-poems-14/
END:VEVENT
BEGIN:VEVENT
DTSTART;TZID=America/New_York:20250306T200000
DTEND;TZID=America/New_York:20250306T220000
DTSTAMP:20260423T212752
CREATED:20250301T100023Z
LAST-MODIFIED:20250301T100023Z
UID:22607-1741291200-1741298400@salemforallages.org
SUMMARY:Everclear
DESCRIPTION:With Best Not Broken \nEverclear\, one of the leading alternative rock bands to emerge from the ‘90s\, celebrated their 30th Anniversary in recent years\, and founder\, vocalist and guitarist Art Alexakis has made it clear that he has no plans to slow down.
URL:https://salemforallages.org/event/everclear/
ATTACH;FMTTYPE=image/jpeg:https://salemforallages.org/wp-content/uploads/2025/03/Everclear-2024_Pink-House_Brian-Cox-Photo_2MB-scaled-1.jpg
END:VEVENT
BEGIN:VEVENT
DTSTART;TZID=America/New_York:20250306T193000
DTEND;TZID=America/New_York:20250306T213000
DTSTAMP:20260423T212752
CREATED:20250301T100019Z
LAST-MODIFIED:20250301T100019Z
UID:22605-1741289400-1741296600@salemforallages.org
SUMMARY:Medium Lauren Robbins
DESCRIPTION:Meet Tested and Endorsed Afterlife Medium Lauren Robbins of The Spiritual Path LLC in Mansfield\, MA\, featured on TV for an evening of heartfelt mediumship messages. Lauren walks around the room and to each table to deliver messages from loved ones who wish to come through who described themselves\, their personalities\, details about their lives\, and messages that only audience members can validate to prove the afterlife exists for those healing from a loss or curious about the other side. Not all guests will receive a message\, but they will leave with an unforgettable experience. \n 
URL:https://salemforallages.org/event/medium-lauren-robbins/
ATTACH;FMTTYPE=image/jpeg:https://salemforallages.org/wp-content/uploads/2025/03/Lauren-Robbins.jpg
END:VEVENT
BEGIN:VEVENT
DTSTART;TZID=America/New_York:20250306T120000
DTEND;TZID=America/New_York:20250306T133000
DTSTAMP:20260423T212752
CREATED:20250301T100015Z
LAST-MODIFIED:20250301T100015Z
UID:22603-1741262400-1741267800@salemforallages.org
SUMMARY:Craft Witch
DESCRIPTION:Craft Witch is a DIY crafting session with something for everyone! Choose from a wide array of options to create your very own one-of-a-kind craft. Whichever craft you decide to create\, you’ll be provided with all the materials\, tools\, and knowledge needed to let your creativity flourish. Unlike our broom making\, bookbinding\, and spelljar making workshops in which participants are being guided through the crafting process step-by step by an instructor\, the DIY nature of Craft Witch means that you can use the studio time however you wish. Check out the crafting options on our website!
URL:https://salemforallages.org/event/craft-witch-9/
ATTACH;FMTTYPE=image/jpeg:https://salemforallages.org/wp-content/uploads/2025/03/Image-from-iOS-scaled-1.jpg
END:VEVENT
BEGIN:VEVENT
DTSTART;TZID=America/New_York:20250306T113000
DTEND;TZID=America/New_York:20250306T160000
DTSTAMP:20260423T212752
CREATED:20250301T100010Z
LAST-MODIFIED:20250301T100010Z
UID:22601-1741260600-1741276800@salemforallages.org
SUMMARY:Potion Brewing Store Experience
DESCRIPTION:Make your visit to The Good Witch of Salem’s shop memorable by booking our in-store Potion Brewing Experience. This activity is led by our Witch Apprentices. \nActivities are recommended for children ages 3 and up. \n*One appointment slot for each child is required.*
URL:https://salemforallages.org/event/potion-brewing-store-experience-254/
ATTACH;FMTTYPE=image/jpeg:https://salemforallages.org/wp-content/uploads/2025/03/Potion-Brewing-Store-Experience.jpg
END:VEVENT
BEGIN:VEVENT
DTSTART;TZID=America/New_York:20250306T113000
DTEND;TZID=America/New_York:20250306T160000
DTSTAMP:20260423T212752
CREATED:20250301T100009Z
LAST-MODIFIED:20250301T100009Z
UID:22600-1741260600-1741276800@salemforallages.org
SUMMARY:Magical Transformations
DESCRIPTION:Through our “Magical Transformations” children embrace their charms and express their individuality. Children can choose to transform into a “Witch” or “Wizard”!
URL:https://salemforallages.org/event/magical-transformations-262/
ATTACH;FMTTYPE=image/png:https://salemforallages.org/wp-content/uploads/2024/08/Transformations.png
END:VEVENT
BEGIN:VEVENT
DTSTART;TZID=America/New_York:20250306T100000
DTEND;TZID=America/New_York:20250306T160000
DTSTAMP:20260423T212752
CREATED:20250301T100008Z
LAST-MODIFIED:20250301T100008Z
UID:22599-1741255200-1741276800@salemforallages.org
SUMMARY:Revere Beach Stories: Photographs and Poems
DESCRIPTION:Poets Jennifer Martelli and Kevin Carey grew up in Revere in the 1960s and 70’s.They’ve both written extensively about this city and its three-mile beachfront. Stephenie Young\, a Somerville photographer\, originally from California was drawn to this local East Coast ocean and its unfamiliar culture during the pandemic. Thus began a long-term photo project about everyday life in the beach city. After a chance conversation over those photographs and a few poems\, this collaboration was born. \nFebruary 21 – 6-8 pm\nArtist Reception and Reading \nWinfisky Gallery hours: Monday – Friday\, 10am-4pm
URL:https://salemforallages.org/event/revere-beach-stories-photographs-and-poems-13/
END:VEVENT
BEGIN:VEVENT
DTSTART;TZID=America/New_York:20250306T100000
DTEND;TZID=America/New_York:20250306T160000
DTSTAMP:20260423T212752
CREATED:20250228T100033Z
LAST-MODIFIED:20250228T100033Z
UID:22597-1741255200-1741276800@salemforallages.org
SUMMARY:Leslie’s Retreat: Salem on the Brink of Revolution Exhibit
DESCRIPTION:This National Park Service exhibit will explore why Crown soldiers under Lt. Col. Alexander Leslie came to Salem on February 26\, 1775\, who were the major players in the event\, and how this event has been remembered and celebrated in Salem in the last 250 years. \nThis free exhibit will be on display from February 15th -April 27th at the Salem Armory Visitor Center\, 2 New Liberty Street\, Salem. \nThe Salem Armory Visitor Center is open Wednesday – Sunday\, 10 am – 4 pm.
URL:https://salemforallages.org/event/leslies-retreat-salem-on-the-brink-of-revolution-exhibit-14/
ATTACH;FMTTYPE=image/jpeg:https://salemforallages.org/wp-content/uploads/2025/02/1775_1782_Salem-Old-North-Bridge-Leslie-Retreat-800x600-1.jpg
END:VEVENT
BEGIN:VEVENT
DTSTART;TZID=America/New_York:20250305T190000
DTEND;TZID=America/New_York:20250305T230000
DTSTAMP:20260423T212752
CREATED:20250228T100029Z
LAST-MODIFIED:20250228T100029Z
UID:22595-1741201200-1741215600@salemforallages.org
SUMMARY:Super Smash Bros Ultimate Tournament
DESCRIPTION:We’re back with another round of Smash Ultimate here at the Bit Bar in Salem\, MA \nAll skill levels are welcome! \nDoors open for friendlies at 7pm\, bracket starts at 8pm! \n\n$10 entry fee\nBYO-controller highly encouraged\n21+
URL:https://salemforallages.org/event/super-smash-bros-ultimate-tournament-2/
ATTACH;FMTTYPE=image/jpeg:https://salemforallages.org/wp-content/uploads/2025/02/ac4d1fc9824876ce756406f0525d50c57ded4b2a666f6dfe40a6ac5c3563fad9-2-copy.jpg
END:VEVENT
BEGIN:VEVENT
DTSTART;TZID=America/New_York:20250305T190000
DTEND;TZID=America/New_York:20250305T210000
DTSTAMP:20260423T212752
CREATED:20250228T100026Z
LAST-MODIFIED:20250228T100026Z
UID:22593-1741201200-1741208400@salemforallages.org
SUMMARY:Essex Improv Class Show
DESCRIPTION:Intro to Improv class show – see the improv students do the thing!!! \n 
URL:https://salemforallages.org/event/essex-improv-class-show/
ATTACH;FMTTYPE=image/jpeg:https://salemforallages.org/wp-content/uploads/2025/02/essex-improv-401.jpg
END:VEVENT
BEGIN:VEVENT
DTSTART;TZID=America/New_York:20250305T120000
DTEND;TZID=America/New_York:20250305T133000
DTSTAMP:20260423T212752
CREATED:20250228T100021Z
LAST-MODIFIED:20250228T100021Z
UID:22591-1741176000-1741181400@salemforallages.org
SUMMARY:Craft Witch
DESCRIPTION:Craft Witch is a DIY crafting session with something for everyone! Choose from a wide array of options to create your very own one-of-a-kind craft. Whichever craft you decide to create\, you’ll be provided with all the materials\, tools\, and knowledge needed to let your creativity flourish. Unlike our broom making\, bookbinding\, and spelljar making workshops in which participants are being guided through the crafting process step-by step by an instructor\, the DIY nature of Craft Witch means that you can use the studio time however you wish. Check out the crafting options on our website!
URL:https://salemforallages.org/event/craft-witch-8/
ATTACH;FMTTYPE=image/jpeg:https://salemforallages.org/wp-content/uploads/2025/02/Image-from-iOS-scaled-8.jpg
END:VEVENT
BEGIN:VEVENT
DTSTART;TZID=America/New_York:20250305T113000
DTEND;TZID=America/New_York:20250305T153000
DTSTAMP:20260423T212752
CREATED:20250227T100009Z
LAST-MODIFIED:20250227T100009Z
UID:22584-1741174200-1741188600@salemforallages.org
SUMMARY:Magical Transformations
DESCRIPTION:Through our “Magical Transformations” children embrace their charms and express their individuality. Children can choose to transform into a “Witch” or “Wizard”!
URL:https://salemforallages.org/event/magical-transformations-261/
ATTACH;FMTTYPE=image/png:https://salemforallages.org/wp-content/uploads/2024/08/Transformations-1.png
END:VEVENT
BEGIN:VEVENT
DTSTART;TZID=America/New_York:20250305T113000
DTEND;TZID=America/New_York:20250305T150000
DTSTAMP:20260423T212752
CREATED:20250228T100017Z
LAST-MODIFIED:20250228T100017Z
UID:22589-1741174200-1741186800@salemforallages.org
SUMMARY:Potion Brewing Store Experience
DESCRIPTION:Make your visit to The Good Witch of Salem’s shop memorable by booking our in-store Potion Brewing Experience. This activity is led by our Witch Apprentices. \nActivities are recommended for children ages 3 and up. \n*One appointment slot for each child is required.*
URL:https://salemforallages.org/event/potion-brewing-store-experience-253/
ATTACH;FMTTYPE=image/jpeg:https://salemforallages.org/wp-content/uploads/2025/02/Potion-Brewing-Store-Experience-16.jpg
END:VEVENT
BEGIN:VEVENT
DTSTART;TZID=America/New_York:20250305T113000
DTEND;TZID=America/New_York:20250305T150000
DTSTAMP:20260423T212752
CREATED:20250228T100014Z
LAST-MODIFIED:20250228T100014Z
UID:22587-1741174200-1741186800@salemforallages.org
SUMMARY:Stop In For a Spell: DIY Potion Bar
DESCRIPTION:Fly in to The Good Witch and Stay for a Spell! Mix up your very own potion at our Potion Bar! \nDrop Ins begin at store opening and end 30 minutes before closing and are offered on a first come\, first serve basis. Purchase online or pay in store. \nDrop Ins may be unavailable during a birthday party or store event. Please call ahead\, or check our posted hours on Google. \nUnder age 4 may participate with the help of a supervising adult.
URL:https://salemforallages.org/event/stop-in-for-a-spell-diy-potion-bar-201/
ATTACH;FMTTYPE=image/jpeg:https://salemforallages.org/wp-content/uploads/2025/02/Stop-In-For-a-Spell-SQUARE-4.jpg
END:VEVENT
BEGIN:VEVENT
DTSTART;TZID=America/New_York:20250305T100000
DTEND;TZID=America/New_York:20250305T160000
DTSTAMP:20260423T212752
CREATED:20250227T100009Z
LAST-MODIFIED:20250227T100009Z
UID:22583-1741168800-1741190400@salemforallages.org
SUMMARY:Revere Beach Stories: Photographs and Poems
DESCRIPTION:Poets Jennifer Martelli and Kevin Carey grew up in Revere in the 1960s and 70’s.They’ve both written extensively about this city and its three-mile beachfront. Stephenie Young\, a Somerville photographer\, originally from California was drawn to this local East Coast ocean and its unfamiliar culture during the pandemic. Thus began a long-term photo project about everyday life in the beach city. After a chance conversation over those photographs and a few poems\, this collaboration was born. \nFebruary 21 – 6-8 pm\nArtist Reception and Reading \nWinfisky Gallery hours: Monday – Friday\, 10am-4pm
URL:https://salemforallages.org/event/revere-beach-stories-photographs-and-poems-12/
END:VEVENT
BEGIN:VEVENT
DTSTART;TZID=America/New_York:20250305T100000
DTEND;TZID=America/New_York:20250305T160000
DTSTAMP:20260423T212752
CREATED:20250227T100008Z
LAST-MODIFIED:20250227T100008Z
UID:22582-1741168800-1741190400@salemforallages.org
SUMMARY:Leslie’s Retreat: Salem on the Brink of Revolution Exhibit
DESCRIPTION:This National Park Service exhibit will explore why Crown soldiers under Lt. Col. Alexander Leslie came to Salem on February 26\, 1775\, who were the major players in the event\, and how this event has been remembered and celebrated in Salem in the last 250 years. \nThis free exhibit will be on display from February 15th -April 27th at the Salem Armory Visitor Center\, 2 New Liberty Street\, Salem. \nThe Salem Armory Visitor Center is open Wednesday – Sunday\, 10 am – 4 pm.
URL:https://salemforallages.org/event/leslies-retreat-salem-on-the-brink-of-revolution-exhibit-13/
ATTACH;FMTTYPE=image/jpeg:https://salemforallages.org/wp-content/uploads/2025/02/1775_1782_Salem-Old-North-Bridge-Leslie-Retreat-800x600-1.jpg
END:VEVENT
BEGIN:VEVENT
DTSTART;TZID=America/New_York:20250304T193000
DTEND;TZID=America/New_York:20250304T210000
DTSTAMP:20260423T212752
CREATED:20250226T100014Z
LAST-MODIFIED:20250226T100014Z
UID:22581-1741116600-1741122000@salemforallages.org
SUMMARY:Trivia Time
DESCRIPTION:General knowledge trivia every Tuesday at 7:30. Free to play. Win a Flying Saucer gift card!
URL:https://salemforallages.org/event/trivia-time-5/
ATTACH;FMTTYPE=image/jpeg:https://salemforallages.org/wp-content/uploads/2025/01/trivia-aframe-Medium.jpeg
END:VEVENT
BEGIN:VEVENT
DTSTART;TZID=America/New_York:20250304T113000
DTEND;TZID=America/New_York:20250304T153000
DTSTAMP:20260423T212752
CREATED:20250225T100013Z
LAST-MODIFIED:20250225T100013Z
UID:22576-1741087800-1741102200@salemforallages.org
SUMMARY:Magical Transformations
DESCRIPTION:Through our “Magical Transformations” children embrace their charms and express their individuality. Children can choose to transform into a “Witch” or “Wizard”!
URL:https://salemforallages.org/event/magical-transformations-260/
ATTACH;FMTTYPE=image/png:https://salemforallages.org/wp-content/uploads/2024/08/Transformations-1.png
END:VEVENT
END:VCALENDAR