BEGIN:VCALENDAR
VERSION:2.0
PRODID:-//Salem for All Ages - ECPv6.15.18//NONSGML v1.0//EN
CALSCALE:GREGORIAN
METHOD:PUBLISH
X-ORIGINAL-URL:https://salemforallages.org
X-WR-CALDESC:Events for Salem for All Ages
REFRESH-INTERVAL;VALUE=DURATION:PT1H
X-Robots-Tag:noindex
X-PUBLISHED-TTL:PT1H
BEGIN:VTIMEZONE
TZID:America/New_York
BEGIN:DAYLIGHT
TZOFFSETFROM:-0500
TZOFFSETTO:-0400
TZNAME:EDT
DTSTART:20230312T070000
END:DAYLIGHT
BEGIN:STANDARD
TZOFFSETFROM:-0400
TZOFFSETTO:-0500
TZNAME:EST
DTSTART:20231105T060000
END:STANDARD
BEGIN:DAYLIGHT
TZOFFSETFROM:-0500
TZOFFSETTO:-0400
TZNAME:EDT
DTSTART:20240310T070000
END:DAYLIGHT
BEGIN:STANDARD
TZOFFSETFROM:-0400
TZOFFSETTO:-0500
TZNAME:EST
DTSTART:20241103T060000
END:STANDARD
BEGIN:DAYLIGHT
TZOFFSETFROM:-0500
TZOFFSETTO:-0400
TZNAME:EDT
DTSTART:20250309T070000
END:DAYLIGHT
BEGIN:STANDARD
TZOFFSETFROM:-0400
TZOFFSETTO:-0500
TZNAME:EST
DTSTART:20251102T060000
END:STANDARD
END:VTIMEZONE
BEGIN:VEVENT
DTSTART;TZID=America/New_York:20240315T170000
DTEND;TZID=America/New_York:20240315T210000
DTSTAMP:20260423T062911
CREATED:20240302T100017Z
LAST-MODIFIED:20240302T100017Z
UID:18030-1710522000-1710536400@salemforallages.org
SUMMARY:1st Annual Spring Marketplace
DESCRIPTION:We had so much fun at our 6th annual Holiday Marketplace last year we are launching our 1st annual Spring Marketplace (sip and shop) hosted at Finz Seafood and Grill. The event is free\, 5 pm – 9 pm and will feature 14 local vendors with hand-crafted items for sale. A great way to start your spring shopping.\n\nVendors to include:\nBeads by Beardslee – Jewelry\nDesigns by Heidi – Sea glass\, resin products\nFlip Top Bracelets – Accessories\nThe Sea Wych Salem – Candles\, witch balls\, spell kits\, trinket bowls\nSweet Pea Crochet – Hand knits\nJudi Jorge Art – Hand painted items\, original art\nUncle Moo’s Emporium LLC – Dog treats\, pickles and relishes\nMary Kay – Cosmetics\nMama Bear Gifts – Pens\, keychains\nSewn Well – Handbags
URL:https://salemforallages.org/event/1st-annual-spring-marketplace/
ATTACH;FMTTYPE=image/jpeg:https://salemforallages.org/wp-content/uploads/2024/03/415459739_880484720748930_2499157921374537835_n.jpg
END:VEVENT
BEGIN:VEVENT
DTSTART;TZID=America/New_York:20240315T180000
DTEND;TZID=America/New_York:20240315T190000
DTSTAMP:20260423T062911
CREATED:20240302T100021Z
LAST-MODIFIED:20240302T100021Z
UID:18033-1710525600-1710529200@salemforallages.org
SUMMARY:“Crazed in Her Understanding”: Women’s Woes During the Salem Witch Trials
DESCRIPTION:Studying the lives of colonial women can be a difficult undertaking. Ferreting out basic information\, from a birthday to a maiden name\, is often impossible. This is particularly challenging when one comes across a woman who is described as mentally unwell. What does it mean to be “crazed in her understanding\,” “melancholy\,” or “one part off the moon”? \nIn this presentation\, Salem Witch Museum Director of Education Rachel Christ-Doane and Assistant Director of Education Jill Christiansen will discuss several women involved in the 1692 witch trials who appear to have struggled with mental health issues. We will consider how these records paint a picture of each of these seventeenth-century women\, providing clues about their personal struggles. \nNo registration is required. The webinar link will be shared on the Salem Witch Museum event webpage on the day of the lecture. The presentation will be recorded and shared on the Salem Witch Museum website for future accessibility.
URL:https://salemforallages.org/event/crazed-in-her-understanding-womens-woes-during-the-salem-witch-trials/
ATTACH;FMTTYPE=image/jpeg:https://salemforallages.org/wp-content/uploads/2024/03/Crazed-Women-FB-Image.jpg
END:VEVENT
BEGIN:VEVENT
DTSTART;TZID=America/New_York:20240315T180000
DTEND;TZID=America/New_York:20240315T193000
DTSTAMP:20260423T062911
CREATED:20240302T100021Z
LAST-MODIFIED:20240302T100021Z
UID:18032-1710525600-1710531000@salemforallages.org
SUMMARY:EUDEMONIA
DESCRIPTION:The Salem Art Gallery Presents Eudemonia\, a series of movement based meditations focused on the mechanics and maintenance of the physical body. Mats and light refreshments will be provided.
URL:https://salemforallages.org/event/eudemonia-5/
END:VEVENT
BEGIN:VEVENT
DTSTART;TZID=America/New_York:20240315T180000
DTEND;TZID=America/New_York:20240315T210000
DTSTAMP:20260423T062911
CREATED:20240305T100015Z
LAST-MODIFIED:20240305T100015Z
UID:18063-1710525600-1710536400@salemforallages.org
SUMMARY:Friday Night Music at East Regiment
DESCRIPTION:Enjoy refreshing beer and live music at East Regiment Beer Co! \n  \nMarch 8th Judes and the Hutch  \nMarch 15th Dylan Moore \nMarch 22nd Stone Foundation  \nMarch 29th Tokyo Tramps \n 
URL:https://salemforallages.org/event/friday-night-music-at-east-regiment-32/
ATTACH;FMTTYPE=image/jpeg:https://salemforallages.org/wp-content/uploads/2024/01/Instagram-Images-2024-01-09T114006.140.jpg
END:VEVENT
BEGIN:VEVENT
DTSTART;TZID=America/New_York:20240315T190000
DTEND;TZID=America/New_York:20240315T210000
DTSTAMP:20260423T062911
CREATED:20240302T100025Z
LAST-MODIFIED:20240302T100025Z
UID:18035-1710529200-1710536400@salemforallages.org
SUMMARY:Friday Night Music with American Flatbread
DESCRIPTION:Join us for live music\, enjoy rock and country.
URL:https://salemforallages.org/event/friday-night-music-with-american-flatbread-41/
ATTACH;FMTTYPE=image/jpeg:https://salemforallages.org/wp-content/uploads/2023/06/American-Flatbread-.jpg
END:VEVENT
BEGIN:VEVENT
DTSTART;TZID=America/New_York:20240315T200000
DTEND;TZID=America/New_York:20240315T200000
DTSTAMP:20260423T062911
CREATED:20240303T100009Z
LAST-MODIFIED:20240303T100009Z
UID:18037-1710532800-1710532800@salemforallages.org
SUMMARY:Gary Gulman: Misfit Book Tour at The Cabot
DESCRIPTION:“””MISFIT: A GARY GULMAN STAND UP & BOOK TOUR”” WILL FEATURE MATERIAL BASED ON HIS BOOK\, BUT NOT A REPEAT OF THE BOOK. \nOver 25 years in comedy\, Gary Gulman has established himself as an eminent performer and peerless writer. A product of Boston\, Gulman has been a scholarship college football player\, an accountant\, and a high school teacher. He has made countless television appearances as both a comedian and an actor.”
URL:https://salemforallages.org/event/gary-gulman-misfit-book-tour-at-the-cabot-2/
ATTACH;FMTTYPE=image/jpeg:https://salemforallages.org/wp-content/uploads/2024/03/Gary-Gulman-PR-Image-Photo-credit-Deborah-Feingold-scaled-2.jpg
END:VEVENT
BEGIN:VEVENT
DTSTART;TZID=America/New_York:20240315T200000
DTEND;TZID=America/New_York:20240315T230000
DTSTAMP:20260423T062911
CREATED:20240303T100008Z
LAST-MODIFIED:20240303T100008Z
UID:18036-1710532800-1710543600@salemforallages.org
SUMMARY:Friday Night Music with Gulu-Gulu Cafe
DESCRIPTION:Join Gulu-Gulu Cafe Friday nights for their live music series. Bands and musicians range from acoustic guitar\, jazz standards\, saxophones\, trios\, and more! Support live musicians and listen to live music!
URL:https://salemforallages.org/event/friday-night-music-with-gulu-gulu-cafe-33/
ATTACH;FMTTYPE=image/jpeg:https://salemforallages.org/wp-content/uploads/2023/08/38864120_1780760032044977_6011049327684747264_n.jpg
END:VEVENT
BEGIN:VEVENT
DTSTART;TZID=America/New_York:20240316T080000
DTEND;TZID=America/New_York:20240316T170000
DTSTAMP:20260423T062911
CREATED:20240303T100013Z
LAST-MODIFIED:20240303T100013Z
UID:18039-1710576000-1710608400@salemforallages.org
SUMMARY:Book a “Good Witch Magical Transformation”
DESCRIPTION:Children\, tweens\, teens\, and adults are all welcome to participate in our “Good Witch Transformations”! \nThrough our transformations children unleash their own spellbinding charms and embrace their individuality. Children are invited to browse our collection of witch hats and dresses. Adorned with shimmering stars\, flowing capes\, and ribbons of enchantment\, these outfits are sure to celebrate their unique spirits. \nOur talented apprentices delicately apply a touch of stardust and add sprinkles of color that match your child’s vibrant personality. As they gaze upon their reflection\, their eyes light up with a newfound confidence and a sense of whimsical delight. They have become the magical beings they’ve always dreamt of\, casting spells and brewing potions in their imaginary world. Their laughter fills the air as they twirl and spin\, radiating with joy and wonder.
URL:https://salemforallages.org/event/book-a-good-witch-magical-transformation-26/
ATTACH;FMTTYPE=image/jpeg:https://salemforallages.org/wp-content/uploads/2023/08/magical-transoformations-.jpg
END:VEVENT
BEGIN:VEVENT
DTSTART;TZID=America/New_York:20240316T090000
DTEND;TZID=America/New_York:20240316T140000
DTSTAMP:20260423T062911
CREATED:20240303T100013Z
LAST-MODIFIED:20240303T100013Z
UID:18040-1710579600-1710597600@salemforallages.org
SUMMARY:Grandma’s Attic Ready\, Set\, Spring Sale!
DESCRIPTION:New arrivals in! Come see what we have – you won’t believe it – something for everyone! New and gently used items at the very best prices! Boutique clothing at 20% off\, Spring/Summer clothes\, jewelry\, makeup\, crafts/scrapbooking\, pictures and picture frames\, linens\, luggage\, books\, records\, CDs\, electronics\, toys\, and SO MUCH MORE! CASH ONLY (2 ATMs close by). Ste. Anne’s Church Basement\, 292 Jefferson Avenue\, Salem\, MA. Facebook/Sainte Anne Salem\, MA.
URL:https://salemforallages.org/event/grandmas-attic-ready-set-spring-sale/
ATTACH;FMTTYPE=image/jpeg:https://salemforallages.org/wp-content/uploads/2024/03/Ready-Set-Spring-Sale-2024-V2.jpg
END:VEVENT
BEGIN:VEVENT
DTSTART;TZID=America/New_York:20240316T100000
DTEND;TZID=America/New_York:20240316T140000
DTSTAMP:20260423T062911
CREATED:20240303T100017Z
LAST-MODIFIED:20240303T100017Z
UID:18042-1710583200-1710597600@salemforallages.org
SUMMARY:Book a “Good Witch Transformation”
DESCRIPTION:Thank you for your interest in a “Good Witch” Transformation! \nThrough our transformations children unleash their own spellbinding charms and embrace their individuality. Children are invited to browse our collection of witch hats and dresses. Adorned with shimmering stars\, flowing capes\, and ribbons of enchantment\, these outfits are sure to celebrate their unique spirits. \nOur talented apprentices delicately apply a touch of stardust and add sprinkles of color that match your child’s vibrant personality. As they gaze upon their reflection\, their eyes light up with a newfound confidence and a sense of whimsical delight. They have become the magical beings they’ve always dreamt of\, casting spells and brewing potions in their imaginary world. Their laughter fills the air as they twirl and spin\, radiating with joy and wonder.
URL:https://salemforallages.org/event/book-a-good-witch-transformation-84/
END:VEVENT
BEGIN:VEVENT
DTSTART;TZID=America/New_York:20240316T103000
DTEND;TZID=America/New_York:20240316T123000
DTSTAMP:20260423T062911
CREATED:20240303T100018Z
LAST-MODIFIED:20240303T100018Z
UID:18043-1710585000-1710592200@salemforallages.org
SUMMARY:Process Art Mornings
DESCRIPTION:Informal in-process art making
URL:https://salemforallages.org/event/process-art-mornings-45/
ATTACH;FMTTYPE=image/jpeg:https://salemforallages.org/wp-content/uploads/2023/05/01.jpg
END:VEVENT
BEGIN:VEVENT
DTSTART;TZID=America/New_York:20240316T103000
DTEND;TZID=America/New_York:20240316T143000
DTSTAMP:20260423T062911
CREATED:20240304T100009Z
LAST-MODIFIED:20240304T100009Z
UID:18044-1710585000-1710599400@salemforallages.org
SUMMARY:St. Patrick’s Day Trolley
DESCRIPTION:Embark on an enchanting adventure with the Good Witch of Salem and the mischievous Leprechaun aboard the Salem Trolley! The journey begins at The Good Witch of Salem’s shop with a story time all about rainbows and Leprechauns. \nThe Leprechaun’s rainbow has vanished\, leaving him without his magic. Children will help The Good Witch of Salem brew a “growth” potion that makes the Leprechaun grow in size! \nAs the Leprechaun dashes through downtown Salem in search of rainbow pieces\, we will follow clues and unravel riddles aboard the Trolley. \nWith a sprinkle of luck and a dash of magic\, courageous adventurers may be rewarded with a token of gratitude from the Leprechaun’s golden treasure!
URL:https://salemforallages.org/event/st-patricks-day-trolley/
ATTACH;FMTTYPE=image/jpeg:https://salemforallages.org/wp-content/uploads/2024/03/st.patricks-day-1.jpg
END:VEVENT
BEGIN:VEVENT
DTSTART;TZID=America/New_York:20240316T110000
DTEND;TZID=America/New_York:20240316T123000
DTSTAMP:20260423T062911
CREATED:20240314T090009Z
LAST-MODIFIED:20240314T090009Z
UID:18104-1710586800-1710592200@salemforallages.org
SUMMARY:The Irish Experience at Phillips House
DESCRIPTION:Get a glimpse into the world of the Irish staff who kept the Phillips House running smoothly. Through the stories of cook Bridget Durkin\, waitress Delia Cawley\, nursemaid Catherine Shaughnessy\, and chauffeur Patrick O’Hara\, visitors will learn about the daily duties and what it was like to work for the Phillips family through the first half of the 20th century. See the living and working spaces\, from the staff bedrooms on the third floor to the laundry room in the basement\, on this 90-minute tour. \nPrice: $15 for members\, $25 for non-members
URL:https://salemforallages.org/event/the-irish-experience-at-phillips-house-5/
ATTACH;FMTTYPE=image/jpeg:https://salemforallages.org/wp-content/uploads/2022/04/183685.jpg
END:VEVENT
BEGIN:VEVENT
DTSTART;TZID=America/New_York:20240316T130000
DTEND;TZID=America/New_York:20240316T160000
DTSTAMP:20260423T062911
CREATED:20240307T100010Z
LAST-MODIFIED:20240307T100010Z
UID:18065-1710594000-1710604800@salemforallages.org
SUMMARY:Dog “Lick Painting” At East Regiment Beer Co.
DESCRIPTION:Join us at East Regiment Beer Co in Salem on Sept 16th from 1-4 pm for Inebri-art’s newest and most pawsome event yet! Get ready to witness the artistic talents of your furry friends as we present “Lick Paintings” for your dog artists. \nThis unique event celebrates the creativity and playfulness of our four-legged companions. We will be providing all the necessary supplies for dogs to create their own masterpieces using non-toxic\, pet-friendly paints. Watch in awe as our canine artists use their tongues to create colorful and abstract paintings that are truly one-of-a-kind. \nBring your beloved pooch along and let them unleash their inner Paw-Caso! This event is a fantastic opportunity to bond with your furry friend while enjoying a relaxed and dog-friendly atmosphere. And don’t worry\, we’ll have plenty of water bowls and treats to keep them hydrated and energized throughout the creative process. \nPlease note that all dogs must be well-behaved and on a leash at all times to ensure the safety and enjoyment of all attendees. \nDon’t miss out on this unique celebration of art and canine talent at East Regiment Beer. We can’t wait to see you and your furry friends there! \nA limited number of canvasses are available\, so don’t wait and book your tickets today! Walk-ins welcome while supplies last. Cancellations must be made 24 hours in advance.
URL:https://salemforallages.org/event/dog-lick-painting-at-east-regiment-beer-co/
ATTACH;FMTTYPE=image/jpeg:https://salemforallages.org/wp-content/uploads/2024/03/https___cdn.evbuc_.com_images_687955959_102622617771_1_original.jpg
END:VEVENT
BEGIN:VEVENT
DTSTART;TZID=America/New_York:20240316T131500
DTEND;TZID=America/New_York:20240316T141500
DTSTAMP:20260423T062911
CREATED:20240308T100012Z
LAST-MODIFIED:20240308T100012Z
UID:18069-1710594900-1710598500@salemforallages.org
SUMMARY:Women’s History Tour
DESCRIPTION:March is Women’s History Month\, and to celebrate we are offering our Women’s History Tour each Saturday of the month at 1:15 P.M.!\nFrom the Indigenous women who worked the land to our organization’s founder\, women have always been a part of the Turner-Ingersoll Mansion’s history\, but not always given the spotlight they deserve. The House of the Seven Gables has created a Women’s History Tour to focus\, in-depth\, on the many women who have lived and labored in the Mansion.
URL:https://salemforallages.org/event/womens-history-tour-3/
END:VEVENT
BEGIN:VEVENT
DTSTART;TZID=America/New_York:20240316T140000
DTEND;TZID=America/New_York:20240316T153000
DTSTAMP:20260423T062911
CREATED:20240314T090009Z
LAST-MODIFIED:20240314T090009Z
UID:18105-1710597600-1710603000@salemforallages.org
SUMMARY:The Irish Experience at Phillips House
DESCRIPTION:Get a glimpse into the world of the Irish staff who kept the Phillips House running smoothly. Through the stories of cook Bridget Durkin\, waitress Delia Cawley\, nursemaid Catherine Shaughnessy\, and chauffeur Patrick O’Hara\, visitors will learn about the daily duties and what it was like to work for the Phillips family through the first half of the 20th century. See the living and working spaces\, from the staff bedrooms on the third floor to the laundry room in the basement\, on this 90-minute tour. \nPrice: $15 for members\, $25 for non-members
URL:https://salemforallages.org/event/the-irish-experience-at-phillips-house-6/
ATTACH;FMTTYPE=image/jpeg:https://salemforallages.org/wp-content/uploads/2022/04/183685.jpg
END:VEVENT
BEGIN:VEVENT
DTSTART;TZID=America/New_York:20240316T190000
DTEND;TZID=America/New_York:20240316T210000
DTSTAMP:20260423T062911
CREATED:20240304T100013Z
LAST-MODIFIED:20240304T100013Z
UID:18046-1710615600-1710622800@salemforallages.org
SUMMARY:Tarot with Ancestors w/ Jezmina Von Thiele
DESCRIPTION:Everyone has ancestors\, whether you know their names and stories or not. Even if you don’t know your background\, you can have happy\, healthy relationships with your ancestors. Jezmina Von Thiele (they/she) was raised within an ancestor tradition reflective of their mixed-Romani heritage\, a culture with a deep love of ancestor veneration. While Jezmina will refer to their own cultural context at times\, this class will present methods for honoring\, communing\, and communicating with ancestors of all types (human\, animal\, and plant) no matter your heritage. This class will also incorporate tarot as one of those tools to put you in closer contact with your beloved dead\, and those who came before you. Bring your tarot deck to class\, as well as a notebook and pen.  \nYou will receive an emailed PDF after the class with notes\, so note taking is encouraged if it’s helpful to you\, but it’s optional.
URL:https://salemforallages.org/event/tarot-with-ancestors-w-jezmina-von-thiele/
END:VEVENT
BEGIN:VEVENT
DTSTART;TZID=America/New_York:20240316T200000
DTEND;TZID=America/New_York:20240316T200000
DTSTAMP:20260423T062911
CREATED:20240304T100013Z
LAST-MODIFIED:20240304T100013Z
UID:18047-1710619200-1710619200@salemforallages.org
SUMMARY:Zach Nugent’s Dead Set at The Cabot
DESCRIPTION:Dead Set is more than just a cover band; they are an extraordinary ensemble that brings the Grateful Dead’s timeless music to life with remarkable precision and passion. Led by the incomparable Zach Nugent\, Dead Set’s uncanny ability to channel the spirit of Jerry Garcia is nothing short of astounding. Joined by Sunshine “Garcia” Becker.
URL:https://salemforallages.org/event/zach-nugents-dead-set-at-the-cabot/
ATTACH;FMTTYPE=image/jpeg:https://salemforallages.org/wp-content/uploads/2024/03/12-scaled-1.jpeg
END:VEVENT
BEGIN:VEVENT
DTSTART;TZID=America/New_York:20240317T100000
DTEND;TZID=America/New_York:20240317T140000
DTSTAMP:20260423T062911
CREATED:20240304T100016Z
LAST-MODIFIED:20240304T100016Z
UID:18049-1710669600-1710684000@salemforallages.org
SUMMARY:Book a “Good Witch Transformation”
DESCRIPTION:Thank you for your interest in a “Good Witch” Transformation! \nThrough our transformations children unleash their own spellbinding charms and embrace their individuality. Children are invited to browse our collection of witch hats and dresses. Adorned with shimmering stars\, flowing capes\, and ribbons of enchantment\, these outfits are sure to celebrate their unique spirits. \nOur talented apprentices delicately apply a touch of stardust and add sprinkles of color that match your child’s vibrant personality. As they gaze upon their reflection\, their eyes light up with a newfound confidence and a sense of whimsical delight. They have become the magical beings they’ve always dreamt of\, casting spells and brewing potions in their imaginary world. Their laughter fills the air as they twirl and spin\, radiating with joy and wonder.
URL:https://salemforallages.org/event/book-a-good-witch-transformation-85/
END:VEVENT
BEGIN:VEVENT
DTSTART;TZID=America/New_York:20240317T110000
DTEND;TZID=America/New_York:20240317T123000
DTSTAMP:20260423T062911
CREATED:20240314T090010Z
LAST-MODIFIED:20240314T090010Z
UID:18106-1710673200-1710678600@salemforallages.org
SUMMARY:The Irish Experience at Phillips House
DESCRIPTION:Get a glimpse into the world of the Irish staff who kept the Phillips House running smoothly. Through the stories of cook Bridget Durkin\, waitress Delia Cawley\, nursemaid Catherine Shaughnessy\, and chauffeur Patrick O’Hara\, visitors will learn about the daily duties and what it was like to work for the Phillips family through the first half of the 20th century. See the living and working spaces\, from the staff bedrooms on the third floor to the laundry room in the basement\, on this 90-minute tour. \nPrice: $15 for members\, $25 for non-members
URL:https://salemforallages.org/event/the-irish-experience-at-phillips-house-7/
ATTACH;FMTTYPE=image/jpeg:https://salemforallages.org/wp-content/uploads/2022/04/183685.jpg
END:VEVENT
BEGIN:VEVENT
DTSTART;TZID=America/New_York:20240317T130000
DTEND;TZID=America/New_York:20240317T150000
DTSTAMP:20260423T062911
CREATED:20240308T100012Z
LAST-MODIFIED:20240308T100012Z
UID:18070-1710680400-1710687600@salemforallages.org
SUMMARY:Rockafellas Annual St.Patrick’s Day Celebration
DESCRIPTION:Stop by Rockafellas on St.Patricks’s Day for their annual celebration! There will be live music with the Sean Corcoran Band from 1pm – 3pm and a great selection of food and drinks!
URL:https://salemforallages.org/event/rockafellas-annual-st-patricks-day-celebration/
ATTACH;FMTTYPE=image/jpeg:https://salemforallages.org/wp-content/uploads/2024/03/rockafellas.jpg
END:VEVENT
BEGIN:VEVENT
DTSTART;TZID=America/New_York:20240317T140000
DTEND;TZID=America/New_York:20240317T153000
DTSTAMP:20260423T062911
CREATED:20240314T090010Z
LAST-MODIFIED:20240314T090010Z
UID:18107-1710684000-1710689400@salemforallages.org
SUMMARY:The Irish Experience at Phillips House
DESCRIPTION:Get a glimpse into the world of the Irish staff who kept the Phillips House running smoothly. Through the stories of cook Bridget Durkin\, waitress Delia Cawley\, nursemaid Catherine Shaughnessy\, and chauffeur Patrick O’Hara\, visitors will learn about the daily duties and what it was like to work for the Phillips family through the first half of the 20th century. See the living and working spaces\, from the staff bedrooms on the third floor to the laundry room in the basement\, on this 90-minute tour. \nPrice: $15 for members\, $25 for non-members
URL:https://salemforallages.org/event/the-irish-experience-at-phillips-house-8/
ATTACH;FMTTYPE=image/jpeg:https://salemforallages.org/wp-content/uploads/2022/04/183685.jpg
END:VEVENT
BEGIN:VEVENT
DTSTART;TZID=America/New_York:20240317T160000
DTEND;TZID=America/New_York:20240317T190000
DTSTAMP:20260423T062911
CREATED:20240304T100016Z
LAST-MODIFIED:20240304T100016Z
UID:18050-1710691200-1710702000@salemforallages.org
SUMMARY:DIAMOND’S DINE-IN DRAG BRUNCH!
DESCRIPTION:Come on down for Diamond’s Dine-In Drag Brunch! This is a weekly event with local Drag Queen Miz Diamond Wigfall! Someone will be her guest. Be ready for numbers\, games\, drag\, and mimosas all afternoon.
URL:https://salemforallages.org/event/diamonds-dine-in-drag-brunch-33/
ATTACH;FMTTYPE=image/jpeg:https://salemforallages.org/wp-content/uploads/2023/08/Diamond_DineIn_Final-11x171-1.jpg
END:VEVENT
BEGIN:VEVENT
DTSTART;TZID=America/New_York:20240317T190000
DTEND;TZID=America/New_York:20240317T190000
DTSTAMP:20260423T062911
CREATED:20240309T100010Z
LAST-MODIFIED:20240309T100010Z
UID:18072-1710702000-1710702000@salemforallages.org
SUMMARY:Ireland With Michael at The Cabot
DESCRIPTION:A ST. PATRICK’S DAY CELEBRATION! Michael Londra is an Emmy® – nominated\, internationally acclaimed Irish singer\, producer\, and TV host from the opera capital of Ireland\, a small town on the Southeast coast called Wexford. His big break came when he was cast as the lead tenor in Riverdance on Broadway and subsequently on the U.S. National tour of the same show\, which he toured for 2 years.
URL:https://salemforallages.org/event/ireland-with-michael-at-the-cabot/
ATTACH;FMTTYPE=image/jpeg:https://salemforallages.org/wp-content/uploads/2024/03/irealnd-with-michael.jpg
END:VEVENT
BEGIN:VEVENT
DTSTART;TZID=America/New_York:20240318T100000
DTEND;TZID=America/New_York:20240318T140000
DTSTAMP:20260423T062911
CREATED:20240309T100017Z
LAST-MODIFIED:20240309T100017Z
UID:18074-1710756000-1710770400@salemforallages.org
SUMMARY:Book a “Good Witch Transformation”
DESCRIPTION:Thank you for your interest in a “Good Witch” Transformation! \nThrough our transformations children unleash their own spellbinding charms and embrace their individuality. Children are invited to browse our collection of witch hats and dresses. Adorned with shimmering stars\, flowing capes\, and ribbons of enchantment\, these outfits are sure to celebrate their unique spirits. \nOur talented apprentices delicately apply a touch of stardust and add sprinkles of color that match your child’s vibrant personality. As they gaze upon their reflection\, their eyes light up with a newfound confidence and a sense of whimsical delight. They have become the magical beings they’ve always dreamt of\, casting spells and brewing potions in their imaginary world. Their laughter fills the air as they twirl and spin\, radiating with joy and wonder.
URL:https://salemforallages.org/event/book-a-good-witch-transformation-86/
END:VEVENT
BEGIN:VEVENT
DTSTART;TZID=America/New_York:20240319T110000
DTEND;TZID=America/New_York:20240319T170000
DTSTAMP:20260423T062911
CREATED:20240309T100017Z
LAST-MODIFIED:20240309T100017Z
UID:18075-1710846000-1710867600@salemforallages.org
SUMMARY:Teatime Tuesdays with the Satanic Temple
DESCRIPTION:Join us every Tuesday during gallery hours for complementary tea with admission to the gallery.
URL:https://salemforallages.org/event/teatime-tuesdays-with-the-satanic-temple-43/
ATTACH;FMTTYPE=image/jpeg:https://salemforallages.org/wp-content/uploads/2023/05/satanic-tea-art-gallery.jpg
END:VEVENT
BEGIN:VEVENT
DTSTART;TZID=America/New_York:20240319T180000
DTEND;TZID=America/New_York:20240319T200000
DTSTAMP:20260423T062911
CREATED:20240309T100018Z
LAST-MODIFIED:20240309T100018Z
UID:18076-1710871200-1710878400@salemforallages.org
SUMMARY:CREATIVITEA with Salem Art Gallery
DESCRIPTION:Join us for high tea\, arts and crafts\, and creative company every other Tuesday evening from 6:00pm – 8:00pm. Get an after hours look at the gallery with light snacks and refreshments. Tickets are $6.66 – Which includes admissions\, supplies\, and Tea sampling.
URL:https://salemforallages.org/event/creativitea-with-salem-art-gallery-3/
END:VEVENT
BEGIN:VEVENT
DTSTART;TZID=America/New_York:20240320T180000
DTEND;TZID=America/New_York:20240320T200000
DTSTAMP:20260423T062911
CREATED:20240309T100018Z
LAST-MODIFIED:20240309T100018Z
UID:18077-1710957600-1710964800@salemforallages.org
SUMMARY:Bingo at Gulu-Gulu Cafe
DESCRIPTION:Stop by Gulu-Gulu Cafe for a fun trivia series that will excite and engage any audience! Quirky\, funny\, and free!
URL:https://salemforallages.org/event/bingo-at-gulu-gulu-cafe-34/
ATTACH;FMTTYPE=image/jpeg:https://salemforallages.org/wp-content/uploads/2023/08/BingoBoardNew.jpg
END:VEVENT
BEGIN:VEVENT
DTSTART;TZID=America/New_York:20240320T183000
DTEND;TZID=America/New_York:20240320T193000
DTSTAMP:20260423T062911
CREATED:20240309T100018Z
LAST-MODIFIED:20240309T100018Z
UID:18078-1710959400-1710963000@salemforallages.org
SUMMARY:Irish Session at East Regiment Beer Co
DESCRIPTION:Hosted by Bob Strom\, enjoy a night of traditional folk music with a Celtic twist. Grab your fiddle or any other instrument and get ready to dance! \nBob and Jen play together regularly north-of-Boston at sessions\, Irish Pubs and local festivals. Though Jen began as mainly a contra-dance fiddler\, she is now a serious Irish fiddler as well as a singer of traditional songs from the British Isles\, American ballads and contemporary folk songs\, backed-up by Bob’s tasteful guitar work.
URL:https://salemforallages.org/event/irish-session-at-east-regiment-beer-co-5/
ATTACH;FMTTYPE=image/jpeg:https://salemforallages.org/wp-content/uploads/2023/10/IrishSession.jpg
END:VEVENT
BEGIN:VEVENT
DTSTART;TZID=America/New_York:20240320T183000
DTEND;TZID=America/New_York:20240320T203000
DTSTAMP:20260423T062911
CREATED:20240310T090008Z
LAST-MODIFIED:20240310T090008Z
UID:18079-1710959400-1710966600@salemforallages.org
SUMMARY:SKEEBALL NIGHT at Notch Brewing
DESCRIPTION:Join us each Wednesday night for some beer and Skee Ball!
URL:https://salemforallages.org/event/skeeball-night-at-notch-brewing-6/
ATTACH;FMTTYPE=image/jpeg:https://salemforallages.org/wp-content/uploads/2024/02/SKEEBALLFLYER.jpg
END:VEVENT
END:VCALENDAR